{"text_format":"1","workbook":"xlsx","n_sheets":9,"sheets":["Calc-V","LKPS","Contents","Background notes","Presentation of statistics","Table1","Table2","Table3","Table4"],"not_rendered":{"charts":1,"images":7,"macros":1,"external_links":0,"defined_names":10,"comments":1,"pivot_tables":0},"unopened":[],"bounds":{"document_bytes":16777216,"sheet_cells":100000,"rows_first":2000,"rows_last":500,"rows_between":2000,"halvings":0,"cell_chars":16384,"cell_head_chars":4096},"cells_cut":0,"cells_raw":0,"read":"row_number_cap","date_system":"1900"}

{"sheet":"Calc-V","index":0,"n_rows":399,"n_cols":63,"rows_kept":399,"cut":false,"hidden":true,"merged":[[1,23,1,26],[1,3,1,6],[1,7,1,10],[1,11,1,14],[1,15,1,18],[1,19,1,22],[1,58,1,62],[1,27,1,30],[1,31,1,35],[1,36,1,39],[1,40,1,44],[1,45,1,48],[1,54,1,57],[1,49,1,53]]}
[1,2,3,4,5,6,7,8,9,10,11,12,13,14,15,16,17,18,19,20,21,22,23,24,25,26,27,28,29,30,31,32,33,34,35,36,37,38,39,40,41,42,43,44,45,46,47,48,49,50,51,52,53,54,55,56,57,58,59,60,61,62,63]
[null,null,null,"Total overnight respite nights provided",null,null,null,"Total overnight respite weeks provided",null,null,null,"Total daytime respite hours provided",null,null,null,"Total daytime respite weeks provided (rounded)",null,null,null,"Total respite weeks provided (rounded)",null,null,null,"Populations",null,null,null,"Overnight respite 65+",null,null,null,"Daytime Respite 65+",null,null,null,null,"Overnight respite 18-64",null,null,null,"Daytime Respite 18-64",null,null,null,null,"Overnight respite 0-17",null,null,null,"Daytime Respite 0-17",null,null,null,null,"Overnight respite TOTALS",null,null,null,"Daytime Respite TOTALS"]
[null,null,"Year","65+","18-64","0-17","Total","65+","18-64","0-17","Total","65+","18-64","0-17","Total","65+","18-64","0-17","Total","65+","18-64","0-17","Total","65+","18-64","0-17","Total","In a Care Home","At Home","Other","Total (Nights)","In a Care Home","Day Care centre","At Home","Other","Total (hours)","In a Care Home","At Home","Other","Total (Nights)","In a Care Home","Day Care centre","At Home","Other","Total (hours)","In a Care Home","At Home","Other","Total (Nights)","In a Care Home","Day Care centre","At Home","Other","Total (hours)","In a Care Home","At Home","Other","Total (Nights)","In a Care Home","Day Care centre","At Home","Other","Total (hours)"]
["Aberdeen City2007/080","Aberdeen City","2007/080",10548,3142,1392,15082,1506.8571428571429,448.85714285714283,198.85714285714286,2154.5714285714284,42489,106084,58904,207477,809.31428571428569,2020.6476190476189,1121.9809523809524,3951.9428571428571,2316.1714285714288,2469.5047619047618,1320.8380952380953,6106.5142857142855,32165,143007,37288,212460]
["Aberdeenshire2007/080","Aberdeenshire","2007/080",15506,4107,1120,20733,2215.1428571428573,586.71428571428567,160,2961.8571428571427,51377,18218,67770,137365,978.60952380952381,347.00952380952378,1290.8571428571429,2616.4761904761904,3193.7523809523809,933.72380952380945,1450.8571428571429,5578.333333333333,37339,153631,53420,244390]
["Angus2007/080","Angus","2007/080",5829,1635,847,8311,832.71428571428567,233.57142857142858,121,1187.2857142857142,25649,9380,4340,39369,488.55238095238093,178.66666666666666,82.666666666666671,749.88571428571424,1321.2666666666667,412.23809523809524,203.66666666666669,1937.1714285714284,21312,68761,23467,113540]
["Argyll & Bute2007/080","Argyll & Bute","2007/080",4539,1878,1226,7643,648.42857142857144,268.28571428571428,175.14285714285714,1091.8571428571429,65551,33962,31211,130724,1248.5904761904762,646.89523809523814,594.49523809523805,2489.9809523809522,1897.0190476190478,915.18095238095248,769.63809523809516,3581.8380952380949,18267,55062,17461,90790]
["Clackmannanshire2007/080","Clackmannanshire","2007/080",3357,1479,584,5420,479.57142857142856,211.28571428571428,83.428571428571431,774.28571428571433,72948,51914,8433,133295,1389.4857142857143,988.83809523809521,160.62857142857143,2538.9523809523807,1869.0571428571429,1200.1238095238095,244.05714285714288,3313.238095238095,7533,32194,10873,50600]
["Dumfries & Galloway2007/080","Dumfries & Galloway","2007/080",5679,2183,1468,9330,811.28571428571433,311.85714285714283,209.71428571428572,1332.8571428571429,12769,4101,35016,51886,243.21904761904761,78.114285714285714,666.97142857142853,988.3047619047619,1054.5047619047618,389.97142857142853,876.68571428571431,2321.1619047619047,31016,89795,29559,150370]
["Dundee City2007/080","Dundee City","2007/080",7831,4393,1935,14159,1118.7142857142858,627.57142857142856,276.42857142857144,2022.7142857142858,51123,99657,25253,176033,973.7714285714286,1898.2285714285715,481.00952380952378,3353.0095238095237,2092.4857142857145,2525.8000000000002,757.43809523809523,5375.7238095238099,25239,90766,27695,143700]
["East Ayrshire2007/080","East Ayrshire","2007/080",6079,5698,1115,12892,868.42857142857144,814,159.28571428571428,1841.7142857142858,78560,29535,2242,110337,1496.3809523809523,562.57142857142856,42.704761904761902,2101.6571428571428,2364.8095238095239,1376.5714285714284,201.99047619047619,3943.3714285714286,20125,75541,25284,120950]
["East Dunbartonshire2007/080","East Dunbartonshire","2007/080",4100,2312,835,7247,585.71428571428567,330.28571428571428,119.28571428571429,1035.2857142857142,230245,39597,18638,288480,4385.6190476190477,754.2285714285714,355.00952380952378,5494.8571428571431,4971.333333333333,1084.5142857142857,474.29523809523806,6530.1428571428569,18833,63674,22543,105050]
["East Lothian2007/080","East Lothian","2007/080",4495,3128,870,8493,642.14285714285711,446.85714285714283,124.28571428571429,1213.2857142857142,3856,843,23252,27951,73.447619047619042,16.057142857142857,442.89523809523808,532.4,715.59047619047612,462.91428571428571,567.18095238095236,1745.6857142857143,16661,57806,21093,95560]
["East Renfrewshire2007/080","East Renfrewshire","2007/080",7884,2058,714,10656,1126.2857142857142,294,102,1522.2857142857142,132992,8453,18216,159661,2533.1809523809525,161.00952380952381,346.97142857142859,3041.1619047619047,3659.4666666666667,455.00952380952378,448.97142857142859,4563.4476190476189,15377,53840,20623,89840]
["Edinburgh, City of2007/080","Edinburgh, City of","2007/080",10688,10479,6340,27507,1526.8571428571429,1497,905.71428571428567,3929.5714285714284,401653,353404,152987,908044,7650.5333333333338,6731.5047619047618,2914.0380952380951,17296.076190476189,9177.390476190476,8228.5047619047618,3819.7523809523809,21225.647619047617,67571,308713,79756,456040]
["Eilean Siar2007/080","Eilean Siar","2007/080",4158,665,141,4964,594,95,20.142857142857142,709.14285714285711,11691,1396,2425,15512,222.68571428571428,26.590476190476192,46.19047619047619,295.46666666666664,816.68571428571431,121.5904761904762,66.333333333333329,1004.6095238095238,5548,16202,5460,27210]
["Falkirk2007/080","Falkirk","2007/080",7256,4149,1067,12472,1036.5714285714287,592.71428571428567,152.42857142857142,1781.7142857142858,43414,12172,21724,77310,826.93333333333328,231.84761904761905,413.79047619047617,1472.5714285714287,1863.5047619047618,824.56190476190477,566.21904761904761,3254.2857142857147,23880,96535,31905,152320]
["Fife2007/080","Fife","2007/080",18450,10040,1785,30275,2635.7142857142858,1434.2857142857142,255,4325,162531,25997,22516,211044,3095.8285714285716,495.18095238095236,428.87619047619046,4019.8857142857141,5731.5428571428574,1929.4666666666667,683.87619047619046,8344.8857142857141,60068,225503,73179,358750]
["Glasgow City2007/080","Glasgow City","2007/080",25169,13503,9811,48483,3595.5714285714284,1929,1401.5714285714287,6926.1428571428569,262264,641347,56249,959860,4995.5047619047618,12216.133333333333,1071.4095238095238,18283.047619047618,8591.0761904761894,14145.133333333333,2472.9809523809527,25209.190476190473,83851,375836,112073,571760]
["Highland2007/080","Highland","2007/080",6379,5207,3418,15004,911.28571428571433,743.85714285714289,488.28571428571428,2143.4285714285716,27661,32959,29331,89951,526.87619047619046,627.79047619047617,558.68571428571431,1713.3523809523811,1438.1619047619047,1371.6476190476192,1046.9714285714285,3856.7809523809528,39182,138596,46222,224000]
["Inverclyde2007/080","Inverclyde","2007/080",2962,2089,882,5933,423.14285714285717,298.42857142857144,126,847.57142857142856,157442,156968,8168,322578,2998.8952380952383,2989.8666666666668,155.58095238095237,6144.3428571428567,3422.0380952380956,3288.2952380952383,281.58095238095234,6991.9142857142851,14254,51151,16705,82110]
["Midlothian2007/080","Midlothian","2007/080",3562,2090,745,6397,508.85714285714283,298.57142857142856,106.42857142857143,913.85714285714289,26201,71541,16218,113960,499.06666666666666,1362.6857142857143,308.91428571428571,2170.6666666666665,1007.9238095238095,1661.2571428571428,415.34285714285716,3084.5238095238092,12782,50085,17503,80370]
["Moray2007/080","Moray","2007/080",2829,3001,998,6828,404.14285714285717,428.71428571428572,142.57142857142858,975.42857142857144,22664.25,13445.25,8478.75,44588.25,431.7,256.10000000000002,161.5,849.3,835.84285714285716,684.81428571428569,304.07142857142856,1824.7285714285713,15741,56552,19147,91440]
["North Ayrshire2007/080","North Ayrshire","2007/080",10526,3914,2034,16474,1503.7142857142858,559.14285714285711,290.57142857142856,2353.4285714285716,87038,14036,11254,112328,1657.8666666666666,267.35238095238094,214.36190476190475,2139.5809523809526,3161.5809523809521,826.49523809523805,504.93333333333328,4493.0095238095237,24077,84486,28857,137420]
["North Lanarkshire2007/080","North Lanarkshire","2007/080",11143,8761,2397,22301,1591.8571428571429,1251.5714285714287,342.42857142857144,3185.8571428571427,244257,102974,11745,358976,4652.5142857142855,1961.4095238095238,223.71428571428572,6837.638095238095,6244.3714285714286,3212.9809523809527,566.14285714285711,10023.495238095238,47640,210250,73280,331170]
["Orkney Islands2007/080","Orkney Islands","2007/080",2433,758,504,3695,347.57142857142856,108.28571428571429,72,527.85714285714289,15076,28543,2119,45738,287.16190476190474,543.67619047619053,40.361904761904761,871.2,634.73333333333335,651.96190476190486,112.36190476190475,1399.0571428571429,3789,12535,4256,20580]
["Perth & Kinross2007/080","Perth & Kinross","2007/080",13793,3491,611,17895,1970.4285714285713,498.71428571428572,87.285714285714292,2556.4285714285716,90662,14924,15264,120850,1726.895238095238,284.26666666666665,290.74285714285713,2301.9047619047619,3697.3238095238094,782.98095238095243,378.02857142857141,4858.3333333333339,27401,85417,28322,141140]
["Renfrewshire2007/080","Renfrewshire","2007/080",8071,6692,2797,17560,1153,956,399.57142857142856,2508.5714285714284,16549,40700,31781,89030,315.21904761904761,775.23809523809518,605.35238095238094,1695.8095238095239,1468.2190476190476,1731.2380952380952,1004.9238095238095,4204.3809523809523,27887,108234,35739,171860]
["Scottish Borders2007/080","Scottish Borders","2007/080",5701,2181,1216,9098,814.42857142857144,311.57142857142856,173.71428571428572,1299.7142857142858,1104,6273,9504,16881,21.028571428571428,119.48571428571428,181.02857142857144,321.54285714285714,835.45714285714291,431.05714285714282,354.74285714285713,1621.257142857143,21925,67613,22662,112200]
["Shetland Islands2007/080","Shetland Islands","2007/080",6652,1491,622,8765,950.28571428571433,213,88.857142857142861,1252.1428571428571,7207,1605,8908,17720,137.27619047619046,30.571428571428573,169.67619047619047,337.52380952380952,1087.5619047619048,243.57142857142858,258.5333333333333,1589.6666666666665,3455,13775,5120,22350]
["South Ayrshire2007/080","South Ayrshire","2007/080",9777,1690,1444,12911,1396.7142857142858,241.42857142857142,206.28571428571428,1844.4285714285713,16298,16520,35783,68601,310.43809523809523,314.66666666666669,681.58095238095234,1306.6857142857143,1707.152380952381,556.09523809523807,887.86666666666656,3151.1142857142859,22834,67943,21603,112380]
["South Lanarkshire2007/080","South Lanarkshire","2007/080",17728,6947,2802,27477,2532.5714285714284,992.42857142857144,400.28571428571428,3925.2857142857142,264643,47363,42336,354342,5040.8190476190475,902.15238095238101,806.4,6749.3714285714286,7573.390476190476,1894.5809523809526,1206.6857142857143,10674.657142857142,49806,195598,64976,310380]
["Stirling2007/080","Stirling","2007/080",7197,1103,1051,9351,1028.1428571428571,157.57142857142858,150.14285714285714,1335.8571428571429,6697,1695,22704,31096,127.56190476190476,32.285714285714285,432.45714285714286,592.3047619047619,1155.7047619047619,189.85714285714286,582.6,1928.1619047619047,14491,55287,18652,88430]
["West Dunbartonshire2007/080","West Dunbartonshire","2007/080",4341,2630,1188,8159,620.14285714285711,375.71428571428572,169.71428571428572,1165.5714285714287,133483,164803,29252,327538,2542.5333333333333,3139.1047619047617,557.18095238095236,6238.8190476190475,3162.6761904761906,3514.8190476190475,726.89523809523803,7404.390476190476,14625,57733,19012,91370]
["West Lothian2007/080","West Lothian","2007/080",3453,3315,992,7760,493.28571428571428,473.57142857142856,141.71428571428572,1108.5714285714287,9129,3208,13036,25373,173.88571428571427,61.104761904761908,248.3047619047619,483.29523809523812,667.17142857142858,534.67619047619041,390.01904761904763,1591.8666666666668,21331,108830,39309,169470]
["Aberdeen City2008/090","Aberdeen City","2008/090",8720,3001,1193,12914,1245.7142857142858,428.71428571428572,170.42857142857142,1844.8571428571429,32821,86834,32200,151855,625.16190476190479,1653.9809523809524,613.33333333333337,2892.4761904761904,1870.8761904761905,2082.695238095238,783.76190476190482,4737.333333333333,32096,144797,37127,214020]
["Aberdeenshire2008/090","Aberdeenshire","2008/090",16771,4548,877,22196,2395.8571428571427,649.71428571428567,125.28571428571429,3170.8571428571427,45708,15504,67023,128235,870.62857142857138,295.31428571428569,1276.6285714285714,2442.5714285714284,3266.485714285714,945.02857142857135,1401.9142857142856,5613.4285714285706,38307,155076,53457,246840]
["Angus2008/090","Angus","2008/090",6657,1754,812,9223,951,250.57142857142858,116,1317.5714285714287,25342,11169,5050,41561,482.70476190476188,212.74285714285713,96.19047619047619,791.63809523809527,1433.7047619047619,463.31428571428569,212.1904761904762,2109.2095238095239,21817,69123,23550,114490]
["Argyll & Bute2008/090","Argyll & Bute","2008/090",3461,1167,1774,6402,494.42857142857144,166.71428571428572,253.42857142857142,914.57142857142856,83796,31708,26567,142071,1596.1142857142856,603.96190476190475,506.03809523809525,2706.1142857142859,2090.542857142857,770.67619047619041,759.4666666666667,3620.6857142857143,18527,54270,17113,89910]
["Clackmannanshire2008/090","Clackmannanshire","2008/090",3554,1977,330,5861,507.71428571428572,282.42857142857144,47.142857142857146,837.28571428571433,69189,49381,10663,129233,1317.8857142857144,940.59047619047624,203.10476190476192,2461.5809523809526,1825.6,1223.0190476190478,250.24761904761905,3298.8666666666668,7679,32536,10975,51190]
["Dumfries & Galloway2008/090","Dumfries & Galloway","2008/090",4729,1933,1886,8548,675.57142857142856,276.14285714285717,269.42857142857144,1221.1428571428571,11180,4088,24787,40055,212.95238095238096,77.86666666666666,472.13333333333333,762.95238095238096,888.52380952380952,354.00952380952384,741.56190476190477,1984.0952380952381,31669,89871,29470,151010]
["Dundee City2008/090","Dundee City","2008/090",8078,5344,1717,15139,1154,763.42857142857144,245.28571428571428,2162.7142857142858,54727,94246,23631,172604,1042.4190476190477,1795.1619047619047,450.1142857142857,3287.695238095238,2196.4190476190479,2558.5904761904762,695.4,5450.4095238095233,25085,91559,27646,144290]
["East Ayrshire2008/090","East Ayrshire","2008/090",6249,4881,1315,12445,892.71428571428567,697.28571428571433,187.85714285714286,1777.8571428571429,86684,30583,5134,122401,1651.1238095238095,582.5333333333333,97.790476190476184,2331.4476190476189,2543.8380952380953,1279.8190476190475,285.64761904761906,4109.304761904762,20395,75986,25209,121590]
["East Dunbartonshire2008/090","East Dunbartonshire","2008/090",3312,2517,877,6706,473.14285714285717,359.57142857142856,125.28571428571429,958,256258,38146,20096,314500,4881.1047619047622,726.59047619047624,382.78095238095239,5990.4761904761908,5354.2476190476191,1086.1619047619047,508.06666666666666,6948.4761904761908,19223,63436,22281,104940]
["East Lothian2008/090","East Lothian","2008/090",5032,2970,826,8828,718.85714285714289,424.28571428571428,118,1261.1428571428571,4199,806,17752,22757,79.980952380952374,15.352380952380953,338.13333333333333,433.46666666666664,798.83809523809532,439.63809523809522,456.13333333333333,1694.6095238095238,16921,59242,21307,97470]
["East Renfrewshire2008/090","East Renfrewshire","2008/090",5038,2160,1209,8407,719.71428571428567,308.57142857142856,172.71428571428572,1201,133170,13899,19320,166389,2536.5714285714284,264.74285714285713,368,3169.3142857142857,3256.2857142857142,573.31428571428569,540.71428571428578,4370.3142857142857,15595,53802,20473,89870]
["Edinburgh, City of2008/090","Edinburgh, City of","2008/090",10153,10645,6735,27533,1450.4285714285713,1520.7142857142858,962.14285714285711,3933.2857142857142,444409,339333,127911,911653,8464.9333333333325,6463.4857142857145,2436.4,17364.819047619047,9915.3619047619031,7984.2,3398.5428571428574,21298.10476190476,67695,311507,79318,458520]
["Eilean Siar2008/090","Eilean Siar","2008/090",4656,833,142,5631,665.14285714285711,119,20.285714285714285,804.42857142857144,11595,1170,2713,15478,220.85714285714286,22.285714285714285,51.676190476190477,294.81904761904764,886,141.28571428571428,71.961904761904762,1099.2476190476191,5675,16206,5399,27280]
["Falkirk2008/090","Falkirk","2008/090",7000,4138,1770,12908,1000,591.14285714285711,252.85714285714286,1844,43785,11519,22890,78194,834,219.40952380952382,436,1489.4095238095238,1834,810.55238095238087,688.85714285714289,3333.4095238095238,24272,97003,32015,153290]
["Fife2008/090","Fife","2008/090",17203,7882,2893,27978,2457.5714285714284,1126,413.28571428571428,3996.8571428571427,157257,22732,28257,208246,2995.3714285714286,432.99047619047622,538.2285714285714,3966.5904761904762,5452.9428571428571,1558.9904761904763,951.51428571428573,7963.4476190476189,61067,225648,73335,360050]
["Glasgow City2008/090","Glasgow City","2008/090",24406,14213,7064,45683,3486.5714285714284,2030.4285714285713,1009.1428571428571,6526.1428571428569,257664,564660,40381,862705,4907.8857142857141,10755.428571428571,769.16190476190479,16432.476190476191,8394.4571428571435,12785.857142857141,1778.304761904762,22958.619047619046,83255,381501,111444,576200]
["Highland2008/090","Highland","2008/090",6895,4740,3268,14903,985,677.14285714285711,466.85714285714283,2129,30773,32523,27291,90587,586.15238095238101,619.48571428571427,519.82857142857142,1725.4666666666667,1571.152380952381,1296.6285714285714,986.68571428571431,3854.4666666666667,40335,140021,46624,226980]
["Inverclyde2008/090","Inverclyde","2008/090",3257,2416,808,6481,465.28571428571428,345.14285714285717,115.42857142857143,925.85714285714289,192742,108181,6900,307823,3671.2761904761905,2060.5904761904762,131.42857142857142,5863.2952380952383,4136.5619047619048,2405.7333333333336,246.85714285714283,6789.1523809523815,14384,51129,16487,82000]
["Midlothian2008/090","Midlothian","2008/090",3891,2975,970,7836,555.85714285714289,425,138.57142857142858,1119.4285714285713,27830,74415,17561,119806,530.09523809523807,1417.4285714285713,334.49523809523811,2282.0190476190478,1085.952380952381,1842.4285714285713,473.06666666666672,3401.4476190476189,13027,50939,17574,81540]
["Moray2008/090","Moray","2008/090",2867,2812,925,6604,409.57142857142856,401.71428571428572,132.14285714285714,943.42857142857144,28350,11513,8664,48527,540,219.29523809523809,165.02857142857144,924.32380952380947,949.57142857142856,621.00952380952378,297.17142857142858,1867.7523809523809,16194,57418,19218,92830]
["North Ayrshire2008/090","North Ayrshire","2008/090",12143,4708,1628,18479,1734.7142857142858,672.57142857142856,232.57142857142858,2639.8571428571427,89121,15156,13399,117676,1697.5428571428572,288.68571428571431,255.21904761904761,2241.4476190476189,3432.2571428571428,961.25714285714287,487.79047619047617,4881.3047619047611,24529,84515,28866,137910]
["North Lanarkshire2008/090","North Lanarkshire","2008/090",9342,8337,2119,19798,1334.5714285714287,1191,302.71428571428572,2828.2857142857142,289476,225469,9511,524456,5513.8285714285712,4294.6476190476187,181.16190476190476,9989.638095238095,6848.4,5485.6476190476187,483.87619047619046,12817.923809523809,48407,211313,73570,333290]
["Orkney Islands2008/090","Orkney Islands","2008/090",2248,605,557,3410,321.14285714285717,86.428571428571431,79.571428571428569,487.14285714285717,16701,26427,2380,45508,318.1142857142857,503.37142857142857,45.333333333333336,866.81904761904764,639.25714285714287,589.79999999999995,124.9047619047619,1353.9619047619049,3904,12606,4230,20740]
["Perth & Kinross2008/090","Perth & Kinross","2008/090",12895,3949,545,17389,1842.1428571428571,564.14285714285711,77.857142857142861,2484.1428571428573,107028,17290,13674,137992,2038.6285714285714,329.33333333333331,260.45714285714286,2628.4190476190474,3880.7714285714283,893.47619047619037,338.31428571428569,5112.5619047619048,27973,86468,28689,143130]
["Renfrewshire2008/090","Renfrewshire","2008/090",8172,7538,2826,18536,1167.4285714285713,1076.8571428571429,403.71428571428572,2648,11569,31365,38670,81604,220.36190476190475,597.42857142857144,736.57142857142856,1554.3619047619047,1387.7904761904761,1674.2857142857142,1140.2857142857142,4202.361904761905,28295,108637,35708,172640]
["Scottish Borders2008/090","Scottish Borders","2008/090",6932,3068,1368,11368,990.28571428571433,438.28571428571428,195.42857142857142,1624,1297,6146,8781,16224,24.704761904761906,117.06666666666666,167.25714285714287,309.02857142857141,1014.9904761904762,555.35238095238094,362.68571428571431,1933.0285714285715,22460,68190,22710,113360]
["Shetland Islands2008/090","Shetland Islands","2008/090",5165,2014,983,8162,737.85714285714289,287.71428571428572,140.42857142857142,1166,7882,2985,11950,22817,150.13333333333333,56.857142857142854,227.61904761904762,434.60952380952381,887.99047619047622,344.57142857142856,368.04761904761904,1600.6095238095238,3585,13817,5078,22480]
["South Ayrshire2008/090","South Ayrshire","2008/090",10032,2255,1503,13790,1433.1428571428571,322.14285714285717,214.71428571428572,1970,16640,12955,36026,65621,316.95238095238096,246.76190476190476,686.20952380952383,1249.9238095238095,1750.0952380952381,568.90476190476193,900.9238095238095,3219.9238095238097,23254,67815,21541,112610]
["South Lanarkshire2008/090","South Lanarkshire","2008/090",20854,7620,3125,31599,2979.1428571428573,1088.5714285714287,446.42857142857144,4514.1428571428569,269517,55948,45640,371105,5133.6571428571433,1065.6761904761904,869.33333333333337,7068.666666666667,8112.8,2154.2476190476191,1315.7619047619048,11582.809523809523,50596,195910,64814,311320]
["Stirling2008/090","Stirling","2008/090",4359,1210,1748,7317,622.71428571428567,172.85714285714286,249.71428571428572,1045.2857142857142,7301,1696,19754,28751,139.06666666666666,32.304761904761904,376.26666666666665,547.63809523809527,761.78095238095239,205.16190476190476,625.98095238095243,1592.9238095238095,14803,55229,18508,88540]
["West Dunbartonshire2008/090","West Dunbartonshire","2008/090",3935,3131,1303,8369,562.14285714285711,447.28571428571428,186.14285714285714,1195.5714285714287,153900,142296,27462,323658,2931.4285714285716,2710.4,523.08571428571429,6164.9142857142861,3493.5714285714284,3157.6857142857143,709.2285714285714,7360.4857142857145,14665,57608,18917,91190]
["West Lothian2008/090","West Lothian","2008/090",4260,3964,930,9154,608.57142857142856,566.28571428571433,132.85714285714286,1307.7142857142858,8768,4319,16334,29421,167.00952380952381,82.266666666666666,311.12380952380954,560.4,775.58095238095234,648.55238095238099,443.98095238095243,1868.1142857142859,22057,109698,39625,171380]
["Aberdeen City2008/091","Aberdeen City","2008/091",8720,3001,1193,12914,1245.7142857142858,428.71428571428572,170.42857142857142,1844.8571428571429,32821,86834,6691,126346,625.16190476190479,1653.9809523809524,127.44761904761904,2406.5904761904762,1870.8761904761905,2082.695238095238,297.87619047619046,4251.4476190476189,32096,144797,37127,214020]
["Aberdeenshire2008/091","Aberdeenshire","2008/091",16771,4548,877,22196,2395.8571428571427,649.71428571428567,125.28571428571429,3170.8571428571427,56069,25546,67023,148638,1067.9809523809524,486.59047619047618,1276.6285714285714,2831.2,3463.8380952380949,1136.3047619047618,1401.9142857142856,6002.057142857142,38307,155076,53457,246840]
["Angus2008/091","Angus","2008/091",8573,1653,812,11038,1224.7142857142858,236.14285714285714,116,1576.8571428571429,86353,4798,5050,96201,1644.8190476190475,91.390476190476193,96.19047619047619,1832.4,2869.5333333333333,327.5333333333333,212.1904761904762,3409.2571428571428,21817,69123,23550,114490]
["Argyll & Bute2008/091","Argyll & Bute","2008/091",3461,1167,1774,6402,494.42857142857144,166.71428571428572,253.42857142857142,914.57142857142856,83796,31708,26567,142071,1596.1142857142856,603.96190476190475,506.03809523809525,2706.1142857142859,2090.542857142857,770.67619047619041,759.4666666666667,3620.6857142857143,18527,54270,17113,89910]
["Clackmannanshire2008/091","Clackmannanshire","2008/091",3554,1977,330,5861,507.71428571428572,282.42857142857144,47.142857142857146,837.28571428571433,69189,49381,10663,129233,1317.8857142857144,940.59047619047624,203.10476190476192,2461.5809523809526,1825.6,1223.0190476190478,250.24761904761905,3298.8666666666668,7679,32536,10975,51190]
["Dumfries & Galloway2008/091","Dumfries & Galloway","2008/091",4729,1933,1886,8548,675.57142857142856,276.14285714285717,269.42857142857144,1221.1428571428571,11180,4088,24787,40055,212.95238095238096,77.86666666666666,472.13333333333333,762.95238095238096,888.52380952380952,354.00952380952384,741.56190476190477,1984.0952380952381,31669,89871,29470,151010]
["Dundee City2008/091","Dundee City","2008/091",8078,5344,1717,15139,1154,763.42857142857144,245.28571428571428,2162.7142857142858,54727,135798,23631,214156,1042.4190476190477,2586.6285714285714,450.1142857142857,4079.1619047619047,2196.4190476190479,3350.0571428571429,695.4,6241.8761904761905,25085,91559,27646,144290]
["East Ayrshire2008/091","East Ayrshire","2008/091",6249,4881,1315,12445,892.71428571428567,697.28571428571433,187.85714285714286,1777.8571428571429,86684,139907,5134,231725,1651.1238095238095,2664.8952380952383,97.790476190476184,4413.8095238095239,2543.8380952380953,3362.1809523809525,285.64761904761906,6191.666666666667,20395,75986,25209,121590]
["East Dunbartonshire2008/091","East Dunbartonshire","2008/091",3312,2517,877,6706,473.14285714285717,359.57142857142856,125.28571428571429,958,256258,38146,20096,314500,4881.1047619047622,726.59047619047624,382.78095238095239,5990.4761904761908,5354.2476190476191,1086.1619047619047,508.06666666666666,6948.4761904761908,19223,63436,22281,104940]
["East Lothian2008/091","East Lothian","2008/091",5032,2970,826,8828,718.85714285714289,424.28571428571428,118,1261.1428571428571,4199,806,17752,22757,79.980952380952374,15.352380952380953,338.13333333333333,433.46666666666664,798.83809523809532,439.63809523809522,456.13333333333333,1694.6095238095238,16921,59242,21307,97470]
["East Renfrewshire2008/091","East Renfrewshire","2008/091",5038,2160,1209,8407,719.71428571428567,308.57142857142856,172.71428571428572,1201,133170,13899,19320,166389,2536.5714285714284,264.74285714285713,368,3169.3142857142857,3256.2857142857142,573.31428571428569,540.71428571428578,4370.3142857142857,15595,53802,20473,89870]
["Edinburgh, City of2008/091","Edinburgh, City of","2008/091",10153,10645,6735,27533,1450.4285714285713,1520.7142857142858,962.14285714285711,3933.2857142857142,444409,339333,127911,911653,8464.9333333333325,6463.4857142857145,2436.4,17364.819047619047,9915.3619047619031,7984.2,3398.5428571428574,21298.10476190476,67695,311507,79318,458520]
["Eilean Siar2008/091","Eilean Siar","2008/091",4656,833,142,5631,665.14285714285711,119,20.285714285714285,804.42857142857144,11595,1170,2713,15478,220.85714285714286,22.285714285714285,51.676190476190477,294.81904761904764,886,141.28571428571428,71.961904761904762,1099.2476190476191,5675,16206,5399,27280]
["Falkirk2008/091","Falkirk","2008/091",5939,3781,1762,11482,848.42857142857144,540.14285714285711,251.71428571428572,1640.2857142857142,43785,11519,28574,83878,834,219.40952380952382,544.26666666666665,1597.6761904761904,1682.4285714285716,759.55238095238087,795.98095238095243,3237.9619047619044,24272,97003,32015,153290]
["Fife2008/091","Fife","2008/091",17203,7882,2893,27978,2457.5714285714284,1126,413.28571428571428,3996.8571428571427,341457,379946,48873,770276,6503.9428571428571,7237.0666666666666,930.91428571428571,14671.923809523809,8961.5142857142855,8363.0666666666657,1344.2,18668.780952380952,61067,225648,73335,360050]
["Glasgow City2008/091","Glasgow City","2008/091",24406,14213,7064,45683,3486.5714285714284,2030.4285714285713,1009.1428571428571,6526.1428571428569,257664,564660,40381,862705,4907.8857142857141,10755.428571428571,769.16190476190479,16432.476190476191,8394.4571428571435,12785.857142857141,1778.304761904762,22958.619047619046,83255,381501,111444,576200]
["Highland2008/091","Highland","2008/091",6895,4740,3268,14903,985,677.14285714285711,466.85714285714283,2129,82822,32523,27291,142636,1577.5619047619048,619.48571428571427,519.82857142857142,2716.8761904761905,2562.5619047619048,1296.6285714285714,986.68571428571431,4845.8761904761905,40335,140021,46624,226980]
["Inverclyde2008/091","Inverclyde","2008/091",3257,2416,808,6481,465.28571428571428,345.14285714285717,115.42857142857143,925.85714285714289,464049,128618,6900,599567,8839.028571428571,2449.8666666666668,131.42857142857142,11420.32380952381,9304.3142857142848,2795.0095238095241,246.85714285714283,12346.180952380953,14384,51129,16487,82000]
["Midlothian2008/091","Midlothian","2008/091",3891,2975,387,7253,555.85714285714289,425,55.285714285714285,1036.1428571428571,27830,74415,17091,119336,530.09523809523807,1417.4285714285713,325.54285714285714,2273.0666666666666,1085.952380952381,1842.4285714285713,380.82857142857142,3309.2095238095235,13027,50939,17574,81540]
["Moray2008/091","Moray","2008/091",2867,2812,925,6604,409.57142857142856,401.71428571428572,132.14285714285714,943.42857142857144,24420,11513,8664,44597,465.14285714285717,219.29523809523809,165.02857142857144,849.4666666666667,874.71428571428578,621.00952380952378,297.17142857142858,1792.8952380952383,16194,57418,19218,92830]
["North Ayrshire2008/091","North Ayrshire","2008/091",12143,4708,1628,18479,1734.7142857142858,672.57142857142856,232.57142857142858,2639.8571428571427,89121,15156,13399,117676,1697.5428571428572,288.68571428571431,255.21904761904761,2241.4476190476189,3432.2571428571428,961.25714285714287,487.79047619047617,4881.3047619047611,24529,84515,28866,137910]
["North Lanarkshire2008/091","North Lanarkshire","2008/091",9342,8337,2119,19798,1334.5714285714287,1191,302.71428571428572,2828.2857142857142,289476,225469,9511,524456,5513.8285714285712,4294.6476190476187,181.16190476190476,9989.638095238095,6848.4,5485.6476190476187,483.87619047619046,12817.923809523809,48407,211313,73570,333290]
["Orkney Islands2008/091","Orkney Islands","2008/091",2248,605,557,3410,321.14285714285717,86.428571428571431,79.571428571428569,487.14285714285717,28715,37556,5328,71599,546.95238095238096,715.35238095238094,101.48571428571428,1363.7904761904763,868.09523809523807,801.78095238095239,181.05714285714285,1850.9333333333334,3904,12606,4230,20740]
["Perth & Kinross2008/091","Perth & Kinross","2008/091",12895,3949,545,17389,1842.1428571428571,564.14285714285711,77.857142857142861,2484.1428571428573,107028,17290,13674,137992,2038.6285714285714,329.33333333333331,260.45714285714286,2628.4190476190474,3880.7714285714283,893.47619047619037,338.31428571428569,5112.5619047619048,27973,86468,28689,143130]
["Renfrewshire2008/091","Renfrewshire","2008/091",8172,7538,2826,18536,1167.4285714285713,1076.8571428571429,403.71428571428572,2648,11569,31365,28645.3,71579.3,220.36190476190475,597.42857142857144,545.62476190476184,1363.4152380952382,1387.7904761904761,1674.2857142857142,949.33904761904751,4011.4152380952382,28295,108637,35708,172640]
["Scottish Borders2008/091","Scottish Borders","2008/091",5761,3068,2255,11084,823,438.28571428571428,322.14285714285717,1583.4285714285713,1297,6146,10107,17550,24.704761904761906,117.06666666666666,192.51428571428571,334.28571428571428,847.70476190476188,555.35238095238094,514.65714285714284,1917.7142857142856,22460,68190,22710,113360]
["Shetland Islands2008/091","Shetland Islands","2008/091",5165,2014,983,8162,737.85714285714289,287.71428571428572,140.42857142857142,1166,7882,2985,11950,22817,150.13333333333333,56.857142857142854,227.61904761904762,434.60952380952381,887.99047619047622,344.57142857142856,368.04761904761904,1600.6095238095238,3585,13817,5078,22480]
["South Ayrshire2008/091","South Ayrshire","2008/091",10032,2255,1503,13790,1433.1428571428571,322.14285714285717,214.71428571428572,1970,16640,12955,36026,65621,316.95238095238096,246.76190476190476,686.20952380952383,1249.9238095238095,1750.0952380952381,568.90476190476193,900.9238095238095,3219.9238095238097,23254,67815,21541,112610]
["South Lanarkshire2008/091","South Lanarkshire","2008/091",20854,7620,3125,31599,2979.1428571428573,1088.5714285714287,446.42857142857144,4514.1428571428569,269517,55948,45640,371105,5133.6571428571433,1065.6761904761904,869.33333333333337,7068.666666666667,8112.8,2154.2476190476191,1315.7619047619048,11582.809523809523,50596,195910,64814,311320]
["Stirling2008/091","Stirling","2008/091",4359,1210,1748,7317,622.71428571428567,172.85714285714286,249.71428571428572,1045.2857142857142,7301,1696,19754,28751,139.06666666666666,32.304761904761904,376.26666666666665,547.63809523809527,761.78095238095239,205.16190476190476,625.98095238095243,1592.9238095238095,14803,55229,18508,88540]
["West Dunbartonshire2008/091","West Dunbartonshire","2008/091",3935,3131,1303,8369,562.14285714285711,447.28571428571428,186.14285714285714,1195.5714285714287,153900,142296,27462,323658,2931.4285714285716,2710.4,523.08571428571429,6164.9142857142861,3493.5714285714284,3157.6857142857143,709.2285714285714,7360.4857142857145,14665,57608,18917,91190]
["West Lothian2008/091","West Lothian","2008/091",4260,3964,930,9154,608.57142857142856,566.28571428571433,132.85714285714286,1307.7142857142858,8768,21479,16334,46581,167.00952380952381,409.12380952380954,311.12380952380954,887.25714285714287,775.58095238095234,975.40952380952388,443.98095238095243,2194.9714285714285,22057,109698,39625,171380]
["Aberdeen City2009/101","Aberdeen City","2009/101",8251,2420,1243,11914,1178.7142857142858,345.71428571428572,177.57142857142858,1702,36824.800000000003,35299.25,9369.5,81493.55,701.42476190476191,672.36666666666667,178.46666666666667,1552.2580952380954,1880.1390476190477,1018.0809523809523,356.03809523809525,3254.2580952380954,32071,147154,37795,217020]
["Aberdeenshire2009/101","Aberdeenshire","2009/101",16200,4648.5165999999999,953,21801.516599999999,2314.2857142857142,664.07380000000001,136.14285714285714,3114.5023714285712,70056.13,67838.58,76661.039999999994,214555.75,1334.4024761904764,1292.1634285714285,1460.2102857142859,4086.776190476191,3648.6881904761904,1956.2372285714287,1596.353142857143,7201.2785619047627,39227,156181,53612,249020]
["Angus2009/101","Angus","2009/101",8465,1915,1012,11392,1209.2857142857142,273.57142857142856,144.57142857142858,1627.4285714285713,102072,5185,8395,115652,1944.2285714285715,98.761904761904759,159.9047619047619,2202.8952380952383,3153.5142857142855,372.33333333333331,304.47619047619048,3830.3238095238094,22293,69158,23379,114830]
["Argyll & Bute2009/101","Argyll & Bute","2009/101",4686,1445,1509,7640,669.42857142857144,206.42857142857142,215.57142857142858,1091.4285714285713,77851,72290,34338,184479,1482.8761904761905,1376.952380952381,654.05714285714282,3513.8857142857141,2152.304761904762,1583.3809523809523,869.62857142857138,4605.3142857142857,18800,53734,16916,89450]
["Clackmannanshire2009/101","Clackmannanshire","2009/101",3414,2075,264,5753,487.71428571428572,296.42857142857144,37.714285714285715,821.85714285714289,66731,50383,10158,127272,1271.0666666666666,959.67619047619053,193.48571428571429,2424.2285714285713,1758.7809523809524,1256.104761904762,231.2,3246.0857142857139,7839,32538,10913,51290]
["Dumfries & Galloway2009/101","Dumfries & Galloway","2009/101",4647,1858,1978,8483,663.85714285714289,265.42857142857144,282.57142857142856,1211.8571428571429,9991,4177,25994,40162,190.3047619047619,79.561904761904756,495.12380952380954,764.99047619047622,854.16190476190479,344.99047619047622,777.6952380952381,1976.847619047619,32284,89620,29256,151160]
["Dundee City2009/101","Dundee City","2009/101",8093,6462,1814,16369,1156.1428571428571,923.14285714285711,259.14285714285717,2338.4285714285716,60749.5,160906.25,24621,246276.75,1157.1333333333334,3064.8809523809523,468.97142857142859,4690.9857142857145,2313.2761904761905,3988.0238095238092,728.11428571428576,7029.4142857142861,24909,92480,27781,145170]
["East Ayrshire2009/101","East Ayrshire","2009/101",6537,4907,1204,12648,933.85714285714289,701,172,1806.8571428571429,84059.53,155320,8985,248364.53,1601.1339047619047,2958.4761904761904,171.14285714285714,4730.7529523809526,2534.9910476190475,3659.4761904761904,343.14285714285711,6537.6100952380957,20732,76325,25053,122110]
["East Dunbartonshire2009/101","East Dunbartonshire","2009/101",4098,2484,1064,7646,585.42857142857144,354.85714285714283,152,1092.2857142857142,280703,37367.360000000001,24006.639999999999,342077,5346.7238095238099,711.75923809523806,457.26933333333335,6515.7523809523809,5932.1523809523815,1066.616380952381,609.26933333333341,7608.0380952380947,19707,63321,21932,104960]
["East Lothian2009/101","East Lothian","2009/101",4368,2759,1078,8205,624,394.14285714285717,154,1172.1428571428571,4630.5,821,20379,25830.5,88.2,15.638095238095238,388.17142857142858,492.00952380952378,712.2,409.78095238095239,542.17142857142858,1664.152380952381,17292,59700,21348,98340]
["East Renfrewshire2009/101","East Renfrewshire","2009/101",4371,2770.5,1286,8427.5,624.42857142857144,395.78571428571428,183.71428571428572,1203.9285714285713,128127,22149,18686.5,168962.5,2440.5142857142855,421.8857142857143,355.93333333333334,3218.3333333333335,3064.9428571428571,817.67142857142858,539.64761904761906,4422.2619047619046,15922,53623,20435,89980]
["Edinburgh, City of2009/101","Edinburgh, City of","2009/101",10540,11509,6707,28756,1505.7142857142858,1644.1428571428571,958.14285714285711,4108,431206,395953,102748,929907,8213.4476190476198,7541.9619047619044,1957.104761904762,17712.514285714286,9719.161904761906,9186.1047619047622,2915.2476190476191,21820.514285714286,67972,314895,80373,463240]
["Eilean Siar2009/101","Eilean Siar","2009/101",4940,664,141,5745,705.71428571428567,94.857142857142861,20.142857142857142,820.71428571428567,14313,3965,2713,20991,272.62857142857143,75.523809523809518,51.676190476190477,399.82857142857142,978.34285714285716,170.38095238095238,71.819047619047623,1220.542857142857,5791,16226,5403,27420]
["Falkirk2009/101","Falkirk","2009/101",5774,3877,1981,11632,824.85714285714289,553.85714285714289,283,1661.7142857142858,44820.36,12607.07,30301.4,87728.83,853.72114285714292,240.13466666666667,577.16952380952387,1671.0253333333333,1678.5782857142858,793.99180952380959,860.16952380952387,3332.7396190476193,24658,97609,31943,154210]
["Fife2009/101","Fife","2009/101",15944,10554,2250,28748,2277.7142857142858,1507.7142857142858,321.42857142857144,4106.8571428571431,328132,484890,45441,858463,6250.1333333333332,9236,865.54285714285709,16351.67619047619,8527.8476190476194,10743.714285714286,1186.9714285714285,20458.533333333333,62178,225922,73310,361410]
["Glasgow City2009/101","Glasgow City","2009/101",20742,14480,8246,43468,2963.1428571428573,2068.5714285714284,1178,6209.7142857142853,315715,437841,57153,810709,6013.6190476190477,8339.8285714285721,1088.6285714285714,15442.076190476191,8976.7619047619046,10408.4,2266.6285714285714,21651.790476190472,82724,386551,112345,581620]
["Highland2009/101","Highland","2009/101",10433,5293,3583,19309,1490.4285714285713,756.14285714285711,511.85714285714283,2758.4285714285716,84270,37194,32439,153903,1605.1428571428571,708.45714285714291,617.88571428571424,2931.485714285714,3095.5714285714284,1464.6,1129.742857142857,5689.9142857142851,41510,140378,46862,228750]
["Inverclyde2009/101","Inverclyde","2009/101",3444,2604,749,6797,492,372,107,971,476959,137797,5170,619926,9084.9333333333325,2624.7047619047621,98.476190476190482,11808.114285714286,9576.9333333333325,2996.7047619047621,205.47619047619048,12779.114285714286,14566,50930,16174,81670]
["Midlothian2009/101","Midlothian","2009/101",2623,3252,446,6321,374.71428571428572,464.57142857142856,63.714285714285715,903,36824.800000000003,80062,22394,139280.79999999999,701.42476190476191,1524.9904761904761,426.55238095238093,2652.9676190476193,1076.1390476190477,1989.5619047619048,490.26666666666665,3555.9676190476193,13337,50945,17618,81900]
["Moray2009/101","Moray","2009/101",4138,3161,1298,8597,591.14285714285711,451.57142857142856,185.42857142857142,1228.1428571428571,17746.8,13599.5,6455.8,37802.1,338.03428571428572,259.03809523809525,122.96761904761905,720.04,929.17714285714283,710.60952380952381,308.39619047619044,1948.1828571428571,16593,57166,19411,93170]
["North Ayrshire2009/101","North Ayrshire","2009/101",10394,5318,1568,17280,1484.8571428571429,759.71428571428567,224,2468.5714285714284,90671,18504,11807,120982,1727.0666666666666,352.45714285714286,224.89523809523808,2304.4190476190479,3211.9238095238097,1112.1714285714286,448.89523809523808,4772.9904761904763,25037,84201,28592,137830]
["North Lanarkshire2009/101","North Lanarkshire","2009/101",11051,8138,1880,21069,1578.7142857142858,1162.5714285714287,268.57142857142856,3009.8571428571427,210799.84,207522.5,13631,431953.33999999997,4015.2350476190477,3952.8095238095239,259.63809523809522,8227.6826666666675,5593.9493333333339,5115.3809523809523,528.20952380952372,11237.539809523811,49324,212227,73609,335160]
["Orkney Islands2009/101","Orkney Islands","2009/101",2142,655,568,3365,306,93.571428571428569,81.142857142857139,480.71428571428572,20491,34136,6982,61609,390.3047619047619,650.20952380952383,132.99047619047619,1173.5047619047618,696.3047619047619,744,214.13333333333333,1654.2190476190476,4032,12706,4202,20940]
["Perth & Kinross2009/101","Perth & Kinross","2009/101",12066,3163,529,15758,1723.7142857142858,451.85714285714283,75.571428571428569,2251.1428571428573,167395,31920,14243,213558,3188.4761904761904,608,271.29523809523812,4067.7714285714283,4912.1904761904761,1059.8571428571429,346.86666666666667,6318.9142857142861,28454,87130,28786,144370]
["Renfrewshire2009/101","Renfrewshire","2009/101",7179,7733,3081,17993,1025.5714285714287,1104.7142857142858,440.14285714285717,2570.4285714285716,10594,40950,25030,76574,201.7904761904762,780,476.76190476190476,1458.5523809523809,1227.361904761905,1884.7142857142858,916.90476190476193,4028.9809523809527,28793,108902,35325,173020]
["Scottish Borders2009/101","Scottish Borders","2009/101",5570,3706,2243,11519,795.71428571428567,529.42857142857144,320.42857142857144,1645.5714285714287,962,7521,11401,19884,18.323809523809523,143.25714285714287,217.16190476190476,378.74285714285713,814.03809523809514,672.68571428571431,537.59047619047624,2024.3142857142857,23040,67967,22583,113590]
["Shetland Islands2009/101","Shetland Islands","2009/101",6568,1885,1022,9475,938.28571428571433,269.28571428571428,146,1353.5714285714287,7530,2286,11542,21358,143.42857142857142,43.542857142857144,219.84761904761905,406.81904761904764,1081.7142857142858,312.82857142857142,365.84761904761905,1760.3904761904764,3681,14008,5101,22790]
["South Ayrshire2009/101","South Ayrshire","2009/101",8661,2217,1127,12005,1237.2857142857142,316.71428571428572,161,1715,17528,12437,50206.21,80171.210000000006,333.86666666666667,236.89523809523808,956.30876190476192,1527.0706666666667,1571.152380952381,553.60952380952381,1117.3087619047619,3242.0706666666665,23641,67456,21393,112490]
["South Lanarkshire2009/101","South Lanarkshire","2009/101",23036,9653,3646,36335,3290.8571428571427,1379,520.85714285714289,5190.7142857142853,279963.28000000003,61097,49711.29,390771.57,5332.6339047619049,1163.7523809523809,946.88171428571434,7443.268,8623.4910476190471,2542.7523809523809,1467.7388571428573,12633.982285714286,51552,196114,64514,312180]
["Stirling2009/101","Stirling","2009/101",4087,1258,828,6173,583.85714285714289,179.71428571428572,118.28571428571429,881.85714285714289,8732,2360,26430,37522,166.32380952380953,44.952380952380949,503.42857142857144,714.70476190476188,750.18095238095248,224.66666666666669,621.71428571428578,1596.5619047619048,15144,55353,18193,88690]
["West Dunbartonshire2009/101","West Dunbartonshire","2009/101",3129,3981,1187,8297,447,568.71428571428567,169.57142857142858,1185.2857142857142,176812.89,140749.35,27111,344673.24,3367.8645714285717,2680.94,516.4,6565.2045714285714,3814.8645714285717,3249.6542857142858,685.97142857142853,7750.4902857142861,14761,57514,18805,91080]
["West Lothian2009/101","West Lothian","2009/101",4563,4389,908,9860,651.85714285714289,627,129.71428571428572,1408.5714285714287,9806,39669,19109,68584,186.78095238095239,755.6,363.98095238095237,1306.3619047619047,838.63809523809527,1382.6,493.6952380952381,2714.9333333333334,22693,110547,39800,173040]
["Aberdeen City2009/102","Aberdeen City","2009/102",8251,2420,1243,11914,1178.7142857142858,345.71428571428572,177.57142857142858,1702,36824.800000000003,35299.25,9369.5,81493.55,701.42476190476191,672.36666666666667,178.46666666666667,1552.2580952380954,1880.1390476190477,1018.0809523809523,356.03809523809525,3254.2580952380954,32071,147154,37795,217020,8031,220,0,8251,1133,13206.5,15964.5,6520.8,36824.800000000003,1990,430,0,2420,0,18621.5,4528.5,12149.25,35299.25,1201,0,42,1243,437.5,0,330,8602,9369.5,11222,650,42,11914,1570.5,31828,20823,27272.05,81493.55]
["Aberdeenshire2009/102","Aberdeenshire","2009/102",16200,4648.5165999999999,953,21801.516599999999,2314.2857142857142,664.07380000000001,136.14285714285714,3114.5023714285712,70056.13,67838.58,76661.039999999994,214555.75,1334.4024761904764,1292.1634285714285,1460.2102857142856,4086.7761904761905,3648.6881904761904,1956.2372285714287,1596.3531428571428,7201.2785619047618,39227,156181,53612,249020,15533,0,667,16200,2637,1277,12952,53190.13,70056.13,4212.0709999999999,0,436.44560000000001,4648.5165999999999,301,13107,10168.25,44262.33,67838.58,758,0,195,953,64,28745.040000000001,18142,29710,76661.039999999994,20503.071,0,1298.4456,21801.516599999999,3002,43129.04,41262.25,127162.46,214555.75]
["Angus2009/102","Angus","2009/102",8465,1915,1012,11392,1209.2857142857142,273.57142857142856,144.57142857142858,1627.4285714285713,102072,4140,8395,114607,1944.2285714285715,78.857142857142861,159.9047619047619,2182.9904761904763,3153.5142857142855,352.42857142857144,304.47619047619048,3810.4190476190479,22293,69158,23379,114830,8465,0,0,8465,0,78144,23928,0,102072,1915,0,0,1915,0,0,5185,0,5185,366,0,646,1012,130,0,0,8265,8395,10746,0,646,11392,130,78144,29113,8265,115652]
["Argyll & Bute2009/102","Argyll & Bute","2009/102",4686,1445,1509,7640,669.42857142857144,206.42857142857142,215.57142857142858,1091.4285714285713,77851,72290,34338,184479,1482.8761904761905,1376.952380952381,654.05714285714282,3513.8857142857141,2152.304761904762,1583.3809523809523,869.62857142857138,4605.3142857142857,18800,53734,16916,89450,4313,0,373,4686,0,61489,0,16362,77851,1030,0,415,1445,0,29881,0,42409,72290,1199,0,310,1509,0,8824,0,25514,34338,6542,0,1098,7640,0,100194,0,84285,184479]
["Clackmannanshire2009/102","Clackmannanshire","2009/102",3414,2075,264,5753,487.71428571428572,296.42857142857144,37.714285714285715,821.85714285714289,66731,50383,10158,127272,1271.0666666666666,959.67619047619053,193.48571428571429,2424.2285714285713,1758.7809523809524,1256.104761904762,231.20000000000002,3246.0857142857139,7839,32538,10913,51290,3036,0,378,3414,0,57375,1327,8029,66731,414,718,943,2075,0,45100,3965,1318,50383,264,0,0,264,0,0,2340,7818,10158,3714,718,1321,5753,0,102475,7632,17165,127272]
["Dumfries & Galloway2009/102","Dumfries & Galloway","2009/102",5012,4448,1978,11438,716,635.42857142857144,282.57142857142856,1634,9991,4177,25994,40162,190.3047619047619,79.561904761904756,495.12380952380954,764.99047619047622,906.3047619047619,714.99047619047622,777.6952380952381,2398.9904761904763,32284,89620,29256,151160,4633,14,0,4647,0,0,9991,0,9991,1695,163,0,1858,0,0,4177,0,4177,1886,92,0,1978,0,6243,19751,0,25994,8214,269,0,8483,0,6243,33919,0,40162]
["Dundee City2009/102","Dundee City","2009/102",8093,6462,1814,16369,1156.1428571428571,923.14285714285711,259.14285714285717,2338.4285714285716,60749.5,176253,24621,261623.5,1157.1333333333334,3357.2,468.97142857142859,4983.304761904762,2313.2761904761905,4280.3428571428567,728.11428571428576,7321.7333333333336,24909,92480,27781,145170,8091,2,0,8093,0,31610,29139.5,0,60749.5,6140,322,0,6462,0,85208,1345.25,74353,160906.25,636,176,1002,1814,0,3980,9374,11267,24621,14867,500,1002,16369,0,120798,39858.75,85620,246276.75]
["East Ayrshire2009/102","East Ayrshire","2009/102",6537,4907,1204,12648,933.85714285714289,701,172,1806.8571428571429,84059.53,155320,8985,248364.53,1601.1339047619047,2958.4761904761904,171.14285714285714,4730.7529523809526,2534.9910476190475,3659.4761904761904,343.14285714285711,6537.6100952380957,20732,76325,25053,122110,4849,1688,0,6537,0,65404,18655.53,0,84059.53,4907,0,0,4907,0,124226,31094,0,155320,1099,105,0,1204,0,0,0,8985,8985,10855,1793,0,12648,0,189630,49749.53,8985,248364.53]
["East Dunbartonshire2009/102","East Dunbartonshire","2009/102",4098,2484,1064,7646,585.42857142857144,354.85714285714283,152,1092.2857142857142,280703,37367.360000000001,24006.639999999999,342077,5346.7238095238099,711.75923809523806,457.26933333333335,6515.7523809523809,5932.1523809523815,1066.616380952381,609.26933333333341,7608.0380952380947,19707,63321,21932,104960,3881,217,0,4098,0,84685,196018,0,280703,2276,208,0,2484,60,9493,19095.36,8719,37367.360000000001,1053,0,11,1064,0,0,13943.89,10062.75,24006.639999999999,7210,425,11,7646,60,94178,229057.25,18781.75,342077]
["East Lothian2009/102","East Lothian","2009/102",4368,2759,1078,8205,624,394.14285714285717,154,1172.1428571428571,4630.5,821,20379,25830.5,88.2,15.638095238095238,388.17142857142858,492.00952380952378,712.2,409.78095238095239,542.17142857142858,1664.152380952381,17292,59700,21348,98340,4202,166,"-",4368,"-","-",4630.5,"-",4630.5,2019,740,"-",2759,"-","-",821,"-",821,728,350,0,1078,1904,10192,7598,685,20379,6949,1256,0,8205,1904,10192,13049.5,685,25830.5]
["East Renfrewshire2009/102","East Renfrewshire","2009/102",4371,2770.5,1286,8427.5,624.42857142857144,395.78571428571428,183.71428571428572,1203.9285714285713,128127,22149,18686.5,168962.5,2440.5142857142855,421.8857142857143,355.93333333333334,3218.3333333333335,3064.9428571428571,817.67142857142858,539.64761904761906,4422.2619047619046,15922,53623,20435,89980,3964,356,51,4371,0,112015,7264,8848,128127,2003,623,144.5,2770.5,0,0,1467,20682,22149,1086,26,174,1286,0,0,8671,10015.5,18686.5,7053,1005,369.5,8427.5,0,112015,17402,39545.5,168962.5]
["Edinburgh, City of2009/102","Edinburgh, City of","2009/102",10540,11509,6707,28756,1505.7142857142858,1644.1428571428571,958.14285714285711,4108,431206,395953,102748,929907,8213.4476190476198,7541.9619047619044,1957.104761904762,17712.514285714286,9719.161904761906,9186.1047619047622,2915.2476190476191,21820.514285714286,67972,314895,80373,463240,10242,0,298,10540,150917,246982,1233,32074,431206,10253,0,1256,11509,133350,142309,1151,119143,395953,4002,0,2705,6707,0,67452,0,35296,102748,24497,0,4259,28756,284267,456743,2384,186513,929907]
["Eilean Siar2009/102","Eilean Siar","2009/102",4940,664,141,5745,705.71428571428567,94.857142857142861,20.142857142857142,820.71428571428567,14313,3965,2713,20991,272.62857142857143,75.523809523809518,51.676190476190477,399.82857142857142,978.34285714285716,170.38095238095238,71.819047619047623,1220.542857142857,5791,16226,5403,27420,4836,0,104,4940,0,4037,10276,0,14313,574,0,90,664,0,2984,981,0,3965,141,0,0,141,2713,0,0,0,2713,5551,0,194,5745,2713,7021,11257,0,20991]
["Falkirk2009/102","Falkirk","2009/102",5774,3877,1981,11632,824.85714285714289,553.85714285714289,283,1661.7142857142858,44820.36,12607.07,30301.4,87728.83,853.72114285714292,240.13466666666667,577.16952380952387,1671.0253333333333,1678.5782857142858,793.99180952380959,860.16952380952387,3332.7396190476193,24658,97609,31943,154210,5566,0,208,5774,0,2939.14,21775.22,20106,44820.36,3225,0,652,3877,0,0,1903.57,10703.5,12607.07,1219,0,762,1981,0,0,0,30301.4,30301.4,10010,0,1622,11632,0,2939.14,23678.79,61110.9,87728.83]
["Fife2009/102","Fife","2009/102",15906,8831,2250,26987,2272.2857142857142,1261.5714285714287,321.42857142857144,3855.2857142857142,387359,533903,54229,975491,7378.2666666666664,10169.580952380953,1032.9333333333334,18580.780952380952,9650.5523809523802,11431.152380952382,1354.361904761905,22436.066666666666,62178,225922,73310,361410,15663,0,281,15944,321518,0,0,6614,328132,9938,0,616,10554,468081,0,0,16809,484890,2074,176,0,2250,0,0,0,45441,45441,27675,176,897,28748,789599,0,0,68864,858463]
["Glasgow City2009/102","Glasgow City","2009/102",20742,14480,8246,43468,2963.1428571428573,2068.5714285714284,1178,6209.7142857142853,315715,437841,57153,810709,6013.6190476190477,8339.8285714285721,1088.6285714285714,15442.076190476191,8976.7619047619046,10408.400000000001,2266.6285714285714,21651.790476190476,82724,386551,112345,581620,20638,0,104,20742,0,315715,0,0,315715,14376,0,104,14480,0,437841,0,0,437841,7053,0,1193,8246,0,31617,0,25536,57153,42067,0,1401,43468,0,785173,0,25536,810709]
["Highland2009/102","Highland","2009/102",10433,5293,3583,19309,1490.4285714285713,756.14285714285711,511.85714285714283,2758.4285714285716,84270,37194,32439,153903,1605.1428571428571,708.45714285714291,617.88571428571424,2931.4857142857145,3095.5714285714284,1464.6,1129.742857142857,5689.9142857142861,41510,140378,46862,228750,10066,331,36,10433,0,34369,48899,1002,84270,4915,222,156,5293,0,20290,16524,380,37194,2440,0,1143,3583,0,6723,16985,8731,32439,17421,553,1335,19309,0,61382,82408,10113,153903]
["Inverclyde2009/102","Inverclyde","2009/102",3444,2604,749,6797,492,372,107,971,476959,137797,5170,619926,9084.9333333333325,2624.7047619047621,98.476190476190482,11808.114285714286,9576.9333333333325,2996.7047619047621,205.47619047619048,12779.114285714286,14566,50930,16174,81670,2488,0,956,3444,0,65592,388866,22501,476959,1878,0,726,2604,0,76178,32002.5,29616.5,137797,694,0,55,749,0,0,2342.5,2827.5,5170,5060,0,1737,6797,0,141770,423211,54945,619926]
["Midlothian2009/102","Midlothian","2009/102",2623,3252,446,6321,374.71428571428572,464.57142857142856,63.714285714285715,903,36824.800000000003,80062,22394,139280.79999999999,701.42476190476191,1524.9904761904761,426.55238095238093,2652.9676190476189,1076.1390476190477,1989.5619047619048,490.26666666666665,3555.9676190476189,13337,50945,17618,81900,2604,0,19,2623,0,18028.3,9102.5,9694,36824.800000000003,2611,0,641,3252,0,62464,17016,582,80062,265,0,181,446,0,10917,0,11477,22394,5480,0,841,6321,0,91409.3,26118.5,21753,139280.79999999999]
["Moray2009/102","Moray","2009/102",4138,3161,1298,8597,591.14285714285711,451.57142857142856,185.42857142857142,1228.1428571428571,17746.8,13599.5,6455.8,37802.1,338.03428571428572,259.03809523809525,122.96761904761905,720.04,929.17714285714283,710.60952380952381,308.39619047619044,1948.1828571428571,16593,57166,19411,93170,3922,216,0,4138,0,6911,10835.8,0,17746.8,3161,0,0,3161,0,5433,8166.5,0,13599.5,1298,0,0,1298,2213.8000000000002,0,4242,0,6455.8,8381,216,0,8597,2213.8000000000002,12344,23244.3,0,37802.1]
["North Ayrshire2009/102","North Ayrshire","2009/102",10394,5318,1568,17280,1484.8571428571429,759.71428571428567,224,2468.5714285714284,90671,18504,11807,120982,1727.0666666666666,352.45714285714286,224.89523809523808,2304.4190476190474,3211.9238095238097,1112.1714285714286,448.89523809523808,4772.9904761904763,25037,84201,28592,137830,10394,0,0,10394,0,80984,9687,0,90671,5042,0,276,5318,0,16320,2184,0,18504,1111,457,0,1568,0,0,0,11807,11807,16547,457,276,17280,0,97304,11871,11807,120982]
["North Lanarkshire2009/102","North Lanarkshire","2009/102",11051,8138,1880,21069,1578.7142857142858,1162.5714285714287,268.57142857142856,3009.8571428571427,210799.84,207522.5,13631,431953.33999999997,4015.2350476190477,3952.8095238095239,259.63809523809522,8227.6826666666657,5593.9493333333339,5115.3809523809523,528.20952380952372,11237.539809523809,49324,212227,73609,335160,11051,0,0,11051,0,174761,3564,32474.84,210799.84,8131,7,0,8138,0,511,15454,191557.5,207522.5,1866,14,0,1880,0,10887,2251,493,13631,21048,21,0,21069,0,186159,21269,224525.34,431953.33999999997]
["Orkney Islands2009/102","Orkney Islands","2009/102",2142,655,568,3365,306,93.571428571428569,81.142857142857139,480.71428571428572,20491,38486,6982,65959,390.3047619047619,733.06666666666672,132.99047619047619,1256.3619047619047,696.3047619047619,826.63809523809527,214.13333333333333,1737.0761904761905,4032,12706,4202,20940,2142,0,0,2142,0,15970,2084,2437,20491,636,19,0,655,21,22299,11816,0,34136,568,0,0,568,1784,0,5198,0,6982,3346,19,0,3365,1805,38269,19098,2437,61609]
["Perth & Kinross2009/102","Perth & Kinross","2009/102",12066,3163,529,15758,1723.7142857142858,451.85714285714283,75.571428571428569,2251.1428571428573,167395,31920,14243,213558,3188.4761904761904,608,271.29523809523812,4067.7714285714287,4912.1904761904761,1059.8571428571429,346.86666666666667,6318.9142857142861,28454,87130,28786,144370,11807,259,0,12066,0,10730,155626,1039,167395,3126,37,0,3163,0,12176,19091,653,31920,478,51,0,529,0,0,8533,5710,14243,15411,347,0,15758,0,22906,183250,7402,213558]
["Renfrewshire2009/102","Renfrewshire","2009/102",7179,7733,3081,17993,1025.5714285714287,1104.7142857142858,440.14285714285717,2570.4285714285716,10594,40950,25030,76574,201.7904761904762,780,476.76190476190476,1458.5523809523809,1227.361904761905,1884.7142857142858,916.90476190476193,4028.9809523809527,28793,108902,35325,173020,7179,0,0,7179,0,0,72,10522,10594,7733,0,0,7733,0,0,36433,4517,40950,3081,0,0,3081,0,0,4194,20836,25030,17993,0,0,17993,0,0,40699,35875,76574]
["Scottish Borders2009/102","Scottish Borders","2009/102",5570,3706,2243,11519,795.71428571428567,529.42857142857144,320.42857142857144,1645.5714285714287,962,7521,11401,19884,18.323809523809523,143.25714285714287,217.16190476190476,378.74285714285713,814.03809523809514,672.68571428571431,537.59047619047624,2024.3142857142857,23040,67967,22583,113590,5479,0,91,5570,0,0,962,0,962,1770,19,1917,3706,0,0,5335,2186,7521,638,0,1605,2243,1296,0,0,10105,11401,7887,19,3613,11519,1296,0,6297,12291,19884]
["Shetland Islands2009/102","Shetland Islands","2009/102",6568,1885,1022,9475,938.28571428571433,269.28571428571428,146,1353.5714285714287,7530,4774,16350,28654,143.42857142857142,90.933333333333337,311.42857142857144,545.79047619047617,1081.7142857142858,360.21904761904761,457.42857142857144,1899.361904761905,3681,14008,5101,22790,6568,0,0,6568,0,0,7530,0,7530,1642,32,211,1885,1997,0,289,0,2286,891,21,110,1022,11541,0,1,0,11542,9101,53,321,9475,13538,0,7820,0,21358]
["South Ayrshire2009/102","South Ayrshire","2009/102",8697,2217,1127,12041,1242.4285714285713,316.71428571428572,161,1720.1428571428571,103016,101693,50206,254915,1962.2095238095237,1937.0095238095239,956.3047619047619,4855.5238095238092,3204.638095238095,2253.7238095238095,1117.304761904762,6575.6666666666661,23641,67456,21393,112490,8637,24,0,8661,0,0,17528,0,17528,377,25,1815,2217,0,0,3444,8993,12437,0,0,1127,1127,0,8288,16513.21,25405,50206.21,9014,49,2942,12005,0,8288,37485.21,34398,80171.210000000006]
["South Lanarkshire2009/102","South Lanarkshire","2009/102",23036,9653,3646,36335,3290.8571428571427,1379,520.85714285714289,5190.7142857142853,279963.28000000003,61097,49711.29,390771.57,5332.6339047619049,1163.7523809523809,946.88171428571434,7443.268,8623.4910476190471,2542.7523809523809,1467.7388571428573,12633.982285714286,51552,196114,64514,312180,23005,26,5,23036,0,253279.28,26609,75,279963.28000000003,8704,178,771,9653,0,0,48172,12925,61097,3196,295,155,3646,0,1288.29,34869,13554,49711.29,34905,499,931,36335,0,254567.57,109650,26554,390771.57]
["Stirling2009/102","Stirling","2009/102",4087,1258,828,6173,583.85714285714289,179.71428571428572,118.28571428571429,881.85714285714289,8732,2360,26430,37522,166.32380952380953,44.952380952380949,503.42857142857144,714.70476190476188,750.18095238095248,224.66666666666669,621.71428571428578,1596.5619047619048,15144,55353,18193,88690,4087,0,0,4087,0,0,8732,0,8732,1258,0,0,1258,0,0,2360,0,2360,737,91,0,828,0,4800,15480,6150,26430,6082,91,0,6173,0,4800,26572,6150,37522]
["West Dunbartonshire2009/102","West Dunbartonshire","2009/102",3129,3981,1187,8297,447,568.71428571428567,169.57142857142858,1185.2857142857142,176812.89,140749.35,27111,344673.24,3367.8645714285717,2680.94,516.4,6565.2045714285714,3814.8645714285717,3249.6542857142858,685.97142857142853,7750.4902857142861,14761,57514,18805,91080,3129,0,0,3129,0,131241.70000000001,42867.49,2703.7,176812.89,3807,0,174,3981,0,68483.3,9828.5499999999993,62437.5,140749.35,1164,23,0,1187,413,4891,3857,17950,27111,8100,23,174,8297,413,204616,56553.04,83091.199999999997,344673.24]
["West Lothian2009/102","West Lothian","2009/102",4563,4389,908,9860,651.85714285714289,627,129.71428571428572,1408.5714285714287,9806,39669,19109,68584,186.78095238095239,755.6,363.98095238095237,1306.3619047619047,838.63809523809527,1382.6,493.6952380952381,2714.9333333333334,22693,110547,39800,173040,4563,0,0,4563,0,0,8818,988,9806,4389,0,0,4389,0,17160,3098,19411,39669,594,0,314,908,0,0,3245,15864,19109,9546,0,314,9860,0,17160,15161,36263,68584]
["Aberdeen City2010/112","Aberdeen City","2010/112",7625,1761,1413,10799,1089.2857142857142,251.57142857142858,201.85714285714286,1542.7142857142858,61410.25,10402.5,9580.5,81393.25,1169.7190476190476,198.14285714285714,182.48571428571429,1550.347619047619,2259.0047619047618,449.71428571428572,384.34285714285716,3093.0619047619048,31983,150735,37012,219730,8031,220,0,8251,1133,13206.5,15964.5,6520.8,36824.800000000003,1990,430,0,2420,0,18621.5,4528.5,12149.25,35299.25,1201,0,42,1243,437.5,0,330,8602,9369.5,11222,650,42,11914,1570.5,31828,20823,27272.05,81493.55]
["Aberdeenshire2010/112","Aberdeenshire","2010/112",18773,4107,948,23828,2681.8571428571427,586.71428571428567,135.42857142857142,3404,61610.65,49210,62601,173421.65,1173.5361904761905,937.33333333333337,1192.4000000000001,3303.2695238095239,3855.3933333333334,1524.047619047619,1327.8285714285714,6707.2695238095239,40062,157500,53868,251430,15533,0,667,16200,2637,1277,12952,53190.13,70056.13,4212.0709999999999,0,436.44560000000001,4648.5165999999999,301,13107,10168.25,44262.33,67838.58,758,0,195,953,64,28745.040000000001,18142,29710,76661.039999999994,20503.071,0,1298.4456,21801.516599999999,3002,43129.04,41262.25,127162.45999999999,214555.75]
["Angus2010/112","Angus","2010/112",7625,1183,885,9693,1089.2857142857142,169,126.42857142857143,1384.7142857142858,114048,4094,8958.2000000000007,127100.2,2172.3428571428572,77.980952380952374,170.63238095238097,2420.9561904761904,3261.6285714285714,246.98095238095237,297.06095238095241,3805.6704761904762,22708,69386,23316,115410,8465,0,0,8465,0,78144,23928,0,102072,1915,0,0,1915,0,0,4140,0,4140,366,0,646,1012,130,0,0,8265,8395,10746,0,646,11392,130,78144,28068,8265,114607]
["Argyll & Bute2010/112","Argyll & Bute","2010/112",3579,983,1312,5874,511.28571428571428,140.42857142857142,187.42857142857142,839.14285714285711,67005,79179,43835.3,190019.3,1276.2857142857142,1508.1714285714286,834.95809523809532,3619.4152380952378,1787.5714285714284,1648.6,1022.3866666666668,4458.5580952380951,19111,52780,16729,88620,4313,0,373,4686,0,61489,0,16362,77851,1030,0,415,1445,0,29881,0,42409,72290,1199,0,310,1509,0,8824,0,25514,34338,6542,0,1098,7640,0,100194,0,84285,184479]
["Clackmannanshire2010/112","Clackmannanshire","2010/112",3221,1967,358,5546,460.14285714285717,281,51.142857142857146,792.28571428571433,62941,50902,5506,119349,1198.8761904761905,969.56190476190477,104.87619047619047,2273.3142857142857,1659.0190476190476,1250.5619047619048,156.01904761904763,3065.6,8078,32435,10817,51330,3036,0,378,3414,0,57375,1327,8029,66731,414,718,943,2075,0,45100,3965,1318,50383,264,0,0,264,0,0,2340,7818,10158,3714,718,1321,5753,0,102475,7632,17165,127272]
["Dumfries & Galloway2010/112","Dumfries & Galloway","2010/112",4154,6774,2216,13144,593.42857142857144,967.71428571428567,316.57142857142856,1877.7142857142858,12978,5907,25993,44878,247.2,112.51428571428572,495.10476190476192,854.81904761904764,840.62857142857138,1080.2285714285713,811.67619047619041,2732.5333333333333,32712,89347,29041,151100,4633,379,0,5012,0,0,9991,0,9991,2051,2397,0,4448,0,0,4177,0,4177,1886,92,0,1978,0,6243,19751,0,25994,8570,2868,0,11438,0,6243,33919,0,40162]
["Dundee City2010/112","Dundee City","2010/112",11424,6476,1789,19689,1632,925.14285714285711,255.57142857142858,2812.7142857142858,59320,187572,25310,272202,1129.9047619047619,3572.8,482.09523809523807,5184.8,2761.9047619047619,4497.9428571428571,737.66666666666663,7997.5142857142855,24812,94034,27214,146060,8091,2,0,8093,0,31610,29139.5,0,60749.5,6140,322,0,6462,0,85208,1345.25,89700,176253.25,636,176,1002,1814,0,3980,9374,11267,24621,14867,500,1002,16369,0,120798,39858.75,100967,261623.75]
["East Ayrshire2010/112","East Ayrshire","2010/112",6509,4828,1280,12617,929.85714285714289,689.71428571428567,182.85714285714286,1802.4285714285713,85141.17857142858,156291.10714285716,9455,250887.28571428574,1621.7367346938777,2976.9734693877554,180.0952380952381,4778.8054421768711,2551.5938775510203,3666.6877551020411,362.95238095238096,6581.2340136054427,21144,76352,24914,122410,4849,1688,0,6537,0,65404,18655.53,0,84059.53,4907,0,0,4907,0,124226,31094,0,155320,1099,105,0,1204,0,0,0,8985,8985,10855,1793,0,12648,0,189630,49749.53,8985,248364.53]
["East Dunbartonshire2010/112","East Dunbartonshire","2010/112",3910,2293,880,7083,558.57142857142856,327.57142857142856,125.71428571428571,1011.8571428571429,244541.12,43607.79,24263.05,312411.96000000002,4657.9260952380955,830.62457142857147,462.15333333333331,5950.7039999999997,5216.497523809524,1158.1959999999999,587.86761904761897,6962.5611428571428,20164,63143,21613,104920,3881,217,0,4098,0,84685,196018,0,280703,2276,208,0,2484,60,9493,19095.36,8719,37367.360000000001,1053,0,11,1064,0,0,13943.89,10062.75,24006.639999999999,7210,425,11,7646,60,94178,229057.25,18781.75,342077]
["East Lothian2010/112","East Lothian","2010/112",5158,2731,1041,8930,736.85714285714289,390.14285714285717,148.71428571428572,1275.7142857142858,4745,728,20226,25699,90.38095238095238,13.866666666666667,385.25714285714287,489.50476190476189,827.2380952380953,404.00952380952384,533.97142857142853,1765.2190476190476,17522,60428,21190,99140,4202,166,"-",4368,"-","-",4630.5,"-",4630.5,2019,740,"-",2759,"-","-",821,"-",821,728,350,0,1078,1904,10192,7598,685,20379,6949,1256,0,8205,1904,10192,13049.5,685,25830.5]
["East Renfrewshire2010/112","East Renfrewshire","2010/112",4358,2660.25,1059,8077.25,622.57142857142856,380.03571428571428,151.28571428571428,1153.8928571428571,119008,23764,18980,161752,2266.8190476190475,452.64761904761906,361.52380952380952,3080.9904761904763,2889.390476190476,832.68333333333339,512.80952380952385,4234.8833333333332,16166,53853,20391,90410,3964,356,51,4371,0,112015,7264,8848,128127,2003,623,144.5,2770.5,0,0,1467,20682,22149,1086,26,174,1286,0,0,8671,10015.5,18686.5,7053,1005,369.5,8427.5,0,112015,17402,39545.5,168962.5]
["Edinburgh, City of2010/112","Edinburgh, City of","2010/112",12575,10643,5862,29080,1796.4285714285713,1520.4285714285713,837.42857142857144,4154.2857142857147,476695,339457,112241,928393,9079.9047619047615,6465.8476190476194,2137.9238095238097,17683.676190476192,10876.333333333332,7986.276190476191,2975.3523809523813,21837.961904761905,68374,321295,80271,469940,10242,0,298,10540,150917,246982,1233,32074,431206,10253,0,1256,11509,133350,142309,1151,119143,395953,4002,0,2705,6707,0,67452,0,35296,102748,24497,0,4259,28756,284267,456743,2384,186513,929907]
["Eilean Siar2010/112","Eilean Siar","2010/112",5580,720,114,6414,797.14285714285711,102.85714285714286,16.285714285714285,916.28571428571433,18648.5,1206.5,2737,22592,355.20952380952383,22.980952380952381,52.133333333333333,430.32380952380953,1152.3523809523808,125.83809523809524,68.419047619047618,1346.6095238095238,5884,16352,5364,27600,4836,0,104,4940,0,4037,10276,0,14313,574,0,90,664,0,2984,981,0,3965,141,0,0,141,2713,0,0,0,2713,5551,0,194,5745,2713,7021,11257,0,20991]
["Falkirk2010/112","Falkirk","2010/112",6013,3770,1482,11265,859,538.57142857142856,211.71428571428572,1609.2857142857142,45258.7,12782,30854.32,88895.02,862.07047619047614,243.46666666666667,587.70133333333331,1693.2384761904759,1721.0704761904763,782.03809523809525,799.41561904761897,3302.5241904761901,25138,97899,32103,155140,5566,0,208,5774,0,2939.14,21775.22,20106,44820.36,3225,0,652,3877,0,0,1903.57,10703.5,12607.07,1219,0,762,1981,0,0,0,30301.4,30301.4,10010,0,1622,11632,0,2939.14,23678.79,61110.9,87728.83]
["Fife2010/112","Fife","2010/112",17685,9239,2193,29117,2526.4285714285716,1319.8571428571429,313.28571428571428,4159.5714285714284,416793,552563,55490,1024846,7938.9142857142861,10525.009523809524,1056.952380952381,19520.876190476192,10465.342857142858,11844.866666666667,1370.2380952380952,23680.44761904762,63308,226354,72948,362610,15625,0,281,15906,328202,0,0,59157,387359,8215,0,616,8831,515314,0,0,18589,533903,2074,176,0,2250,0,0,0,54229,54229,25914,176,897,26987,843516,0,0,131975,975491]
["Glasgow City2010/112","Glasgow City","2010/112",13498,13290,6639,33427,1928.2857142857142,1898.5714285714287,948.42857142857144,4775.2857142857147,305831,564285,45352,915468,5825.3523809523813,10748.285714285714,863.84761904761899,17437.485714285714,7753.638095238095,12646.857142857143,1812.2761904761905,22212.771428571428,82366,394169,109965,586500,20638,0,104,20742,0,315715,0,0,315715,14376,0,104,14480,0,437841,0,0,437841,7053,0,1193,8246,0,31617,0,25536,57153,42067,0,1401,43468,0,785173,0,25536,810709]
["Highland2010/112","Highland","2010/112",9975,3808,3101,16884,1425,544,443,2412,78857,34202,27769,140828,1502.0380952380951,651.4666666666667,528.93333333333328,2682.4380952380952,2927.0380952380951,1195.4666666666667,971.93333333333328,5094.4380952380952,42376,141305,47049,230730,10066,331,36,10433,0,34369,48899,1002,84270,4915,222,156,5293,0,20290,16524,380,37194,2440,0,1143,3583,0,6723,16985,8731,32439,17421,553,1335,19309,0,61382,82408,10113,153903]
["Inverclyde2010/112","Inverclyde","2010/112",3409,2570,637,6616,487,367.14285714285717,91,945.14285714285711,439902.3,134111.07999999999,3149,577162.38,8379.091428571428,2554.4967619047616,59.980952380952381,10993.569142857143,8866.091428571428,2921.6396190476189,150.98095238095237,11938.712,14672,50970,15868,81510,2488,0,956,3444,0,65592,388866,22501,476959,1878,0,726,2604,0,76178,32002.5,29616.5,137797,694,0,55,749,0,0,2342.5,2827.5,5170,5060,0,1737,6797,0,141770,423211,54945,619926]
["Midlothian2010/112","Midlothian","2010/112",2704,2770,468.3,5942.3,386.28571428571428,395.71428571428572,66.900000000000006,848.9,34593.949999999997,78831.5,23513.7,136939.15,658.93238095238087,1501.5523809523809,447.88,2608.364761904762,1045.2180952380952,1897.2666666666667,514.78,3457.2647619047621,13702,51064,17594,82360,2604,0,19,2623,0,18028.3,9102.5,9694,36824.800000000003,2611,0,641,3252,0,62464,17016,582,80062,265,0,181,446,0,10917,0,11477,22394,5480,0,841,6321,0,91409.3,26118.5,21753,139280.79999999999]
["Moray2010/112","Moray","2010/112",4508,3177,992,8677,644,453.85714285714283,141.71428571428572,1239.5714285714287,16781.75,14444.5,8123.5,39349.75,319.65238095238095,275.13333333333333,154.73333333333332,749.51904761904757,963.65238095238101,728.9904761904761,296.44761904761901,1989.0904761904762,17008,57269,19413,93690,3922,216,0,4138,0,6911,10835.8,0,17746.8,3161,0,0,3161,0,5433,8166.5,0,13599.5,1298,0,0,1298,2213.8000000000002,0,4242,0,6455.8,8381,216,0,8597,2213.8000000000002,12344,23244.3,0,37802.1]
["North Ayrshire2010/112","North Ayrshire","2010/112",9912,5163,1664,16739,1416,737.57142857142856,237.71428571428572,2391.2857142857142,95990,16013,16821.599999999999,128824.6,1828.3809523809523,305.00952380952378,320.41142857142853,2453.801904761905,3244.3809523809523,1042.5809523809523,558.12571428571425,4845.0876190476192,25539,83963,28288,137790,10394,0,0,10394,0,80984,9687,0,90671,5042,0,276,5318,0,16320,2184,0,18504,1111,457,0,1568,0,0,0,11807,11807,16547,457,276,17280,0,97304,11871,11807,120982]
["North Lanarkshire2010/112","North Lanarkshire","2010/112",10672,7883,1602,20157,1524.5714285714287,1126.1428571428571,228.85714285714286,2879.5714285714284,198397,190967,24179,413543,3778.9904761904763,3637.4666666666667,460.55238095238093,7877.0095238095246,5303.5619047619048,4763.609523809524,689.40952380952376,10756.580952380953,49956,213059,73265,336280,11051,0,0,11051,0,174761,3564,32474.84,210799.84,8131,7,0,8138,0,511,15454,191557.5,207522.5,1866,14,0,1880,0,10887,2251,493,13631,21048,21,0,21069,0,186159,21268.5,224525.34,431952.83999999997]
["Orkney Islands2010/112","Orkney Islands","2010/112",2171,712,525,3408,310.14285714285717,101.71428571428571,75,486.85714285714283,21251,45769.5,8354,75374.5,404.78095238095239,871.8,159.12380952380951,1435.7047619047619,714.9238095238095,973.51428571428562,234.12380952380951,1922.5619047619048,4157,12855,4208,21220,2142,0,0,2142,0,15970,2084,2437,20491,636,19,0,655,1102.5,25567.5,11816,0,38486,568,0,0,568,1784,0,5198,0,6982,3346,19,0,3365,2886.5,41537.5,19098,2437,65959]
["Perth & Kinross2010/112","Perth & Kinross","2010/112",14180,1828,554,16562,2025.7142857142858,261.14285714285717,79.142857142857139,2366,151037,35286,14839,201162,2876.8952380952383,672.11428571428576,282.64761904761906,3831.6571428571428,4902.609523809524,933.25714285714298,361.79047619047617,6197.6571428571424,29072,87688,28840,145600,11807,259,0,12066,0,10730,155626,1039,167395,3126,37,0,3163,0,12176,19091,653,31920,478,51,0,529,0,0,8533,5710,14243,15411,347,0,15758,0,22906,183250,7402,213558]
["Renfrewshire2010/112","Renfrewshire","2010/112",7234,6722,2589,16545,1033.4285714285713,960.28571428571433,369.85714285714283,2363.5714285714284,19236,27618.2,21826.1,68680.299999999988,366.4,526.06095238095236,415.73523809523806,1308.1961904761904,1399.8285714285712,1486.3466666666668,785.59238095238084,3671.7676190476186,29101,109572,35027,173700,7179,0,0,7179,0,0,72,10522,10594,7733,0,0,7733,0,0,36433,4517,40950,3081,0,0,3081,0,0,4194,20836,25030,17993,0,0,17993,0,0,40699,35875,76574]
["Scottish Borders2010/112","Scottish Borders","2010/112",6346,2337,2095,10778,906.57142857142856,333.85714285714283,299.28571428571428,1539.7142857142858,2649.7,11452,12910,27011.7,50.470476190476184,218.13333333333333,245.9047619047619,514.50857142857149,957.04190476190479,551.9904761904761,545.19047619047615,2054.2228571428573,23481,67819,22390,113690,5479,0,91,5570,0,0,962,0,962,1770,19,1917,3706,0,0,5335,2186,7521,638,0,1605,2243,1296,0,0,10105,11401,7887,19,3613,11519,1296,0,6297,12291,19884]
["Shetland Islands2010/112","Shetland Islands","2010/112",9677,1951,1198,12826,1382.4285714285713,278.71428571428572,171.14285714285714,1832.2857142857142,5295.25,5827.75,18495,29618,100.86190476190477,111.00476190476191,352.28571428571428,564.15238095238101,1483.2904761904761,389.71904761904761,523.42857142857144,2396.4380952380952,3739,14203,5118,23060,6568,0,0,6568,0,0,7530,0,7530,1642,32,211,1885,1997,0,2777,0,4774,891,21,110,1022,11541,0,4809,0,16350,9101,53,321,9475,13538,0,15116,0,28654]
["South Ayrshire2010/112","South Ayrshire","2010/112",10717,2393,1306,14416,1531,341.85714285714283,186.57142857142858,2059.4285714285716,102098,120697.75,52266.5,275062.25,1944.7238095238095,2299.0047619047618,995.55238095238099,5239.2809523809519,3475.7238095238095,2640.8619047619045,1182.1238095238095,7298.7095238095235,23993,67405,21202,112600,8673,24,0,8697,0,85488,17528,0,103016,377,25,1815,2217,0,89256,3444,8993,101693,0,0,1127,1127,0,8288,16513.21,25405,50206.21,9050,49,2942,12041,0,183032,37485.21,34398,254915.21]
["South Lanarkshire2010/112","South Lanarkshire","2010/112",27403,13195,3323,43921,3914.7142857142858,1885,474.71428571428572,6274.4285714285716,275426,65680,56524.57,397630.57,5246.2095238095235,1251.047619047619,1076.6584761904762,7573.9156190476187,9160.9238095238088,3136.0476190476193,1551.372761904762,13848.344190476189,52311,197009,63860,313180,23005,26,5,23036,0,253279.28,26609,75,279963.28000000003,8704,178,771,9653,0,0,48172,12925,61097,3196,295,155,3646,0,1288.29,34869,13554,49711.29,34905,499,931,36335,0,254567.57,109650,26554,390771.57]
["Stirling2010/112","Stirling","2010/112",5268,1275,755,7298,752.57142857142856,182.14285714285714,107.85714285714286,1042.5714285714287,9246,2758.94,30060,42064.94,176.11428571428573,52.551238095238098,572.57142857142856,801.2369523809524,928.68571428571431,234.69409523809523,680.42857142857144,1843.808380952381,15335,55971,18244,89550,4087,0,0,4087,0,0,8732,0,8732,1258,0,0,1258,0,0,2360,0,2360,737,91,0,828,0,4800,15480,6150,26430,6082,91,0,6173,0,4800,26572,6150,37522]
["West Dunbartonshire2010/112","West Dunbartonshire","2010/112",3019,3748,1083,7850,431.28571428571428,535.42857142857144,154.71428571428572,1121.4285714285713,156803.21,152690.82999999999,31169,340663.03999999998,2986.7278095238098,2908.3967619047621,593.6952380952381,6488.8198095238104,3418.013523809524,3443.8253333333337,748.40952380952376,7610.2483809523819,14861,57456,18483,90800,3129,0,0,3129,0,131241.70000000001,42867.49,2703.7,176812.89,3807,0,174,3981,0,68483.3,9828.5499999999993,62437.5,140749.35,1164,23,0,1187,413,4891,3857,17950,27111,8100,23,174,8297,413,204616,56553.04,83091.199999999997,344673.24]
["West Lothian2010/112","West Lothian","2010/112",4479,3920,931,9330,639.85714285714289,560,133,1332.8571428571429,11753,31208,18603,61564,223.86666666666667,594.43809523809523,354.34285714285716,1172.6476190476189,863.72380952380956,1154.4380952380952,487.34285714285716,2505.5047619047618,23387,110818,39885,174090,4563,0,0,4563,0,0,8818,988,9806,4389,0,0,4389,0,17160,3098,19411,39669,594,0,314,908,0,0,3245,15864,19109,9546,0,314,9860,0,17160,15161,36263,68584]
["Aberdeen City2010/113","Aberdeen City","2010/113",7625,1761,1413,10799,1089.2857142857142,251.57142857142858,201.85714285714286,1542.7142857142858,61410.25,10402.5,9580.5,81393.25,1169.7190476190476,198.14285714285714,182.48571428571429,1550.347619047619,2259.0047619047618,449.71428571428572,384.34285714285716,3093.0619047619048,31983,150735,37012,219730,7388,237,0,7625,0,42963.5,13842.25,4604.5,61410.25,1454,307,0,1761,0,120,1782.5,8500,10402.5,1354,0,59,1413,785.5,0,475,8320,9580.5,10196,544,59,10799,785.5,43083.5,16099.75,21424.5,81393.25]
["Aberdeenshire2010/113","Aberdeenshire","2010/113",18659,6158,800,25617,2665.5714285714284,879.71428571428567,114.28571428571429,3659.5714285714284,52112,102828,57730,212670,992.60952380952381,1958.6285714285714,1099.6190476190477,4050.8571428571431,3658.1809523809525,2838.3428571428572,1213.9047619047619,7710.4285714285716,40062,157500,53868,251430,18097,53,623,18773,1572,1383,14797.75,43857.9,61610.65,3686,38,383,4107,0,15110,14266.25,19833.75,49210,693,0,255,948,0,18943,14590,29068,62601,22476,91,1261,23828,1572,35436,43654,92759.65,173421.65]
["Angus2010/113","Angus","2010/113",7625,1183,885,9693,1089.2857142857142,169,126.42857142857143,1384.7142857142858,114048,4094,8958.2000000000007,127100.2,2172.3428571428572,77.980952380952374,170.63238095238097,2420.9561904761904,3261.6285714285714,246.98095238095237,297.06095238095241,3805.6704761904762,22708,69386,23316,115410,7625,0,0,7625,0,87176,26872,0,114048,1161,22,0,1183,0,0,4094,0,4094,380,0,505,885,385.2,0,0,8573,8958.2000000000007,9166,22,505,9693,385.2,87176,30966,8573,127100.2]
["Argyll & Bute2010/113","Argyll & Bute","2010/113",3579,983,1312,5874,511.28571428571428,140.42857142857142,187.42857142857142,839.14285714285711,67005,79179,43835.3,190019.3,1276.2857142857142,1508.1714285714286,834.95809523809532,3619.4152380952378,1787.5714285714284,1648.6,1022.3866666666668,4458.5580952380951,19111,52780,16729,88620,3117,0,462,3579,0,54680,0,12325,67005,804,0,179,983,0,27359,0,51820,79179,1151,0,161,1312,0,13310,0,30525.3,43835.3,5072,0,802,5874,0,95349,0,94670.3,190019.3]
["Clackmannanshire2010/113","Clackmannanshire","2010/113",3221,1967,358,5546,460.14285714285717,281,51.142857142857146,792.28571428571433,62941,50902,5506,119349,1198.8761904761905,969.56190476190477,104.87619047619047,2273.3142857142857,1659.0190476190476,1250.5619047619048,156.01904761904763,3065.6,8078,32435,10817,51330,3119,0,102,3221,0,52180,603,10158,62941,446,595,926,1967,0,47611,1801,1490,50902,358,0,0,358,0,0,1963,3543,5506,3923,595,1028,5546,0,99791,4367,15191,119349]
["Dumfries & Galloway2010/113","Dumfries & Galloway","2010/113",4154,6774,2216,13144,593.42857142857144,967.71428571428567,316.57142857142856,1877.7142857142858,12978,5907,25993,44878,247.2,112.51428571428572,495.10476190476192,854.81904761904764,840.62857142857138,1080.2285714285713,811.67619047619041,2732.5333333333333,32712,89347,29041,151100,3759,395,"-",4154,0,0,12978,0,12978,4876,1898,"-",6774,0,0,5907,0,5907,1934,282,"-",2216,0,8776,17217,0,25993,10569,2575,0,13144,0,8776,36102,0,44878]
["Dundee City2010/113","Dundee City","2010/113",11424,6476,1789,19689,1632,925.14285714285711,255.57142857142858,2812.7142857142858,59320,187572,25310,272202,1129.9047619047619,3572.8,482.09523809523807,5184.8,2761.9047619047619,4497.9428571428571,737.66666666666663,7997.5142857142855,24812,94034,27214,146060,11422,2,0,11424,0,36610,22710,0,59320,6408,68,0,6476,0,94304,456,92812,187572,609,235,945,1789,0,4119,11301,9890,25310,18439,305,945,19689,0,135033,34467,102702,272202]
["East Ayrshire2010/113","East Ayrshire","2010/113",6509,4828,1280,12617,929.85714285714289,689.71428571428567,182.85714285714286,1802.4285714285713,85141.17857142858,156291.10714285716,9455,250887.28571428574,1621.7367346938777,2976.9734693877554,180.0952380952381,4778.8054421768711,2551.5938775510203,3666.6877551020411,362.95238095238096,6581.2340136054427,21144,76352,24914,122410,4686,1823,0,6509,0,65486,19655.178571428572,0,85141.17857142858,4456,372,0,4828,0,128799.35714285714,27491.75,0,156291.10714285716,1280,0,0,1280,0,0,0,9455,9455,10422,2195,0,12617,0,194285.35714285716,47146.928571428572,9455,250887.28571428574]
["East Dunbartonshire2010/113","East Dunbartonshire","2010/113",3910,2293,880,7083,558.57142857142856,327.57142857142856,125.71428571428571,1011.8571428571429,244541.12,43607.79,24263.05,312411.96000000002,4657.9260952380955,830.62457142857147,462.15333333333331,5950.7039999999997,5216.497523809524,1158.1959999999999,587.86761904761897,6962.5611428571428,20164,63143,21613,104920,3680,230,0,3910,1194.5,84507.4,156295.22,2544,244541.12,2085,208,0,2293,8565.5,4309,12223.79,18509.5,43607.79,870,0,10,880,1251,0,11515.55,11496.5,24263.05,6635,438,10,7083,11011,88816.4,180034.56,32550,312411.96000000002]
["East Lothian2010/113","East Lothian","2010/113",5158,2731,1041,8930,736.85714285714289,390.14285714285717,148.71428571428572,1275.7142857142858,4745,728,20226,25699,90.38095238095238,13.866666666666667,385.25714285714287,489.50476190476189,827.2380952380953,404.00952380952384,533.97142857142853,1765.2190476190476,17522,60428,21190,99140,5158,0,0,5158,0,0,4745,0,4745,2731,0,0,2731,0,0,728,0,728,699,342,0,1041,1954,9574,8001,697,20226,8588,342,0,8930,1954,9574,13474,697,25699]
["East Renfrewshire2010/113","East Renfrewshire","2010/113",4358,2660.25,1059,8077.25,622.57142857142856,380.03571428571428,151.28571428571428,1153.8928571428571,119008,23764,18980,161752,2266.8190476190475,452.64761904761906,361.52380952380952,3080.9904761904763,2889.390476190476,832.68333333333339,512.80952380952385,4234.8833333333332,16166,53853,20391,90410,4249,109,0,4358,0,110825,653,7530,119008,1706,0,954.25,2660.25,0,0,1712,22052,23764,878,26,155,1059,0,0,7996,10984,18980,6833,135,1109.25,8077.25,0,110825,10361,40566,161752]
["Edinburgh, City of2010/113","Edinburgh, City of","2010/113",12575,10643,5862,29080,1796.4285714285713,1520.4285714285713,837.42857142857144,4154.2857142857147,333118,229627,70682,633427,6345.1047619047622,4373.8476190476194,1346.3238095238096,12065.276190476192,8141.5333333333338,5894.276190476191,2183.7523809523809,16219.561904761907,68374,321295,80271,469940,10794,0,1781,12575,143577,284164,0,48954,476695,9222,0,1421,10643,109830,81481,0,148146,339457,3685,0,2177,5862,26232.5,45124,0,40884.5,112241,23701,0,5379,29080,279639.5,410769,0,237984.5,928393]
["Eilean Siar2010/113","Eilean Siar","2010/113",5580,720,114,6414,797.14285714285711,102.85714285714286,16.285714285714285,916.28571428571433,18648.5,1206.5,2737,22592,355.20952380952383,22.980952380952381,52.133333333333333,430.32380952380953,1152.3523809523808,125.83809523809524,68.419047619047618,1346.6095238095238,5884,16352,5364,27600,5580,0,0,5580,0,8160,9402.5,1086,18648.5,720,0,0,720,0,260,858.5,88,1206.5,114,0,0,114,2737,0,0,0,2737,6414,0,0,6414,2737,8420,10261,1174,22592]
["Falkirk2010/113","Falkirk","2010/113",6013,3770,1482,11265,859,538.57142857142856,211.71428571428572,1609.2857142857142,45258.7,12782,30854.32,88895.02,862.07047619047614,243.46666666666667,587.70133333333331,1693.2384761904759,1721.0704761904763,782.03809523809525,799.41561904761897,3302.5241904761901,25138,97899,32103,155140,5652,0,361,6013,0,4278,21131.7,19849,45258.7,3332,0,438,3770,0,0,2456,10326,12782,845,0,637,1482,11.5,0,0,30842.82,30854.32,9829,0,1436,11265,11.5,4278,23587.7,61017.82,88895.02]
["Fife2010/113","Fife","2010/113",17685,9239,2193,29117,2526.4285714285716,1319.8571428571429,313.28571428571428,4159.5714285714284,228429,472226,39674,740329,4351.028571428571,8994.7809523809519,755.6952380952381,14101.504761904762,6877.4571428571426,10314.638095238095,1068.9809523809524,18261.076190476189,63308,226354,72948,362610,17636,0,49,17685,353037,0,0,63756,416793,8694,0,545,9239,462695,0,0,89868,552563,2022,171,0,2193,0,0,0,55490,55490,28352,171,594,29117,815732,0,0,209114,1024846]
["Glasgow City2010/113","Glasgow City","2010/113",13498,13290,6639,33427,1928.2857142857142,1898.5714285714287,948.42857142857144,4775.2857142857147,305831,622293,45352,973476,5825.3523809523813,11853.2,863.84761904761899,18542.399999999998,7753.638095238095,13751.77142857143,1812.2761904761905,23317.685714285712,82366,394169,109965,586500,13498,0,0,13498,0,305831,0,0,305831,13234,0,56,13290,0,558399,4482,1404,564285,5129,0,1510,6639,0,5036,32093,8223,45352,31861,0,1566,33427,0,869266,36575,9627,915468]
["Highland2010/113","Highland","2010/113",9975,3808,3101,16884,1425,544,443,2412,78857,34202,27769,140828,1502.0380952380951,651.4666666666667,528.93333333333328,2682.4380952380952,2927.0380952380951,1195.4666666666667,971.93333333333328,5094.4380952380952,42376,141305,47049,230730,9210,765,0,9975,0,32404,44897,1556,78857,3460,316,32,3808,0,16776,17050,376,34202,2424,0,677,3101,0,5960,11743,10066,27769,15094,1081,709,16884,0,55140,73690,11998,140828]
["Inverclyde2010/113","Inverclyde","2010/113",3409,2570,637,6616,487,367.14285714285717,91,945.14285714285711,439902.3,134111.07999999999,3149,577162.38,8379.091428571428,2554.4967619047616,59.980952380952381,10993.569142857143,8866.091428571428,2921.6396190476189,150.98095238095237,11938.712,14672,50970,15868,81510,2574,0,835,3409,0,70188,348586.3,21128,439902.3,1986,0,584,2570,0,73687.5,32960.5,27463.08,134111.07999999999,579,0,58,637,0,0,500,2649,3149,5139,0,1477,6616,0,143875.5,382046.8,51240.08,577162.38]
["Midlothian2010/113","Midlothian","2010/113",2704,2770,468.3,5942.3,386.28571428571428,395.71428571428572,66.900000000000006,848.9,34593.949999999997,111138.5,23513.7,169246.15000000002,658.93238095238087,2116.9238095238097,447.88,3223.7361904761906,1045.2180952380952,2512.6380952380955,514.78,4072.6361904761907,13702,51064,17594,82360,2697,0,7,2704,0,13053.3,11443.5,10097.15,34593.949999999997,2226,0,544,2770,0,59490,18662,679.5,78831.5,278.25,0,190.05,468.3,0,11462.85,0,12050.85,23513.7,5201.25,0,741.05,5942.3,0,84006.15,30105.5,22827.5,136939.15]
["Moray2010/113","Moray","2010/113",4508,3177,992,8677,644,453.85714285714283,141.71428571428572,1239.5714285714287,16781.75,14444.5,8123.5,39349.75,319.65238095238095,275.13333333333333,154.73333333333332,749.51904761904757,963.65238095238101,728.9904761904761,296.44761904761901,1989.0904761904762,17008,57269,19413,93690,4501,0,7,4508,0,5358.75,11423,0,16781.75,3177,0,0,3177,0,7194,7250.5,0,14444.5,992,0,0,992,4053.25,0,3758.25,312,8123.5,8670,0,7,8677,4053.25,12552.75,22431.75,312,39349.75]
["North Ayrshire2010/113","North Ayrshire","2010/113",9912,5163,1664,16739,1416,737.57142857142856,237.71428571428572,2391.2857142857142,95990,16013,16821.599999999999,128824.6,1828.3809523809523,305.00952380952378,320.41142857142853,2453.801904761905,3244.3809523809523,1042.5809523809523,558.12571428571425,4845.0876190476192,25539,83963,28288,137790,9912,0,0,9912,0,94830,1160,0,95990,4937,0,226,5163,0,15165,848,0,16013,1308,356,0,1664,0,0,182,16639.599999999999,16821.599999999999,16157,356,226,16739,0,109995,2190,16639.599999999999,128824.6]
["North Lanarkshire2010/113","North Lanarkshire","2010/113",10672,7883,1602,20157,1524.5714285714287,1126.1428571428571,228.85714285714286,2879.5714285714284,198397,190967,24179,413543,3778.9904761904763,3637.4666666666667,460.55238095238093,7877.0095238095246,5303.5619047619048,4763.609523809524,689.40952380952376,10756.580952380953,49956,213059,73265,336280,10672,0,0,10672,0,152746,33708,11943,198397,7883,0,0,7883,0,387,8596,181984,190967,1449,153,0,1602,0,22929,410,840,24179,20004,153,0,20157,0,176062,42714,194767,413543]
["Orkney Islands2010/113","Orkney Islands","2010/113",2171,712,525,3408,310.14285714285717,101.71428571428571,75,486.85714285714283,21251,45769.5,8354,75374.5,404.78095238095239,871.8,159.12380952380951,1435.7047619047619,714.9238095238095,973.51428571428562,234.12380952380951,1922.5619047619048,4157,12855,4208,21220,2171,0,0,2171,0,16264,2461,2526,21251,677,35,0,712,7585,30569.5,7615,0,45769.5,525,0,0,525,1926,0,1075,5353,8354,3373,35,0,3408,9511,46833.5,11151,7879,75374.5]
["Perth & Kinross2010/113","Perth & Kinross","2010/113",14180,1828,554,16562,2025.7142857142858,261.14285714285717,79.142857142857139,2366,151037,35286,14839,201162,2876.8952380952383,672.11428571428576,282.64761904761906,3831.6571428571428,4902.609523809524,933.25714285714298,361.79047619047617,6197.6571428571424,29072,87688,28840,145600,12672,1508,0,14180,0,16840,129022,5175,151037,1828,0,0,1828,0,9780,24776,730,35286,493,61,0,554,0,0,8348,6491,14839,14993,1569,0,16562,0,26620,162146,12396,201162]
["Renfrewshire2010/113","Renfrewshire","2010/113",7234,6722,2589,16545,1033.4285714285713,960.28571428571433,369.85714285714283,2363.5714285714284,19236,27618.2,21826.1,68680.299999999988,366.4,526.06095238095236,415.73523809523806,1308.1961904761904,1399.8285714285712,1486.3466666666668,785.59238095238084,3671.7676190476186,29101,109572,35027,173700,7234,0,0,7234,0,0,963.21,18273,19236.21,6722,0,0,6722,0,0,19687.099999999999,7931.1,27618.2,2589,0,0,2589,0,0,3462,18364.099999999999,21826.1,16545,0,0,16545,0,0,24112.309999999998,44568.2,68680.510000000009]
["Scottish Borders2010/113","Scottish Borders","2010/113",6346,2337,2095,10778,906.57142857142856,333.85714285714283,299.28571428571428,1539.7142857142858,2649.7,11452,12910,27011.7,50.470476190476184,218.13333333333333,245.9047619047619,514.50857142857149,957.04190476190479,551.9904761904761,545.19047619047615,2054.2228571428573,23481,67819,22390,113690,6265,0,81,6346,213,0,1965.1,471.6,2649.7,1252,0,1085,2337,0,33.6,5370.1,6048.3,11452,591,0,1504,2095,1040,0,0,11870,12910,8108,0,2670,10778,1253,33.6,7335.2,18389.900000000001,27011.7]
["Shetland Islands2010/113","Shetland Islands","2010/113",9677,1951,1198,12826,1382.4285714285713,278.71428571428572,171.14285714285714,1832.2857142857142,17793,36620,18495,72908,338.91428571428571,697.52380952380952,352.28571428571428,1388.7238095238095,1721.3428571428572,976.23809523809518,523.42857142857144,3221.0095238095237,3739,14203,5118,23060,9651,26,0,9677,0,0,5295.25,0,5295.25,1778,0,173,1951,2795.75,0,3032,0,5827.75,1065,0,133,1198,13397,0,5098,0,18495,12494,26,306,12826,16192.75,0,13425.25,0,29618]
["South Ayrshire2010/113","South Ayrshire","2010/113",10717,2393,1306,14416,1531,341.85714285714283,186.57142857142858,2059.4285714285716,102098,120697.75,52266.5,275062.25,1944.7238095238095,2299.0047619047618,995.55238095238099,5239.2809523809519,3475.7238095238095,2640.8619047619045,1182.1238095238095,7298.7095238095235,23993,67405,21202,112600,10717,0,0,10717,0,83928,18170,0,102098,409,0,1984,2393,0,104408,3128,13161.75,120697.75,0,0,1306,1306,0,7152,15629,29485.5,52266.5,11126,0,3290,14416,0,195488,36927,42647.25,275062.25]
["South Lanarkshire2010/113","South Lanarkshire","2010/113",27403,13195,3323,43921,3914.7142857142858,1885,474.71428571428572,6274.4285714285716,275426,65680,56524.57,397630.57,5246.2095238095235,1251.047619047619,1076.6584761904762,7573.9156190476187,9160.9238095238088,3136.0476190476193,1551.372761904762,13848.344190476189,52311,197009,63860,313180,27351,44,8,27403,0,261284,14007,135,275426,12273,284,638,13195,0,0,54051,11629,65680,2965,337,21,3323,0,1436.57,36804,18284,56524.57,42589,665,667,43921,0,262720.57,104862,30048,397630.57]
["Stirling2010/113","Stirling","2010/113",5268,1275,755,7298,752.57142857142856,182.14285714285714,107.85714285714286,1042.5714285714287,9246,2758.94,30060,42064.94,176.11428571428573,52.551238095238098,572.57142857142856,801.2369523809524,928.68571428571431,234.69409523809523,680.42857142857144,1843.808380952381,15335,55971,18244,89550,5268,"-",0,5268,"-","-",9245.9599999999991,0,9245.9599999999991,1275,"-",0,1275,"-","-",2758.94,0,2758.94,582,0,173,755,0,0,26756,3304,30060,7125,0,173,7298,0,0,38760.9,3304,42064.9]
["West Dunbartonshire2010/113","West Dunbartonshire","2010/113",3019,3748,1083,7850,431.28571428571428,535.42857142857144,154.71428571428572,1121.4285714285713,156803.21,152690.82999999999,31169,340663.03999999998,2986.7278095238098,2908.3967619047621,593.6952380952381,6488.8198095238104,3418.013523809524,3443.8253333333337,748.40952380952376,7610.2483809523819,14861,57456,18483,90800,3019,0,0,3019,0,101683,52696.32,2423.89,156803.21,3706,35,7,3748,0,72935.070000000007,10397.58,69358.179999999993,152690.82999999999,1059,24,0,1083,214,4437,7144,19374,31169,7784,59,7,7850,214,179055.07,70237.899999999994,91156.07,340663.03999999998]
["West Lothian2010/113","West Lothian","2010/113",4479,3920,931,9330,639.85714285714289,560,133,1332.8571428571429,11753,31208,18603,61564,223.86666666666667,594.43809523809523,354.34285714285716,1172.6476190476189,863.72380952380956,1154.4380952380952,487.34285714285716,2505.5047619047618,23387,110818,39885,174090,4479,0,0,4479,0,0,9957,1796,11753,3920,0,0,3920,0,19032,3498,8678,31208,670,0,261,931,0,0,1532,17071,18603,9069,0,261,9330,0,19032,14987,27545,61564]
["Aberdeen City2011/123","Aberdeen City","2011/123",8858,3316,1447,13621,1265.4285714285713,473.71428571428572,206.71428571428572,1945.8571428571429,60567.1,11930.75,12786.23,85284.08,1153.6590476190477,227.25238095238095,243.5472380952381,1624.4586666666667,2419.0876190476192,700.9666666666667,450.26152380952385,3570.3158095238095,32249,153650,36561,222460,7388,237,0,7625,0,42963.5,13842.25,4604.5,61410.25,1454,307,0,1761,0,120,1782.5,8500,10402.5,1354,0,59,1413,785.5,0,475,8320,9580.5,10196,544,59,10799,785.5,43083.5,16099.75,21424.5,81393.25]
["Aberdeenshire2011/123","Aberdeenshire","2011/123",20064,7018,902,27984,2866.2857142857142,1002.5714285714286,128.85714285714286,3997.7142857142858,44479,94830,63431.44,202740.44,847.21904761904761,1806.2857142857142,1208.2179047619047,3861.7226666666666,3713.5047619047618,2808.8571428571427,1337.0750476190476,7859.4369523809528,41131,158410,54109,253650,18433,53,173,18659,0,10266,0,41846,52112,4396,0,1762,6158,0,84831,3341,14656,102828,645,0,155,800,0,37971,14459,5300,57730,23474,53,2090,25617,0,133068,17800,61802,212670]
["Angus2011/123","Angus","2011/123",8201,1574,753,10528,1171.5714285714287,224.85714285714286,107.57142857142857,1504,134127,2411,12209,148747,2554.8000000000002,45.923809523809524,232.55238095238096,2833.2761904761905,3726.3714285714286,270.78095238095239,340.12380952380954,4337.2761904761901,23233,69833,23134,116200,7625,0,0,7625,0,87176,26872,0,114048,1161,22,0,1183,0,0,4094,0,4094,380,0,505,885,385.2,0,0,8573,8958.2000000000007,9166,22,505,9693,385.2,87176,30966,8573,127100.2]
["Argyll & Bute2011/123","Argyll & Bute","2011/123",4137,877,1031,6045,591,125.28571428571429,147.28571428571428,863.57142857142856,53065,63358,40713,157136,1010.7619047619048,1206.8190476190475,775.48571428571427,2993.0666666666666,1601.7619047619048,1332.1047619047617,922.77142857142849,3856.638095238095,19487,52880,16563,88930,3117,0,462,3579,0,54680,0,12325,67005,804,0,179,983,0,27359,0,51820,79179,1151,0,161,1312,0,13310,0,30525.3,43835.3,5072,0,802,5874,0,95349,0,94670.3,190019.3]
["Clackmannanshire2011/123","Clackmannanshire","2011/123",3316,1929,374,5619,473.71428571428572,275.57142857142856,53.428571428571431,802.71428571428567,59653,49147,6573,115373,1136.2476190476191,936.13333333333333,125.2,2197.5809523809526,1609.9619047619049,1211.7047619047619,178.62857142857143,3000.2952380952383,8314,32531,10655,51500,3119,0,102,3221,0,52180,603,10158,62941,446,595,926,1967,0,47611,1801,1490,50902,358,0,0,358,0,0,1963,3543,5506,3923,595,1028,5546,0,99791,4367,15191,119349]
["Dumfries & Galloway2011/123","Dumfries & Galloway","2011/123",4289,7333,2185,13807,612.71428571428567,1047.5714285714287,312.14285714285717,1972.4285714285713,14194,6710,27731,48635,270.36190476190478,127.80952380952381,528.20952380952383,926.38095238095241,883.0761904761905,1175.3809523809525,840.35238095238105,2898.8095238095239,33304,89199,28907,151410,3759,395,"-",4154,0,0,12978,0,12978,4876,1898,"-",6774,0,0,5907,0,5907,1934,282,"-",2216,0,8776,17217,0,25993,10569,2575,0,13144,0,8776,36102,0,44878]
["Dundee City2011/123","Dundee City","2011/123",8708,5952,1558,16218,1244,850.28571428571433,222.57142857142858,2316.8571428571427,70573.5,184783,25911,281267.5,1344.2571428571428,3519.6761904761906,493.54285714285714,5357.4761904761908,2588.2571428571428,4369.9619047619053,716.11428571428576,7674.3333333333339,24658,95688,26854,147200,11422,2,0,11424,0,36610,22710,0,59320,6408,68,0,6476,0,94304,456,92812,187572,609,235,945,1789,0,4119,11301,9890,25310,18439,305,945,19689,0,135033,34467,102702,272202]
["East Ayrshire2011/123","East Ayrshire","2011/123",7336,4790,1347,13473,1048,684.28571428571433,192.42857142857142,1924.7142857142858,83479,161316,11323,256118,1590.0761904761905,3072.6857142857143,215.67619047619047,4878.4380952380952,2638.0761904761903,3756.9714285714285,408.10476190476186,6803.1523809523806,21428,76584,24678,122690,4686,1823,0,6509,0,65486,19655.178571428572,0,85141.17857142858,4456,372,0,4828,0,128799.35714285714,27491.75,0,156291.10714285716,1280,0,0,1280,0,0,0,9455,9455,10422,2195,0,12617,0,194285.35714285716,47146.928571428572,9455,250887.28571428574]
["East Dunbartonshire2011/123","East Dunbartonshire","2011/123",4299,2291,974,7564,614.14285714285711,327.28571428571428,139.14285714285714,1080.5714285714287,242929.86,40106,29847.53,312883.39,4627.2354285714282,763.9238095238095,568.52438095238097,5959.6836190476197,5241.3782857142851,1091.2095238095237,707.66723809523808,7040.2550476190481,20619,62930,21451,105000,3680,230,0,3910,1194.5,84507.4,156295.22,2544,244541.12,2085,208,0,2293,8565.5,4309,12223.79,18509.5,43607.79,870,0,10,880,1251,0,11515.55,11496.5,24263.05,6635,438,10,7083,11011,88816.4,180034.56,32550,312411.96000000002]
["East Lothian2011/123","East Lothian","2011/123",5023,3133,920,9076,717.57142857142856,447.57142857142856,131.42857142857142,1296.5714285714287,4916,849,21316,27081,93.638095238095232,16.171428571428571,406.01904761904763,515.82857142857142,811.20952380952383,463.74285714285713,537.44761904761901,1812.4,17911,60745,21264,99920,5158,0,0,5158,0,0,4745,0,4745,2731,0,0,2731,0,0,728,0,728,699,342,0,1041,1954,9574,8001,697,20226,8588,342,0,8930,1954,9574,13474,697,25699]
["East Renfrewshire2011/123","East Renfrewshire","2011/123",4791,2962,1082,8835,684.42857142857144,423.14285714285717,154.57142857142858,1262.1428571428571,124930,25465,27199,177594,2379.6190476190477,485.04761904761904,518.0761904761905,3382.7428571428572,3064.0476190476193,908.19047619047615,672.64761904761906,4644.8857142857141,16362,53955,20493,90810,4249,109,0,4358,0,110825,653,7530,119008,1706,0,954.25,2660.25,0,0,1712,22052,23764,878,26,155,1059,0,0,7996,10984,18980,6833,135,1109.25,8077.25,0,110825,10361,40566,161752]
["Edinburgh, City of2011/123","Edinburgh, City of","2011/123",12859.550181818182,12022.318727272726,6789.0955151515154,31670.964424242426,1837.0785974025973,1717.4741038961038,969.87078787878795,4524.4234891774895,345861.46524327429,206138.10726794871,88270.107998799998,640269.68051002303,6587.8374332052244,3926.4401384371181,1681.3353904533333,12195.612962095676,8424.9160306078211,5643.9142423332214,2651.2061783321215,16720.036451273165,68830,327551,81559,477940,10794,0,1781,12575,0,284164,0,48954,333118,9222,0,1421,10643,0,81481,0,148146,229627,3685,0,2177,5862,0,40885,0,29798,70683,23701,0,5379,29080,0,406530,0,226898,633428]
["Eilean Siar2011/123","Eilean Siar","2011/123",4491,484,170,5145,641.57142857142856,69.142857142857139,24.285714285714285,735,24605,1743,3536,29884,468.66666666666669,33.200000000000003,67.352380952380955,569.21904761904761,1110.2380952380952,102.34285714285714,91.638095238095246,1304.2190476190476,6021,16339,5330,27690,5580,0,0,5580,0,8160,9402.5,1086,18648.5,720,0,0,720,0,260,858.5,88,1206.5,114,0,0,114,2737,0,0,0,2737,6414,0,0,6414,2737,8420,10261,1174,22592]
["Falkirk2011/123","Falkirk","2011/123",5834,4207,1573,11614,833.42857142857144,601,224.71428571428572,1659.1428571428571,46683,13527,27912.49,88122.49,889.2,257.65714285714284,531.66647619047626,1678.5236190476191,1722.6285714285714,858.65714285714284,756.38076190476204,3337.6664761904763,25477,98644,32129,156250,5652,0,361,6013,0,4278,21131.7,19849,45258.7,3332,0,438,3770,0,0,2456,10326,12782,845,0,637,1482,11.5,0,0,30842.82,30854.32,9829,0,1436,11265,11.5,4278,23587.7,61017.82,88895.02]
["Fife2011/123","Fife","2011/123",18632,10250,2011,30893,2661.7142857142858,1464.2857142857142,287.28571428571428,4413.2857142857147,227114,427460,31001,685575,4325.9809523809517,8142.0952380952376,590.49523809523805,13058.571428571428,6987.6952380952371,9606.3809523809523,877.78095238095239,17471.857142857141,64597,227424,73279,365300,17636,0,49,17685,165141,0,0,63288,228429,8694,0,545,9239,384602,0,0,87624,472226,2022,171,0,2193,0,0,0,39674,39674,28352,171,594,29117,549743,0,0,190586,740329]
["Glasgow City2011/123","Glasgow City","2011/123",11148,10603,7344,29095,1592.5714285714287,1514.7142857142858,1049.1428571428571,4156.4285714285716,217785,650652,39255,907692,4148.2857142857147,12393.371428571429,747.71428571428567,17289.371428571427,5740.8571428571431,13908.085714285715,1796.8571428571427,21445.8,82251,402416,108393,593060,13498,0,0,13498,0,305831,0,0,305831,13234,0,56,13290,0,558399,6122,57772,622293,5129,0,1510,6639,0,5036,32093,8223,45352,31861,0,1566,33427,0,869266,38215,65995,973476]
["Highland2011/123","Highland","2011/123",10047,4219,3390,17656,1435.2857142857142,602.71428571428567,484.28571428571428,2522.2857142857142,68357,30929,27603,126889,1302.0380952380951,589.12380952380954,525.7714285714286,2416.9333333333334,2737.3238095238094,1191.8380952380953,1010.0571428571429,4939.2190476190481,43424,142171,47135,232730,9210,765,0,9975,0,32404,44897,1556,78857,3460,316,32,3808,0,16776,17050,376,34202,2424,0,677,3101,0,5960,11743,10066,27769,15094,1081,709,16884,0,55140,73690,11998,140828]
["Inverclyde2011/123","Inverclyde","2011/123",2902,2413,748,6063,414.57142857142856,344.71428571428572,106.85714285714286,866.14285714285711,477326.27,138424.07999999999,3008.5,618758.85,9091.928952380953,2636.6491428571426,57.304761904761904,11785.882857142857,9506.5003809523823,2981.3634285714284,164.16190476190476,12652.025714285714,14837,50723,15660,81220,2574,0,835,3409,0,70188,348586.3,21128,439902.3,1986,0,584,2570,0,73687.5,32960.5,27463.08,134111.07999999999,579,0,58,637,0,0,500,2649,3149,5139,0,1477,6616,0,143875.5,382046.8,51240.08,577162.38]
["Midlothian2011/123","Midlothian","2011/123",3365,2761,474,6600,480.71428571428572,394.42857142857144,67.714285714285708,942.85714285714289,47342.44,130998.45,23871,202211.89,901.76076190476192,2495.2085714285713,454.68571428571431,3851.6550476190478,1382.4750476190477,2889.6371428571429,522.4,4794.5121904761909,14074,51602,17774,83450,2697,0,7,2704,0,13053.3,11443.5,10097.15,34593.949999999997,2226,0,544,2770,0,91797,18662,679.5,111138.5,278.25,0,190.05,468.3,0,11462.85,0,12050.85,23513.7,5201.25,0,741.05,5942.3,0,116313.15000000001,30105.5,22827.5,169246.15000000002]
["Moray2011/123","Moray","2011/123",4130,3056,940,8126,590,436.57142857142856,134.28571428571428,1160.8571428571429,19550.75,15621.75,8465.5,43638,372.39523809523808,297.55714285714288,161.24761904761905,831.2,962.39523809523803,734.12857142857138,295.5333333333333,1992.0571428571429,17370,56629,19471,93470,4501,0,7,4508,0,5358.75,11423,0,16781.75,3177,0,0,3177,0,7194,7250.5,0,14444.5,992,0,0,992,4053.25,0,3758.25,312,8123.5,8670,0,7,8677,4053.25,12552.75,22431.75,312,39349.75]
["North Ayrshire2011/123","North Ayrshire","2011/123",9127,5170,1681,15978,1303.8571428571429,738.57142857142856,240.14285714285714,2282.5714285714284,92093,16162,11052,119307,1754.152380952381,307.84761904761905,210.51428571428571,2272.5142857142855,3058.0095238095237,1046.4190476190477,450.65714285714284,4555.0857142857139,26059,83950,28081,138090,9912,0,0,9912,0,94830,1160,0,95990,4937,0,226,5163,0,15165,848,0,16013,1308,356,0,1664,0,0,182,16639.599999999999,16821.599999999999,16157,356,226,16739,0,109995,2190,16639.599999999999,128824.6]
["North Lanarkshire2011/123","North Lanarkshire","2011/123",11178,7200,1547,19925,1596.8571428571429,1028.5714285714287,221,2846.4285714285716,196562.4,199727.79,36279.81,432570,3744.045714285714,3804.3388571428573,691.04399999999998,8239.4285714285706,5340.9028571428571,4832.9102857142861,912.04399999999998,11085.857142857141,50751,213833,73136,337720,10672,0,0,10672,0,152746,33708,11943,198397,7883,0,0,7883,0,387,8596,181984,190967,1449,153,0,1602,0,22929,410,840,24179,20004,153,0,20157,0,176062,42714,194767,413543]
["Orkney Islands2011/123","Orkney Islands","2011/123",2186,754,710,3650,312.28571428571428,107.71428571428571,101.42857142857143,521.42857142857144,21442,54742,5535,81719,408.4190476190476,1042.7047619047619,105.42857142857143,1556.5523809523809,720.70476190476188,1150.4190476190477,206.85714285714286,2077.9809523809522,4269,12985,4166,21420,2171,0,0,2171,0,16264,2461,2526,21251,677,35,0,712,7585,30569.5,7615,0,45769.5,525,0,0,525,1926,0,1075,5353,8354,3373,35,0,3408,9511,46833.5,11151,7879,75374.5]
["Perth & Kinross2011/123","Perth & Kinross","2011/123",18915,954,578,20447,2702.1428571428573,136.28571428571428,82.571428571428569,2921,171366.66,44574.35,15426,231367.01,3264.1268571428573,849.03523809523801,293.82857142857142,4406.9906666666666,5966.2697142857141,985.32095238095235,376.4,7327.9906666666666,29840,88263,28747,146850,12672,1508,0,14180,0,16840,129022,5175,151037,1828,0,0,1828,0,9780,24776,730,35286,493,61,0,554,0,0,8348,6491,14839,14993,1569,0,16562,0,26620,162146,12396,201162]
["Renfrewshire2011/123","Renfrewshire","2011/123",7211,6255,2559,16025,1030.1428571428571,893.57142857142856,365.57142857142856,2289.2857142857142,18460,24178,18116.79,60754.79,351.61904761904759,460.53333333333336,345.08171428571433,1157.2340952380953,1381.7619047619046,1354.104761904762,710.65314285714294,3446.5198095238093,29638,110341,34721,174700,7234,0,0,7234,0,0,963.21,18273,19236.21,6722,0,0,6722,0,0,19687.099999999999,7931.1,27618.2,2589,0,0,2589,0,0,3462,18364.099999999999,21826.1,16545,0,0,16545,0,0,24112.309999999998,44568.2,68680.510000000009]
["Scottish Borders2011/123","Scottish Borders","2011/123",7677,2186,2233,12096,1096.7142857142858,312.28571428571428,319,1728,3574,12457,12748,28779,68.076190476190476,237.27619047619046,242.81904761904761,548.17142857142858,1164.7904761904763,549.56190476190477,561.81904761904764,2276.1714285714288,23960,67907,22013,113880,6265,0,81,6346,213,0,1965.1,471.6,2649.7,1252,0,1085,2337,0,33.6,5370.1,6048.3,11452,591,0,1504,2095,1040,0,0,11870,12910,8108,0,2670,10778,1253,33.6,7335.2,18389.900000000001,27011.7]
["Shetland Islands2011/123","Shetland Islands","2011/123",11458,2018,1677,15153,1636.8571428571429,288.28571428571428,239.57142857142858,2164.7142857142858,21204,41373,20431,83008,403.8857142857143,788.05714285714282,389.16190476190474,1581.104761904762,2040.7428571428572,1076.3428571428572,628.73333333333335,3745.8190476190475,3796,14342,5102,23240,9651,26,0,9677,12498,0,5295.25,0,17793.25,1778,0,173,1951,2795.75,30792,3032,0,36619.75,1065,0,133,1198,13397,0,5098,0,18495,12494,26,306,12826,28690.75,30792,13425.25,0,72908]
["South Ayrshire2011/123","South Ayrshire","2011/123",11575,2336,1377,15288,1653.5714285714287,333.71428571428572,196.71428571428572,2184,103927,121374,31462,256763,1979.5619047619048,2311.8857142857141,599.27619047619044,4890.7238095238099,3633.1333333333332,2645.6,795.9904761904761,7074.7238095238099,24428,67405,21147,112980,10717,0,0,10717,0,83928,18170,0,102098,409,0,1984,2393,0,104408,3128,13161.75,120697.75,0,0,1306,1306,0,7152,15629,29485.5,52266.5,11126,0,3290,14416,0,195488,36927,42647.25,275062.25]
["South Lanarkshire2011/123","South Lanarkshire","2011/123",27868,11517,2849,42234,3981.1428571428573,1645.2857142857142,407,6033.4285714285716,288866,72144,42782.5,403792.5,5502.2095238095235,1374.1714285714286,814.90476190476193,7691.2857142857147,9483.3523809523813,3019.4571428571426,1221.9047619047619,13724.714285714286,53256,197513,63131,313900,27351,44,8,27403,0,261284,14007,135,275426,12273,284,638,13195,0,0,54051,11629,65680,2965,337,21,3323,0,1436.57,36804,18284,56524.57,42589,665,667,43921,0,262720.57,104862,30048,397630.57]
["Stirling2011/123","Stirling","2011/123",7249,1884,641,9774,1035.5714285714287,269.14285714285717,91.571428571428569,1396.2857142857142,10814,4015,27910,42739,205.98095238095237,76.476190476190482,531.61904761904759,814.0761904761905,1241.5523809523811,345.61904761904765,623.19047619047615,2210.361904761905,15656,56494,18180,90330,5268,"-",0,5268,"-","-",9245.9599999999991,0,9245.9599999999991,1275,"-",0,1275,"-","-",2758.94,0,2758.94,582,0,173,755,0,0,26756,3304,30060,7125,0,173,7298,0,0,38760.9,3304,42064.9]
["West Dunbartonshire2011/123","West Dunbartonshire","2011/123",3011,3085,980,7076,430.14285714285717,440.71428571428572,140,1010.8571428571429,164195,118354,30725,313274,3127.5238095238096,2254.361904761905,585.23809523809518,5967.1238095238095,3557.666666666667,2695.0761904761907,725.23809523809518,6977.9809523809527,14988,57372,18250,90610,3019,0,0,3019,0,101683,52696.32,2423.89,156803.21,3706,35,7,3748,0,72935.070000000007,10397.58,69358.179999999993,152690.82999999999,1059,24,0,1083,214,4437,7144,19374,31169,7784,59,7,7850,214,179055.07,70237.899999999994,91156.07,340663.03999999998]
["West Lothian2011/123","West Lothian","2011/123",3922,3972,817,8711,560.28571428571433,567.42857142857144,116.71428571428571,1244.4285714285713,19327,22902,19062,61291,368.13333333333333,436.22857142857146,363.08571428571429,1167.4476190476191,928.41904761904766,1003.6571428571428,479.8,2411.8761904761905,24146,111169,39985,175300,4479,0,0,4479,0,0,9957,1796,11753,3920,0,0,3920,0,19032,3498,8678,31208,670,0,261,931,0,0,1532,17071,18603,9069,0,261,9330,0,19032,14987,27545,61564]
["Aberdeen City2012/133","Aberdeen City","2012/133",11559,2344,666,14569,1651.2857142857142,334.85714285714283,95.142857142857139,2081.2857142857142,57665.55,8811.77,11076.65,77553.97,1098.3914285714286,167.84323809523809,210.98380952380953,1477.2184761904762,2749.6771428571428,502.7003809523809,306.12666666666667,3558.5041904761902,33166,154546,37258,224970,8811,47,0,8858,0,43450,8774.1,8343,60567.1,3307,9,0,3316,186.5,715,1996.5,9032.75,11930.75,1362,20,65,1447,1079.23,0,1146.25,10560.75,12786.23,13480,76,65,13621,1265.73,44165,11916.85,27936.5,85284.08]
["Aberdeenshire2012/133","Aberdeenshire","2012/133",21431,7128,1365,29924,3061.5714285714284,1018.2857142857143,195,4274.8571428571431,48102.5,101208,62502.25,211812.75,916.23809523809518,1927.7714285714285,1190.5190476190476,4034.5285714285715,3977.8095238095239,2946.0571428571429,1385.5190476190476,8309.3857142857141,42923,158636,53981,255540,20064,0,0,20064,2892,3210,38377,0,44479,4951,0,2067,7018,0,82230,1330,11270,94830,559,0,343,902,0,40790.44,14703,7938,63431.44,25574,0,2410,27984,2892,126230.44,54410,19208,202740.44]
["Angus2012/133","Angus","2012/133",6350,1351,1004,8705,907.14285714285711,193,143.42857142857142,1243.5714285714287,133169,1306,10877,145352,2536.5523809523811,24.876190476190477,207.18095238095239,2768.609523809524,3443.695238095238,217.87619047619049,350.60952380952381,4012.1809523809525,24234,69186,22790,116210,8201,0,0,8201,0,104000,30127,0,134127,1552,22,0,1574,0,0,2411,0,2411,406,0,347,753,581,0,10,11618,12209,10159,22,347,10528,581,104000,32548,11618,148747]
["Argyll & Bute2012/133","Argyll & Bute","2012/133",3415.65,847.1,709,4971.75,487.95,121.01428571428572,101.28571428571429,710.25,46714.5,48609.5,41909.5,137233.5,889.8,925.89523809523814,798.27619047619044,2613.9714285714285,1377.75,1046.9095238095238,899.56190476190477,3324.2214285714285,20155,50590,16155,86900,3487,0,650,4137,0,37119,0,15946,53065,702,0,175,877,0,21228,0,42130,63358,871,0,160,1031,0,12028,0,28685,40713,5060,0,985,6045,0,70375,0,86761,157136]
["Clackmannanshire2012/133","Clackmannanshire","2012/133",3260,925,835,5020,465.71428571428572,132.14285714285714,119.28571428571429,717.14285714285711,52665.75,45580.59,14786,113032.34,1003.1571428571428,868.20171428571427,281.63809523809522,2152.9969523809523,1468.8714285714286,1000.3445714285714,400.9238095238095,2870.1398095238092,8731,32074,10475,51280,3260,28,28,3316,0,47190,1953,10510,59653,305,133,1491,1929,0,47783,1175,189,49147,374,0,0,374,0,0,1833,4740,6573,3939,161,1519,5619,0,94973,4961,15439,115373]
["Dumfries & Galloway2012/133","Dumfries & Galloway","2012/133",4595,6558,2445,13598,656.42857142857144,936.85714285714289,349.28571428571428,1942.5714285714287,17053,12563,28245.5,57861.5,324.81904761904764,239.29523809523809,538.00952380952378,1102.1238095238095,981.24761904761908,1176.152380952381,887.29523809523812,3044.695238095238,34338,88237,28255,150830,3894,395,"-",4289,"-","-",14194,0,14194,5800,1533,"-",7333,"-","-",6710,0,6710,1512,673,"-",2185,"-",9579,18152,0,27731,11206,2601,0,13807,0,9579,39056,0,48635]
["Dundee City2012/133","Dundee City","2012/133",13209,4224,1489,18922,1887,603.42857142857144,212.71428571428572,2703.1428571428573,71664,181094,26028,278786,1365.0285714285715,3449.4095238095238,495.77142857142854,5310.2095238095235,3252.0285714285715,4052.8380952380953,708.48571428571427,8013.3523809523813,25143,95568,27089,147800,8708,0,0,8708,0,48126,21615.5,832,70573.5,5939,13,0,5952,0,84292,938,99553,184783,373,137,1048,1558,0,4146,10972,10793,25911,15020,150,1048,16218,0,136564,33525.5,111178,281267.5]
["East Ayrshire2012/133","East Ayrshire","2012/133",6422,4565,1346,12333,917.42857142857144,652.14285714285711,192.28571428571428,1761.8571428571429,87280,161454,11540,260274,1662.4761904761904,3075.3142857142857,219.8095238095238,4957.6000000000004,2579.9047619047619,3727.4571428571426,412.09523809523807,6719.4571428571435,22242,75972,24506,122720,4892,2444,0,7336,0,62970,20509,0,83479,4321,469,0,4790,0,118003,43313,0,161316,1264,83,0,1347,0,0,1540,9783,11323,10477,2996,0,13473,0,180973,65362,9783,256118]
["East Dunbartonshire2012/133","East Dunbartonshire","2012/133",4856,2296,834,7986,693.71428571428567,328,119.14285714285714,1140.8571428571429,203659.03999999998,46940.19,30716,281315.23,3879.2198095238091,894.09885714285724,585.06666666666672,5358.3853333333327,4572.9340952380944,1222.0988571428572,704.20952380952383,6499.2424761904758,21460,63165,21255,105880,3825,474,0,4299,0,71318,166887.85999999999,4724,242929.86,2185,106,0,2291,0,7303,16750,16053,40106,815,156,3,974,1250,0,12388.03,16209.5,29847.53,6825,736,3,7564,1250,78621,196025.88999999998,36986.5,312883.39]
["East Lothian2012/133","East Lothian","2012/133",5375,3465,1231,10071,767.85714285714289,495,175.85714285714286,1438.7142857142858,4706,884,38171,43761,89.638095238095232,16.838095238095239,727.06666666666672,833.54285714285709,857.49523809523816,511.83809523809526,902.92380952380961,2272.2571428571428,18565,60995,21290,100850,5023,0,0,5023,0,0,4916,0,4916,3133,0,0,3133,0,0,849,0,849,615,305,0,920,1447,10496,8772,601,21316,8771,305,0,9076,1447,10496,14537,601,27081]
["East Renfrewshire2012/133","East Renfrewshire","2012/133",5977,2280,986,9243,853.85714285714289,325.71428571428572,140.85714285714286,1320.4285714285713,121435.5,32447.67,29221.5,183104.66999999998,2313.0571428571429,618.05085714285713,556.6,3487.7079999999996,3166.9142857142861,943.76514285714279,697.45714285714291,4808.1365714285712,16906,53810,20314,91030,4631,0,160,4791,0,115341,422,9167,124930,1558,73,1331,2962,0,0,868,24597,25465,904,26,152,1082,0,0,4105,23094,27199,7093,99,1643,8835,0,115341,5395,56858,177594]
["Edinburgh, City of2012/133","Edinburgh, City of","2012/133",10192,9865,6466,26523,1456,1409.2857142857142,923.71428571428567,3789,340728,178419,85942,605089,6490.0571428571429,3398.457142857143,1636.9904761904761,11525.504761904762,7946.0571428571429,4807.7428571428572,2560.7047619047617,15314.504761904762,70888,328883,82869,482640,10864,0,1995.550181818182,12859.550181818182,0,297626.36598906183,0,48235.099254212459,345861.46524327429,8834,0,3188.3187272727273,12022.318727272726,0,59893.289743589798,0,146244.81752435892,206138.10726794871,4350,0,2439.095515151515,6789.0955151515154,0,52292,0,35978.107998799998,88270.107998799998,24048,0,7622.9644242424238,31670.964424242426,0,409811.65573265165,0,230458.02477737138,640269.68051002303]
["Eilean Siar2012/133","Eilean Siar","2012/133",4268,522,71,4861,609.71428571428567,74.571428571428569,10.142857142857142,694.42857142857144,24582,1910,5332,31824,468.22857142857146,36.38095238095238,101.56190476190476,606.17142857142858,1077.9428571428571,110.95238095238095,111.7047619047619,1300.5999999999999,6176,16159,5225,27560,4491,0,0,4491,0,15403,9106,96,24605,484,0,0,484,0,260,1443,40,1743,170,0,0,170,3536,0,0,0,3536,5145,0,0,5145,3536,15663,10549,136,29884]
["Falkirk2012/133","Falkirk","2012/133",6216,4659,1608,12483,888,665.57142857142856,229.71428571428572,1783.2857142857142,41374.25,13405.5,29583,84362.75,788.08095238095234,255.34285714285716,563.48571428571427,1606.9095238095238,1676.0809523809523,920.91428571428571,793.2,3390.195238095238,26460,98196,32144,156800,5663,23,148,5834,0,4119,35058,7506,46683,3540,461,206,4207,0,0,12689,838,13527,951,0,622,1573,100,0,0,27812.49,27912.49,10154,484,976,11614,100,4119,47747,36156.490000000005,88122.49]
["Fife2012/133","Fife","2012/133",19301,10194,1793,31288,2757.2857142857142,1456.2857142857142,256.14285714285717,4469.7142857142853,235492,445123,33357,713972,4485.5619047619048,8478.5333333333328,635.37142857142862,13599.466666666667,7242.8476190476194,9934.8190476190466,891.51428571428573,18069.180952380953,67153,225971,73096,366220,18355,0,277,18632,155073,0,0,72041,227114,9628,0,622,10250,326390,0,0,101070,427460,2004,0,7,2011,263,217,3011,27510,31001,29987,0,1846,31833,481726,217,3011,200621,685575]
["Glasgow City2012/133","Glasgow City","2012/133",12354,9401,6515,28270,1764.8571428571429,1343,930.71428571428567,4038.5714285714284,279099,549553,46917,875569,5316.1714285714288,10467.67619047619,893.65714285714284,16677.504761904762,7081.0285714285719,11810.67619047619,1824.3714285714286,20716.076190476189,82958,403400,108722,595080,11148,0,0,11148,0,217785,0,0,217785,10603,0,0,10603,0,649618,364,670,650652,6624,0,720,7344,0,4502,28291,6462,39255,28375,0,720,29095,0,871905,28655,7132,907692]
["Highland2012/133","Highland","2012/133",10567,4563,3611,18741,1509.5714285714287,651.85714285714289,515.85714285714289,2677.2857142857142,59452,34769,28953,123174,1132.4190476190477,662.26666666666665,551.48571428571427,2346.1714285714284,2641.9904761904763,1314.1238095238095,1067.3428571428572,5023.4571428571426,45048,141441,46421,232910,9922,107,18,10047,0,28653,38938,766,68357,3784,363,72,4219,0,14884,15868,177,30929,2815,135,440,3390,0,9669,9967,7967,27603,16521,605,530,17656,0,53206,64773,8910,126889]
["Inverclyde2012/133","Inverclyde","2012/133",4005,2598,799,7402,572.14285714285711,371.14285714285717,114.14285714285714,1057.4285714285713,379549.51,134722.73000000001,3369,517641.24,7229.5144761904767,2566.1472380952382,64.171428571428578,9859.8331428571419,7801.6573333333336,2937.2900952380955,178.31428571428572,10917.261714285713,15201,50096,15383,80680,2037,0,865,2902,0,68374,386325.37,22626.9,477326.27,1870,0,543,2413,0,70638.5,38701.33,29084.25,138424.08000000002,681,0,67,748,0,0,629.5,2379,3008.5,4588,0,1475,6063,0,139012.5,425656.2,54090.15,618758.85000000009]
["Midlothian2012/133","Midlothian","2012/133",3441,2629,446,6516,491.57142857142856,375.57142857142856,63.714285714285715,930.85714285714289,70212.23,123441.8,24365,218019.03,1337.3758095238095,2351.2723809523809,464.09523809523807,4152.7434285714289,1828.9472380952379,2726.8438095238093,527.80952380952374,5083.600571428572,14705,51593,17942,84240,3341,"-",24,3365,"-",32729.62,13573.59,1039.23,47342.44,2146,0,615,2761,0,109158.57,18770.28,3069.6,130998.45000000001,244,0,230,474,0,9170,0,14701,23871,5731,0,869,6600,0,151058.19,32343.87,18809.830000000002,202211.89]
["Moray2012/133","Moray","2012/133",6034,2091,773,8898,862,298.71428571428572,110.42857142857143,1271.1428571428571,23674,11881.25,7473.5,43028.75,450.93333333333334,226.3095238095238,142.35238095238094,819.59523809523807,1312.9333333333334,525.02380952380952,252.78095238095239,2090.7380952380954,17952,55810,19148,92910,4108,0,22,4130,0,6325,12127.75,1098,19550.75,3056,0,0,3056,25,8303,6773.75,520,15621.75,940,0,0,940,4675,0,3478.5,312,8465.5,8104,0,22,8126,4700,14628,22380,1930,43638]
["North Ayrshire2012/133","North Ayrshire","2012/133",7787,4998,1198,13983,1112.4285714285713,714,171.14285714285714,1997.5714285714287,91318.63,118226,10477,220021.63,1739.4024761904764,2251.9238095238097,199.56190476190477,4190.8881904761902,2851.8310476190477,2965.9238095238097,370.70476190476188,6188.4596190476186,27082,82785,27693,137560,9127,0,0,9127,0,91140,953,0,92093,5090,0,80,5170,0,14940,1222,0,16162,1315,366,0,1681,0,0,182,10870,11052,15532,366,80,15978,0,106080,2357,10870,119307]
["North Lanarkshire2012/133","North Lanarkshire","2012/133",11580,6213,1698,19491,1654.2857142857142,887.57142857142856,242.57142857142858,2784.4285714285716,211252,207329,34100,452681,4023.847619047619,3949.1238095238095,649.52380952380952,8622.4952380952382,5678.1333333333332,4836.695238095238,892.09523809523807,11406.923809523811,52324,212771,72775,337870,11178,0,0,11178,0,153729,33296.400000000001,9537,196562.4,7193,7,0,7200,0,2080.25,5717,191930.54,199727.79,1463,84,0,1547,0,33291.75,375.5,2612.56,36279.81,19834,91,0,19925,0,189101,39388.9,204080.1,432570]
["Orkney Islands2012/133","Orkney Islands","2012/133",2186,754,710,3650,312.28571428571428,107.71428571428571,101.42857142857143,521.42857142857144,21442,54742,5535,81719,408.4190476190476,1042.7047619047619,105.42857142857143,1556.5523809523809,720.70476190476188,1150.4190476190477,206.85714285714286,2077.9809523809522,4450,12954,4126,21530,2186,0,0,2186,0,21442,0,0,21442,724,30,0,754,0,31581,11497,11664,54742,710,0,0,710,2496,0,1386,1653,5535,3620,30,0,3650,2496,53023,12883,13317,81719]
["Perth & Kinross2012/133","Perth & Kinross","2012/133",11879,2389,695,14963,1697,341.28571428571428,99.285714285714292,2137.5714285714284,255675.78000000003,51934.45,15018,322628.23000000004,4870.0148571428581,989.22761904761899,286.05714285714288,6145.2996190476197,6567.0148571428581,1330.5133333333333,385.34285714285716,8282.8710476190481,30973,88225,28542,147740,17976,939,0,18915,0,20103.2,139199.46,12064,171366.66,954,0,0,954,0,8864.2999999999993,32192.05,3518,44574.35,494,84,0,578,0,0,8651,6775,15426,19424,1023,0,20447,0,28967.5,180042.50999999998,22357,231367.01]
["Renfrewshire2012/133","Renfrewshire","2012/133",8863,6127,2577,17567,1266.1428571428571,875.28571428571433,368.14285714285717,2509.5714285714284,26582,23851,20167,70600,506.32380952380953,454.3047619047619,384.13333333333333,1344.7619047619048,1772.4666666666667,1329.5904761904762,752.27619047619055,3854.333333333333,30567,109318,34425,174310,7211,0,0,7211,0,0,0,18460,18460,6255,0,0,6255,0,0,0,24178,24178,2559,0,0,2559,0,0,8574.5,9542.2900000000009,18116.79,16025,0,0,16025,0,0,8574.5,52180.29,60754.79]
["Scottish Borders2012/133","Scottish Borders","2012/133",8076,1642,1868,11586,1153.7142857142858,234.57142857142858,266.85714285714283,1655.1428571428571,776.86,12892.52,12283,25952.38,14.797333333333334,245.57180952380952,233.96190476190475,494.33104761904764,1168.5116190476192,480.14323809523808,500.81904761904758,2149.4739047619046,24936,66983,21791,113710,7509,28,140,7677,117,418,2763,276,3574,1064,42,1080,2186,0," ",4657,7800,12457,604,0,1629,2233,1190,0,0,11558,12748,9177,70,2849,12096,1307,418,7420,19634,28779]
["Shetland Islands2012/133","Shetland Islands","2012/133",12958,1948,1549,16455,1851.1428571428571,278.28571428571428,221.28571428571428,2350.7142857142858,21208,40787,21033,83028,403.96190476190475,776.89523809523814,400.62857142857143,1581.4857142857143,2255.1047619047617,1055.1809523809525,621.91428571428571,3932.2,3982,14218,5010,23210,11456,2,0,11458,16293,0,4911,0,21204,1870,0,148,2018,2826,37856,125,566,41373,1538,0,139,1677,18834,0,1597,0,20431,14864,2,287,15153,37953,37856,6633,566,83008]
["South Ayrshire2012/133","South Ayrshire","2012/133",14652,2258,1486,18396,2093.1428571428573,322.57142857142856,212.28571428571428,2628,104727,125488,40185,270400,1994.8,2390.2476190476191,765.42857142857144,5150.4761904761908,4087.9428571428571,2712.8190476190475,977.71428571428578,7778.4761904761908,25259,66840,20811,112910,11575,0,0,11575,0,84708,19219,0,103927,380,0,1956,2336,0,104408,2294,14672,121374,0,0,1377,1377,0,7188,6033,18241,31462,11955,0,3333,15288,0,196304,27546,32913,256763]
["South Lanarkshire2012/133","South Lanarkshire","2012/133",26145,9635,2951,38731,3735,1376.4285714285713,421.57142857142856,5533,272492.48237665673,77005.28571428571,34706.621904761909,384204.38999570429,5190.3329976506047,1466.7673469387755,661.07851247165536,7318.1788570610343,8925.3329976506047,2843.1959183673471,1082.6499410430838,12851.178857061033,55019,196566,62775,314360,27862,1,5,27868,0,262387,26404,75,288866,10664,241,612,11517,0,0,62183,9961,72144,2472,361,16,2849,0,743,29938,12101.5,42782.5,40998,603,633,42234,0,263130,118525,22137.5,403792.5]
["Stirling2012/133","Stirling","2012/133",7693,1624,439,9756,1099,232,62.714285714285715,1393.7142857142858,12617.03,5670.75,25749.4,44037.18,240.32438095238098,108.01428571428572,490.46476190476193,838.80342857142853,1339.324380952381,340.01428571428573,553.17904761904765,2232.5177142857142,16271,56434,18315,91020,7249,0,0,7249,0,0,10814,0,10814,1884,0,0,1884,0,0,4015,0,4015,542,0,99,641,0,0,25686,2224,27910,9675,0,99,9774,0,0,40515,2224,42739]
["West Dunbartonshire2012/133","West Dunbartonshire","2012/133",2512,2864,958,6334,358.85714285714283,409.14285714285717,136.85714285714286,904.85714285714289,141676,118081,54280,314037,2698.5904761904762,2249.1619047619047,1033.9047619047619,5981.6571428571433,3057.4476190476189,2658.304761904762,1170.7619047619048,6886.5142857142864,15271,56969,18100,90340,3011,0,0,3011,0,102947,60129,1119,164195,3042,21,22,3085,0,72524,12208,33622,118354,958,22,0,980,138,4379,8449,17759,30725,7011,43,22,7076,138,179850,80786,52500,313274]
["West Lothian2012/133","West Lothian","2012/133",5120,3671,1137,9928,731.42857142857144,524.42857142857144,162.42857142857142,1418.2857142857142,28271,26375,19080,73726,538.49523809523805,502.38095238095241,363.42857142857144,1404.304761904762,1269.9238095238095,1026.8095238095239,525.85714285714289,2822.5904761904762,25213,110994,39783,175990,3729,0,193,3922,0,0,11887,7440,19327,3972,0,0,3972,0,19080,1776,2046,22902,598,0,219,817,0,0,2701,16361,19062,8299,0,412,8711,0,19080,16364,25847,61291]
["Aberdeen City2012/134","Aberdeen City","2012/134",11545,2254,666,14465,1649.2857142857142,322,95.142857142857139,2066.4285714285716,56691.55,8856.77,8574.65,74122.97,1079.8390476190477,168.70038095238095,163.32666666666665,1411.8660952380953,2729.1247619047617,490.70038095238095,258.46952380952382,3478.2946666666667,33166,154546,37258,224970,11537,22,0,11559,0,42104,7339.3,8222.25,57665.55,2344,0,0,2344,0,305,646.57000000000005,7860.2,8811.77,656,0,10,666,0,0,149,10927.65,11076.65,14537,22,10,14569,0,42409,8134.87,27010.1,77553.97]
["Aberdeenshire2012/134","Aberdeenshire","2012/134",20925,4821,1365,27111,2989.2857142857142,688.71428571428567,195,3873,41954.5,24047.5,69107,135109,799.13333333333333,458.04761904761904,1316.3238095238096,2573.5047619047618,3788.4190476190474,1146.7619047619046,1511.3238095238096,6446.5047619047618,42923,158636,53981,255540,19868,0,1563,21431,4620,2172,41310.5,0,48102.5,7128,0,0,7128,0,91275,0,9933,101208,1365,0,0,1365,0,39205.5,15066,8230.75,62502.25,28361,0,1563,29924,4620,132652.5,56376.5,18163.75,211812.75]
["Angus2012/134","Angus","2012/134",6350,1351,1004,8705,907.14285714285711,193,143.42857142857142,1243.5714285714284,133169,1306,10876.5,145351.5,2536.5523809523811,24.876190476190477,207.17142857142858,2768.6000000000004,3443.695238095238,217.87619047619049,350.6,4012.1714285714288,24234,69186,22790,116210,6350,0,0,6350,0,110537,22632,0,133169,1261,90,0,1351,0,0,1306,0,1306,824,180,0,1004,752,0,10125,0,10877,8435,270,0,8705,752,110537,34063,0,145352]
["Argyll & Bute2012/134","Argyll & Bute","2012/134",3415.65,847.1,709,4971.75,487.95,121.01428571428572,101.28571428571429,710.25,46714.5,48609.5,41909.5,137233.5,889.8,925.89523809523814,798.27619047619044,2613.9714285714285,1377.75,1046.9095238095238,899.56190476190477,3324.2214285714285,20155,50590,16155,86900,2704,0,711.65,3415.65,0,32349.25,0,14365.25,46714.5,599,0,248.1,847.1,0,7085.5,0,41524,48609.5,543,0,166,709,0,13039,0,28870.5,41909.5,3846,0,1125.75,4971.75,0,52473.75,0,84759.75,137233.5]
["Clackmannanshire2012/134","Clackmannanshire","2012/134",3260,925,835,5020,465.71428571428572,132.14285714285714,119.28571428571429,717.14285714285722,52665.75,45580.59,14786,113032.34,1003.1571428571428,868.20171428571427,281.63809523809522,2152.9969523809523,1468.8714285714286,1000.3445714285714,400.9238095238095,2870.1398095238096,8731,32074,10475,51280,0,3260,0,3260,40235,9605,2825.75,0,52665.75,0,327,598,925,42807.5,0,2773.09,0,45580.59,624,211,0,835,0,6208,6786,1792,14786,624,3798,598,5020,83042.5,15813,12384.84,1792,113032.34]
["Dumfries & Galloway2012/134","Dumfries & Galloway","2012/134",4595,6558,2445,13598,656.42857142857144,936.85714285714289,349.28571428571428,1942.5714285714284,17053,12563,28246,57862,324.81904761904764,239.29523809523809,538.01904761904757,1102.1333333333332,981.24761904761908,1176.152380952381,887.30476190476179,3044.7047619047617,34338,88237,28255,150830,4595,"-",0,4595,0,0,17053,0,17053,1930,4628,0,6558,0,0,12563,0,12563,768,1677,0,2445,0,9525.5,18720,0,28245.5,7293,6305,0,13598,0,9525.5,48336,0,57861.5]
["Dundee City2012/134","Dundee City","2012/134",13209,4224,1489,18922,1887,603.42857142857144,212.71428571428572,2703.1428571428573,71664,181094,26028,278786,1365.0285714285715,3449.4095238095238,495.77142857142854,5310.2095238095235,3252.0285714285715,4052.8380952380953,708.48571428571427,8013.3523809523813,25143,95568,27089,147800,11780,801,628,13209,0,58230,13434,0,71664,4224,0,0,4224,0,73136,0,107958,181094,24,417,1048,1489,0,4157,10562,11309,26028,16028,1218,1676,18922,0,135523,23996,119267,278786]
["East Ayrshire2012/134","East Ayrshire","2012/134",6422,4565,1346,12333,917.42857142857144,652.14285714285711,192.28571428571428,1761.8571428571427,87280,161454,11540,260274,1662.4761904761904,3075.3142857142857,219.8095238095238,4957.5999999999995,2579.9047619047619,3727.4571428571426,412.09523809523807,6719.4571428571417,22242,75972,24506,122720,4053,2369,0,6422,0,68000,19280,0,87280,3580,505,480,4565,0,118246,43208,0,161454,1302,14,30,1346,0,0,1748,9792,11540,8935,2888,510,12333,0,186246,64236,9792,260274]
["East Dunbartonshire2012/134","East Dunbartonshire","2012/134",4856,2296,834,7986,693.71428571428567,328,119.14285714285714,1140.8571428571429,203659.03999999998,46940.19,26271.5,276870.73,3879.2198095238091,894.09885714285724,500.40952380952382,5273.7281904761903,4572.9340952380944,1222.0988571428572,619.55238095238099,6414.5853333333334,21460,63165,21255,105880,4130,726,0,4856,0,85940.14,113652.9,4066,203659.03999999998,2232,64,0,2296,0,10262.280000000001,16412.91,20265,46940.19,718,116,0,834,860,0,12869,16987,30716,7080,906,0,7986,860,96202.42,142934.81,41318,281315.23]
["East Lothian2012/134","East Lothian","2012/134",5375,3465,1231,10071,767.85714285714289,495,175.85714285714286,1438.7142857142858,4706,884,38171,43761,89.638095238095232,16.838095238095239,727.06666666666672,833.5428571428572,857.49523809523816,511.83809523809526,902.92380952380961,2272.2571428571428,18565,60995,21290,100850,5375,0,0,5375,0,0,4706,0,4706,3465,0,0,3465,0,0,884,0,884,417,301,513,1231,1801,24649,6861,4860,38171,9257,301,513,10071,1801,24649,12451,4860,43761]
["East Renfrewshire2012/134","East Renfrewshire","2012/134",5977,2280,986,9243,853.85714285714289,325.71428571428572,140.85714285714286,1320.4285714285716,121435.5,32447.67,29222,183105.16999999998,2313.0571428571429,618.05085714285713,556.60952380952381,3487.7175238095242,3166.9142857142861,943.76514285714279,697.4666666666667,4808.1460952380958,16906,53810,20314,91030,5977,0,0,5977,0,103843,3893.5,13699,121435.5,2051,50,179,2280,0,0,1321,31126.67,32447.67,808,26,152,986,0,0,4966.5,24255,29221.5,8836,76,331,9243,0,103843,10181,69080.67,183104.66999999998]
["Edinburgh, City of2012/134","Edinburgh, City of","2012/134",10192,9865,6466,26523,1456,1409.2857142857142,923.71428571428567,3789,340728,178419,85942,605089,6490.0571428571429,3398.457142857143,1636.9904761904761,11525.504761904762,7946.0571428571429,4807.7428571428572,2560.7047619047617,15314.504761904762,70888,328883,82869,482640,10141,0,51,10192,0,280405,0,60323,340728,8553,0,1312,9865,0,44682,0,133737,178419,4449,0,2017,6466,0,53609,0,32333,85942,23143,0,3380,26523,0,378696,0,226393,605089]
["Eilean Siar2012/134","Eilean Siar","2012/134",4268,522,71,4861,609.71428571428567,74.571428571428569,10.142857142857142,694.42857142857133,17313,1910,5332,24555,329.77142857142854,36.38095238095238,101.56190476190476,467.71428571428567,939.48571428571427,110.95238095238095,111.7047619047619,1162.1428571428569,6176,16159,5225,27560,4268,0,0,4268,0,15926,8656,0,24582,522,0,0,522,0,777,1133,0,1910,71,0,0,71,0,5332,0,0,5332,4861,0,0,4861,0,22035,9789,0,31824]
["Falkirk2012/134","Falkirk","2012/134",6216,4659,1608,12483,888,665.57142857142856,229.71428571428572,1783.2857142857142,41374.25,13405.5,29582.75,84362.5,788.08095238095234,255.34285714285716,563.48095238095243,1606.9047619047619,1676.0809523809523,920.91428571428571,793.19523809523821,3390.1904761904761,26460,98196,32144,156800,6015,20,181,6216,266.5,38.5,34919.25,6150,41374.25,4135,342,182,4659,42,0,12435.5,928,13405.5,957,0,651,1608,118,0,0,29465,29583,11107,362,1014,12483,426.5,38.5,47354.75,36543,84362.75]
["Fife2012/134","Fife","2012/134",19301,10194,1793,31288,2757.2857142857142,1456.2857142857142,256.14285714285717,4469.7142857142853,235493,445123,33357,713973,4485.5809523809521,8478.5333333333328,635.37142857142862,13599.485714285713,7242.8666666666668,9934.8190476190466,891.51428571428573,18069.199999999997,67153,225971,73096,366220,19112,0,189,19301,167726,0,0,67766,235492,8537,0,1657,10194,329090,0,0,116033,445123,1793,0,0,1793,0,3201,6260,23896,33357,29442,0,1846,31288,496816,3201,6260,207695,713972]
["Glasgow City2012/134","Glasgow City","2012/134",12354,9401,6515,28270,1764.8571428571429,1343,930.71428571428567,4038.5714285714284,279099,549553,46917,875569,5316.1714285714288,10467.67619047619,893.65714285714284,16677.504761904762,7081.0285714285719,11810.67619047619,1824.3714285714286,20716.076190476189,82958,403400,108722,595080,12354,0,0,12354,0,279099,0,0,279099,9401,0,0,9401,0,549019,534,0,549553,5782,0,733,6515,0,7363,30216,9338,46917,27537,0,733,28270,0,835481,30750,9338,875569]
["Highland2012/134","Highland","2012/134",10567,4563,3611,18741,1509.5714285714287,651.85714285714289,515.85714285714289,2677.2857142857147,59452,34769,28953,123174,1132.4190476190477,662.26666666666665,551.48571428571427,2346.1714285714288,2641.9904761904763,1314.1238095238095,1067.3428571428572,5023.4571428571435,45048,141441,46421,232910,10482,54,31,10567,0,26028,32692,732,59452,4389,36,138,4563,0,19773,14794,202,34769,2676,470,465,3611,0,9493,11796,7664,28953,17547,560,634,18741,0,55294,59282,8598,123174]
["Inverclyde2012/134","Inverclyde","2012/134",4005,2598,799,7402,572.14285714285711,371.14285714285717,114.14285714285714,1057.4285714285713,379549.51,134722.73000000001,3369,517641.24,7229.5144761904767,2566.1472380952382,64.171428571428578,9859.8331428571419,7801.6573333333336,2937.2900952380955,178.31428571428572,10917.261714285713,15201,50096,15383,80680,2943,27,1035,4005,0,74639,284213.51,20697,379549.51,1993,22,583,2598,0,67301.5,34581.230000000003,32840,134722.73000000001,683,0,116,799,0,0,105,3264,3369,5619,49,1734,7402,0,141940.5,318899.74,56801,517641.24]
["Midlothian2012/134","Midlothian","2012/134",3441,2629,485,6555,491.57142857142856,375.57142857142856,69.285714285714292,936.42857142857144,70212.23,123441.8,24365,218019.03,1337.3758095238095,2351.2723809523809,464.09523809523807,4152.743428571428,1828.9472380952379,2726.8438095238093,533.38095238095241,5089.1719999999996,14705,51593,17942,84240,3393,0,48,3441,0,49523.59,15501.64,5187,70212.23,2147,0,482,2629,0,102591,17737.36,3113.44,123441.8,265,0,181,446,0,9470,0,14895,24365,5805,0,711,6516,0,161584.59,33239,23195.440000000002,218019.03]
["Moray2012/134","Moray","2012/134",6034,2091,773,8898,862,298.71428571428572,110.42857142857143,1271.1428571428571,23674,11881.25,7473.5,43028.75,450.93333333333334,226.3095238095238,142.35238095238094,819.59523809523807,1312.9333333333334,525.02380952380952,252.78095238095239,2090.7380952380954,17952,55810,19148,92910,5367,70,597,6034,781,2302,20021,570,23674,2091,0,0,2091,369.5,6922,4589.75,0,11881.25,770,3,0,773,409.5,0,7064,0,7473.5,8228,73,597,8898,1560,9224,31674.75,570,43028.75]
["North Ayrshire2012/134","North Ayrshire","2012/134",7787,4998,1597,14382,1112.4285714285713,714,228.14285714285714,2054.5714285714284,91319,118226,10477,220022,1739.4095238095238,2251.9238095238097,199.56190476190477,4190.8952380952378,2851.8380952380949,2965.9238095238097,427.70476190476188,6245.4666666666662,27082,82785,27693,137560,7787,0,0,7787,0,84200,765,6353.63,91318.63,4998,0,0,4998,0,117290,936,0,118226,391,287,520,1198,230,0,182,10065,10477,13176,287,520,13983,230,201490,1883,16418.63,220021.63]
["North Lanarkshire2012/134","North Lanarkshire","2012/134",11580,6213,1698,19491,1654.2857142857142,887.57142857142856,242.57142857142858,2784.4285714285711,211252,207329,34100,452681,4023.847619047619,3949.1238095238095,649.52380952380952,8622.4952380952382,5678.1333333333332,4836.695238095238,892.09523809523807,11406.923809523809,52324,212771,72775,337870,11580,0,0,11580,0,164069,30405,16778,211252,6191,22,0,6213,0,27383,5796,174150,207329,1542,156,0,1698,0,32214,130,1756,34100,19313,178,0,19491,0,223666,36331,192684,452681]
["Orkney Islands2012/134","Orkney Islands","2012/134",2186,754,710,3650,312.28571428571428,107.71428571428571,101.42857142857143,521.42857142857144,21442,54742,5535,81719,408.4190476190476,1042.7047619047619,105.42857142857143,1556.5523809523809,720.70476190476188,1150.4190476190477,206.85714285714286,2077.9809523809522,4450,12954,4126,21530,2186,0,0,2186,0,21442,0,0,21442,724,30,0,754,0,31581,11497,11664,54742,710,0,0,710,2496,0,1386,1653,5535,3620,30,0,3650,2496,53023,12883,13317,81719]
["Perth & Kinross2012/134","Perth & Kinross","2012/134",11879,2389,695,14963,1697,341.28571428571428,99.285714285714292,2137.5714285714284,255675.78000000003,51934.45,15018,322628.23000000004,4870.0148571428581,989.22761904761899,286.05714285714288,6145.2996190476197,6567.0148571428581,1330.5133333333333,385.34285714285716,8282.8710476190481,30973,88225,28542,147740,9960,0,1919,11879,0,38230.86,208210.92,9234,255675.78000000003,1381,0,1008,2389,0,12884.57,38794.879999999997,255,51934.45,626,69,0,695,0,0,9391,5627,15018,11967,69,2927,14963,0,51115.43,256396.80000000002,15116,322628.23000000004]
["Renfrewshire2012/134","Renfrewshire","2012/134",8863,6127,2577,17567,1266.1428571428571,875.28571428571433,368.14285714285717,2509.5714285714289,26582,23851,20167,70600,506.32380952380953,454.3047619047619,384.13333333333333,1344.7619047619046,1772.4666666666667,1329.5904761904762,752.27619047619055,3854.3333333333335,30567,109318,34425,174310,8863,0,0,8863,0,0,0,26582,26582,6127,0,0,6127,0,0,0,23851,23851,2577,0,0,2577,0,0,6295,13872,20167,17567,0,0,17567,0,0,6295,64305,70600]
["Scottish Borders2012/134","Scottish Borders","2012/134",8076,1642,1868,11586,1153.7142857142858,234.57142857142858,266.85714285714283,1655.1428571428573,776.86,12892.52,12283,25952.38,14.797333333333334,245.57180952380952,233.96190476190475,494.33104761904758,1168.5116190476192,480.14323809523808,500.81904761904758,2149.473904761905,24936,66983,21791,113710,8072,0,4,8076,265,386.86,0,125,776.86,1573,0,69,1642,49,10497.02,367,1979.5,12892.52,612,0,0,612,1625,0,0,10658,12283,10257,0,73,10330,1939,10883.880000000001,367,12762.5,25952.38]
["Shetland Islands2012/134","Shetland Islands","2012/134",12958,1948,3222,18128,1851.1428571428571,278.28571428571428,460.28571428571428,2589.7142857142858,21208,40787,21033,83028,403.96190476190475,776.89523809523814,400.62857142857143,1581.4857142857143,2255.1047619047617,1055.1809523809525,860.91428571428571,4171.2,3982,14218,5010,23210,12958,0,0,12958,16371,0,4837,0,21208,1948,0,0,1948,1924,38760,103,0,40787,1161,0,388,1549,18100,0,1498,1435,21033,16067,0,388,16455,36395,38760,6438,1435,83028]
["South Ayrshire2012/134","South Ayrshire","2012/134",14652,2258,1486,18396,2093.1428571428573,322.57142857142856,212.28571428571428,2628,104774,125488,40185,270447,1995.695238095238,2390.2476190476191,765.42857142857144,5151.3714285714286,4088.8380952380953,2712.8190476190475,977.71428571428578,7779.3714285714286,25259,66840,20811,112910,14652,0,0,14652,0,85555,19172,0,104727,359,0,1899,2258,0,104408,2351,18729,125488,0,0,1486,1486,0,7898,20645,11642,40185,15011,0,3385,18396,0,197861,42168,30371,270400]
["South Lanarkshire2012/134","South Lanarkshire","2012/134",26145,9635,2951,38731,3735,1376.4285714285713,421.57142857142856,5533,272492.48237665673,77005,34706.621904761902,384204.10428141861,5190.3329976506047,1466.7619047619048,661.07851247165524,7318.1734148841642,8925.3329976506047,2843.1904761904761,1082.6499410430838,12851.173414884164,55019,196566,62775,314360,26120,8,17,26145,0,249892.4847142857,22344.997662371043,255,272492.48237665673,8574,338,723,9635,0,0,63906,13099.285714285714,77005.28571428571,1937,175,839,2951,857,0,19257.883333333335,14591.73857142857,34706.621904761909,36631,521,1579,38731,857,249892.4847142857,105508.88099570437,27946.024285714284,384204.38999570429]
["Stirling2012/134","Stirling","2012/134",7693,1624,439,9756,1099,232,62.714285714285715,1393.7142857142858,12617.03,5670.75,25749.4,44037.18,240.32438095238098,108.01428571428572,490.46476190476193,838.80342857142864,1339.324380952381,340.01428571428573,553.17904761904765,2232.5177142857146,16271,56434,18315,91020,0,7693,0,7693,0,0,12617.03,0,12617.03,0,1624,0,1624,0,0,5670.75,0,5670.75,0,0,439,439,27,3152,22570.400000000001,0,25749.4,0,9317,439,9756,27,3152,40858.18,0,44037.18]
["West Dunbartonshire2012/134","West Dunbartonshire","2012/134",2512,2864,958,6334,358.85714285714283,409.14285714285717,136.85714285714286,904.85714285714289,141676,118081,54280,314037,2698.5904761904762,2249.1619047619047,1033.9047619047619,5981.6571428571433,3057.4476190476189,2658.304761904762,1170.7619047619048,6886.5142857142864,15271,56969,18100,90340,2315,197,0,2512,0,100877,40601,198,141676,2855,9,0,2864,0,82376,23398,12307,118081,942,16,0,958,36,5632,20159,28453,54280,6112,222,0,6334,36,188885,84158,40958,314037]
["West Lothian2012/134","West Lothian","2012/134",5120,3671,1102,9893,731.42857142857144,524.42857142857144,157.42857142857142,1413.2857142857142,98415,23741,11973,134129,1874.5714285714287,452.20952380952383,228.05714285714285,2554.8380952380953,2606,976.63809523809527,385.48571428571427,3968.1238095238095,25213,110994,39783,175990,4773,0,347,5120,0,0,10845,17426,28271,3671,0,0,3671,0,22668,1073,2634,26375,979,0,158,1137,0,0,2964,16116,19080,9423,0,505,9928,0,22668,14882,36176,73726]
["Aberdeen City2013/144","Aberdeen City","2013/144",13360,2562,1321,17243,1908.5714285714287,366,188.71428571428572,2463.2857142857142,29255.4,9700.5499999999993,24437.95,63393.899999999994,557.24571428571426,184.77238095238093,465.48476190476191,1207.502857142857,2465.8171428571432,550.7723809523809,654.19904761904763,3670.7885714285712,33713,156043,37374,227130,13323,37,0,13360,0,23679,5576.4,0,29255.4,2562,0,0,2562,0,36,325.05,9339.5,9700.5499999999993,1271,0,50,1321,0,0,10093.42,14344.53,24437.95,17156,37,50,17243,0,23715,15994.869999999999,23684.03,63393.899999999994]
["Aberdeenshire2013/144","Aberdeenshire","2013/144",24822,3757,1040,29619,3546,536.71428571428567,148.57142857142858,4231.2857142857147,43149.17,23553,72510.25,139212.41999999998,821.88895238095233,448.62857142857143,1381.1476190476189,2651.6651428571427,4367.8889523809521,985.34285714285716,1529.7190476190476,6882.9508571428578,44380,159116,54244,257740,23627,0,1195,24822,0,751.5,38343.42,4054.25,43149.17,2796,0,961,3757,0,15255.25,7967.75,330,23553,548,0,492,1040,0,0,1653,70857.25,72510.25,26971,0,2648,29619,0,16006.75,47964.17,75241.5,139212.41999999998]
["Angus2013/144","Angus","2013/144",10353,2895,967,14215,1479,413.57142857142856,138.14285714285714,2030.7142857142856,101513,4672,9050,115235,1933.5809523809523,88.990476190476187,172.38095238095238,2194.9523809523807,3412.5809523809521,502.56190476190477,310.52380952380952,4225.6666666666661,24960,68685,22595,116240,10353,0,0,10353,0,92000,9513,0,101513,1407,1488,0,2895,0,2242,2430,0,4672,851,0,116,967,478,236,6201,2135,9050,12611,1488,116,14215,478,94478,18144,2135,115235]
["Argyll & Bute2013/144","Argyll & Bute","2013/144",2962,748,648,4358,423.14285714285717,106.85714285714286,92.571428571428569,622.57142857142856,36406,49288,25480.3,111174.3,693.44761904761901,938.81904761904764,485.33904761904762,2117.6057142857144,1116.5904761904762,1045.6761904761904,577.91047619047617,2740.1771428571428,20620,51521,15909,88050,2710,157,95,2962,45,26322,8823,1216,36406,301,84,363,748,0,2974,3555,42759,49288,490,52,106,648,0,10049.5,953,14477.8,25480.3,3501,293,564,4358,45,51753.5,13331,46044.800000000003,111174.3]
["Clackmannanshire2013/144","Clackmannanshire","2013/144",3262,966,868,5096,466,138,124,728,49820.5,52951.27,13527,116298.76999999999,948.96190476190475,1008.595619047619,257.65714285714284,2215.2146666666667,1414.9619047619049,1146.595619047619,381.65714285714284,2943.2146666666667,9019,31838,10423,51280,3134,0,128,3262,0,36635,1756.5,11429,49820.5,296,24,646,966,0,47940,3488.27,1523,52951.27,336,520,12,868,0,0,5049,8478,13527,3766,544,786,5096,0,84575,10293.77,21430,116298.76999999999]
["Dumfries & Galloway2013/144","Dumfries & Galloway","2013/144",4761,6683,2587,14031,680.14285714285711,954.71428571428567,369.57142857142856,2004.4285714285711,17009,15480,28298,60787,323.98095238095237,294.85714285714283,539.00952380952378,1157.847619047619,1004.1238095238095,1249.5714285714284,908.58095238095234,3162.2761904761901,35030,87503,27737,150270,4761,0,0,4761,0,0,17009,0,17009,2783,3900,0,6683,0,0,15480,0,15480,987,1600,0,2587,0,9500,18798,0,28298,8531,5500,0,14031,0,9500,51287,0,60787]
["Dundee City2013/144","Dundee City","2013/144",13986,3582,1439,19007,1998,511.71428571428572,205.57142857142858,2715.2857142857142,81944,182771,17231,281946,1560.8380952380953,3481.3523809523808,328.20952380952383,5370.4,3558.8380952380953,3993.0666666666666,533.78095238095239,8085.6857142857134,25443,95522,27205,148170,13453,533,0,13986,0,66872,12055,3017,81944,3554,28,0,3582,0,43590,0,139181,182771,469,32,938,1439,0,3722,2064,11445,17231,17476,593,938,19007,0,114184,14119,153643,281946]
["East Ayrshire2013/144","East Ayrshire","2013/144",6221,4499,1207,11927,888.71428571428567,642.71428571428567,172.42857142857142,1703.8571428571427,87704,186465,19284,293453,1670.5523809523809,3551.7142857142858,367.31428571428569,5589.5809523809521,2559.2666666666664,4194.4285714285716,539.74285714285713,7293.4380952380943,22797,75362,24281,122440,4031,2190,0,6221,0,71866,15838,0,87704,3571,728,200,4499,0,73155,46107,45900,165162,1165,42,0,1207,0,0,4176,15108,19284,8767,2960,200,11927,0,145021,66121,61008,272150]
["East Dunbartonshire2013/144","East Dunbartonshire","2013/144",5149,2334,800,8283,735.57142857142856,333.42857142857144,114.28571428571429,1183.2857142857142,279312,65275,26112,370699,5320.2285714285717,1243.3333333333333,497.37142857142857,7060.9333333333334,6055.8,1576.7619047619046,611.65714285714284,8244.2190476190481,22004,62869,20987,105860,4556,593,0,5149,0,94114,178539,6659,279312,2193,130,11,2334,0,14784,18089,32402,65275,606,194,0,800,1376.5,0,9562,15173.5,26112,7355,917,11,8283,1376.5,108898,206190,54234.5,370699]
["East Lothian2013/144","East Lothian","2013/144",6254,3049,1184,10487,893.42857142857144,435.57142857142856,169.14285714285714,1498.1428571428571,4076,862,29036,33974,77.638095238095232,16.419047619047618,553.06666666666672,647.12380952380954,971.06666666666672,451.99047619047616,722.20952380952383,2145.2666666666664,19100,61020,21240,101360,6254,0,0,6254,0,0,4076,0,4076,3049,0,0,3049,0,0,862,0,862,0,91,1093,1184,1191,0,7605,20240,29036,9303,91,1093,10487,1191,0,12543,20240,33974]
["East Renfrewshire2013/144","East Renfrewshire","2013/144",4677,1551,710,6938,668.14285714285711,221.57142857142858,101.42857142857143,991.14285714285711,113635.25,34652,28846,177133.25,2164.4809523809522,660.03809523809525,549.44761904761901,3373.9666666666662,2832.6238095238095,881.60952380952381,650.87619047619046,4365.1095238095231,17264,53766,20470,91500,4677,0,0,4677,0,104756,1942.5,6936.75,113635.25,1309,34,208,1551,0,0,5329,29323,34652,555,26,129,710,0,0,9045,19801,28846,6541,60,337,6938,0,104756,16316.5,56060.75,177133.25]
["Edinburgh, City of2013/144","Edinburgh, City of","2013/144",9261,9557,6313,25131,1323,1365.2857142857142,901.85714285714289,3590.1428571428569,332300,183685,82551.600000000006,598536.6,6329.5238095238092,3498.7619047619046,1572.4114285714286,11400.697142857141,7652.5238095238092,4864.0476190476184,2474.2685714285717,14990.839999999998,72236,331426,83838,487500,9217,0,44,9261,0,281167,0,51133,332300,7745,0,1812,9557,0,55745,0,127940,183685,4270,0,2043,6313,0,55786.6,0,26765,82551.600000000006,21232,0,3899,25131,0,392698.6,0,205838,598536.6]
["Eilean Siar2013/144","Eilean Siar","2013/144",4475,578,78,5131,639.28571428571433,82.571428571428569,11.142857142857142,733,16781,1794,5474,24049,319.63809523809522,34.171428571428571,104.26666666666667,458.07619047619045,958.9238095238095,116.74285714285713,115.4095238095238,1191.0761904761905,6266,15998,5136,27400,4475,0,0,4475,0,8432,8349,0,16781,578,0,0,578,0,732,858,204,1794,78,0,0,78,0,0,0,5474,5474,5131,0,0,5131,0,9164,9207,5678,24049]
["Falkirk2013/144","Falkirk","2013/144",5865,3501,1621,10987,837.85714285714289,500.14285714285717,231.57142857142858,1569.5714285714287,47005.4,9418.15,24438.7,80862.25,895.34095238095244,179.39333333333332,465.49904761904764,1540.2333333333333,1733.1980952380954,679.53619047619054,697.07047619047626,3109.804761904762,27194,97950,31996,157140,5682,114,69,5865,0,378,37507.4,9120,47005.4,3089,218,194,3501,0,0,8959.65,458.5,9418.15,1080,7,534,1621,36.25,0,0,24402.45,24438.7,9851,339,797,10987,36.25,378,46467.05,33980.949999999997,80862.25]
["Fife2013/144","Fife","2013/144",20955,10495,1660,33110,2993.5714285714284,1499.2857142857142,237.14285714285714,4730,281302,426071,31157.74,738530.74,5358.1333333333332,8115.638095238095,593.48076190476195,14067.252190476191,8351.7047619047626,9614.9238095238088,830.62361904761906,18797.252190476189,69016,225041,72853,366910,20493,207,255,20955,101234,149846,23160,7062,281302,3622,601,6272,10495,728,133704,60548,231091,426071,1468,0,192,1660,0,6,2094.21,29057.530000000002,31157.74,25583,808,6719,33110,101962,283556,85802.21,267210.53000000003,738530.74]
["Glasgow City2013/144","Glasgow City","2013/144",5805,7759,3964,17528,829.28571428571433,1108.4285714285713,566.28571428571433,2504,205089.93,463130,36007,704226.92999999993,3906.4748571428572,8821.5238095238092,685.84761904761899,13413.846285714286,4735.7605714285719,9929.9523809523798,1252.1333333333332,15917.846285714286,83191,404228,109131,596550,5805,0,0,5805,0,205089.93,0,0,205089.93,7755,0,4,7759,0,463110,12,8,463130,3529,0,435,3964,0,22695,12335,977,36007,17089,0,439,17528,0,690894.92999999993,12347,985,704226.92999999993]
["Highland2013/144","Highland","2013/144",9620,3537,3573,16730,1374.2857142857142,505.28571428571428,510.42857142857144,2390,78312,33712,30786.5,142810.5,1491.6571428571428,642.13333333333333,586.40952380952376,2720.2,2865.9428571428571,1147.4190476190477,1096.8380952380953,5110.2,46541,140454,45955,232950,9611,9,0,9620,0,42680,34311,1321,78312,3485,0,52,3537,0,18087,14179,1446,33712,3102,114,357,3573,82.5,4735,13614,12355,30786.5,16198,123,409,16730,82.5,65502,62104,15122,142810.5]
["Inverclyde2013/144","Inverclyde","2013/144",4568,2634,607,7809,652.57142857142856,376.28571428571428,86.714285714285708,1115.5714285714287,391270.9,124482.1,1959.5,517712.5,7452.7790476190485,2371.0876190476192,37.323809523809523,9861.1904761904789,8105.3504761904769,2747.3733333333334,124.03809523809522,10976.761904761908,15430,49659,15221,80310,3778,52,738,4568,0,71714.100000000006,301307.8,18249,391270.9,1910,0,724,2634,0,59116.5,33722.6,31643,124482.1,535,0,72,607,0,0,949.5,1010,1959.5,6223,52,1534,7809,0,130830.6,335979.89999999997,50902,517712.5]
["Midlothian2013/144","Midlothian","2013/144",3002,530,619,4151,428.85714285714283,75.714285714285708,88.428571428571431,593,78086.14,135197.66,25876,239159.8,1487.3550476190476,2575.1935238095239,492.87619047619046,4555.4247619047619,1916.2121904761905,2650.9078095238096,581.3047619047619,5148.4247619047619,15140,51501,18059,84700,2889,0,113,3002,0,63846.71,13879.93,359.5,78086.14,39,0,491,530,0,106096,25177,3924.66,135197.66,316,0,303,619,0,10132,0,15744,25876,3244,0,907,4151,0,180074.71,39056.93,20028.16,239159.8]
["Moray2013/144","Moray","2013/144",4051,2270,954,7275,578.71428571428567,324.28571428571428,136.28571428571428,1039.2857142857142,30484.639999999999,16203.22,5566,52253.86,580.65980952380949,308.63276190476188,106.01904761904763,995.31161904761893,1159.3740952380952,632.91847619047621,242.3047619047619,2034.5973333333332,18481,56754,19115,94350,4042,0,9,4051,11920.21,1525,15385.15,1654.28,30484.639999999999,2270,0,0,2270,722,8252,7037.08,192.14,16203.22,936,18,0,954,393,360,4073,740,5566,7248,18,9,7275,13035.21,10137,26495.23,2586.42,52253.86]
["North Ayrshire2013/144","North Ayrshire","2013/144",7497,4726,1723,13946,1071,675.14285714285711,246.14285714285714,1992.2857142857142,83289,119027.92,9497,211813.91999999998,1586.4571428571428,2267.198476190476,180.89523809523808,4034.5508571428568,2657.4571428571426,2942.3413333333328,427.03809523809525,6026.836571428571,27813,81988,27119,136920,7497,0,0,7497,0,75520,872,6897,83289,4726,0,0,4726,0,118015,952.25,60.67,119027.92,1327,18,378,1723,0,0,182,9315,9497,13550,18,378,13946,0,193535,2006.25,16272.67,211813.91999999998]
["North Lanarkshire2013/144","North Lanarkshire","2013/144",11090,5589,1456,18135,1584.2857142857142,798.42857142857144,208,2590.7142857142858,236485,214231,31107,481823,4504.4761904761908,4080.5904761904762,592.51428571428573,9177.580952380953,6088.7619047619046,4879.0190476190473,800.51428571428573,11768.295238095239,53513,211758,72459,337730,10957,133,0,11090,0,173819,43946,18720,236485,5570,19,0,5589,0,23330,1967,188934,214231,1303,153,0,1456,0,29186,616,1305,31107,17830,305,0,18135,0,226335,46529,208959,481823]
["Orkney Islands2013/144","Orkney Islands","2013/144",2414,401,593,3408,344.85714285714283,57.285714285714285,84.714285714285708,486.85714285714283,10455,46352,6662,63469,199.14285714285714,882.89523809523814,126.8952380952381,1208.9333333333334,544,940.18095238095248,211.60952380952381,1695.7904761904763,4560,12947,4063,21570,2414,0,0,2414,0,10455,0,0,10455,401,0,0,401,53,33170,13129,0,46352,593,0,0,593,0,0,4862,1800,6662,3408,0,0,3408,53,43625,17991,1800,63469]
["Perth & Kinross2013/144","Perth & Kinross","2013/144",11368,2027,608,14003,1624,289.57142857142856,86.857142857142861,2000.4285714285713,211090,71390.570000000007,13272,295752.57,4020.7619047619046,1359.8203809523811,252.8,5633.3822857142859,5644.7619047619046,1649.3918095238096,339.65714285714284,7633.8108571428575,31735,87709,28306,147750,8887,0,2481,11368,0,38809,171272,1009,211090,1584,0,443,2027,0,34592.57,36613,185,71390.570000000007,511,0,97,608,0,0,0,13272,13272,10982,0,3021,14003,0,73401.570000000007,207885,14466,295752.57]
["Renfrewshire2013/144","Renfrewshire","2013/144",7456,5780,1998,15234,1065.1428571428571,825.71428571428567,285.42857142857144,2176.2857142857142,28870,23530,17998.32,70398.320000000007,549.90476190476193,448.1904761904762,342.82514285714285,1340.920380952381,1615.047619047619,1273.9047619047619,628.2537142857143,3517.2060952380953,31073,108560,34267,173900,7456,0,0,7456,0,0,0,28870,28870,5780,0,0,5780,0,0,0,23530,23530,1998,0,0,1998,0,0,5877.07,12121.25,17998.32,15234,0,0,15234,0,0,5877.07,64521.25,70398.320000000007]
["Scottish Borders2013/144","Scottish Borders","2013/144",7914,2243,2369,12526,1130.5714285714287,320.42857142857144,338.42857142857144,1789.4285714285716,765,13452,13271,27488,14.571428571428571,256.22857142857146,252.78095238095239,523.58095238095234,1145.1428571428573,576.65714285714284,591.20952380952383,2313.0095238095237,25702,66465,21703,113870,7914,0,0,7914,0,0,0,765,765,2243,0,0,2243,0,0,0,13452,13452,568,0,1801,2369,1617,0,0,11654,13271,10725,0,1801,12526,1617,0,0,25871,27488]
["Shetland Islands2013/144","Shetland Islands","2013/144",12815,2382,3631,18828,1830.7142857142858,340.28571428571428,518.71428571428567,2689.7142857142858,22651,39821,20833,83305,431.44761904761907,758.49523809523805,396.81904761904764,1586.7619047619046,2262.1619047619047,1098.7809523809524,915.5333333333333,4276.4761904761908,4103,14157,4940,23200,12815,0,0,12815,16647,0,6004,0,22651,2382,0,0,2382,2974,36496,351,0,39821,1177,0,2454,3631,18562,0,940,1331,20833,16374,0,2454,18828,38183,36496,7295,1331,83305]
["South Ayrshire2013/144","South Ayrshire","2013/144",14661,2635,1486,18782,2094.4285714285716,376.42857142857144,212.28571428571428,2683.1428571428573,104744,125354,40185,270283,1995.1238095238095,2387.695238095238,765.42857142857144,5148.2476190476191,4089.5523809523811,2764.1238095238095,977.71428571428578,7831.390476190476,25824,66394,20632,112850,14645,0,16,14661,0,86780,17964,0,104744,836,0,1799,2635,0,52204,2083,71067,125354,1185,285,16,1486,0,0,20207,19978,40185,16666,285,1831,18782,0,138984,40254,91045,270283]
["South Lanarkshire2013/144","South Lanarkshire","2013/144",30067,9987,2255,42309,4295.2857142857147,1426.7142857142858,322.14285714285717,6044.1428571428569,273801.91278536018,78196.28,38381.241426059947,390379.43421142013,5215.2745292449563,1489.4529523809524,731.07126525828471,7435.798746884193,9510.5602435306719,2916.1672380952382,1053.2141224011418,13479.94160402705,56389,195940,62521,314850,30014,24,29,30067,0,249795,23553.912785360208,453,273801.91278536018,8837,351,799,9987,0,0,61166,17030.28,78196.28,2255,0,0,2255,75,0,19853.190476190477,18453.05094986947,38381.241426059947,41106,375,828,42309,75,249795,104573.10326155068,35936.330949869473,390379.43421142013]
["Stirling2013/144","Stirling","2013/144",7893,2899,731,11523,1127.5714285714287,414.14285714285717,104.42857142857143,1646.1428571428571,18119.84,3992.21,4259,26371.05,345.1398095238095,76.042095238095243,81.123809523809527,502.30571428571432,1472.7112380952381,490.18495238095238,185.55238095238096,2148.4485714285715,16582,56521,18157,91260,7893,0,0,7893,0,0,18119.84,0,18119.84,2887,0,12,2899,0,0,3992.21,0,3992.21,0,0,731,731,0,0,4259,0,4259,10780,0,743,11523,0,0,26371.05,0,26371.05]
["West Dunbartonshire2013/144","West Dunbartonshire","2013/144",2761,2934,1001,6696,394.42857142857144,419.14285714285717,143,956.57142857142867,125249.17,137003.25,29958.25,292210.67,2385.698476190476,2609.5857142857144,570.63333333333333,5565.9175238095231,2780.1270476190475,3028.7285714285717,713.63333333333333,6522.4889523809516,15516,56398,17896,89810,2761,0,0,2761,0,56105.21,55689.46,13454.5,125249.17,2934,0,0,2934,0,64529,10905.27,61568.979999999996,137003.25,1001,0,0,1001,0,764.5,15418.39,13775.36,29958.25,6696,0,0,6696,0,121398.70999999999,82013.119999999995,88798.84,292210.67]
["West Lothian2013/144","West Lothian","2013/144",5861,3712,1214,10787,837.28571428571433,530.28571428571433,173.42857142857142,1541,136938,25428,11063,173429,2608.3428571428572,484.34285714285716,210.72380952380954,3303.4095238095238,3445.6285714285714,1014.6285714285715,384.15238095238095,4844.4095238095233,26227,110351,39562,176140,5561,0,300,5861,0,107016,11613,18309,136938,3712,0,0,3712,0,23790,1638,0,25428,1094,0,120,1214,0,0,1651,9412,11063,10367,0,420,10787,0,130806,14902,27721,173429]
["Aberdeen City2014/154","Aberdeen City","2014/154",15821,1536,1802,19159,2260.1428571428573,219.42857142857142,257.42857142857144,2737.0000000000005,26486.14,9723.11,26324.5,62533.75,504.49790476190475,185.20209523809524,501.4190476190476,1191.1190476190477,2764.6407619047623,404.63066666666668,758.84761904761899,3928.1190476190482,34261,157139,37590,228990,15703,118,0,15821,2191.85,8022,6131.6,10140.69,26486.14,1536,0,0,1536,0,0,180.75,9542.36,9723.11,1773,0,29,1802,0,0,10914.1,15410.4,26324.5,19012,118,29,19159,2191.85,8022,17226.45,35093.450000000004,62533.75]
["Aberdeenshire2014/154","Aberdeenshire","2014/154",21698,4029,910,26637,3099.7142857142858,575.57142857142856,130,3805.2857142857142,34542,62268,27710,124520,657.94285714285718,1186.0571428571429,527.80952380952385,2371.8095238095239,3757.6571428571428,1761.6285714285714,657.80952380952385,6177.0952380952385,45788,159964,54748,260500,20125,5,1568,21698,139,3357,26892,4154,34542,2134,25,1870,4029,0,51953,6260,4055,62268,10,107,793,910,0,0,13258,14452,27710,22269,137,4231,26637,139,55310,46410,22661,124520]
["Angus2014/154","Angus","2014/154",8471,2814,716,12001,1210.1428571428571,402,102.28571428571429,1714.4285714285713,88425,4396,10420,103241,1684.2857142857142,83.733333333333334,198.47619047619048,1966.4952380952382,2894.4285714285716,485.73333333333335,300.76190476190476,3680.9238095238097,25633,68516,22511,116660,8471,0,0,8471,0,80723,7702,0,88425,2076,738,0,2814,0,435,3961,0,4396,612,0,104,716,449.5,352,7003.5,2615,10420,11159,738,104,12001,449.5,81510,18666.5,2615,103241]
["Argyll & Bute2014/154","Argyll & Bute","2014/154",2504,668,402,3574,357.71428571428572,95.428571428571431,57.428571428571431,510.57142857142861,33937,25140,25593,84670,646.41904761904766,478.85714285714283,487.48571428571427,1612.7619047619048,1004.1333333333334,574.28571428571422,544.91428571428571,2123.3333333333335,21112,50923,15625,87660,2277,55,172,2504,0,23209,9240,1488,33937,466,8,194,668,0,2896,2881,19363,25140,262,48,92,402,0,9555,850,15188,25593,3005,111,458,3574,0,35660,12971,36039,84670]
["Clackmannanshire2014/154","Clackmannanshire","2014/154",3552,951,812,5315,507.42857142857144,135.85714285714286,116,759.28571428571433,36669,49467.13,13489,99625.13,698.45714285714291,942.23104761904756,256.93333333333334,1897.6215238095238,1205.8857142857144,1078.0881904761904,372.93333333333334,2656.907238095238,9329,31557,10304,51190,3552,0,0,3552,0,26407,1439,8823,36669,280,30,641,951,0,45452.5,1756.63,2258,49467.13,280,520,12,812,0,0,5174,8315,13489,4112,550,653,5315,0,71859.5,8369.630000000001,19396,99625.13]
["Dumfries & Galloway2014/154","Dumfries & Galloway","2014/154",4238,6925,2776,13939,605.42857142857144,989.28571428571433,396.57142857142856,1991.2857142857142,18713,13093,28500,60306,356.43809523809523,249.39047619047619,542.85714285714289,1148.6857142857143,961.86666666666667,1238.6761904761906,939.42857142857144,3139.9714285714285,35765,86840,27335,149940,4238,0,0,4238,0,0,18713,0,18713,1990,4935,0,6925,0,0,13093,0,13093,1076,1700,0,2776,0,9600,18900,0,28500,7304,6635,0,13939,0,9600,50706,0,60306]
["Dundee City2014/154","Dundee City","2014/154",10649,5684,1609,17942,1521.2857142857142,812,229.85714285714286,2563.1428571428569,90737,224317,17424,332478,1728.3238095238096,4272.7047619047617,331.8857142857143,6332.9142857142851,3249.609523809524,5084.7047619047617,561.74285714285713,8896.057142857142,25796,95315,27149,148260,10023,626,0,10649,0,75270,14375,1092,90737,5684,0,0,5684,0,59717,0,164600,224317,517,80,1012,1609,0,4027,1602,11795,17424,16224,706,1012,17942,0,139014,15977,177487,332478]
["East Ayrshire2014/154","East Ayrshire","2014/154",6209,3924,1312,11445,887,560.57142857142856,187.42857142857142,1634.9999999999998,57477,156434,22882,236793,1094.8,2979.695238095238,435.84761904761905,4510.3428571428576,1981.8,3540.2666666666664,623.27619047619044,6145.3428571428576,23205,74855,24090,122150,3762,2447,0,6209,0,50952,6525,0,57477,3156,768,0,3924,0,69797,48313,38324,156434,1231,81,0,1312,0,0,6074,16808,22882,8149,3296,0,11445,0,120749,60912,55132,236793]
["East Dunbartonshire2014/154","East Dunbartonshire","2014/154",4163,2295,742,7200,594.71428571428567,327.85714285714283,106,1028.5714285714284,303631.5,67807,25866.989999999998,397305.49,5783.4571428571426,1291.5619047619048,492.7045714285714,7567.7236190476187,6378.1714285714279,1619.4190476190477,598.7045714285714,8596.2950476190472,22624,63059,21047,106730,3854,309,0,4163,0,110682.5,180053,12896,303631.5,2083,201,11,2295,0,6512,17459,43836,67807,626,116,0,742,624,0,7227.99,18015,25866.989999999998,6563,626,11,7200,624,117194.5,204739.99,74747,397305.49]
["East Lothian2014/154","East Lothian","2014/154",5424,2358,1220,9002,774.85714285714289,336.85714285714283,174.28571428571428,1286,4128,716,30098.5,34942.5,78.628571428571433,13.638095238095238,573.3047619047619,665.57142857142856,853.48571428571427,350.49523809523805,747.59047619047624,1951.5714285714284,19496,61275,21279,102050,5424,0,0,5424,0,0,4128,0,4128,2358,0,0,2358,0,0,716,0,716,0,93,1127,1220,0,0,8739.5,21359,30098.5,7782,93,1127,9002,0,0,13583.5,21359,34942.5]
["East Renfrewshire2014/154","East Renfrewshire","2014/154",4677,1551,710,6938,668.14285714285711,221.57142857142858,101.42857142857143,991.14285714285711,113635.25,34652,28846,177133.25,2164.4809523809522,660.03809523809525,549.44761904761901,3373.9666666666662,2832.6238095238095,881.60952380952381,650.87619047619046,4365.1095238095231,17689,53958,20733,92380,4677,0,0,4677,0,104756,1942.5,6936.75,113635.25,1309,34,208,1551,0,0,5329,29323,34652,555,26,129,710,0,0,9045,19801,28846,6541,60,337,6938,0,104756,16316.5,56060.75,177133.25]
["Edinburgh, City of2014/154","Edinburgh, City of","2014/154",8147,9359,5468,22974,1163.8571428571429,1337,781.14285714285711,3282,301894.7038425951,213188.02099206776,93641,608723.72483466286,5750.3753112875256,4060.7242093727191,1783.6380952380953,11594.737615898341,6914.2324541446687,5397.7242093727191,2564.7809523809524,14876.737615898341,73809,334296,84575,492680,8059,0,88,8147,0,261620.05402281994,0,40274.649819775157,301894.7038425951,7488.5,0,1870.5,9359,0,107150.55937169491,0,106037.46162037287,213188.02099206776,3744,0,1724,5468,0,63799,0,29842,93641,19291.5,0,3682.5,22974,0,432569.61339451483,0,176154.11144014803,608723.72483466286]
["Eilean Siar2014/154","Eilean Siar","2014/154",4102,573,52,4727,586,81.857142857142861,7.4285714285714288,675.28571428571433,21568.75,2341.5,6345,30255.25,410.83333333333331,44.6,120.85714285714286,576.29047619047617,996.83333333333326,126.45714285714286,128.28571428571428,1251.5761904761905,6446,15769,5035,27250,4102,0,0,4102,0,9297,12018.75,253,21568.75,573,0,0,573,0,471,1776,94.5,2341.5,52,0,0,52,0,0,0,6345,6345,4727,0,0,4727,0,9768,13794.75,6692.5,30255.25]
["Falkirk2014/154","Falkirk","2014/154",6567,3821,1473,11861,938.14285714285711,545.85714285714289,210.42857142857142,1694.4285714285713,40613.199999999997,16043.8,23483.95,80140.95,773.58476190476188,305.59619047619049,447.31333333333333,1526.4942857142858,1711.7276190476191,851.45333333333338,657.74190476190472,3220.9228571428571,27961,97750,31929,157640,6473,17,77,6567,0,308,31398.2,8907,40613.199999999997,3301,247,273,3821,5,0,14773.3,1265.5,16043.8,1001,1,471,1473,30,0,0,23453.95,23483.95,10775,265,821,11861,35,308,46171.5,33626.449999999997,80140.95]
["Fife2014/154","Fife","2014/154",27880,9453,1871,39204,3982.8571428571427,1350.4285714285713,267.28571428571428,5600.5714285714284,262271,376734,34336,673341,4995.638095238095,7175.8857142857141,654.01904761904757,12825.542857142857,8978.4952380952382,8526.3142857142848,921.30476190476179,18426.114285714284,71063,223648,72549,367260,26247,1566,67,27880,105722,118500,31796,6253,262271,3170,498,5785,9453,2562,88831,48250,237091,376734,1687,0,184,1871,0,0,1101,33235,34336,31104,2064,6036,39204,108284,207331,81147,276579,673341]
["Glasgow City2014/154","Glasgow City","2014/154",3687,6847,3376,13910,526.71428571428567,978.14285714285711,482.28571428571428,1987.1428571428569,209500,286662,28746,524908,3990.4761904761904,5460.2285714285717,547.54285714285709,9998.2476190476191,4517.1904761904761,6438.3714285714286,1029.8285714285714,11985.390476190476,83533,406871,109246,599650,3687,0,0,3687,0,209500,0,0,209500,6831,0,16,6847,0,286662,0,0,286662,2443,0,933,3376,0,9095,7189,12462,28746,12961,0,949,13910,0,505257,7189,12462,524908]
["Highland2014/154","Highland","2014/154",10011,3504,3827,17342,1430.1428571428571,500.57142857142856,546.71428571428567,2477.4285714285716,78031,31047,37402,146480,1486.304761904762,591.37142857142862,712.41904761904766,2790.0952380952385,2916.4476190476189,1091.9428571428571,1259.1333333333332,5267.5238095238101,48015,139601,45484,233100,9985,26,0,10011,3410,43462,31159,0,78031,3469,0,35,3504,0,15212,15085,750,31047,3070,431,326,3827,304,5413,11345,20340,37402,16524,457,361,17342,3714,64087,57589,21090,146480]
["Inverclyde2014/154","Inverclyde","2014/154",3408,2369,514,6291,486.85714285714283,338.42857142857144,73.428571428571431,898.71428571428567,383332.15,129649.55,1726.25,514707.95,7301.5647619047622,2469.5152380952381,32.88095238095238,9803.9609523809522,7788.4219047619054,2807.9438095238097,106.30952380952381,10702.675238095238,15691,49187,14982,79860,2604,8,796,3408,0,66695,301019.15000000002,15618,383332.15,1677,0,692,2369,0,57551.5,39159.050000000003,32939,129649.55,413,0,101,514,0,0,1577.75,148.5,1726.25,4694,8,1589,6291,0,124246.5,341755.95,48705.5,514707.95]
["Midlothian2014/154","Midlothian","2014/154",3133,433,858,4424,447.57142857142856,61.857142857142854,122.57142857142857,632,91518.530000000013,128945.84,28858,249322.37,1743.2100952380954,2456.1112380952381,549.67619047619053,4748.997523809524,2190.7815238095241,2517.9683809523808,672.24761904761908,5380.997523809524,15613,52180,18417,86210,3034,0,99,3133,0,73100,17155.82,1262.71,91518.530000000013,20,0,413,433,0,90068.86,32262,6614.98,128945.84,760,0,98,858,0,13302,0,15556,28858,3814,0,610,4424,0,176470.86,49417.82,23433.69,249322.37]
["Moray2014/154","Moray","2014/154",3798,2966,858,7622,542.57142857142856,423.71428571428572,122.57142857142857,1088.8571428571429,26783,14643,4033,45459,510.15238095238095,278.91428571428571,76.819047619047623,865.88571428571424,1052.7238095238095,702.62857142857138,199.39047619047619,1954.7428571428572,19000,56703,19047,94750,3753,0,45,3798,11178,1850,12547,1208,26783,2959,0,7,2966,1493,7002,5940,208,14643,858,0,0,858,432,0,2771,830,4033,7570,0,52,7622,13103,8852,21258,2246,45459]
["North Ayrshire2014/154","North Ayrshire","2014/154",9084,4873,1528.5,15485.5,1297.7142857142858,696.14285714285711,218.35714285714286,2212.2142857142858,72616,117608.25,18294.63,208518.88,1383.1619047619047,2240.1571428571428,348.46914285714286,3971.7881904761903,2680.8761904761905,2936.3,566.82628571428575,6184.002476190476,28490,81215,26745,136450,9084,0,0,9084,0,68380,416,3820,72616,4873,0,0,4873,0,117470,36.25,102,117608.25,1047,0,481.5,1528.5,0,0,0,18294.63,18294.63,15004,0,481.5,15485.5,0,185850,452.25,22216.63,208518.88]
["North Lanarkshire2014/154","North Lanarkshire","2014/154",12464,4145,1032,17641,1780.5714285714287,592.14285714285711,147.42857142857142,2520.1428571428573,246125.5,176681.25,31948,454754.75,4688.1047619047622,3365.3571428571427,608.5333333333333,8661.9952380952382,6468.6761904761906,3957.5,755.96190476190475,11182.138095238095,54792,211128,72030,337950,12302,162,0,12464,0,182199,50345.5,13581,246125.5,4097,48,0,4145,0,8961,2108,165612.25,176681.25,931,101,0,1032,0,30391,0,1557,31948,17330,311,0,17641,0,221551,52453.5,180750.25,454754.75]
["Orkney Islands2014/154","Orkney Islands","2014/154",2610,706,0,3316,372.85714285714283,100.85714285714286,0,473.71428571428567,7329,264,0,7593,139.6,5.0285714285714285,0,144.62857142857143,512.4571428571428,105.88571428571429,0,618.34285714285716,4717,12862,4011,21590,2610,0,0,2610,0,7329,0,0,7329,706,0,0,706,106,158,0,0,264,0,0,0,0,0,0,0,0,0,3316,0,0,3316,106,7487,0,0,7593]
["Perth & Kinross2014/154","Perth & Kinross","2014/154",8606,7913,548,17067,1229.4285714285713,1130.4285714285713,78.285714285714292,2438.1428571428569,244713.59000000003,88503.39,11033.49,344250.47000000003,4661.2112380952385,1685.7788571428571,210.16171428571428,6557.1518095238098,5890.6398095238101,2816.2074285714284,288.44742857142859,8995.2946666666667,32516,88205,28159,148880,7961,645,0,8606,0,45518.57,199004.17,190.85,244713.59000000003,6958,955,0,7913,0,44708,39100.660000000003,4694.7299999999996,88503.39,489,0,59,548,0,0,0,10163.629999999999,11033.49,15408,1600,59,17067,0,90226.57,238104.83000000002,15049.21,344250.47000000003]
["Renfrewshire2014/154","Renfrewshire","2014/154",5853,5936,2436,14225,836.14285714285711,848,348,2032.1428571428571,25787,26761,16186,68734,491.18095238095236,509.73333333333335,308.3047619047619,1309.2190476190476,1327.3238095238094,1357.7333333333333,656.3047619047619,3341.361904761905,31751,108397,34082,174230,5853,0,0,5853,0,0,0,25787,25787,5936,0,0,5936,0,0,0,26761,26761,2436,0,0,2436,0,0,2878,13308,16186,14225,0,0,14225,0,0,2878,65856,68734]
["Scottish Borders2014/154","Scottish Borders","2014/154",6580,1441,2387,10408,940,205.85714285714286,341,1486.8571428571429,14886,25025,16045,55956,283.54285714285714,476.66666666666669,305.61904761904759,1065.8285714285714,1223.5428571428572,682.52380952380952,646.61904761904759,2552.6857142857143,26331,66042,21657,114030,6323,0,257,6580,0,0,0,14886,14886,1384,0,57,1441,36,0,0,24989,25025,570,0,1817,2387,1680,0,0,14365,16045,8277,0,2131,10408,1716,0,0,54240,55956]
["Shetland Islands2014/154","Shetland Islands","2014/154",14466,1887,2663,19016,2066.5714285714284,269.57142857142856,380.42857142857144,2716.5714285714284,15776,42738,17595,76109,300.49523809523811,814.05714285714282,335.14285714285717,1449.695238095238,2367.0666666666666,1083.6285714285714,715.57142857142867,4166.2666666666664,4232,14122,4876,23230,14466,0,0,14466,10478,0,5298,0,15776,1887,0,0,1887,1420,41104,214,0,42738,1063,0,1600,2663,15506,0,666,1423,17595,17416,0,1600,19016,27404,41104,6178,1423,76109]
["South Ayrshire2014/154","South Ayrshire","2014/154",13225,2762,1063,17050,1889.2857142857142,394.57142857142856,151.85714285714286,2435.7142857142853,105079,161693,22867,289639,2001.5047619047618,3079.8666666666668,435.56190476190477,5516.9333333333334,3890.7904761904761,3474.4380952380952,587.41904761904766,7952.6476190476187,26376,65690,20444,112510,13221,4,0,13225,0,86780,18299,0,105079,752,0,2010,2762,0,52204,1760,107729,161693,0,21,1042,1063,0,0,4545,18322,22867,13973,25,3052,17050,0,138984,24604,126051,289639]
["South Lanarkshire2014/154","South Lanarkshire","2014/154",24555,8795,2822,36172,3507.8571428571427,1256.4285714285713,403.14285714285717,5167.4285714285706,270474.3081554891,84681,33349.32,388504.6281554891,5151.8915839140782,1612.9714285714285,635.22514285714283,7400.0881553426489,8659.7487267712204,2869.3999999999996,1038.3679999999999,12567.51672677122,57608,195547,62205,315360,24502,24,29,24555,0,248515,21494.308155489111,465,270474.3081554891,7689,295,811,8795,0,0,62959,21722,84681,2822,0,0,2822,352,0,14435,18562.32,33349.32,35013,319,840,36172,352,248515,98888.308155489111,40749.32,388504.6281554891]
["Stirling2014/154","Stirling","2014/154",11474,999,159,12632,1639.1428571428571,142.71428571428572,22.714285714285715,1804.5714285714287,19328.36,3683.2,6185,29196.560000000001,368.15923809523809,70.156190476190474,117.80952380952381,556.12495238095244,2007.3020952380953,212.87047619047621,140.52380952380952,2360.6963809523813,16876,56669,18035,91580,11474,0,0,11474,0,0,19328.36,0,19328.36,999,0,0,999,0,0,3683.2,0,3683.2,0,0,159,159,0,0,6185,0,6185,12473,0,159,12632,0,0,29196.560000000001,0,29196.560000000001]
["West Dunbartonshire2014/154","West Dunbartonshire","2014/154",2819,2469,1122,6410,402.71428571428572,352.71428571428572,160.28571428571428,915.71428571428578,147944,143518,23838,315300,2817.9809523809522,2733.6761904761906,454.05714285714288,6005.7142857142853,3220.695238095238,3086.3904761904764,614.34285714285716,6921.4285714285706,15741,56226,17763,89730,2819,0,0,2819,0,68893,60834,18217,147944,2469,0,0,2469,0,79676,10956,52886,143518,1122,0,0,1122,1061,5396,3406,13975,23838,6410,0,0,6410,1061,153965,75196,85078,315300]
["West Lothian2014/154","West Lothian","2014/154",4472,4929,1237,10638,638.85714285714289,704.14285714285711,176.71428571428572,1519.7142857142858,118346.5,27063,10421.5,155831,2254.2190476190476,515.48571428571427,198.50476190476189,2968.2095238095235,2893.0761904761903,1219.6285714285714,375.21904761904761,4487.9238095238088,27130,110519,39501,177150,4191,0,281,4472,0,88608,9053.5,20685,118346.5,4929,0,0,4929,0,25584,1479,0,27063,1109,0,128,1237,0,0,2749.5,7672,10421.5,10229,0,409,10638,0,114192,13282,28357,155831]
["Scotland2007/080","Scotland","2007/080",258115,126209,54951,439275,36873.571428571428,18029.857142857141,7850.1428571428578,62753.571428571435,2775223.25,2153617.25,845057.75,5773898.25,52861.39523809524,41021.280952380941,16096.338095238096,109979.01428571431,89734.966666666645,59051.138095238093,23946.480952380956,172732.58571428576,846005,3270951,1053044,5170000,0,0,0,0,0,0,0,0,0,0,0,0,0,0,0,0,0,0,0,0,0,0,0,0,0,0,0,0,0,0,0,0,0,0,0,0]
["Scotland2008/090","Scotland","2008/090",252266,131305,56026,439597,36037.999999999993,18757.857142857138,8003.7142857142844,62799.571428571428,2976679,2084462,778372,5839513,56698.64761904761,39704.038095238109,14826.133333333335,111228.81904761904,92736.647619047639,58461.89523809524,22829.847619047621,174028.39047619046,857746,3292876,1052278,5202900,0,0,0,0,0,0,0,0,0,0,0,0,0,0,0,0,0,0,0,0,0,0,0,0,0,0,0,0,0,0,0,0,0,0,0,0]
["Scotland2008/091","Scotland","2008/091",251950,130847,56322,439119,35992.85714285713,18692.428571428569,8045.9999999999991,62731.28571428571,3563691,2644949,772942.3,6981582.2999999998,67879.828571428559,50379.98095238096,14722.710476190477,132982.52000000002,103872.68571428573,69072.409523809518,22768.710476190477,195713.80571428567,857746,3292876,1052278,5202900,0,0,0,0,0,0,0,0,0,0,0,0,0,0,0,0,0,0,0,0,0,0,0,0,0,0,0,0,0,0,0,0,0,0,0,0]
["Scotland2009/101","Scotland","2009/101",250154,141234.0166,57393,448781.01659999997,35736.285714285717,20176.288085714292,8199,64111.573799999991,3673067.43,2814796.86,833612.38000000012,7321476.6699999999,69963.18914285714,53615.17828571429,15878.331047619045,139456.69847619045,105699.47485714284,73791.685419047644,24077.331047619049,203568.27227619046,870557,3308581,1052762,5231900,0,0,0,0,0,0,0,0,0,0,0,0,0,0,0,0,0,0,0,0,0,0,0,0,0,0,0,0,0,0,0,0,0,0,0,0]
["Scotland2009/102","Scotland","2009/102",250517,142101.0166,57393,450011.01659999997,35788.142857142862,20300.145228571437,8199,64287.288085714281,3817782.43,2974205.61,847208.17000000016,7639196.21,72719.665333333338,56651.535428571435,16137.298476190472,145508.49923809522,108507.80819047616,76951.680657142875,24336.298476190481,209795.78732380952,870557,3308581,1052762,5231900,243064,3519,3571,250154,476205,1866744.9200000002,1094937.04,235180.47,3673067.43,126147.071,3743,11343.945599999999,141234.0166,603810,1210084.8,317095.48,683806.58000000007,2814796.86,43786,1877,11730,57393,22496.3,204847.33000000002,197860.6,408408.15,833612.38000000012,412997.071,9139,26644.945599999999,448781.01659999997,1102511.3,3281677.0499999993,1609893.12,1327395.2,7321476.6699999999]
["Scotland2010/112","Scotland","2010/112",263361,136877.25,52294.3,452532.55,37623.000000000007,19553.892857142862,7470.6142857142841,64647.507142857146,3775291.558571429,3049508.9471428576,869985.33999999985,7694785.8457142869,71910.315401360553,58085.884707482983,16571.149333333331,146567.34944217687,109533.31540136058,77639.777564625838,24041.763619047619,211214.85658503397,882222,3334488,1045490,5262200,243062,3884,3571,250517,482889,1952232.9200000002,1094937.04,287723.47000000003,3817782.43,124780.071,5977,11343.945599999999,142101.0166,652124.5,1302609.3,318538.48,700933.58000000007,2974205.86,43786,1877,11730,57393,22496.3,204847.33000000002,202668.6,417196.15,847208.38000000012,411628.071,11738,26644.945599999999,450011.01659999997,1157509.8,3459689.5499999993,1616143.62,1405853.2,7639196.1699999999]
["Scotland2010/113","Scotland","2010/113",263247,138928.25,52146.3,454321.55,37606.71428571429,19846.892857142862,7449.4714285714272,64903.078571428574,3446349.6585714286,3034067.1971428576,807739.33999999985,7288156.1957142865,65644.75540136054,57791.75613605442,15385.511238095234,138822.02277551021,103251.46968707486,77638.648993197246,22834.982666666663,203725.10134693875,882222,3334488,1045490,5262200,253853,5192,4316,263361,499593.5,1986822.95,998686.23857142846,290189.03999999998,3775291.7285714289,122524,4178,10175.25,136877.25,591471.25,1367210.0271428574,297939.51,792888.16000000015,3049508.9471428576,39570.25,1987,10737.05,52294.3,53986.95,158259.42000000001,227592.8,430146.16999999993,869985.33999999985,415947.25,11357,25228.3,452532.55,1145051.7,3512292.3971428568,1524218.5485714285,1513223.3699999996,7694786.0157142868]
["Scotland2011/123","Scotland","2011/123",273807.55018181819,138521.31872727274,53661.095515151515,465989.96442424244,39115.364311688303,19788.759818181825,7665.8707878787873,66569.994917748932,3479369.4452432743,2988402.2772679492,803492.89799880004,7271264.6205100231,66273.703718919511,56921.94813843711,15304.626628548571,138500.27848590523,105389.06803060784,76710.70795661895,22970.497416427359,205070.27340365411,896364,3361478,1042058,5299900,254189,5192,3866,263247,179046.5,1995705.95,983888.48857142846,287709.14,3446350.0785714285,123234,4140,11554.25,138928.25,403548.25,1500030.0271428574,288654.26,841834.40999999992,3034066.9471428576,39522.25,1987,10637.05,52146.3,27754.45,173048.42,227461.8,379475.67,807740.33999999985,416945.25,11319,26057.3,454321.55,610349.19999999995,3668784.3971428568,1500004.5485714285,1509019.2199999997,7288157.3657142865]
["Scotland2012/133","Scotland","2012/133",282278.65000000002,126628.1,52258,461164.75,40325.521428571432,18089.728571428575,7465.4285714285725,65880.678571428565,3486316.6123766559,2996506.0057142861,862978.92190476193,7345801.5399957048,66406.030711936313,57076.304870748303,16437.69375056689,139920.0293332515,106731.55214050776,75166.033442176878,23903.122321995463,205800.70790468008,925751,3349385,1038464,5313600,264794,4488,4525.550181818182,273807.55018181819,174375,1940613.1859890618,1112480.0299999998,251901.22925421246,3479369.4452432743,120790,3523,14208.318727272726,138521.31872727274,329427.5,1565642.9097435898,308835.91000000003,784495.95752435888,2988402.2772679492,41087,2452,10122.095515151515,53661.095515151515,35589.229999999996,198491.19,212571.28,356841.19799879997,803492.89799880004,426671,10463,29795.964424242426,466929.96442424244,539391.73,3704747.2857326516,1633887.22,1393238.3847773715,7271264.6205100231]
["Scotland2012/134","Scotland","2012/134",281758.65000000002,124231.1,54334,460323.75,40251.235714285722,17747.300000000003,7762.0000000000018,65760.53571428571,3542117.982376656,2916756.22,855530.42190476193,7314404.6242814194,67468.913950031565,55557.261333333336,16295.8175600907,139321.99284345558,107720.14966431729,73304.561333333331,24057.817560090702,205082.52855774135,925751,3349385,1038464,5313600,259710,15247,7321.65,282278.65000000002,230264.5,1985394.6847142861,991928.29766237107,278729.13,3486316.6123766559,108983,8087,9558.1,126628.1,374282,1539222.87,318812.04000000004,764189.09571428574,2996506.0057142861,36972,4118,9912,51002,27311.5,234148,247771.78333333333,353747.6385714286,862978.92190476193,405665,27452,26791.75,459908.75,631858,3758765.5547142858,1558512.1209957043,1396665.8642857142,7345801.5399957048]
["Scotland2013/144","Scotland","2013/144",285206,118802,51225,455233,40743.714285714283,16971.714285714283,7317.8571428571422,65033.285714285717,3556914.25278536,2895838.1799999997,774116.35142605996,7226868.7842114195,67750.747672102094,55158.879619047613,14745.073360496377,137654.83398497943,108494.46195781637,72130.879619047628,22062.930503353524,202688.26255640804,946862,3345444,1035394,5327700,275685,4049,5472,285206,129846.20999999999,2139973.4500000002,1076406.3127853603,210688.28,3556914.25278536,96206,7605,14991,118802,4477,1430945.32,386923.13000000006,1073492.7300000002,2895838.1799999997,35604,3152,12469,51225,23811.25,147172.6,182130.7804761905,421001.72094986949,774116.35142605996,407495,14806,32932,455233,158134.46,3730499.37,1645460.2232615505,1692774.7309498694,7226868.7842114195]
["Scotland2014/154","Scotland","2014/154",274347,118915,48305.5,441567.5,39192.428571428572,16987.857142857145,6900.7857142857147,63081.071428571406,3512298.4819980836,2745487.0409920681,723488.12999999989,6981273.6529901521,66900.923466630164,52294.991256991751,13780.726285714281,132976.64100933625,106093.35203805874,69282.848399848895,20681.511999999992,196057.71243790761,968389,3346028,1033183,5347600,264856,6012,3479,274347,133118.85,2063933.12402282,1098307.858155489,216938.64981977516,3512298.4819980836,95239.5,8782,14893.5,118915,5622,1259576.4193716948,379490.84,1100797.7816203728,2745487.0409920681,32559,3325,12421.5,48305.5,20438.5,150930,147636.34,403613.43,723488.12999999989,392654.5,18119,30794,441567.5,159179.35,3474439.5433945148,1625435.0381554894,1721349.861440148,6981273.6529901521]

{"sheet":"LKPS","index":1,"n_rows":35,"n_cols":16,"rows_kept":35,"cut":false,"hidden":true,"merged":[]}
[]
["Year",null,"Agegrp","Overnight","Daytime","Overall",null,"Type",null,"Local Authority",null,"Drop1",null,"Drop2",null,"Drop3"]
["2006/07",null,"All ages",11,19,23,null,"All respite",null,"Scotland",null,"Numbers",null,"Nights/Hours",null,"Nights/Hours"]
["2007/080",null,"0-17",10,18,22,null,"Overnight",null,"Aberdeen City",null,"Rates",null,"Weeks",null,"Weeks"]
["2008/090",null,"18-64",9,17,21,null,"Daytime",null,"Aberdeenshire",null,null,null,"Percentage"]
["2008/091",null,"65+",8,16,20,null,null,null,"Angus"]
["2009/101",null,null,null,null,null,null,null,null,"Argyll & Bute"]
["2009/102",null,null,null,null,null,null,null,null,"Clackmannanshire"]
["2010/112",null,"HOURS",null,null,null,null,null,null,"Dumfries & Galloway"]
["2010/113",null,"Agegrp","Overnight","Daytime","Overnight","Daytime",null,null,"Dundee City"]
["2011/123",null,"All ages",7,15,55,59,null,null,"East Ayrshire"]
["2012/133",null,"0-17",6,14,46,50,null,null,"East Dunbartonshire"]
["2012/134",null,"18-64",5,13,37,41,null,null,"East Lothian"]
["2013/144",null,"65+",4,12,28,32,null,null,"East Renfrewshire"]
["2014/154",null,null,null,null,null,null,null,null,"Edinburgh, City of"]
[null,null,null,null,null,null,null,null,null,"Eilean Siar"]
[null,null,"2009/102","2009/102",null,null,null,null,null,"Falkirk"]
[null,null,"2010/112","2010/112",null,null,null,null,null,"Fife"]
[null,null,"2010/113","2010/113",null,null,null,null,null,"Glasgow City"]
[null,null,"2011/123","2011/124",null,null,null,null,null,"Highland"]
[null,null,"2012/133","2012/133",null,null,null,null,null,"Inverclyde"]
[null,null,"2012/134","2012/134",null,null,null,null,null,"Midlothian"]
[null,null,"2013/144","2013/145",null,null,null,null,null,"Moray"]
[null,null,"2014/154","2014/154",null,null,null,null,null,"North Ayrshire"]
[null,null,null,null,null,null,null,null,null,"North Lanarkshire"]
[null,null,null,null,null,null,null,null,null,"Orkney Islands"]
[null,null,null,null,null,null,null,null,null,"Perth & Kinross"]
[null,null,null,null,null,null,null,null,null,"Renfrewshire"]
[null,null,null,null,null,null,null,null,null,"Scottish Borders"]
[null,null,null,null,null,null,null,null,null,"Shetland Islands"]
[null,null,null,null,null,null,null,null,null,"South Ayrshire"]
[null,null,null,null,null,null,null,null,null,"South Lanarkshire"]
[null,null,null,null,null,null,null,null,null,"Stirling"]
[null,null,null,null,null,null,null,null,null,"West Dunbartonshire"]
[null,null,null,null,null,null,null,null,null,"West Lothian"]

{"sheet":"Contents","index":2,"n_rows":19,"n_cols":10,"rows_kept":19,"cut":false,"hidden":false,"merged":[[18,1,18,9],[12,2,12,7],[14,2,14,7],[2,1,2,6],[8,2,8,7],[10,2,10,7],[3,1,3,6],[16,1,16,9]]}
[null,"Respite care Statistics 2007/08-Latest"]
[]
[null,"Please refer to the background notes for further information on the data collection"]
[null,"Please refer to the presentation of statistics, to aid interpration of the statistics"]
[]
[null,"Contents",null,null,null,null,null,null,null,"Links"]
[]
[null,"Table 1 -","Number of respite overnight and daytime weeks provided, 2007/08-Latest",null,null,null,null,null,null,"Table1"]
[null,null,"Time series data of the number of respite weeks spilt into overnight and daytime weeks. Data available for Scotland or by individual Local Authority and is presented in a table and bar chart."]
[null,"Table 2 -","Respite data of the number of respite weeks provided by Local Authority",null,null,null,null,null,null,"Table2"]
[null,null,"Respite data of the number of respite weeks provided by Local Authority and year. Data presented in a table by Local Authority that can shown either numbers or rates per 1,000 population and different age groups."]
[null,"Table 3 -","Respite overnight nights and daytime hours provided by Local Authority",null,null,null,null,null,null,"Table3"]
[null,null,"Respite data of the number of respite overnight nights and daytime hours provided by Local Authority and year. Data presented in a table by Local Authority that can shown either numbers or rates per 1,000 population and different age groups."]
[null,"Table 4 -","Breakdown of overnight and daytime respite provision by Local Authority, 2009/10-Latest ",null,null,null,null,null,null,"Table4"]
[null,null,"Breakdown of respite data showing where overnight and daytime respite is provided by Local Authority from 2009/10 on. Data presented in a table by Local Authority, where age group and year can be selected. The table shows both the numbers of nights and hours and the % breakdown of locations."]
[]
[null,"Problem with drop down lists"]
[]
[null,"If the drop down lists are not working please ensure that Macro security settings are set to medium. To do this, go to ‘Tools’ menu and select ‘macro’. Then select ‘Security’ and ensure that the security setting is set to either ‘Medium’ or ‘Low’ (Medium is the recommended option). If your settings were set to ‘High’ you should reset the level when you have finished working with the template.  Also when opening the file you will be asked whether you wish to “enable” or disable” macros. You must select “Enable macros”, otherwise the template will not function correctly."]

{"sheet":"Background notes","index":3,"n_rows":129,"n_cols":3,"rows_kept":129,"cut":false,"hidden":false,"merged":[]}
[null,"Background information on the collection of the data","Contents"]
[]
[null,"Background information on the collection of the data"]
[]
[null,"Data Sources"]
[]
[null,"Audit Scotland (2008/09)"]
[null,"This data was provided to Audit Scotland by all Local Authorities in Scotland as one of the Statutory Performance Indicators (SPIs). The information was collected and published locally by each council in Scotland. Audit Scotland publishes information about the comparative performance of councils across Scotland in a compendium of all the data. These are available from www.audit-scotland.gov.uk/performance/index.php, but please note that all respite figures have been superseded with those presented in this publication."]
[]
[null,"Scottish Government (2009/10 to 2014/15)"]
[null,"The Scottish Government is now responsible for the collection of respite data. This follows Audit Scotland’s decision to discontinue the collection of the SPI data for respite care."]
[]
[null,"Understanding the Statistics in this Report."]
[]
[null,"All information in this Statistics Release is based on a year from 1st April to 31st March."]
[]
[null,"In order to provide an estimate of total respite provision across Scotland, respite nights and respite hours have been converted into respite weeks.  In order to calculate this, seven respite nights equal one respite week and 52.5 hours equal one respite week.  This standard method was agreed by CoSLA and the Scottish Government."]
[]
[null,"In order to convert Direct Payments onto respite weeks we have assumed that the cost of one week is £630 and the cost of one hour is £12. This rate is derived from an estimate of residential care weekly costs made by the Respite Task Group."]
[]
[null,"Changes to figures for previous years"]
[]
[null,"As part of the collection of the 2014/15 data Local Authorities were given the opportunity to check their previously submitted respite figures. The changes made to previously published data are given below:"]
[]
[null,"Argyll & Bute, 2013/14: 12,407 daytime respite hours for 18-64 previously allocated to Day Care Centre have been moved to Day Activities not in a Day Care Centre. There is no change to the overall number of respite hours/weeks provided."]
[null,"East Ayrshire, 2013/14: Daytime respite hours at home for 18-64 reduced from 67,140 to 46,107 following comparison of data with local performance indicators."]
[]
[null,"In addition, Aberdeen City and Stirling both confirmed that the Direct Payments figures provided in their 2013/14 data submission were for all Direct Payments made, not just those used to provide respite care. Direct Payments made by Stirling to provide respite care in 2013/14 were £122,000, not £1.38m as given in last year’s publication. Aberdeen City were not able to provide a revised figure for Direct Payments in 2013/14."]
[]
[null,"Data Completeness"]
[]
[null,"While every effort has been made to ensure that data is recorded as completely as possible, the following issues should be noted for the figures published in this report:"]
[null,"East Renfrewshire was unable to submit any data. The most recently available figures, from 2013/14, have been used as an estimate."]
[null,"The data submitted by Orkney is known to be incomplete, as systems to provide respite care data are not yet in place following the introduction of Self-Directed Support. This means that the number of respite weeks provided by Orkney are likely to be understated, and should not be compared to data from previous years."]
[]
[null,"Comparability between 2013/14 and 2014/15 data"]
[]
[null,"Local Authorities were asked to only submit one set of data for 2014/15, as there has been no change to the national guidance since 2012/13. However, it is clear from the explanatory material submitted by many of the Authorities alongside their data submissions that a range of factors other than genuine changes in service provision may also have affected their recorded figures."]
[]
[null,"The roll-out of Self-Directed Support"]
[null,"The Self-Directed Support (SDS) Act came into force across Scotland on 1st April 2014. The level of implementation of SDS varies by Local Authority, with some starting to implement SDS before the Act came into force, and others still working on implementation.\n\nThis has had some impact on the respite care provision recorded for 2014/15, with the Local Authorities below mentioning that the changes to provision are likely to be related to the roll-out of SDS:"]
[]
[null,"Aberdeenshire: Unable to identify respite provision where SDS has been used"]
[null,"East Ayrshire: People choosing alternatives to respite through SDS Option 1, leading to a reduction in respite provided"]
[null,"Glasgow City: Increased use of SDS leading to a reduced level of respite care recorded"]
[null,"Highland: SDS thought to have had an impact on overnight respite provision for young people"]
[null,"Moray: Increased use of SDS for respite"]
[null,"North Ayrshire: Respite provided through SDS not currently captured for some groups"]
[null,"Orkney Islands: Comparable data is not available due to SDS/Direct Payments - systems are not yet in place to provide that data, so the 2014/15 data is known to be unrepresentative of actual respite provision"]
[null,"Perth & Kinross: Significant changes to case management system and business processes due to SDS/personalisation, so 2014/15 data not consistent with previous years"]
[null,"Renfrewshire: Figures affected by the introduction of SDS resulting in a change to patterns of care packages including respite"]
[null,"Scottish Borders: SDS has contributed to the change in respite provision between 2013/14 and 2014/15"]
[null,"Stirling: SDS contributing to the shift from direct provision to commissioning services from other providers"]
[]
[null,"For Local Authorities that are able to identify respite care that has been provided through Direct Payments (which now forms one option under SDS), the SDS roll-out process would be expected to result in a reduction in the recorded number of overnight / daytime respite weeks and a corresponding increase in the total recorded values of Direct Payments. Of the Authorities listed above, such a situation applies in Aberdeenshire, East Ayrshire, Highland, Moray, Renfrewshire and Stirling."]
[]
[null,"Some Local Authorities are not currently able to identify support that has been provided for the purpose of providing respite care through Direct Payments (or other SDS options). As SDS rolls out in these Authorities, apparent decreases in the total amounts of respite recorded must also be expected, without necessarily reflecting any change in the level of service provision. Of the Authorities listed above, such a situation applies to Glasgow City, North Ayrshire and Scottish Borders."]
[]
[null,"Improvements to local recording systems"]
[null,"Several Local Authorities have described what we have interpreted to be substantial changes to aspects of their specific local recording systems over the course of the past year. "]
[]
[null,"Aberdeen City: Data quality issues in 2013/14 data after transferring service management to a Local Authority Trading Company - most of these have been addressed"]
[null,"Aberdeenshire: 2014/15 data includes the correction of an error that led to undercounting of daytime respite hours for the 18-64 age group in 2013/14 data"]
[null,"Falkirk: Possible undercount in respite nights for adults in 2013/14, corrected for 2014/15"]
[null,"Highland: Improved recording of daytime respite data for young people"]
[null,"Inverclyde: Adjustment to types of care that are classified as respite"]
[null,"North Ayrshire: Improved data quality by using finance data rather than service data"]
[null,"Scottish Borders: Improved data collection/recording for adult daytime respite"]
[null,"West Dunbartonshire: Improved recording of day care services for users aged 65 and over"]
[]
[null,"Methodology used by Local Authorities "]
[]
[null,"The guidance for the 2014/15 data collection is the same as that used for the 2013/14 data collection, which is available on the Scottish Government website:"]
[null,"http://www.scotland.gov.uk/Topics/Statistics/Browse/Health/RespiteCarenew "]
[]
[null,"Background information on this guidance has been provided in a Q & A document:"]
[null,"http://www.scotland.gov.uk/Topics/Statistics/Browse/Health/RespiteCarenew/ShortBreakQA"]
[]
[null,"Respite data is something that has proved to be very complex for Local Authorities to capture. This means that each Local Authority may use a variety of data collection methods and sources of information to collect the required information as specified in the guidance."]
[null," "]
[null,"The data is collected from management/financial information systems, from manual records or direct from private/voluntary respite suppliers and is most commonly a combination of these data sources. "]
[]
[null,"The data will also incorporate a number of different services depending on the services available within a Local Authority, examples of the services included are; Day Care, Home Care, Short Breaks/Holiday breaks, Direct Payments and short stays in Care Homes."]
[]
[null,"Reasons for large increases/decreases in respite provision"]
[]
[null,"Any large increases or decreases (+/- 20%) in recorded respite provision for overnight and daytime respite weeks were queried with the Local Authorities concerned. Some of the reasons identified within Local Authorities for such changes are detailed below:"]
[]
[null,"Increases in recorded provision:"]
[null,"Improved reporting systems / under-estimation of figures in previous years (see Section 5.5)"]
[null,"Day care centres focusing on providing support to older people with higher levels of need"]
[null,"The introduction of administrative services such as a ‘Respite Bed Bureau’"]
[null,"Promotion of activities that provide respite"]
[]
[null,"Decreases in recorded provision:"]
[null,"The roll out of Self-Directed Support / increased use of Direct Payments (see Section 5.5)"]
[null,"The temporary / permanent closures of care homes / centres"]
[null,"Reductions in residential placements available and / or maximum length of placement stay"]
[null,"Introduction of charging for Day Care services, leading to reduced demand"]
[null,"Improved processes for putting long-term packages of care into place, leading to lower demand for respite care as a stop-gap"]
[null,"High use service users moving to supported living arrangements"]
[]
[null,"Unknown changes in recorded provision"]
[null,"Transition of individuals with significant needs between age categories"]
[null,"Changes to the way that care services are delivered, or to priorities in service delivery"]
[]
[null,"Other data sources"]
[]
[null,"To calculate percentage changes in population between 2007/08 and 2014/15, the National Records of Scotland mid-year population estimates have been used.  Scotland and Local Authority-level data is available from the NRS website:"]
[null,"http://www.nrscotland.gov.uk/statistics-and-data/statistics/statistics-by-theme/population/population-estimates/ "]
[]
[null,"Further information"]
[]
[null,"Further details and analysis of the data presented in this Statistics Release are available on request from the address given below. The Statistics Release is available on the Internet by accessing the Scottish Government web site:"]
[null,"http://www.gov.scot/Topics/Statistics/Browse/Health/Publications"]
[null,"Information at local authority level is shown in the annex to this Statistics Release."]
[]
[null,"Health Analytical Services Division "]
[null,"DG Health & Social Care: The Quality Unit "]
[null,"Basement Rear"]
[null,"St Andrews House"]
[null,"Edinburgh"]
[null,"EH1 3DG"]
[]
[null,"Contact: Steven Gillespie"]
[null,"Tel: 0131 244 3777"]
[null,"E-mail: SWStat@scotland.gov.uk"]
[]
[null,"This statistics release was published on 15th December 2015.  The previous publication in this series was published on 28th October 2014."]

{"sheet":"Presentation of statistics","index":4,"n_rows":23,"n_cols":14,"rows_kept":23,"cut":false,"hidden":false,"merged":[[22,1,22,11],[25,1,25,9],[4,1,4,11],[8,1,8,11],[10,1,10,10],[13,2,13,13],[17,2,17,3],[17,4,17,5],[17,6,17,7],[17,8,17,10],[17,11,17,13]]}
[null,"Presentation of statistics within release",null,null,null,null,null,null,null,null,null,null,null,"Contents"]
[]
[null,"This statistical release presents the number of respite weeks provided to all age groups within Scotland.  ",null,null,null,null,null,null,null,null,null,null,null,"Background notes"]
[]
[null,"Local Authorities have been improving and refining their data collection methodologies since 2007/08.  In the years where the methodology has been revised, two different sets of figures are presented:"]
[null,"- a comparable figure based on the same methodology as the previous year"]
[null,"- a figure based on the revised methodology, which is not comparable to previous years but comparable going forward"]
[]
[null,"Using this approach has allowed Local Authorities to revise their methodologies, whilst still allowing for real terms changes in respite provision to be identified."]
[]
[null,"The diagram below shows how the figures will be presented in this release within tables. There are five sets of comparable figures:"]
[]
[null,"Diagram 1: Example presentation of respite figures (Table)"]
[null,null,"Number of respite weeks provided"]
[null,null,"2007/080","2008/090","2008/091","2009/101","2009/102","2010/112","2010/113","2011/123","2012/133","2012/134","2013/144","2014/154"]
[null,"Example weeks","XX,XXX ","    XX,XXX ","XX,XXX ","    XX,XXX ","XX,XXX","XX,XXX","XX,XXX","XX,XXX","XX,XXX","XX,XXX","    XX,XXX","    XX,XXX"]
[]
[]
[null,"0 - Same methodology used in 2007/08 & 2008/09 making the figures comparable"]
[null,"1 - Same methodology used in 2008/09 & 2009/10 making the figures comparable"]
[null,"2 - Same methodology used in 2009/10 & 2010/11 making the figures comparable"]
[null,"3 - Same methodology used in 2010/11 - 2012/13 making the figures comparable"]
[null,"4 - Same methodology used for 2012/13 to 2014/15 making the figures comparable, comparisons should not be made at the Local Authority level in the cases described in the Background Notes."]

{"sheet":"Table1","index":5,"n_rows":41,"n_cols":21,"rows_kept":41,"cut":false,"hidden":false,"merged":[[6,3,6,14]]}
[null,{"$f":"\"Number of respite weeks provided to \"&A7& \" in \" &A5&\", 2007/08 to 2014/15\"","v":"Number of respite weeks provided to All ages in Scotland, 2007/08 to 2014/15"}]
[]
[null,null,null,"Select Local Authority",null,null,"Select age group"]
[]
["Scotland"," ",null," "]
["All ages"," "]
[{"$f":"IF(A6=\"All ages\",A6,(IF(A6=\"0-17\",\"Young people (Aged 0-17)\",IF(A6=\"18-64\",\"Other Adults (Aged 18-64)\",\"Other people (Aged 65+)\"))))","v":"All ages"}," ",null,"Number of respite weeks provided"]
[null,null,null,"2007/080","2008/090","2008/091","2009/101","2009/102","2010/112","2010/113","2011/123","2012/133","2012/134","2013/144","2014/154"]
[{"$f":"VLOOKUP(A6,LKPS!C3:F6,2,FALSE)","v":11},null,"Overnight Respite Weeks",{"$f":"MROUND(VLOOKUP($A$5&D$8,'Calc-V'!$A$4:$W$399,$A9,FALSE),10)","v":62750},{"$f":"MROUND(VLOOKUP($A$5&E$8,'Calc-V'!$A$4:$W$399,$A9,FALSE),10)","v":62800},{"$f":"MROUND(VLOOKUP($A$5&F$8,'Calc-V'!$A$4:$W$399,$A9,FALSE),10)","v":62730},{"$f":"MROUND(VLOOKUP($A$5&G$8,'Calc-V'!$A$4:$W$399,$A9,FALSE),10)","v":64110},{"$f":"MROUND(VLOOKUP($A$5&H$8,'Calc-V'!$A$4:$W$399,$A9,FALSE),10)","v":64290},{"$f":"MROUND(VLOOKUP($A$5&I$8,'Calc-V'!$A$4:$W$399,$A9,FALSE),10)","v":64650},{"$f":"MROUND(VLOOKUP($A$5&J$8,'Calc-V'!$A$4:$W$399,$A9,FALSE),10)","v":64900},{"$f":"MROUND(VLOOKUP($A$5&K$8,'Calc-V'!$A$4:$W$399,$A9,FALSE),10)","v":66570},{"$f":"MROUND(VLOOKUP($A$5&L$8,'Calc-V'!$A$4:$W$399,$A9,FALSE),10)","v":65880},{"$f":"MROUND(VLOOKUP($A$5&M$8,'Calc-V'!$A$4:$W$399,$A9,FALSE),10)","v":65760},{"$f":"MROUND(VLOOKUP($A$5&N$8,'Calc-V'!$A$4:$W$399,$A9,FALSE),10)","v":65030},{"$f":"MROUND(VLOOKUP($A$5&O$8,'Calc-V'!$A$4:$W$399,$A9,FALSE),10)","v":63080}]
[{"$f":"VLOOKUP(A6,LKPS!C3:F6,3,FALSE)","v":19},null,"Daytime Respite Weeks",{"$f":"MROUND(VLOOKUP($A$5&D$8,'Calc-V'!$A$4:$W$399,$A10,FALSE),10)","v":109980},{"$f":"MROUND(VLOOKUP($A$5&E$8,'Calc-V'!$A$4:$W$399,$A10,FALSE),10)","v":111230},{"$f":"MROUND(VLOOKUP($A$5&F$8,'Calc-V'!$A$4:$W$399,$A10,FALSE),10)","v":132980},{"$f":"MROUND(VLOOKUP($A$5&G$8,'Calc-V'!$A$4:$W$399,$A10,FALSE),10)","v":139460},{"$f":"MROUND(VLOOKUP($A$5&H$8,'Calc-V'!$A$4:$W$399,$A10,FALSE),10)","v":145510},{"$f":"MROUND(VLOOKUP($A$5&I$8,'Calc-V'!$A$4:$W$399,$A10,FALSE),10)","v":146570},{"$f":"MROUND(VLOOKUP($A$5&J$8,'Calc-V'!$A$4:$W$399,$A10,FALSE),10)","v":138820},{"$f":"MROUND(VLOOKUP($A$5&K$8,'Calc-V'!$A$4:$W$399,$A10,FALSE),10)","v":138500},{"$f":"MROUND(VLOOKUP($A$5&L$8,'Calc-V'!$A$4:$W$399,$A10,FALSE),10)","v":139920},{"$f":"MROUND(VLOOKUP($A$5&M$8,'Calc-V'!$A$4:$W$399,$A10,FALSE),10)","v":139320},{"$f":"MROUND(VLOOKUP($A$5&N$8,'Calc-V'!$A$4:$W$399,$A10,FALSE),10)","v":137650},{"$f":"MROUND(VLOOKUP($A$5&O$8,'Calc-V'!$A$4:$W$399,$A10,FALSE),10)","v":132980}]
[{"$f":"VLOOKUP(A6,LKPS!C3:F6,4,FALSE)","v":23},null,"Total",{"$f":"MROUND(VLOOKUP($A$5&D$8,'Calc-V'!$A$4:$W$399,$A11,FALSE),10)","v":172730},{"$f":"MROUND(VLOOKUP($A$5&E$8,'Calc-V'!$A$4:$W$399,$A11,FALSE),10)","v":174030},{"$f":"MROUND(VLOOKUP($A$5&F$8,'Calc-V'!$A$4:$W$399,$A11,FALSE),10)","v":195710},{"$f":"MROUND(VLOOKUP($A$5&G$8,'Calc-V'!$A$4:$W$399,$A11,FALSE),10)","v":203570},{"$f":"MROUND(VLOOKUP($A$5&H$8,'Calc-V'!$A$4:$W$399,$A11,FALSE),10)","v":209800},{"$f":"MROUND(VLOOKUP($A$5&I$8,'Calc-V'!$A$4:$W$399,$A11,FALSE),10)","v":211210},{"$f":"MROUND(VLOOKUP($A$5&J$8,'Calc-V'!$A$4:$W$399,$A11,FALSE),10)","v":203730},{"$f":"MROUND(VLOOKUP($A$5&K$8,'Calc-V'!$A$4:$W$399,$A11,FALSE),10)","v":205070},{"$f":"MROUND(VLOOKUP($A$5&L$8,'Calc-V'!$A$4:$W$399,$A11,FALSE),10)","v":205800},{"$f":"MROUND(VLOOKUP($A$5&M$8,'Calc-V'!$A$4:$W$399,$A11,FALSE),10)","v":205080},{"$f":"MROUND(VLOOKUP($A$5&N$8,'Calc-V'!$A$4:$W$399,$A11,FALSE),10)","v":202690},{"$f":"MROUND(VLOOKUP($A$5&O$8,'Calc-V'!$A$4:$W$399,$A11,FALSE),10)","v":196060}]
[]
[]
[]
[]
[]
[]
[]
[]
[]
[null,null,null,null,null,null,null,null,null,null,null,null,null,"2007/08","2008/09","2009/10","2010/11","2011/12","2012/13","2013/14","2014/15"]
[null,null,null,null,null,null,null,null,null,null,null,null,"Overnight",{"$f":"D9/1000","v":62.75},62.8]
[null,null,null,null,null,null,null,null,null,null,null,null,"Daytime",109.98,111.23]
[null,null,null,null,null,null,null,null,null,null,null,null,"Total",172.73,174.03]
[null,null,null,null,null,null,null,null,null,null,null,null,"Overnight",null,{"$f":"F9/1000","v":62.73},64.11]
[null,null,null,null,null,null,null,null,null,null,null,null,"Daytime",null,132.97999999999999,139.46]
[null,null,null,null,null,null,null,null,null,null,null,null,"Total",null,195.71,203.57]
[null,null,null,null,null,null,null,null,null,null,null,null,"Overnight",null,null,{"$f":"H9/1000","v":64.290000000000006},64.650000000000006]
[null,null,null,null,null,null,null,null,null,null,null,null,"Daytime",null,null,145.51,146.57]
[null,null,null,null,null,null,null,null,null,null,null,null,"Total",null,null,209.8,211.21]
[null,null,null,null,null,null,null,null,null,null,null,null,"Overnight",null,null,null,{"$f":"J9/1000","v":64.900000000000006},66.569999999999993,65.88]
[null,null,null,null,null,null,null,null,null,null,null,null,"Daytime",null,null,null,138.82,138.5,139.91999999999999]
[null,null,null,null,null,null,null,null,null,null,null,null,"Total",null,null,null,203.73,205.07,205.8]
[null,null,null,null,null,null,null,null,null,null,null,null,null,null,null,null,null,null,{"$f":"M9/1000","v":65.760000000000005},65.03,{"$f":"O9/1000","v":63.08}]
[null,null,"Source: Audit Scotland SPI data 2006-2008, Scottish Government 2009-2015",null,null,null,null,null,null,null,null,null,null,null,null,null,null,null,139.32,137.65,{"$f":"O10/1000","v":132.97999999999999}]
[null,null,"All figures rounded to the nearest ten. Total may not add up to the sum of components due to rounding",null,null,null,null,null,null,null,null,null,null,null,null,null,null,null,205.08,202.69,{"$f":"O11/1000","v":196.06}]
[null,null,"0 - Same methodology used in 2007/08 & 2008/09 making the figures comparable"]
[null,null,"1 - Same methodology used in 2008/09 & 2009/10 making the figures comparable"]
[null,null,"2 - Same methodology used in 2009/10 & 2010/11 making the figures comparable"]
[null,null,"3 - Same methodology used in 2010/11 - 2012/13 making the figures comparable"]
[null,null,"4 - Same methodology used in 2012/13 - 2014/15 making the figures comparable - comparisons should not be made at the Local Authority level in the cases described in the Background Notes."]

{"sheet":"Table2","index":6,"n_rows":49,"n_cols":56,"rows_kept":49,"cut":false,"hidden":false,"merged":[[6,3,6,14],[6,29,6,40],[6,16,6,27]]}
[null,{"$f":"\"Respite weeks by Local Authority provided to \"& A6 &\", 2007/08 to 2014/15\"","v":"Respite weeks by Local Authority provided to All ages, 2007/08 to 2014/15"}]
[]
[null,null,null,"Select age group",null,null,null,null,"Select data"]
["Numbers"]
["All ages"]
[{"$f":"IF(A5=\"All Ages\",A5,A7)","v":"All ages"},null,null,{"$f":"VLOOKUP($A$5,LKPS!$C$3:$F$6,4,FALSE)","v":23},null,null,null,null,null,null,null,null,null,null,null,null,{"$f":"VLOOKUP($A$5,LKPS!$C$3:$E$6,2,FALSE)","v":11},null,null,null,null,null,null,null,null,null,null,null,null,{"$f":"VLOOKUP($A$5,LKPS!$C$3:$E$6,3,FALSE)","v":19},null,null,null,null,null,null,null,null,null,null,null,null,null,null,{"$f":"Q6+16","v":27}]
[{"$f":"IF(A5=\"0-17\",\"Young people (Aged 0-17)\",IF(A5=\"18-64\",\"Other Adults (Aged 18-64)\",\"Other people (Aged 65+)\"))","v":"Other people (Aged 65+)"}," "," ",{"$f":"IF($A$4=\"Numbers\",\"Total respite weeks provided\",\"Total respite weeks provided per 1,000 population\")","v":"Total respite weeks provided"},null,null,null,null,null,null,null,null,null,null,null,null,{"$f":"IF($A$4=\"Numbers\",\"Overnight respite weeks provided\",\"Overnight respite weeks provided per 1,000 population\")","v":"Overnight respite weeks provided"},null,null,null,null,null,null,null,null,null,null,null,null,{"$f":"IF($A$4=\"Numbers\",\"Daytime respite weeks provided\",\"Daytime respite weeks provided per 1,000 population\")","v":"Daytime respite weeks provided"},null,null,null,null,null,null,null,null,null,null,null,null,null,null,"Pops"]
[null,null,"Local Authority","2007/080","2008/090","2008/091","2009/101","2009/102","2010/112","2010/113","2011/123","2012/133","2012/134","2013/144","2014/154",null,"2007/080","2008/090","2008/091","2009/101","2009/102","2010/112","2010/113","2011/123","2012/133","2012/134","2013/144","2014/154",null,"2007/080","2008/090","2008/091","2009/101","2009/102","2010/112","2010/113","2011/123","2012/133","2012/134","2013/144","2014/154",null,null,null,"2007/080","2008/090","2008/091","2009/101","2009/102","2010/112","2010/113","2011/123","2012/133","2012/134","2013/144","2014/154"]
[null,null,"Aberdeen City",{"$f":"IF($A$4=\"Numbers\",MROUND(VLOOKUP($C9&D$8,'Calc-V'!$A$4:$W$399,$D$6,FALSE),10),ROUND(VLOOKUP($C9&D$8,'Calc-V'!$A$4:$W$399,$D$6,FALSE)/AS9,3)*1000)","v":6110},{"$f":"IF($A$4=\"Numbers\",MROUND(VLOOKUP($C9&E$8,'Calc-V'!$A$4:$W$399,$D$6,FALSE),10),ROUND(VLOOKUP($C9&E$8,'Calc-V'!$A$4:$W$399,$D$6,FALSE)/AT9,3)*1000)","v":4740},{"$f":"IF($A$4=\"Numbers\",MROUND(VLOOKUP($C9&F$8,'Calc-V'!$A$4:$W$399,$D$6,FALSE),10),ROUND(VLOOKUP($C9&F$8,'Calc-V'!$A$4:$W$399,$D$6,FALSE)/AU9,3)*1000)","v":4250},{"$f":"IF($A$4=\"Numbers\",MROUND(VLOOKUP($C9&G$8,'Calc-V'!$A$4:$W$399,$D$6,FALSE),10),ROUND(VLOOKUP($C9&G$8,'Calc-V'!$A$4:$W$399,$D$6,FALSE)/AV9,3)*1000)","v":3250},{"$f":"IF($A$4=\"Numbers\",MROUND(VLOOKUP($C9&H$8,'Calc-V'!$A$4:$W$399,$D$6,FALSE),10),ROUND(VLOOKUP($C9&H$8,'Calc-V'!$A$4:$W$399,$D$6,FALSE)/AW9,3)*1000)","v":3250},{"$f":"IF($A$4=\"Numbers\",MROUND(VLOOKUP($C9&I$8,'Calc-V'!$A$4:$W$399,$D$6,FALSE),10),ROUND(VLOOKUP($C9&I$8,'Calc-V'!$A$4:$W$399,$D$6,FALSE)/AX9,3)*1000)","v":3090},{"$f":"IF($A$4=\"Numbers\",MROUND(VLOOKUP($C9&J$8,'Calc-V'!$A$4:$W$399,$D$6,FALSE),10),ROUND(VLOOKUP($C9&J$8,'Calc-V'!$A$4:$W$399,$D$6,FALSE)/AY9,3)*1000)","v":3090},{"$f":"IF($A$4=\"Numbers\",MROUND(VLOOKUP($C9&K$8,'Calc-V'!$A$4:$W$399,$D$6,FALSE),10),ROUND(VLOOKUP($C9&K$8,'Calc-V'!$A$4:$W$399,$D$6,FALSE)/AZ9,3)*1000)","v":3570},{"$f":"IF($A$4=\"Numbers\",MROUND(VLOOKUP($C9&L$8,'Calc-V'!$A$4:$W$399,$D$6,FALSE),10),ROUND(VLOOKUP($C9&L$8,'Calc-V'!$A$4:$W$399,$D$6,FALSE)/BA9,3)*1000)","v":3560},{"$f":"IF($A$4=\"Numbers\",MROUND(VLOOKUP($C9&M$8,'Calc-V'!$A$4:$W$399,$D$6,FALSE),10),ROUND(VLOOKUP($C9&M$8,'Calc-V'!$A$4:$W$399,$D$6,FALSE)/BB9,3)*1000)","v":3480},{"$f":"IF($A$4=\"Numbers\",MROUND(VLOOKUP($C9&N$8,'Calc-V'!$A$4:$W$399,$D$6,FALSE),10),ROUND(VLOOKUP($C9&N$8,'Calc-V'!$A$4:$W$399,$D$6,FALSE)/BC9,3)*1000)","v":3670},{"$f":"IF($A$4=\"Numbers\",MROUND(VLOOKUP($C9&O$8,'Calc-V'!$A$4:$W$399,$D$6,FALSE),10),ROUND(VLOOKUP($C9&O$8,'Calc-V'!$A$4:$W$399,$D$6,FALSE)/BD9,3)*1000)","v":3930},null,{"$f":"IF($A$4=\"Numbers\",MROUND(VLOOKUP($C9&D$8,'Calc-V'!$A$4:$S$399,$Q$6,FALSE),10),ROUND(VLOOKUP($C9&D$8,'Calc-V'!$A$4:$S$399,$Q$6,FALSE)/AS9,3)*1000)","v":2150},{"$f":"IF($A$4=\"Numbers\",MROUND(VLOOKUP($C9&E$8,'Calc-V'!$A$4:$S$399,$Q$6,FALSE),10),ROUND(VLOOKUP($C9&E$8,'Calc-V'!$A$4:$S$399,$Q$6,FALSE)/AT9,3)*1000)","v":1840},{"$f":"IF($A$4=\"Numbers\",MROUND(VLOOKUP($C9&F$8,'Calc-V'!$A$4:$S$399,$Q$6,FALSE),10),ROUND(VLOOKUP($C9&F$8,'Calc-V'!$A$4:$S$399,$Q$6,FALSE)/AU9,3)*1000)","v":1840},{"$f":"IF($A$4=\"Numbers\",MROUND(VLOOKUP($C9&G$8,'Calc-V'!$A$4:$S$399,$Q$6,FALSE),10),ROUND(VLOOKUP($C9&G$8,'Calc-V'!$A$4:$S$399,$Q$6,FALSE)/AV9,3)*1000)","v":1700},{"$f":"IF($A$4=\"Numbers\",MROUND(VLOOKUP($C9&H$8,'Calc-V'!$A$4:$S$399,$Q$6,FALSE),10),ROUND(VLOOKUP($C9&H$8,'Calc-V'!$A$4:$S$399,$Q$6,FALSE)/AW9,3)*1000)","v":1700},{"$f":"IF($A$4=\"Numbers\",MROUND(VLOOKUP($C9&I$8,'Calc-V'!$A$4:$S$399,$Q$6,FALSE),10),ROUND(VLOOKUP($C9&I$8,'Calc-V'!$A$4:$S$399,$Q$6,FALSE)/AX9,3)*1000)","v":1540},{"$f":"IF($A$4=\"Numbers\",MROUND(VLOOKUP($C9&J$8,'Calc-V'!$A$4:$S$399,$Q$6,FALSE),10),ROUND(VLOOKUP($C9&J$8,'Calc-V'!$A$4:$S$399,$Q$6,FALSE)/AY9,3)*1000)","v":1540},{"$f":"IF($A$4=\"Numbers\",MROUND(VLOOKUP($C9&K$8,'Calc-V'!$A$4:$S$399,$Q$6,FALSE),10),ROUND(VLOOKUP($C9&K$8,'Calc-V'!$A$4:$S$399,$Q$6,FALSE)/AZ9,3)*1000)","v":1950},{"$f":"IF($A$4=\"Numbers\",MROUND(VLOOKUP($C9&L$8,'Calc-V'!$A$4:$S$399,$Q$6,FALSE),10),ROUND(VLOOKUP($C9&L$8,'Calc-V'!$A$4:$S$399,$Q$6,FALSE)/BA9,3)*1000)","v":2080},{"$f":"IF($A$4=\"Numbers\",MROUND(VLOOKUP($C9&M$8,'Calc-V'!$A$4:$S$399,$Q$6,FALSE),10),ROUND(VLOOKUP($C9&M$8,'Calc-V'!$A$4:$S$399,$Q$6,FALSE)/BB9,3)*1000)","v":2070},{"$f":"IF($A$4=\"Numbers\",MROUND(VLOOKUP($C9&N$8,'Calc-V'!$A$4:$S$399,$Q$6,FALSE),10),ROUND(VLOOKUP($C9&N$8,'Calc-V'!$A$4:$S$399,$Q$6,FALSE)/BC9,3)*1000)","v":2460},{"$f":"IF($A$4=\"Numbers\",MROUND(VLOOKUP($C9&O$8,'Calc-V'!$A$4:$S$399,$Q$6,FALSE),10),ROUND(VLOOKUP($C9&O$8,'Calc-V'!$A$4:$S$399,$Q$6,FALSE)/BD9,3)*1000)","v":2740},null,{"$f":"IF($A$4=\"Numbers\",MROUND(VLOOKUP($C9&Q$8,'Calc-V'!$A$4:$S$399,$AD$6,FALSE),10),ROUND(VLOOKUP($C9&Q$8,'Calc-V'!$A$4:$S$399,$AD$6,FALSE)/AS9,3)*1000)","v":3950},{"$f":"IF($A$4=\"Numbers\",MROUND(VLOOKUP($C9&R$8,'Calc-V'!$A$4:$S$399,$AD$6,FALSE),10),ROUND(VLOOKUP($C9&R$8,'Calc-V'!$A$4:$S$399,$AD$6,FALSE)/AT9,3)*1000)","v":2890},{"$f":"IF($A$4=\"Numbers\",MROUND(VLOOKUP($C9&S$8,'Calc-V'!$A$4:$S$399,$AD$6,FALSE),10),ROUND(VLOOKUP($C9&S$8,'Calc-V'!$A$4:$S$399,$AD$6,FALSE)/AU9,3)*1000)","v":2410},{"$f":"IF($A$4=\"Numbers\",MROUND(VLOOKUP($C9&T$8,'Calc-V'!$A$4:$S$399,$AD$6,FALSE),10),ROUND(VLOOKUP($C9&T$8,'Calc-V'!$A$4:$S$399,$AD$6,FALSE)/AV9,3)*1000)","v":1550},{"$f":"IF($A$4=\"Numbers\",MROUND(VLOOKUP($C9&U$8,'Calc-V'!$A$4:$S$399,$AD$6,FALSE),10),ROUND(VLOOKUP($C9&U$8,'Calc-V'!$A$4:$S$399,$AD$6,FALSE)/AW9,3)*1000)","v":1550},{"$f":"IF($A$4=\"Numbers\",MROUND(VLOOKUP($C9&V$8,'Calc-V'!$A$4:$S$399,$AD$6,FALSE),10),ROUND(VLOOKUP($C9&V$8,'Calc-V'!$A$4:$S$399,$AD$6,FALSE)/AX9,3)*1000)","v":1550},{"$f":"IF($A$4=\"Numbers\",MROUND(VLOOKUP($C9&W$8,'Calc-V'!$A$4:$S$399,$AD$6,FALSE),10),ROUND(VLOOKUP($C9&W$8,'Calc-V'!$A$4:$S$399,$AD$6,FALSE)/AY9,3)*1000)","v":1550},{"$f":"IF($A$4=\"Numbers\",MROUND(VLOOKUP($C9&X$8,'Calc-V'!$A$4:$S$399,$AD$6,FALSE),10),ROUND(VLOOKUP($C9&X$8,'Calc-V'!$A$4:$S$399,$AD$6,FALSE)/AZ9,3)*1000)","v":1620},{"$f":"IF($A$4=\"Numbers\",MROUND(VLOOKUP($C9&Y$8,'Calc-V'!$A$4:$S$399,$AD$6,FALSE),10),ROUND(VLOOKUP($C9&Y$8,'Calc-V'!$A$4:$S$399,$AD$6,FALSE)/BA9,3)*1000)","v":1480},{"$f":"IF($A$4=\"Numbers\",MROUND(VLOOKUP($C9&Z$8,'Calc-V'!$A$4:$S$399,$AD$6,FALSE),10),ROUND(VLOOKUP($C9&Z$8,'Calc-V'!$A$4:$S$399,$AD$6,FALSE)/BB9,3)*1000)","v":1410},{"$f":"IF($A$4=\"Numbers\",MROUND(VLOOKUP($C9&AA$8,'Calc-V'!$A$4:$S$399,$AD$6,FALSE),10),ROUND(VLOOKUP($C9&AA$8,'Calc-V'!$A$4:$S$399,$AD$6,FALSE)/BC9,3)*1000)","v":1210},{"$f":"IF($A$4=\"Numbers\",MROUND(VLOOKUP($C9&AB$8,'Calc-V'!$A$4:$S$399,$AD$6,FALSE),10),ROUND(VLOOKUP($C9&AB$8,'Calc-V'!$A$4:$S$399,$AD$6,FALSE)/BD9,3)*1000)","v":1190},null,null,null,{"$f":"VLOOKUP($C9&AS$8,'Calc-V'!$A$4:$AA$399,$AS$6,FALSE)","v":212460},{"$f":"VLOOKUP($C9&AT$8,'Calc-V'!$A$4:$AA$399,$AS$6,FALSE)","v":214020},{"$f":"VLOOKUP($C9&AU$8,'Calc-V'!$A$4:$AA$399,$AS$6,FALSE)","v":214020},{"$f":"VLOOKUP($C9&AV$8,'Calc-V'!$A$4:$AA$399,$AS$6,FALSE)","v":217020},{"$f":"VLOOKUP($C9&AW$8,'Calc-V'!$A$4:$AA$399,$AS$6,FALSE)","v":217020},{"$f":"VLOOKUP($C9&AX$8,'Calc-V'!$A$4:$AA$399,$AS$6,FALSE)","v":219730},{"$f":"VLOOKUP($C9&AY$8,'Calc-V'!$A$4:$AA$399,$AS$6,FALSE)","v":219730},{"$f":"VLOOKUP($C9&AZ$8,'Calc-V'!$A$4:$AA$399,$AS$6,FALSE)","v":222460},{"$f":"VLOOKUP($C9&BA$8,'Calc-V'!$A$4:$AA$399,$AS$6,FALSE)","v":224970},{"$f":"VLOOKUP($C9&BB$8,'Calc-V'!$A$4:$AA$399,$AS$6,FALSE)","v":224970},{"$f":"VLOOKUP($C9&BC$8,'Calc-V'!$A$4:$AA$399,$AS$6,FALSE)","v":227130},{"$f":"VLOOKUP($C9&BD$8,'Calc-V'!$A$4:$AA$399,$AS$6,FALSE)","v":228990}]
[null,null,"Aberdeenshire",{"$f":"IF($A$4=\"Numbers\",MROUND(VLOOKUP($C10&D$8,'Calc-V'!$A$4:$W$399,$D$6,FALSE),10),ROUND(VLOOKUP($C10&D$8,'Calc-V'!$A$4:$W$399,$D$6,FALSE)/AS10,3)*1000)","v":5580},{"$f":"IF($A$4=\"Numbers\",MROUND(VLOOKUP($C10&E$8,'Calc-V'!$A$4:$W$399,$D$6,FALSE),10),ROUND(VLOOKUP($C10&E$8,'Calc-V'!$A$4:$W$399,$D$6,FALSE)/AT10,3)*1000)","v":5610},{"$f":"IF($A$4=\"Numbers\",MROUND(VLOOKUP($C10&F$8,'Calc-V'!$A$4:$W$399,$D$6,FALSE),10),ROUND(VLOOKUP($C10&F$8,'Calc-V'!$A$4:$W$399,$D$6,FALSE)/AU10,3)*1000)","v":6000},{"$f":"IF($A$4=\"Numbers\",MROUND(VLOOKUP($C10&G$8,'Calc-V'!$A$4:$W$399,$D$6,FALSE),10),ROUND(VLOOKUP($C10&G$8,'Calc-V'!$A$4:$W$399,$D$6,FALSE)/AV10,3)*1000)","v":7200},{"$f":"IF($A$4=\"Numbers\",MROUND(VLOOKUP($C10&H$8,'Calc-V'!$A$4:$W$399,$D$6,FALSE),10),ROUND(VLOOKUP($C10&H$8,'Calc-V'!$A$4:$W$399,$D$6,FALSE)/AW10,3)*1000)","v":7200},{"$f":"IF($A$4=\"Numbers\",MROUND(VLOOKUP($C10&I$8,'Calc-V'!$A$4:$W$399,$D$6,FALSE),10),ROUND(VLOOKUP($C10&I$8,'Calc-V'!$A$4:$W$399,$D$6,FALSE)/AX10,3)*1000)","v":6710},{"$f":"IF($A$4=\"Numbers\",MROUND(VLOOKUP($C10&J$8,'Calc-V'!$A$4:$W$399,$D$6,FALSE),10),ROUND(VLOOKUP($C10&J$8,'Calc-V'!$A$4:$W$399,$D$6,FALSE)/AY10,3)*1000)","v":7710},{"$f":"IF($A$4=\"Numbers\",MROUND(VLOOKUP($C10&K$8,'Calc-V'!$A$4:$W$399,$D$6,FALSE),10),ROUND(VLOOKUP($C10&K$8,'Calc-V'!$A$4:$W$399,$D$6,FALSE)/AZ10,3)*1000)","v":7860},{"$f":"IF($A$4=\"Numbers\",MROUND(VLOOKUP($C10&L$8,'Calc-V'!$A$4:$W$399,$D$6,FALSE),10),ROUND(VLOOKUP($C10&L$8,'Calc-V'!$A$4:$W$399,$D$6,FALSE)/BA10,3)*1000)","v":8310},{"$f":"IF($A$4=\"Numbers\",MROUND(VLOOKUP($C10&M$8,'Calc-V'!$A$4:$W$399,$D$6,FALSE),10),ROUND(VLOOKUP($C10&M$8,'Calc-V'!$A$4:$W$399,$D$6,FALSE)/BB10,3)*1000)","v":6450},{"$f":"IF($A$4=\"Numbers\",MROUND(VLOOKUP($C10&N$8,'Calc-V'!$A$4:$W$399,$D$6,FALSE),10),ROUND(VLOOKUP($C10&N$8,'Calc-V'!$A$4:$W$399,$D$6,FALSE)/BC10,3)*1000)","v":6880},{"$f":"IF($A$4=\"Numbers\",MROUND(VLOOKUP($C10&O$8,'Calc-V'!$A$4:$W$399,$D$6,FALSE),10),ROUND(VLOOKUP($C10&O$8,'Calc-V'!$A$4:$W$399,$D$6,FALSE)/BD10,3)*1000)","v":6180},null,{"$f":"IF($A$4=\"Numbers\",MROUND(VLOOKUP($C10&D$8,'Calc-V'!$A$4:$S$399,$Q$6,FALSE),10),ROUND(VLOOKUP($C10&D$8,'Calc-V'!$A$4:$S$399,$Q$6,FALSE)/AS10,3)*1000)","v":2960},{"$f":"IF($A$4=\"Numbers\",MROUND(VLOOKUP($C10&E$8,'Calc-V'!$A$4:$S$399,$Q$6,FALSE),10),ROUND(VLOOKUP($C10&E$8,'Calc-V'!$A$4:$S$399,$Q$6,FALSE)/AT10,3)*1000)","v":3170},{"$f":"IF($A$4=\"Numbers\",MROUND(VLOOKUP($C10&F$8,'Calc-V'!$A$4:$S$399,$Q$6,FALSE),10),ROUND(VLOOKUP($C10&F$8,'Calc-V'!$A$4:$S$399,$Q$6,FALSE)/AU10,3)*1000)","v":3170},{"$f":"IF($A$4=\"Numbers\",MROUND(VLOOKUP($C10&G$8,'Calc-V'!$A$4:$S$399,$Q$6,FALSE),10),ROUND(VLOOKUP($C10&G$8,'Calc-V'!$A$4:$S$399,$Q$6,FALSE)/AV10,3)*1000)","v":3110},{"$f":"IF($A$4=\"Numbers\",MROUND(VLOOKUP($C10&H$8,'Calc-V'!$A$4:$S$399,$Q$6,FALSE),10),ROUND(VLOOKUP($C10&H$8,'Calc-V'!$A$4:$S$399,$Q$6,FALSE)/AW10,3)*1000)","v":3110},{"$f":"IF($A$4=\"Numbers\",MROUND(VLOOKUP($C10&I$8,'Calc-V'!$A$4:$S$399,$Q$6,FALSE),10),ROUND(VLOOKUP($C10&I$8,'Calc-V'!$A$4:$S$399,$Q$6,FALSE)/AX10,3)*1000)","v":3400},{"$f":"IF($A$4=\"Numbers\",MROUND(VLOOKUP($C10&J$8,'Calc-V'!$A$4:$S$399,$Q$6,FALSE),10),ROUND(VLOOKUP($C10&J$8,'Calc-V'!$A$4:$S$399,$Q$6,FALSE)/AY10,3)*1000)","v":3660},{"$f":"IF($A$4=\"Numbers\",MROUND(VLOOKUP($C10&K$8,'Calc-V'!$A$4:$S$399,$Q$6,FALSE),10),ROUND(VLOOKUP($C10&K$8,'Calc-V'!$A$4:$S$399,$Q$6,FALSE)/AZ10,3)*1000)","v":4000},{"$f":"IF($A$4=\"Numbers\",MROUND(VLOOKUP($C10&L$8,'Calc-V'!$A$4:$S$399,$Q$6,FALSE),10),ROUND(VLOOKUP($C10&L$8,'Calc-V'!$A$4:$S$399,$Q$6,FALSE)/BA10,3)*1000)","v":4270},{"$f":"IF($A$4=\"Numbers\",MROUND(VLOOKUP($C10&M$8,'Calc-V'!$A$4:$S$399,$Q$6,FALSE),10),ROUND(VLOOKUP($C10&M$8,'Calc-V'!$A$4:$S$399,$Q$6,FALSE)/BB10,3)*1000)","v":3870},{"$f":"IF($A$4=\"Numbers\",MROUND(VLOOKUP($C10&N$8,'Calc-V'!$A$4:$S$399,$Q$6,FALSE),10),ROUND(VLOOKUP($C10&N$8,'Calc-V'!$A$4:$S$399,$Q$6,FALSE)/BC10,3)*1000)","v":4230},{"$f":"IF($A$4=\"Numbers\",MROUND(VLOOKUP($C10&O$8,'Calc-V'!$A$4:$S$399,$Q$6,FALSE),10),ROUND(VLOOKUP($C10&O$8,'Calc-V'!$A$4:$S$399,$Q$6,FALSE)/BD10,3)*1000)","v":3810},null,{"$f":"IF($A$4=\"Numbers\",MROUND(VLOOKUP($C10&Q$8,'Calc-V'!$A$4:$S$399,$AD$6,FALSE),10),ROUND(VLOOKUP($C10&Q$8,'Calc-V'!$A$4:$S$399,$AD$6,FALSE)/AS10,3)*1000)","v":2620},{"$f":"IF($A$4=\"Numbers\",MROUND(VLOOKUP($C10&R$8,'Calc-V'!$A$4:$S$399,$AD$6,FALSE),10),ROUND(VLOOKUP($C10&R$8,'Calc-V'!$A$4:$S$399,$AD$6,FALSE)/AT10,3)*1000)","v":2440},{"$f":"IF($A$4=\"Numbers\",MROUND(VLOOKUP($C10&S$8,'Calc-V'!$A$4:$S$399,$AD$6,FALSE),10),ROUND(VLOOKUP($C10&S$8,'Calc-V'!$A$4:$S$399,$AD$6,FALSE)/AU10,3)*1000)","v":2830},{"$f":"IF($A$4=\"Numbers\",MROUND(VLOOKUP($C10&T$8,'Calc-V'!$A$4:$S$399,$AD$6,FALSE),10),ROUND(VLOOKUP($C10&T$8,'Calc-V'!$A$4:$S$399,$AD$6,FALSE)/AV10,3)*1000)","v":4090},{"$f":"IF($A$4=\"Numbers\",MROUND(VLOOKUP($C10&U$8,'Calc-V'!$A$4:$S$399,$AD$6,FALSE),10),ROUND(VLOOKUP($C10&U$8,'Calc-V'!$A$4:$S$399,$AD$6,FALSE)/AW10,3)*1000)","v":4090},{"$f":"IF($A$4=\"Numbers\",MROUND(VLOOKUP($C10&V$8,'Calc-V'!$A$4:$S$399,$AD$6,FALSE),10),ROUND(VLOOKUP($C10&V$8,'Calc-V'!$A$4:$S$399,$AD$6,FALSE)/AX10,3)*1000)","v":3300},{"$f":"IF($A$4=\"Numbers\",MROUND(VLOOKUP($C10&W$8,'Calc-V'!$A$4:$S$399,$AD$6,FALSE),10),ROUND(VLOOKUP($C10&W$8,'Calc-V'!$A$4:$S$399,$AD$6,FALSE)/AY10,3)*1000)","v":4050},{"$f":"IF($A$4=\"Numbers\",MROUND(VLOOKUP($C10&X$8,'Calc-V'!$A$4:$S$399,$AD$6,FALSE),10),ROUND(VLOOKUP($C10&X$8,'Calc-V'!$A$4:$S$399,$AD$6,FALSE)/AZ10,3)*1000)","v":3860},{"$f":"IF($A$4=\"Numbers\",MROUND(VLOOKUP($C10&Y$8,'Calc-V'!$A$4:$S$399,$AD$6,FALSE),10),ROUND(VLOOKUP($C10&Y$8,'Calc-V'!$A$4:$S$399,$AD$6,FALSE)/BA10,3)*1000)","v":4030},{"$f":"IF($A$4=\"Numbers\",MROUND(VLOOKUP($C10&Z$8,'Calc-V'!$A$4:$S$399,$AD$6,FALSE),10),ROUND(VLOOKUP($C10&Z$8,'Calc-V'!$A$4:$S$399,$AD$6,FALSE)/BB10,3)*1000)","v":2570},{"$f":"IF($A$4=\"Numbers\",MROUND(VLOOKUP($C10&AA$8,'Calc-V'!$A$4:$S$399,$AD$6,FALSE),10),ROUND(VLOOKUP($C10&AA$8,'Calc-V'!$A$4:$S$399,$AD$6,FALSE)/BC10,3)*1000)","v":2650},{"$f":"IF($A$4=\"Numbers\",MROUND(VLOOKUP($C10&AB$8,'Calc-V'!$A$4:$S$399,$AD$6,FALSE),10),ROUND(VLOOKUP($C10&AB$8,'Calc-V'!$A$4:$S$399,$AD$6,FALSE)/BD10,3)*1000)","v":2370},null,null,null,{"$f":"VLOOKUP($C10&AS$8,'Calc-V'!$A$4:$AA$399,$AS$6,FALSE)","v":244390},{"$f":"VLOOKUP($C10&AT$8,'Calc-V'!$A$4:$AA$399,$AS$6,FALSE)","v":246840},{"$f":"VLOOKUP($C10&AU$8,'Calc-V'!$A$4:$AA$399,$AS$6,FALSE)","v":246840},{"$f":"VLOOKUP($C10&AV$8,'Calc-V'!$A$4:$AA$399,$AS$6,FALSE)","v":249020},{"$f":"VLOOKUP($C10&AW$8,'Calc-V'!$A$4:$AA$399,$AS$6,FALSE)","v":249020},{"$f":"VLOOKUP($C10&AX$8,'Calc-V'!$A$4:$AA$399,$AS$6,FALSE)","v":251430},{"$f":"VLOOKUP($C10&AY$8,'Calc-V'!$A$4:$AA$399,$AS$6,FALSE)","v":251430},{"$f":"VLOOKUP($C10&AZ$8,'Calc-V'!$A$4:$AA$399,$AS$6,FALSE)","v":253650},{"$f":"VLOOKUP($C10&BA$8,'Calc-V'!$A$4:$AA$399,$AS$6,FALSE)","v":255540},{"$f":"VLOOKUP($C10&BB$8,'Calc-V'!$A$4:$AA$399,$AS$6,FALSE)","v":255540},{"$f":"VLOOKUP($C10&BC$8,'Calc-V'!$A$4:$AA$399,$AS$6,FALSE)","v":257740},{"$f":"VLOOKUP($C10&BD$8,'Calc-V'!$A$4:$AA$399,$AS$6,FALSE)","v":260500}]
[null,null,"Angus",{"$f":"IF($A$4=\"Numbers\",MROUND(VLOOKUP($C11&D$8,'Calc-V'!$A$4:$W$399,$D$6,FALSE),10),ROUND(VLOOKUP($C11&D$8,'Calc-V'!$A$4:$W$399,$D$6,FALSE)/AS11,3)*1000)","v":1940},{"$f":"IF($A$4=\"Numbers\",MROUND(VLOOKUP($C11&E$8,'Calc-V'!$A$4:$W$399,$D$6,FALSE),10),ROUND(VLOOKUP($C11&E$8,'Calc-V'!$A$4:$W$399,$D$6,FALSE)/AT11,3)*1000)","v":2110},{"$f":"IF($A$4=\"Numbers\",MROUND(VLOOKUP($C11&F$8,'Calc-V'!$A$4:$W$399,$D$6,FALSE),10),ROUND(VLOOKUP($C11&F$8,'Calc-V'!$A$4:$W$399,$D$6,FALSE)/AU11,3)*1000)","v":3410},{"$f":"IF($A$4=\"Numbers\",MROUND(VLOOKUP($C11&G$8,'Calc-V'!$A$4:$W$399,$D$6,FALSE),10),ROUND(VLOOKUP($C11&G$8,'Calc-V'!$A$4:$W$399,$D$6,FALSE)/AV11,3)*1000)","v":3830},{"$f":"IF($A$4=\"Numbers\",MROUND(VLOOKUP($C11&H$8,'Calc-V'!$A$4:$W$399,$D$6,FALSE),10),ROUND(VLOOKUP($C11&H$8,'Calc-V'!$A$4:$W$399,$D$6,FALSE)/AW11,3)*1000)","v":3810},{"$f":"IF($A$4=\"Numbers\",MROUND(VLOOKUP($C11&I$8,'Calc-V'!$A$4:$W$399,$D$6,FALSE),10),ROUND(VLOOKUP($C11&I$8,'Calc-V'!$A$4:$W$399,$D$6,FALSE)/AX11,3)*1000)","v":3810},{"$f":"IF($A$4=\"Numbers\",MROUND(VLOOKUP($C11&J$8,'Calc-V'!$A$4:$W$399,$D$6,FALSE),10),ROUND(VLOOKUP($C11&J$8,'Calc-V'!$A$4:$W$399,$D$6,FALSE)/AY11,3)*1000)","v":3810},{"$f":"IF($A$4=\"Numbers\",MROUND(VLOOKUP($C11&K$8,'Calc-V'!$A$4:$W$399,$D$6,FALSE),10),ROUND(VLOOKUP($C11&K$8,'Calc-V'!$A$4:$W$399,$D$6,FALSE)/AZ11,3)*1000)","v":4340},{"$f":"IF($A$4=\"Numbers\",MROUND(VLOOKUP($C11&L$8,'Calc-V'!$A$4:$W$399,$D$6,FALSE),10),ROUND(VLOOKUP($C11&L$8,'Calc-V'!$A$4:$W$399,$D$6,FALSE)/BA11,3)*1000)","v":4010},{"$f":"IF($A$4=\"Numbers\",MROUND(VLOOKUP($C11&M$8,'Calc-V'!$A$4:$W$399,$D$6,FALSE),10),ROUND(VLOOKUP($C11&M$8,'Calc-V'!$A$4:$W$399,$D$6,FALSE)/BB11,3)*1000)","v":4010},{"$f":"IF($A$4=\"Numbers\",MROUND(VLOOKUP($C11&N$8,'Calc-V'!$A$4:$W$399,$D$6,FALSE),10),ROUND(VLOOKUP($C11&N$8,'Calc-V'!$A$4:$W$399,$D$6,FALSE)/BC11,3)*1000)","v":4230},{"$f":"IF($A$4=\"Numbers\",MROUND(VLOOKUP($C11&O$8,'Calc-V'!$A$4:$W$399,$D$6,FALSE),10),ROUND(VLOOKUP($C11&O$8,'Calc-V'!$A$4:$W$399,$D$6,FALSE)/BD11,3)*1000)","v":3680},null,{"$f":"IF($A$4=\"Numbers\",MROUND(VLOOKUP($C11&D$8,'Calc-V'!$A$4:$S$399,$Q$6,FALSE),10),ROUND(VLOOKUP($C11&D$8,'Calc-V'!$A$4:$S$399,$Q$6,FALSE)/AS11,3)*1000)","v":1190},{"$f":"IF($A$4=\"Numbers\",MROUND(VLOOKUP($C11&E$8,'Calc-V'!$A$4:$S$399,$Q$6,FALSE),10),ROUND(VLOOKUP($C11&E$8,'Calc-V'!$A$4:$S$399,$Q$6,FALSE)/AT11,3)*1000)","v":1320},{"$f":"IF($A$4=\"Numbers\",MROUND(VLOOKUP($C11&F$8,'Calc-V'!$A$4:$S$399,$Q$6,FALSE),10),ROUND(VLOOKUP($C11&F$8,'Calc-V'!$A$4:$S$399,$Q$6,FALSE)/AU11,3)*1000)","v":1580},{"$f":"IF($A$4=\"Numbers\",MROUND(VLOOKUP($C11&G$8,'Calc-V'!$A$4:$S$399,$Q$6,FALSE),10),ROUND(VLOOKUP($C11&G$8,'Calc-V'!$A$4:$S$399,$Q$6,FALSE)/AV11,3)*1000)","v":1630},{"$f":"IF($A$4=\"Numbers\",MROUND(VLOOKUP($C11&H$8,'Calc-V'!$A$4:$S$399,$Q$6,FALSE),10),ROUND(VLOOKUP($C11&H$8,'Calc-V'!$A$4:$S$399,$Q$6,FALSE)/AW11,3)*1000)","v":1630},{"$f":"IF($A$4=\"Numbers\",MROUND(VLOOKUP($C11&I$8,'Calc-V'!$A$4:$S$399,$Q$6,FALSE),10),ROUND(VLOOKUP($C11&I$8,'Calc-V'!$A$4:$S$399,$Q$6,FALSE)/AX11,3)*1000)","v":1380},{"$f":"IF($A$4=\"Numbers\",MROUND(VLOOKUP($C11&J$8,'Calc-V'!$A$4:$S$399,$Q$6,FALSE),10),ROUND(VLOOKUP($C11&J$8,'Calc-V'!$A$4:$S$399,$Q$6,FALSE)/AY11,3)*1000)","v":1380},{"$f":"IF($A$4=\"Numbers\",MROUND(VLOOKUP($C11&K$8,'Calc-V'!$A$4:$S$399,$Q$6,FALSE),10),ROUND(VLOOKUP($C11&K$8,'Calc-V'!$A$4:$S$399,$Q$6,FALSE)/AZ11,3)*1000)","v":1500},{"$f":"IF($A$4=\"Numbers\",MROUND(VLOOKUP($C11&L$8,'Calc-V'!$A$4:$S$399,$Q$6,FALSE),10),ROUND(VLOOKUP($C11&L$8,'Calc-V'!$A$4:$S$399,$Q$6,FALSE)/BA11,3)*1000)","v":1240},{"$f":"IF($A$4=\"Numbers\",MROUND(VLOOKUP($C11&M$8,'Calc-V'!$A$4:$S$399,$Q$6,FALSE),10),ROUND(VLOOKUP($C11&M$8,'Calc-V'!$A$4:$S$399,$Q$6,FALSE)/BB11,3)*1000)","v":1240},{"$f":"IF($A$4=\"Numbers\",MROUND(VLOOKUP($C11&N$8,'Calc-V'!$A$4:$S$399,$Q$6,FALSE),10),ROUND(VLOOKUP($C11&N$8,'Calc-V'!$A$4:$S$399,$Q$6,FALSE)/BC11,3)*1000)","v":2030},{"$f":"IF($A$4=\"Numbers\",MROUND(VLOOKUP($C11&O$8,'Calc-V'!$A$4:$S$399,$Q$6,FALSE),10),ROUND(VLOOKUP($C11&O$8,'Calc-V'!$A$4:$S$399,$Q$6,FALSE)/BD11,3)*1000)","v":1710},null,{"$f":"IF($A$4=\"Numbers\",MROUND(VLOOKUP($C11&Q$8,'Calc-V'!$A$4:$S$399,$AD$6,FALSE),10),ROUND(VLOOKUP($C11&Q$8,'Calc-V'!$A$4:$S$399,$AD$6,FALSE)/AS11,3)*1000)","v":750},{"$f":"IF($A$4=\"Numbers\",MROUND(VLOOKUP($C11&R$8,'Calc-V'!$A$4:$S$399,$AD$6,FALSE),10),ROUND(VLOOKUP($C11&R$8,'Calc-V'!$A$4:$S$399,$AD$6,FALSE)/AT11,3)*1000)","v":790},{"$f":"IF($A$4=\"Numbers\",MROUND(VLOOKUP($C11&S$8,'Calc-V'!$A$4:$S$399,$AD$6,FALSE),10),ROUND(VLOOKUP($C11&S$8,'Calc-V'!$A$4:$S$399,$AD$6,FALSE)/AU11,3)*1000)","v":1830},{"$f":"IF($A$4=\"Numbers\",MROUND(VLOOKUP($C11&T$8,'Calc-V'!$A$4:$S$399,$AD$6,FALSE),10),ROUND(VLOOKUP($C11&T$8,'Calc-V'!$A$4:$S$399,$AD$6,FALSE)/AV11,3)*1000)","v":2200},{"$f":"IF($A$4=\"Numbers\",MROUND(VLOOKUP($C11&U$8,'Calc-V'!$A$4:$S$399,$AD$6,FALSE),10),ROUND(VLOOKUP($C11&U$8,'Calc-V'!$A$4:$S$399,$AD$6,FALSE)/AW11,3)*1000)","v":2180},{"$f":"IF($A$4=\"Numbers\",MROUND(VLOOKUP($C11&V$8,'Calc-V'!$A$4:$S$399,$AD$6,FALSE),10),ROUND(VLOOKUP($C11&V$8,'Calc-V'!$A$4:$S$399,$AD$6,FALSE)/AX11,3)*1000)","v":2420},{"$f":"IF($A$4=\"Numbers\",MROUND(VLOOKUP($C11&W$8,'Calc-V'!$A$4:$S$399,$AD$6,FALSE),10),ROUND(VLOOKUP($C11&W$8,'Calc-V'!$A$4:$S$399,$AD$6,FALSE)/AY11,3)*1000)","v":2420},{"$f":"IF($A$4=\"Numbers\",MROUND(VLOOKUP($C11&X$8,'Calc-V'!$A$4:$S$399,$AD$6,FALSE),10),ROUND(VLOOKUP($C11&X$8,'Calc-V'!$A$4:$S$399,$AD$6,FALSE)/AZ11,3)*1000)","v":2830},{"$f":"IF($A$4=\"Numbers\",MROUND(VLOOKUP($C11&Y$8,'Calc-V'!$A$4:$S$399,$AD$6,FALSE),10),ROUND(VLOOKUP($C11&Y$8,'Calc-V'!$A$4:$S$399,$AD$6,FALSE)/BA11,3)*1000)","v":2770},{"$f":"IF($A$4=\"Numbers\",MROUND(VLOOKUP($C11&Z$8,'Calc-V'!$A$4:$S$399,$AD$6,FALSE),10),ROUND(VLOOKUP($C11&Z$8,'Calc-V'!$A$4:$S$399,$AD$6,FALSE)/BB11,3)*1000)","v":2770},{"$f":"IF($A$4=\"Numbers\",MROUND(VLOOKUP($C11&AA$8,'Calc-V'!$A$4:$S$399,$AD$6,FALSE),10),ROUND(VLOOKUP($C11&AA$8,'Calc-V'!$A$4:$S$399,$AD$6,FALSE)/BC11,3)*1000)","v":2190},{"$f":"IF($A$4=\"Numbers\",MROUND(VLOOKUP($C11&AB$8,'Calc-V'!$A$4:$S$399,$AD$6,FALSE),10),ROUND(VLOOKUP($C11&AB$8,'Calc-V'!$A$4:$S$399,$AD$6,FALSE)/BD11,3)*1000)","v":1970},null,null,null,{"$f":"VLOOKUP($C11&AS$8,'Calc-V'!$A$4:$AA$399,$AS$6,FALSE)","v":113540},{"$f":"VLOOKUP($C11&AT$8,'Calc-V'!$A$4:$AA$399,$AS$6,FALSE)","v":114490},{"$f":"VLOOKUP($C11&AU$8,'Calc-V'!$A$4:$AA$399,$AS$6,FALSE)","v":114490},{"$f":"VLOOKUP($C11&AV$8,'Calc-V'!$A$4:$AA$399,$AS$6,FALSE)","v":114830},{"$f":"VLOOKUP($C11&AW$8,'Calc-V'!$A$4:$AA$399,$AS$6,FALSE)","v":114830},{"$f":"VLOOKUP($C11&AX$8,'Calc-V'!$A$4:$AA$399,$AS$6,FALSE)","v":115410},{"$f":"VLOOKUP($C11&AY$8,'Calc-V'!$A$4:$AA$399,$AS$6,FALSE)","v":115410},{"$f":"VLOOKUP($C11&AZ$8,'Calc-V'!$A$4:$AA$399,$AS$6,FALSE)","v":116200},{"$f":"VLOOKUP($C11&BA$8,'Calc-V'!$A$4:$AA$399,$AS$6,FALSE)","v":116210},{"$f":"VLOOKUP($C11&BB$8,'Calc-V'!$A$4:$AA$399,$AS$6,FALSE)","v":116210},{"$f":"VLOOKUP($C11&BC$8,'Calc-V'!$A$4:$AA$399,$AS$6,FALSE)","v":116240},{"$f":"VLOOKUP($C11&BD$8,'Calc-V'!$A$4:$AA$399,$AS$6,FALSE)","v":116660}]
[null,null,"Argyll & Bute",{"$f":"IF($A$4=\"Numbers\",MROUND(VLOOKUP($C12&D$8,'Calc-V'!$A$4:$W$399,$D$6,FALSE),10),ROUND(VLOOKUP($C12&D$8,'Calc-V'!$A$4:$W$399,$D$6,FALSE)/AS12,3)*1000)","v":3580},{"$f":"IF($A$4=\"Numbers\",MROUND(VLOOKUP($C12&E$8,'Calc-V'!$A$4:$W$399,$D$6,FALSE),10),ROUND(VLOOKUP($C12&E$8,'Calc-V'!$A$4:$W$399,$D$6,FALSE)/AT12,3)*1000)","v":3620},{"$f":"IF($A$4=\"Numbers\",MROUND(VLOOKUP($C12&F$8,'Calc-V'!$A$4:$W$399,$D$6,FALSE),10),ROUND(VLOOKUP($C12&F$8,'Calc-V'!$A$4:$W$399,$D$6,FALSE)/AU12,3)*1000)","v":3620},{"$f":"IF($A$4=\"Numbers\",MROUND(VLOOKUP($C12&G$8,'Calc-V'!$A$4:$W$399,$D$6,FALSE),10),ROUND(VLOOKUP($C12&G$8,'Calc-V'!$A$4:$W$399,$D$6,FALSE)/AV12,3)*1000)","v":4610},{"$f":"IF($A$4=\"Numbers\",MROUND(VLOOKUP($C12&H$8,'Calc-V'!$A$4:$W$399,$D$6,FALSE),10),ROUND(VLOOKUP($C12&H$8,'Calc-V'!$A$4:$W$399,$D$6,FALSE)/AW12,3)*1000)","v":4610},{"$f":"IF($A$4=\"Numbers\",MROUND(VLOOKUP($C12&I$8,'Calc-V'!$A$4:$W$399,$D$6,FALSE),10),ROUND(VLOOKUP($C12&I$8,'Calc-V'!$A$4:$W$399,$D$6,FALSE)/AX12,3)*1000)","v":4460},{"$f":"IF($A$4=\"Numbers\",MROUND(VLOOKUP($C12&J$8,'Calc-V'!$A$4:$W$399,$D$6,FALSE),10),ROUND(VLOOKUP($C12&J$8,'Calc-V'!$A$4:$W$399,$D$6,FALSE)/AY12,3)*1000)","v":4460},{"$f":"IF($A$4=\"Numbers\",MROUND(VLOOKUP($C12&K$8,'Calc-V'!$A$4:$W$399,$D$6,FALSE),10),ROUND(VLOOKUP($C12&K$8,'Calc-V'!$A$4:$W$399,$D$6,FALSE)/AZ12,3)*1000)","v":3860},{"$f":"IF($A$4=\"Numbers\",MROUND(VLOOKUP($C12&L$8,'Calc-V'!$A$4:$W$399,$D$6,FALSE),10),ROUND(VLOOKUP($C12&L$8,'Calc-V'!$A$4:$W$399,$D$6,FALSE)/BA12,3)*1000)","v":3320},{"$f":"IF($A$4=\"Numbers\",MROUND(VLOOKUP($C12&M$8,'Calc-V'!$A$4:$W$399,$D$6,FALSE),10),ROUND(VLOOKUP($C12&M$8,'Calc-V'!$A$4:$W$399,$D$6,FALSE)/BB12,3)*1000)","v":3320},{"$f":"IF($A$4=\"Numbers\",MROUND(VLOOKUP($C12&N$8,'Calc-V'!$A$4:$W$399,$D$6,FALSE),10),ROUND(VLOOKUP($C12&N$8,'Calc-V'!$A$4:$W$399,$D$6,FALSE)/BC12,3)*1000)","v":2740},{"$f":"IF($A$4=\"Numbers\",MROUND(VLOOKUP($C12&O$8,'Calc-V'!$A$4:$W$399,$D$6,FALSE),10),ROUND(VLOOKUP($C12&O$8,'Calc-V'!$A$4:$W$399,$D$6,FALSE)/BD12,3)*1000)","v":2120},null,{"$f":"IF($A$4=\"Numbers\",MROUND(VLOOKUP($C12&D$8,'Calc-V'!$A$4:$S$399,$Q$6,FALSE),10),ROUND(VLOOKUP($C12&D$8,'Calc-V'!$A$4:$S$399,$Q$6,FALSE)/AS12,3)*1000)","v":1090},{"$f":"IF($A$4=\"Numbers\",MROUND(VLOOKUP($C12&E$8,'Calc-V'!$A$4:$S$399,$Q$6,FALSE),10),ROUND(VLOOKUP($C12&E$8,'Calc-V'!$A$4:$S$399,$Q$6,FALSE)/AT12,3)*1000)","v":910},{"$f":"IF($A$4=\"Numbers\",MROUND(VLOOKUP($C12&F$8,'Calc-V'!$A$4:$S$399,$Q$6,FALSE),10),ROUND(VLOOKUP($C12&F$8,'Calc-V'!$A$4:$S$399,$Q$6,FALSE)/AU12,3)*1000)","v":910},{"$f":"IF($A$4=\"Numbers\",MROUND(VLOOKUP($C12&G$8,'Calc-V'!$A$4:$S$399,$Q$6,FALSE),10),ROUND(VLOOKUP($C12&G$8,'Calc-V'!$A$4:$S$399,$Q$6,FALSE)/AV12,3)*1000)","v":1090},{"$f":"IF($A$4=\"Numbers\",MROUND(VLOOKUP($C12&H$8,'Calc-V'!$A$4:$S$399,$Q$6,FALSE),10),ROUND(VLOOKUP($C12&H$8,'Calc-V'!$A$4:$S$399,$Q$6,FALSE)/AW12,3)*1000)","v":1090},{"$f":"IF($A$4=\"Numbers\",MROUND(VLOOKUP($C12&I$8,'Calc-V'!$A$4:$S$399,$Q$6,FALSE),10),ROUND(VLOOKUP($C12&I$8,'Calc-V'!$A$4:$S$399,$Q$6,FALSE)/AX12,3)*1000)","v":840},{"$f":"IF($A$4=\"Numbers\",MROUND(VLOOKUP($C12&J$8,'Calc-V'!$A$4:$S$399,$Q$6,FALSE),10),ROUND(VLOOKUP($C12&J$8,'Calc-V'!$A$4:$S$399,$Q$6,FALSE)/AY12,3)*1000)","v":840},{"$f":"IF($A$4=\"Numbers\",MROUND(VLOOKUP($C12&K$8,'Calc-V'!$A$4:$S$399,$Q$6,FALSE),10),ROUND(VLOOKUP($C12&K$8,'Calc-V'!$A$4:$S$399,$Q$6,FALSE)/AZ12,3)*1000)","v":860},{"$f":"IF($A$4=\"Numbers\",MROUND(VLOOKUP($C12&L$8,'Calc-V'!$A$4:$S$399,$Q$6,FALSE),10),ROUND(VLOOKUP($C12&L$8,'Calc-V'!$A$4:$S$399,$Q$6,FALSE)/BA12,3)*1000)","v":710},{"$f":"IF($A$4=\"Numbers\",MROUND(VLOOKUP($C12&M$8,'Calc-V'!$A$4:$S$399,$Q$6,FALSE),10),ROUND(VLOOKUP($C12&M$8,'Calc-V'!$A$4:$S$399,$Q$6,FALSE)/BB12,3)*1000)","v":710},{"$f":"IF($A$4=\"Numbers\",MROUND(VLOOKUP($C12&N$8,'Calc-V'!$A$4:$S$399,$Q$6,FALSE),10),ROUND(VLOOKUP($C12&N$8,'Calc-V'!$A$4:$S$399,$Q$6,FALSE)/BC12,3)*1000)","v":620},{"$f":"IF($A$4=\"Numbers\",MROUND(VLOOKUP($C12&O$8,'Calc-V'!$A$4:$S$399,$Q$6,FALSE),10),ROUND(VLOOKUP($C12&O$8,'Calc-V'!$A$4:$S$399,$Q$6,FALSE)/BD12,3)*1000)","v":510},null,{"$f":"IF($A$4=\"Numbers\",MROUND(VLOOKUP($C12&Q$8,'Calc-V'!$A$4:$S$399,$AD$6,FALSE),10),ROUND(VLOOKUP($C12&Q$8,'Calc-V'!$A$4:$S$399,$AD$6,FALSE)/AS12,3)*1000)","v":2490},{"$f":"IF($A$4=\"Numbers\",MROUND(VLOOKUP($C12&R$8,'Calc-V'!$A$4:$S$399,$AD$6,FALSE),10),ROUND(VLOOKUP($C12&R$8,'Calc-V'!$A$4:$S$399,$AD$6,FALSE)/AT12,3)*1000)","v":2710},{"$f":"IF($A$4=\"Numbers\",MROUND(VLOOKUP($C12&S$8,'Calc-V'!$A$4:$S$399,$AD$6,FALSE),10),ROUND(VLOOKUP($C12&S$8,'Calc-V'!$A$4:$S$399,$AD$6,FALSE)/AU12,3)*1000)","v":2710},{"$f":"IF($A$4=\"Numbers\",MROUND(VLOOKUP($C12&T$8,'Calc-V'!$A$4:$S$399,$AD$6,FALSE),10),ROUND(VLOOKUP($C12&T$8,'Calc-V'!$A$4:$S$399,$AD$6,FALSE)/AV12,3)*1000)","v":3510},{"$f":"IF($A$4=\"Numbers\",MROUND(VLOOKUP($C12&U$8,'Calc-V'!$A$4:$S$399,$AD$6,FALSE),10),ROUND(VLOOKUP($C12&U$8,'Calc-V'!$A$4:$S$399,$AD$6,FALSE)/AW12,3)*1000)","v":3510},{"$f":"IF($A$4=\"Numbers\",MROUND(VLOOKUP($C12&V$8,'Calc-V'!$A$4:$S$399,$AD$6,FALSE),10),ROUND(VLOOKUP($C12&V$8,'Calc-V'!$A$4:$S$399,$AD$6,FALSE)/AX12,3)*1000)","v":3620},{"$f":"IF($A$4=\"Numbers\",MROUND(VLOOKUP($C12&W$8,'Calc-V'!$A$4:$S$399,$AD$6,FALSE),10),ROUND(VLOOKUP($C12&W$8,'Calc-V'!$A$4:$S$399,$AD$6,FALSE)/AY12,3)*1000)","v":3620},{"$f":"IF($A$4=\"Numbers\",MROUND(VLOOKUP($C12&X$8,'Calc-V'!$A$4:$S$399,$AD$6,FALSE),10),ROUND(VLOOKUP($C12&X$8,'Calc-V'!$A$4:$S$399,$AD$6,FALSE)/AZ12,3)*1000)","v":2990},{"$f":"IF($A$4=\"Numbers\",MROUND(VLOOKUP($C12&Y$8,'Calc-V'!$A$4:$S$399,$AD$6,FALSE),10),ROUND(VLOOKUP($C12&Y$8,'Calc-V'!$A$4:$S$399,$AD$6,FALSE)/BA12,3)*1000)","v":2610},{"$f":"IF($A$4=\"Numbers\",MROUND(VLOOKUP($C12&Z$8,'Calc-V'!$A$4:$S$399,$AD$6,FALSE),10),ROUND(VLOOKUP($C12&Z$8,'Calc-V'!$A$4:$S$399,$AD$6,FALSE)/BB12,3)*1000)","v":2610},{"$f":"IF($A$4=\"Numbers\",MROUND(VLOOKUP($C12&AA$8,'Calc-V'!$A$4:$S$399,$AD$6,FALSE),10),ROUND(VLOOKUP($C12&AA$8,'Calc-V'!$A$4:$S$399,$AD$6,FALSE)/BC12,3)*1000)","v":2120},{"$f":"IF($A$4=\"Numbers\",MROUND(VLOOKUP($C12&AB$8,'Calc-V'!$A$4:$S$399,$AD$6,FALSE),10),ROUND(VLOOKUP($C12&AB$8,'Calc-V'!$A$4:$S$399,$AD$6,FALSE)/BD12,3)*1000)","v":1610},null,null,null,{"$f":"VLOOKUP($C12&AS$8,'Calc-V'!$A$4:$AA$399,$AS$6,FALSE)","v":90790},{"$f":"VLOOKUP($C12&AT$8,'Calc-V'!$A$4:$AA$399,$AS$6,FALSE)","v":89910},{"$f":"VLOOKUP($C12&AU$8,'Calc-V'!$A$4:$AA$399,$AS$6,FALSE)","v":89910},{"$f":"VLOOKUP($C12&AV$8,'Calc-V'!$A$4:$AA$399,$AS$6,FALSE)","v":89450},{"$f":"VLOOKUP($C12&AW$8,'Calc-V'!$A$4:$AA$399,$AS$6,FALSE)","v":89450},{"$f":"VLOOKUP($C12&AX$8,'Calc-V'!$A$4:$AA$399,$AS$6,FALSE)","v":88620},{"$f":"VLOOKUP($C12&AY$8,'Calc-V'!$A$4:$AA$399,$AS$6,FALSE)","v":88620},{"$f":"VLOOKUP($C12&AZ$8,'Calc-V'!$A$4:$AA$399,$AS$6,FALSE)","v":88930},{"$f":"VLOOKUP($C12&BA$8,'Calc-V'!$A$4:$AA$399,$AS$6,FALSE)","v":86900},{"$f":"VLOOKUP($C12&BB$8,'Calc-V'!$A$4:$AA$399,$AS$6,FALSE)","v":86900},{"$f":"VLOOKUP($C12&BC$8,'Calc-V'!$A$4:$AA$399,$AS$6,FALSE)","v":88050},{"$f":"VLOOKUP($C12&BD$8,'Calc-V'!$A$4:$AA$399,$AS$6,FALSE)","v":87660}]
[null,null,"Clackmannanshire",{"$f":"IF($A$4=\"Numbers\",MROUND(VLOOKUP($C13&D$8,'Calc-V'!$A$4:$W$399,$D$6,FALSE),10),ROUND(VLOOKUP($C13&D$8,'Calc-V'!$A$4:$W$399,$D$6,FALSE)/AS13,3)*1000)","v":3310},{"$f":"IF($A$4=\"Numbers\",MROUND(VLOOKUP($C13&E$8,'Calc-V'!$A$4:$W$399,$D$6,FALSE),10),ROUND(VLOOKUP($C13&E$8,'Calc-V'!$A$4:$W$399,$D$6,FALSE)/AT13,3)*1000)","v":3300},{"$f":"IF($A$4=\"Numbers\",MROUND(VLOOKUP($C13&F$8,'Calc-V'!$A$4:$W$399,$D$6,FALSE),10),ROUND(VLOOKUP($C13&F$8,'Calc-V'!$A$4:$W$399,$D$6,FALSE)/AU13,3)*1000)","v":3300},{"$f":"IF($A$4=\"Numbers\",MROUND(VLOOKUP($C13&G$8,'Calc-V'!$A$4:$W$399,$D$6,FALSE),10),ROUND(VLOOKUP($C13&G$8,'Calc-V'!$A$4:$W$399,$D$6,FALSE)/AV13,3)*1000)","v":3250},{"$f":"IF($A$4=\"Numbers\",MROUND(VLOOKUP($C13&H$8,'Calc-V'!$A$4:$W$399,$D$6,FALSE),10),ROUND(VLOOKUP($C13&H$8,'Calc-V'!$A$4:$W$399,$D$6,FALSE)/AW13,3)*1000)","v":3250},{"$f":"IF($A$4=\"Numbers\",MROUND(VLOOKUP($C13&I$8,'Calc-V'!$A$4:$W$399,$D$6,FALSE),10),ROUND(VLOOKUP($C13&I$8,'Calc-V'!$A$4:$W$399,$D$6,FALSE)/AX13,3)*1000)","v":3070},{"$f":"IF($A$4=\"Numbers\",MROUND(VLOOKUP($C13&J$8,'Calc-V'!$A$4:$W$399,$D$6,FALSE),10),ROUND(VLOOKUP($C13&J$8,'Calc-V'!$A$4:$W$399,$D$6,FALSE)/AY13,3)*1000)","v":3070},{"$f":"IF($A$4=\"Numbers\",MROUND(VLOOKUP($C13&K$8,'Calc-V'!$A$4:$W$399,$D$6,FALSE),10),ROUND(VLOOKUP($C13&K$8,'Calc-V'!$A$4:$W$399,$D$6,FALSE)/AZ13,3)*1000)","v":3000},{"$f":"IF($A$4=\"Numbers\",MROUND(VLOOKUP($C13&L$8,'Calc-V'!$A$4:$W$399,$D$6,FALSE),10),ROUND(VLOOKUP($C13&L$8,'Calc-V'!$A$4:$W$399,$D$6,FALSE)/BA13,3)*1000)","v":2870},{"$f":"IF($A$4=\"Numbers\",MROUND(VLOOKUP($C13&M$8,'Calc-V'!$A$4:$W$399,$D$6,FALSE),10),ROUND(VLOOKUP($C13&M$8,'Calc-V'!$A$4:$W$399,$D$6,FALSE)/BB13,3)*1000)","v":2870},{"$f":"IF($A$4=\"Numbers\",MROUND(VLOOKUP($C13&N$8,'Calc-V'!$A$4:$W$399,$D$6,FALSE),10),ROUND(VLOOKUP($C13&N$8,'Calc-V'!$A$4:$W$399,$D$6,FALSE)/BC13,3)*1000)","v":2940},{"$f":"IF($A$4=\"Numbers\",MROUND(VLOOKUP($C13&O$8,'Calc-V'!$A$4:$W$399,$D$6,FALSE),10),ROUND(VLOOKUP($C13&O$8,'Calc-V'!$A$4:$W$399,$D$6,FALSE)/BD13,3)*1000)","v":2660},null,{"$f":"IF($A$4=\"Numbers\",MROUND(VLOOKUP($C13&D$8,'Calc-V'!$A$4:$S$399,$Q$6,FALSE),10),ROUND(VLOOKUP($C13&D$8,'Calc-V'!$A$4:$S$399,$Q$6,FALSE)/AS13,3)*1000)","v":770},{"$f":"IF($A$4=\"Numbers\",MROUND(VLOOKUP($C13&E$8,'Calc-V'!$A$4:$S$399,$Q$6,FALSE),10),ROUND(VLOOKUP($C13&E$8,'Calc-V'!$A$4:$S$399,$Q$6,FALSE)/AT13,3)*1000)","v":840},{"$f":"IF($A$4=\"Numbers\",MROUND(VLOOKUP($C13&F$8,'Calc-V'!$A$4:$S$399,$Q$6,FALSE),10),ROUND(VLOOKUP($C13&F$8,'Calc-V'!$A$4:$S$399,$Q$6,FALSE)/AU13,3)*1000)","v":840},{"$f":"IF($A$4=\"Numbers\",MROUND(VLOOKUP($C13&G$8,'Calc-V'!$A$4:$S$399,$Q$6,FALSE),10),ROUND(VLOOKUP($C13&G$8,'Calc-V'!$A$4:$S$399,$Q$6,FALSE)/AV13,3)*1000)","v":820},{"$f":"IF($A$4=\"Numbers\",MROUND(VLOOKUP($C13&H$8,'Calc-V'!$A$4:$S$399,$Q$6,FALSE),10),ROUND(VLOOKUP($C13&H$8,'Calc-V'!$A$4:$S$399,$Q$6,FALSE)/AW13,3)*1000)","v":820},{"$f":"IF($A$4=\"Numbers\",MROUND(VLOOKUP($C13&I$8,'Calc-V'!$A$4:$S$399,$Q$6,FALSE),10),ROUND(VLOOKUP($C13&I$8,'Calc-V'!$A$4:$S$399,$Q$6,FALSE)/AX13,3)*1000)","v":790},{"$f":"IF($A$4=\"Numbers\",MROUND(VLOOKUP($C13&J$8,'Calc-V'!$A$4:$S$399,$Q$6,FALSE),10),ROUND(VLOOKUP($C13&J$8,'Calc-V'!$A$4:$S$399,$Q$6,FALSE)/AY13,3)*1000)","v":790},{"$f":"IF($A$4=\"Numbers\",MROUND(VLOOKUP($C13&K$8,'Calc-V'!$A$4:$S$399,$Q$6,FALSE),10),ROUND(VLOOKUP($C13&K$8,'Calc-V'!$A$4:$S$399,$Q$6,FALSE)/AZ13,3)*1000)","v":800},{"$f":"IF($A$4=\"Numbers\",MROUND(VLOOKUP($C13&L$8,'Calc-V'!$A$4:$S$399,$Q$6,FALSE),10),ROUND(VLOOKUP($C13&L$8,'Calc-V'!$A$4:$S$399,$Q$6,FALSE)/BA13,3)*1000)","v":720},{"$f":"IF($A$4=\"Numbers\",MROUND(VLOOKUP($C13&M$8,'Calc-V'!$A$4:$S$399,$Q$6,FALSE),10),ROUND(VLOOKUP($C13&M$8,'Calc-V'!$A$4:$S$399,$Q$6,FALSE)/BB13,3)*1000)","v":720},{"$f":"IF($A$4=\"Numbers\",MROUND(VLOOKUP($C13&N$8,'Calc-V'!$A$4:$S$399,$Q$6,FALSE),10),ROUND(VLOOKUP($C13&N$8,'Calc-V'!$A$4:$S$399,$Q$6,FALSE)/BC13,3)*1000)","v":730},{"$f":"IF($A$4=\"Numbers\",MROUND(VLOOKUP($C13&O$8,'Calc-V'!$A$4:$S$399,$Q$6,FALSE),10),ROUND(VLOOKUP($C13&O$8,'Calc-V'!$A$4:$S$399,$Q$6,FALSE)/BD13,3)*1000)","v":760},null,{"$f":"IF($A$4=\"Numbers\",MROUND(VLOOKUP($C13&Q$8,'Calc-V'!$A$4:$S$399,$AD$6,FALSE),10),ROUND(VLOOKUP($C13&Q$8,'Calc-V'!$A$4:$S$399,$AD$6,FALSE)/AS13,3)*1000)","v":2540},{"$f":"IF($A$4=\"Numbers\",MROUND(VLOOKUP($C13&R$8,'Calc-V'!$A$4:$S$399,$AD$6,FALSE),10),ROUND(VLOOKUP($C13&R$8,'Calc-V'!$A$4:$S$399,$AD$6,FALSE)/AT13,3)*1000)","v":2460},{"$f":"IF($A$4=\"Numbers\",MROUND(VLOOKUP($C13&S$8,'Calc-V'!$A$4:$S$399,$AD$6,FALSE),10),ROUND(VLOOKUP($C13&S$8,'Calc-V'!$A$4:$S$399,$AD$6,FALSE)/AU13,3)*1000)","v":2460},{"$f":"IF($A$4=\"Numbers\",MROUND(VLOOKUP($C13&T$8,'Calc-V'!$A$4:$S$399,$AD$6,FALSE),10),ROUND(VLOOKUP($C13&T$8,'Calc-V'!$A$4:$S$399,$AD$6,FALSE)/AV13,3)*1000)","v":2420},{"$f":"IF($A$4=\"Numbers\",MROUND(VLOOKUP($C13&U$8,'Calc-V'!$A$4:$S$399,$AD$6,FALSE),10),ROUND(VLOOKUP($C13&U$8,'Calc-V'!$A$4:$S$399,$AD$6,FALSE)/AW13,3)*1000)","v":2420},{"$f":"IF($A$4=\"Numbers\",MROUND(VLOOKUP($C13&V$8,'Calc-V'!$A$4:$S$399,$AD$6,FALSE),10),ROUND(VLOOKUP($C13&V$8,'Calc-V'!$A$4:$S$399,$AD$6,FALSE)/AX13,3)*1000)","v":2270},{"$f":"IF($A$4=\"Numbers\",MROUND(VLOOKUP($C13&W$8,'Calc-V'!$A$4:$S$399,$AD$6,FALSE),10),ROUND(VLOOKUP($C13&W$8,'Calc-V'!$A$4:$S$399,$AD$6,FALSE)/AY13,3)*1000)","v":2270},{"$f":"IF($A$4=\"Numbers\",MROUND(VLOOKUP($C13&X$8,'Calc-V'!$A$4:$S$399,$AD$6,FALSE),10),ROUND(VLOOKUP($C13&X$8,'Calc-V'!$A$4:$S$399,$AD$6,FALSE)/AZ13,3)*1000)","v":2200},{"$f":"IF($A$4=\"Numbers\",MROUND(VLOOKUP($C13&Y$8,'Calc-V'!$A$4:$S$399,$AD$6,FALSE),10),ROUND(VLOOKUP($C13&Y$8,'Calc-V'!$A$4:$S$399,$AD$6,FALSE)/BA13,3)*1000)","v":2150},{"$f":"IF($A$4=\"Numbers\",MROUND(VLOOKUP($C13&Z$8,'Calc-V'!$A$4:$S$399,$AD$6,FALSE),10),ROUND(VLOOKUP($C13&Z$8,'Calc-V'!$A$4:$S$399,$AD$6,FALSE)/BB13,3)*1000)","v":2150},{"$f":"IF($A$4=\"Numbers\",MROUND(VLOOKUP($C13&AA$8,'Calc-V'!$A$4:$S$399,$AD$6,FALSE),10),ROUND(VLOOKUP($C13&AA$8,'Calc-V'!$A$4:$S$399,$AD$6,FALSE)/BC13,3)*1000)","v":2220},{"$f":"IF($A$4=\"Numbers\",MROUND(VLOOKUP($C13&AB$8,'Calc-V'!$A$4:$S$399,$AD$6,FALSE),10),ROUND(VLOOKUP($C13&AB$8,'Calc-V'!$A$4:$S$399,$AD$6,FALSE)/BD13,3)*1000)","v":1900},null,null,null,{"$f":"VLOOKUP($C13&AS$8,'Calc-V'!$A$4:$AA$399,$AS$6,FALSE)","v":50600},{"$f":"VLOOKUP($C13&AT$8,'Calc-V'!$A$4:$AA$399,$AS$6,FALSE)","v":51190},{"$f":"VLOOKUP($C13&AU$8,'Calc-V'!$A$4:$AA$399,$AS$6,FALSE)","v":51190},{"$f":"VLOOKUP($C13&AV$8,'Calc-V'!$A$4:$AA$399,$AS$6,FALSE)","v":51290},{"$f":"VLOOKUP($C13&AW$8,'Calc-V'!$A$4:$AA$399,$AS$6,FALSE)","v":51290},{"$f":"VLOOKUP($C13&AX$8,'Calc-V'!$A$4:$AA$399,$AS$6,FALSE)","v":51330},{"$f":"VLOOKUP($C13&AY$8,'Calc-V'!$A$4:$AA$399,$AS$6,FALSE)","v":51330},{"$f":"VLOOKUP($C13&AZ$8,'Calc-V'!$A$4:$AA$399,$AS$6,FALSE)","v":51500},{"$f":"VLOOKUP($C13&BA$8,'Calc-V'!$A$4:$AA$399,$AS$6,FALSE)","v":51280},{"$f":"VLOOKUP($C13&BB$8,'Calc-V'!$A$4:$AA$399,$AS$6,FALSE)","v":51280},{"$f":"VLOOKUP($C13&BC$8,'Calc-V'!$A$4:$AA$399,$AS$6,FALSE)","v":51280},{"$f":"VLOOKUP($C13&BD$8,'Calc-V'!$A$4:$AA$399,$AS$6,FALSE)","v":51190}]
[null,null,"Dumfries & Galloway",{"$f":"IF($A$4=\"Numbers\",MROUND(VLOOKUP($C14&D$8,'Calc-V'!$A$4:$W$399,$D$6,FALSE),10),ROUND(VLOOKUP($C14&D$8,'Calc-V'!$A$4:$W$399,$D$6,FALSE)/AS14,3)*1000)","v":2320},{"$f":"IF($A$4=\"Numbers\",MROUND(VLOOKUP($C14&E$8,'Calc-V'!$A$4:$W$399,$D$6,FALSE),10),ROUND(VLOOKUP($C14&E$8,'Calc-V'!$A$4:$W$399,$D$6,FALSE)/AT14,3)*1000)","v":1980},{"$f":"IF($A$4=\"Numbers\",MROUND(VLOOKUP($C14&F$8,'Calc-V'!$A$4:$W$399,$D$6,FALSE),10),ROUND(VLOOKUP($C14&F$8,'Calc-V'!$A$4:$W$399,$D$6,FALSE)/AU14,3)*1000)","v":1980},{"$f":"IF($A$4=\"Numbers\",MROUND(VLOOKUP($C14&G$8,'Calc-V'!$A$4:$W$399,$D$6,FALSE),10),ROUND(VLOOKUP($C14&G$8,'Calc-V'!$A$4:$W$399,$D$6,FALSE)/AV14,3)*1000)","v":1980},{"$f":"IF($A$4=\"Numbers\",MROUND(VLOOKUP($C14&H$8,'Calc-V'!$A$4:$W$399,$D$6,FALSE),10),ROUND(VLOOKUP($C14&H$8,'Calc-V'!$A$4:$W$399,$D$6,FALSE)/AW14,3)*1000)","v":2400},{"$f":"IF($A$4=\"Numbers\",MROUND(VLOOKUP($C14&I$8,'Calc-V'!$A$4:$W$399,$D$6,FALSE),10),ROUND(VLOOKUP($C14&I$8,'Calc-V'!$A$4:$W$399,$D$6,FALSE)/AX14,3)*1000)","v":2730},{"$f":"IF($A$4=\"Numbers\",MROUND(VLOOKUP($C14&J$8,'Calc-V'!$A$4:$W$399,$D$6,FALSE),10),ROUND(VLOOKUP($C14&J$8,'Calc-V'!$A$4:$W$399,$D$6,FALSE)/AY14,3)*1000)","v":2730},{"$f":"IF($A$4=\"Numbers\",MROUND(VLOOKUP($C14&K$8,'Calc-V'!$A$4:$W$399,$D$6,FALSE),10),ROUND(VLOOKUP($C14&K$8,'Calc-V'!$A$4:$W$399,$D$6,FALSE)/AZ14,3)*1000)","v":2900},{"$f":"IF($A$4=\"Numbers\",MROUND(VLOOKUP($C14&L$8,'Calc-V'!$A$4:$W$399,$D$6,FALSE),10),ROUND(VLOOKUP($C14&L$8,'Calc-V'!$A$4:$W$399,$D$6,FALSE)/BA14,3)*1000)","v":3040},{"$f":"IF($A$4=\"Numbers\",MROUND(VLOOKUP($C14&M$8,'Calc-V'!$A$4:$W$399,$D$6,FALSE),10),ROUND(VLOOKUP($C14&M$8,'Calc-V'!$A$4:$W$399,$D$6,FALSE)/BB14,3)*1000)","v":3040},{"$f":"IF($A$4=\"Numbers\",MROUND(VLOOKUP($C14&N$8,'Calc-V'!$A$4:$W$399,$D$6,FALSE),10),ROUND(VLOOKUP($C14&N$8,'Calc-V'!$A$4:$W$399,$D$6,FALSE)/BC14,3)*1000)","v":3160},{"$f":"IF($A$4=\"Numbers\",MROUND(VLOOKUP($C14&O$8,'Calc-V'!$A$4:$W$399,$D$6,FALSE),10),ROUND(VLOOKUP($C14&O$8,'Calc-V'!$A$4:$W$399,$D$6,FALSE)/BD14,3)*1000)","v":3140},null,{"$f":"IF($A$4=\"Numbers\",MROUND(VLOOKUP($C14&D$8,'Calc-V'!$A$4:$S$399,$Q$6,FALSE),10),ROUND(VLOOKUP($C14&D$8,'Calc-V'!$A$4:$S$399,$Q$6,FALSE)/AS14,3)*1000)","v":1330},{"$f":"IF($A$4=\"Numbers\",MROUND(VLOOKUP($C14&E$8,'Calc-V'!$A$4:$S$399,$Q$6,FALSE),10),ROUND(VLOOKUP($C14&E$8,'Calc-V'!$A$4:$S$399,$Q$6,FALSE)/AT14,3)*1000)","v":1220},{"$f":"IF($A$4=\"Numbers\",MROUND(VLOOKUP($C14&F$8,'Calc-V'!$A$4:$S$399,$Q$6,FALSE),10),ROUND(VLOOKUP($C14&F$8,'Calc-V'!$A$4:$S$399,$Q$6,FALSE)/AU14,3)*1000)","v":1220},{"$f":"IF($A$4=\"Numbers\",MROUND(VLOOKUP($C14&G$8,'Calc-V'!$A$4:$S$399,$Q$6,FALSE),10),ROUND(VLOOKUP($C14&G$8,'Calc-V'!$A$4:$S$399,$Q$6,FALSE)/AV14,3)*1000)","v":1210},{"$f":"IF($A$4=\"Numbers\",MROUND(VLOOKUP($C14&H$8,'Calc-V'!$A$4:$S$399,$Q$6,FALSE),10),ROUND(VLOOKUP($C14&H$8,'Calc-V'!$A$4:$S$399,$Q$6,FALSE)/AW14,3)*1000)","v":1630},{"$f":"IF($A$4=\"Numbers\",MROUND(VLOOKUP($C14&I$8,'Calc-V'!$A$4:$S$399,$Q$6,FALSE),10),ROUND(VLOOKUP($C14&I$8,'Calc-V'!$A$4:$S$399,$Q$6,FALSE)/AX14,3)*1000)","v":1880},{"$f":"IF($A$4=\"Numbers\",MROUND(VLOOKUP($C14&J$8,'Calc-V'!$A$4:$S$399,$Q$6,FALSE),10),ROUND(VLOOKUP($C14&J$8,'Calc-V'!$A$4:$S$399,$Q$6,FALSE)/AY14,3)*1000)","v":1880},{"$f":"IF($A$4=\"Numbers\",MROUND(VLOOKUP($C14&K$8,'Calc-V'!$A$4:$S$399,$Q$6,FALSE),10),ROUND(VLOOKUP($C14&K$8,'Calc-V'!$A$4:$S$399,$Q$6,FALSE)/AZ14,3)*1000)","v":1970},{"$f":"IF($A$4=\"Numbers\",MROUND(VLOOKUP($C14&L$8,'Calc-V'!$A$4:$S$399,$Q$6,FALSE),10),ROUND(VLOOKUP($C14&L$8,'Calc-V'!$A$4:$S$399,$Q$6,FALSE)/BA14,3)*1000)","v":1940},{"$f":"IF($A$4=\"Numbers\",MROUND(VLOOKUP($C14&M$8,'Calc-V'!$A$4:$S$399,$Q$6,FALSE),10),ROUND(VLOOKUP($C14&M$8,'Calc-V'!$A$4:$S$399,$Q$6,FALSE)/BB14,3)*1000)","v":1940},{"$f":"IF($A$4=\"Numbers\",MROUND(VLOOKUP($C14&N$8,'Calc-V'!$A$4:$S$399,$Q$6,FALSE),10),ROUND(VLOOKUP($C14&N$8,'Calc-V'!$A$4:$S$399,$Q$6,FALSE)/BC14,3)*1000)","v":2000},{"$f":"IF($A$4=\"Numbers\",MROUND(VLOOKUP($C14&O$8,'Calc-V'!$A$4:$S$399,$Q$6,FALSE),10),ROUND(VLOOKUP($C14&O$8,'Calc-V'!$A$4:$S$399,$Q$6,FALSE)/BD14,3)*1000)","v":1990},null,{"$f":"IF($A$4=\"Numbers\",MROUND(VLOOKUP($C14&Q$8,'Calc-V'!$A$4:$S$399,$AD$6,FALSE),10),ROUND(VLOOKUP($C14&Q$8,'Calc-V'!$A$4:$S$399,$AD$6,FALSE)/AS14,3)*1000)","v":990},{"$f":"IF($A$4=\"Numbers\",MROUND(VLOOKUP($C14&R$8,'Calc-V'!$A$4:$S$399,$AD$6,FALSE),10),ROUND(VLOOKUP($C14&R$8,'Calc-V'!$A$4:$S$399,$AD$6,FALSE)/AT14,3)*1000)","v":760},{"$f":"IF($A$4=\"Numbers\",MROUND(VLOOKUP($C14&S$8,'Calc-V'!$A$4:$S$399,$AD$6,FALSE),10),ROUND(VLOOKUP($C14&S$8,'Calc-V'!$A$4:$S$399,$AD$6,FALSE)/AU14,3)*1000)","v":760},{"$f":"IF($A$4=\"Numbers\",MROUND(VLOOKUP($C14&T$8,'Calc-V'!$A$4:$S$399,$AD$6,FALSE),10),ROUND(VLOOKUP($C14&T$8,'Calc-V'!$A$4:$S$399,$AD$6,FALSE)/AV14,3)*1000)","v":760},{"$f":"IF($A$4=\"Numbers\",MROUND(VLOOKUP($C14&U$8,'Calc-V'!$A$4:$S$399,$AD$6,FALSE),10),ROUND(VLOOKUP($C14&U$8,'Calc-V'!$A$4:$S$399,$AD$6,FALSE)/AW14,3)*1000)","v":760},{"$f":"IF($A$4=\"Numbers\",MROUND(VLOOKUP($C14&V$8,'Calc-V'!$A$4:$S$399,$AD$6,FALSE),10),ROUND(VLOOKUP($C14&V$8,'Calc-V'!$A$4:$S$399,$AD$6,FALSE)/AX14,3)*1000)","v":850},{"$f":"IF($A$4=\"Numbers\",MROUND(VLOOKUP($C14&W$8,'Calc-V'!$A$4:$S$399,$AD$6,FALSE),10),ROUND(VLOOKUP($C14&W$8,'Calc-V'!$A$4:$S$399,$AD$6,FALSE)/AY14,3)*1000)","v":850},{"$f":"IF($A$4=\"Numbers\",MROUND(VLOOKUP($C14&X$8,'Calc-V'!$A$4:$S$399,$AD$6,FALSE),10),ROUND(VLOOKUP($C14&X$8,'Calc-V'!$A$4:$S$399,$AD$6,FALSE)/AZ14,3)*1000)","v":930},{"$f":"IF($A$4=\"Numbers\",MROUND(VLOOKUP($C14&Y$8,'Calc-V'!$A$4:$S$399,$AD$6,FALSE),10),ROUND(VLOOKUP($C14&Y$8,'Calc-V'!$A$4:$S$399,$AD$6,FALSE)/BA14,3)*1000)","v":1100},{"$f":"IF($A$4=\"Numbers\",MROUND(VLOOKUP($C14&Z$8,'Calc-V'!$A$4:$S$399,$AD$6,FALSE),10),ROUND(VLOOKUP($C14&Z$8,'Calc-V'!$A$4:$S$399,$AD$6,FALSE)/BB14,3)*1000)","v":1100},{"$f":"IF($A$4=\"Numbers\",MROUND(VLOOKUP($C14&AA$8,'Calc-V'!$A$4:$S$399,$AD$6,FALSE),10),ROUND(VLOOKUP($C14&AA$8,'Calc-V'!$A$4:$S$399,$AD$6,FALSE)/BC14,3)*1000)","v":1160},{"$f":"IF($A$4=\"Numbers\",MROUND(VLOOKUP($C14&AB$8,'Calc-V'!$A$4:$S$399,$AD$6,FALSE),10),ROUND(VLOOKUP($C14&AB$8,'Calc-V'!$A$4:$S$399,$AD$6,FALSE)/BD14,3)*1000)","v":1150},null,null,null,{"$f":"VLOOKUP($C14&AS$8,'Calc-V'!$A$4:$AA$399,$AS$6,FALSE)","v":150370},{"$f":"VLOOKUP($C14&AT$8,'Calc-V'!$A$4:$AA$399,$AS$6,FALSE)","v":151010},{"$f":"VLOOKUP($C14&AU$8,'Calc-V'!$A$4:$AA$399,$AS$6,FALSE)","v":151010},{"$f":"VLOOKUP($C14&AV$8,'Calc-V'!$A$4:$AA$399,$AS$6,FALSE)","v":151160},{"$f":"VLOOKUP($C14&AW$8,'Calc-V'!$A$4:$AA$399,$AS$6,FALSE)","v":151160},{"$f":"VLOOKUP($C14&AX$8,'Calc-V'!$A$4:$AA$399,$AS$6,FALSE)","v":151100},{"$f":"VLOOKUP($C14&AY$8,'Calc-V'!$A$4:$AA$399,$AS$6,FALSE)","v":151100},{"$f":"VLOOKUP($C14&AZ$8,'Calc-V'!$A$4:$AA$399,$AS$6,FALSE)","v":151410},{"$f":"VLOOKUP($C14&BA$8,'Calc-V'!$A$4:$AA$399,$AS$6,FALSE)","v":150830},{"$f":"VLOOKUP($C14&BB$8,'Calc-V'!$A$4:$AA$399,$AS$6,FALSE)","v":150830},{"$f":"VLOOKUP($C14&BC$8,'Calc-V'!$A$4:$AA$399,$AS$6,FALSE)","v":150270},{"$f":"VLOOKUP($C14&BD$8,'Calc-V'!$A$4:$AA$399,$AS$6,FALSE)","v":149940}]
[null,null,"Dundee City",{"$f":"IF($A$4=\"Numbers\",MROUND(VLOOKUP($C15&D$8,'Calc-V'!$A$4:$W$399,$D$6,FALSE),10),ROUND(VLOOKUP($C15&D$8,'Calc-V'!$A$4:$W$399,$D$6,FALSE)/AS15,3)*1000)","v":5380},{"$f":"IF($A$4=\"Numbers\",MROUND(VLOOKUP($C15&E$8,'Calc-V'!$A$4:$W$399,$D$6,FALSE),10),ROUND(VLOOKUP($C15&E$8,'Calc-V'!$A$4:$W$399,$D$6,FALSE)/AT15,3)*1000)","v":5450},{"$f":"IF($A$4=\"Numbers\",MROUND(VLOOKUP($C15&F$8,'Calc-V'!$A$4:$W$399,$D$6,FALSE),10),ROUND(VLOOKUP($C15&F$8,'Calc-V'!$A$4:$W$399,$D$6,FALSE)/AU15,3)*1000)","v":6240},{"$f":"IF($A$4=\"Numbers\",MROUND(VLOOKUP($C15&G$8,'Calc-V'!$A$4:$W$399,$D$6,FALSE),10),ROUND(VLOOKUP($C15&G$8,'Calc-V'!$A$4:$W$399,$D$6,FALSE)/AV15,3)*1000)","v":7030},{"$f":"IF($A$4=\"Numbers\",MROUND(VLOOKUP($C15&H$8,'Calc-V'!$A$4:$W$399,$D$6,FALSE),10),ROUND(VLOOKUP($C15&H$8,'Calc-V'!$A$4:$W$399,$D$6,FALSE)/AW15,3)*1000)","v":7320},{"$f":"IF($A$4=\"Numbers\",MROUND(VLOOKUP($C15&I$8,'Calc-V'!$A$4:$W$399,$D$6,FALSE),10),ROUND(VLOOKUP($C15&I$8,'Calc-V'!$A$4:$W$399,$D$6,FALSE)/AX15,3)*1000)","v":8000},{"$f":"IF($A$4=\"Numbers\",MROUND(VLOOKUP($C15&J$8,'Calc-V'!$A$4:$W$399,$D$6,FALSE),10),ROUND(VLOOKUP($C15&J$8,'Calc-V'!$A$4:$W$399,$D$6,FALSE)/AY15,3)*1000)","v":8000},{"$f":"IF($A$4=\"Numbers\",MROUND(VLOOKUP($C15&K$8,'Calc-V'!$A$4:$W$399,$D$6,FALSE),10),ROUND(VLOOKUP($C15&K$8,'Calc-V'!$A$4:$W$399,$D$6,FALSE)/AZ15,3)*1000)","v":7670},{"$f":"IF($A$4=\"Numbers\",MROUND(VLOOKUP($C15&L$8,'Calc-V'!$A$4:$W$399,$D$6,FALSE),10),ROUND(VLOOKUP($C15&L$8,'Calc-V'!$A$4:$W$399,$D$6,FALSE)/BA15,3)*1000)","v":8010},{"$f":"IF($A$4=\"Numbers\",MROUND(VLOOKUP($C15&M$8,'Calc-V'!$A$4:$W$399,$D$6,FALSE),10),ROUND(VLOOKUP($C15&M$8,'Calc-V'!$A$4:$W$399,$D$6,FALSE)/BB15,3)*1000)","v":8010},{"$f":"IF($A$4=\"Numbers\",MROUND(VLOOKUP($C15&N$8,'Calc-V'!$A$4:$W$399,$D$6,FALSE),10),ROUND(VLOOKUP($C15&N$8,'Calc-V'!$A$4:$W$399,$D$6,FALSE)/BC15,3)*1000)","v":8090},{"$f":"IF($A$4=\"Numbers\",MROUND(VLOOKUP($C15&O$8,'Calc-V'!$A$4:$W$399,$D$6,FALSE),10),ROUND(VLOOKUP($C15&O$8,'Calc-V'!$A$4:$W$399,$D$6,FALSE)/BD15,3)*1000)","v":8900},null,{"$f":"IF($A$4=\"Numbers\",MROUND(VLOOKUP($C15&D$8,'Calc-V'!$A$4:$S$399,$Q$6,FALSE),10),ROUND(VLOOKUP($C15&D$8,'Calc-V'!$A$4:$S$399,$Q$6,FALSE)/AS15,3)*1000)","v":2020},{"$f":"IF($A$4=\"Numbers\",MROUND(VLOOKUP($C15&E$8,'Calc-V'!$A$4:$S$399,$Q$6,FALSE),10),ROUND(VLOOKUP($C15&E$8,'Calc-V'!$A$4:$S$399,$Q$6,FALSE)/AT15,3)*1000)","v":2160},{"$f":"IF($A$4=\"Numbers\",MROUND(VLOOKUP($C15&F$8,'Calc-V'!$A$4:$S$399,$Q$6,FALSE),10),ROUND(VLOOKUP($C15&F$8,'Calc-V'!$A$4:$S$399,$Q$6,FALSE)/AU15,3)*1000)","v":2160},{"$f":"IF($A$4=\"Numbers\",MROUND(VLOOKUP($C15&G$8,'Calc-V'!$A$4:$S$399,$Q$6,FALSE),10),ROUND(VLOOKUP($C15&G$8,'Calc-V'!$A$4:$S$399,$Q$6,FALSE)/AV15,3)*1000)","v":2340},{"$f":"IF($A$4=\"Numbers\",MROUND(VLOOKUP($C15&H$8,'Calc-V'!$A$4:$S$399,$Q$6,FALSE),10),ROUND(VLOOKUP($C15&H$8,'Calc-V'!$A$4:$S$399,$Q$6,FALSE)/AW15,3)*1000)","v":2340},{"$f":"IF($A$4=\"Numbers\",MROUND(VLOOKUP($C15&I$8,'Calc-V'!$A$4:$S$399,$Q$6,FALSE),10),ROUND(VLOOKUP($C15&I$8,'Calc-V'!$A$4:$S$399,$Q$6,FALSE)/AX15,3)*1000)","v":2810},{"$f":"IF($A$4=\"Numbers\",MROUND(VLOOKUP($C15&J$8,'Calc-V'!$A$4:$S$399,$Q$6,FALSE),10),ROUND(VLOOKUP($C15&J$8,'Calc-V'!$A$4:$S$399,$Q$6,FALSE)/AY15,3)*1000)","v":2810},{"$f":"IF($A$4=\"Numbers\",MROUND(VLOOKUP($C15&K$8,'Calc-V'!$A$4:$S$399,$Q$6,FALSE),10),ROUND(VLOOKUP($C15&K$8,'Calc-V'!$A$4:$S$399,$Q$6,FALSE)/AZ15,3)*1000)","v":2320},{"$f":"IF($A$4=\"Numbers\",MROUND(VLOOKUP($C15&L$8,'Calc-V'!$A$4:$S$399,$Q$6,FALSE),10),ROUND(VLOOKUP($C15&L$8,'Calc-V'!$A$4:$S$399,$Q$6,FALSE)/BA15,3)*1000)","v":2700},{"$f":"IF($A$4=\"Numbers\",MROUND(VLOOKUP($C15&M$8,'Calc-V'!$A$4:$S$399,$Q$6,FALSE),10),ROUND(VLOOKUP($C15&M$8,'Calc-V'!$A$4:$S$399,$Q$6,FALSE)/BB15,3)*1000)","v":2700},{"$f":"IF($A$4=\"Numbers\",MROUND(VLOOKUP($C15&N$8,'Calc-V'!$A$4:$S$399,$Q$6,FALSE),10),ROUND(VLOOKUP($C15&N$8,'Calc-V'!$A$4:$S$399,$Q$6,FALSE)/BC15,3)*1000)","v":2720},{"$f":"IF($A$4=\"Numbers\",MROUND(VLOOKUP($C15&O$8,'Calc-V'!$A$4:$S$399,$Q$6,FALSE),10),ROUND(VLOOKUP($C15&O$8,'Calc-V'!$A$4:$S$399,$Q$6,FALSE)/BD15,3)*1000)","v":2560},null,{"$f":"IF($A$4=\"Numbers\",MROUND(VLOOKUP($C15&Q$8,'Calc-V'!$A$4:$S$399,$AD$6,FALSE),10),ROUND(VLOOKUP($C15&Q$8,'Calc-V'!$A$4:$S$399,$AD$6,FALSE)/AS15,3)*1000)","v":3350},{"$f":"IF($A$4=\"Numbers\",MROUND(VLOOKUP($C15&R$8,'Calc-V'!$A$4:$S$399,$AD$6,FALSE),10),ROUND(VLOOKUP($C15&R$8,'Calc-V'!$A$4:$S$399,$AD$6,FALSE)/AT15,3)*1000)","v":3290},{"$f":"IF($A$4=\"Numbers\",MROUND(VLOOKUP($C15&S$8,'Calc-V'!$A$4:$S$399,$AD$6,FALSE),10),ROUND(VLOOKUP($C15&S$8,'Calc-V'!$A$4:$S$399,$AD$6,FALSE)/AU15,3)*1000)","v":4080},{"$f":"IF($A$4=\"Numbers\",MROUND(VLOOKUP($C15&T$8,'Calc-V'!$A$4:$S$399,$AD$6,FALSE),10),ROUND(VLOOKUP($C15&T$8,'Calc-V'!$A$4:$S$399,$AD$6,FALSE)/AV15,3)*1000)","v":4690},{"$f":"IF($A$4=\"Numbers\",MROUND(VLOOKUP($C15&U$8,'Calc-V'!$A$4:$S$399,$AD$6,FALSE),10),ROUND(VLOOKUP($C15&U$8,'Calc-V'!$A$4:$S$399,$AD$6,FALSE)/AW15,3)*1000)","v":4980},{"$f":"IF($A$4=\"Numbers\",MROUND(VLOOKUP($C15&V$8,'Calc-V'!$A$4:$S$399,$AD$6,FALSE),10),ROUND(VLOOKUP($C15&V$8,'Calc-V'!$A$4:$S$399,$AD$6,FALSE)/AX15,3)*1000)","v":5180},{"$f":"IF($A$4=\"Numbers\",MROUND(VLOOKUP($C15&W$8,'Calc-V'!$A$4:$S$399,$AD$6,FALSE),10),ROUND(VLOOKUP($C15&W$8,'Calc-V'!$A$4:$S$399,$AD$6,FALSE)/AY15,3)*1000)","v":5180},{"$f":"IF($A$4=\"Numbers\",MROUND(VLOOKUP($C15&X$8,'Calc-V'!$A$4:$S$399,$AD$6,FALSE),10),ROUND(VLOOKUP($C15&X$8,'Calc-V'!$A$4:$S$399,$AD$6,FALSE)/AZ15,3)*1000)","v":5360},{"$f":"IF($A$4=\"Numbers\",MROUND(VLOOKUP($C15&Y$8,'Calc-V'!$A$4:$S$399,$AD$6,FALSE),10),ROUND(VLOOKUP($C15&Y$8,'Calc-V'!$A$4:$S$399,$AD$6,FALSE)/BA15,3)*1000)","v":5310},{"$f":"IF($A$4=\"Numbers\",MROUND(VLOOKUP($C15&Z$8,'Calc-V'!$A$4:$S$399,$AD$6,FALSE),10),ROUND(VLOOKUP($C15&Z$8,'Calc-V'!$A$4:$S$399,$AD$6,FALSE)/BB15,3)*1000)","v":5310},{"$f":"IF($A$4=\"Numbers\",MROUND(VLOOKUP($C15&AA$8,'Calc-V'!$A$4:$S$399,$AD$6,FALSE),10),ROUND(VLOOKUP($C15&AA$8,'Calc-V'!$A$4:$S$399,$AD$6,FALSE)/BC15,3)*1000)","v":5370},{"$f":"IF($A$4=\"Numbers\",MROUND(VLOOKUP($C15&AB$8,'Calc-V'!$A$4:$S$399,$AD$6,FALSE),10),ROUND(VLOOKUP($C15&AB$8,'Calc-V'!$A$4:$S$399,$AD$6,FALSE)/BD15,3)*1000)","v":6330},null,null,null,{"$f":"VLOOKUP($C15&AS$8,'Calc-V'!$A$4:$AA$399,$AS$6,FALSE)","v":143700},{"$f":"VLOOKUP($C15&AT$8,'Calc-V'!$A$4:$AA$399,$AS$6,FALSE)","v":144290},{"$f":"VLOOKUP($C15&AU$8,'Calc-V'!$A$4:$AA$399,$AS$6,FALSE)","v":144290},{"$f":"VLOOKUP($C15&AV$8,'Calc-V'!$A$4:$AA$399,$AS$6,FALSE)","v":145170},{"$f":"VLOOKUP($C15&AW$8,'Calc-V'!$A$4:$AA$399,$AS$6,FALSE)","v":145170},{"$f":"VLOOKUP($C15&AX$8,'Calc-V'!$A$4:$AA$399,$AS$6,FALSE)","v":146060},{"$f":"VLOOKUP($C15&AY$8,'Calc-V'!$A$4:$AA$399,$AS$6,FALSE)","v":146060},{"$f":"VLOOKUP($C15&AZ$8,'Calc-V'!$A$4:$AA$399,$AS$6,FALSE)","v":147200},{"$f":"VLOOKUP($C15&BA$8,'Calc-V'!$A$4:$AA$399,$AS$6,FALSE)","v":147800},{"$f":"VLOOKUP($C15&BB$8,'Calc-V'!$A$4:$AA$399,$AS$6,FALSE)","v":147800},{"$f":"VLOOKUP($C15&BC$8,'Calc-V'!$A$4:$AA$399,$AS$6,FALSE)","v":148170},{"$f":"VLOOKUP($C15&BD$8,'Calc-V'!$A$4:$AA$399,$AS$6,FALSE)","v":148260}]
[null,null,"East Ayrshire",{"$f":"IF($A$4=\"Numbers\",MROUND(VLOOKUP($C16&D$8,'Calc-V'!$A$4:$W$399,$D$6,FALSE),10),ROUND(VLOOKUP($C16&D$8,'Calc-V'!$A$4:$W$399,$D$6,FALSE)/AS16,3)*1000)","v":3940},{"$f":"IF($A$4=\"Numbers\",MROUND(VLOOKUP($C16&E$8,'Calc-V'!$A$4:$W$399,$D$6,FALSE),10),ROUND(VLOOKUP($C16&E$8,'Calc-V'!$A$4:$W$399,$D$6,FALSE)/AT16,3)*1000)","v":4110},{"$f":"IF($A$4=\"Numbers\",MROUND(VLOOKUP($C16&F$8,'Calc-V'!$A$4:$W$399,$D$6,FALSE),10),ROUND(VLOOKUP($C16&F$8,'Calc-V'!$A$4:$W$399,$D$6,FALSE)/AU16,3)*1000)","v":6190},{"$f":"IF($A$4=\"Numbers\",MROUND(VLOOKUP($C16&G$8,'Calc-V'!$A$4:$W$399,$D$6,FALSE),10),ROUND(VLOOKUP($C16&G$8,'Calc-V'!$A$4:$W$399,$D$6,FALSE)/AV16,3)*1000)","v":6540},{"$f":"IF($A$4=\"Numbers\",MROUND(VLOOKUP($C16&H$8,'Calc-V'!$A$4:$W$399,$D$6,FALSE),10),ROUND(VLOOKUP($C16&H$8,'Calc-V'!$A$4:$W$399,$D$6,FALSE)/AW16,3)*1000)","v":6540},{"$f":"IF($A$4=\"Numbers\",MROUND(VLOOKUP($C16&I$8,'Calc-V'!$A$4:$W$399,$D$6,FALSE),10),ROUND(VLOOKUP($C16&I$8,'Calc-V'!$A$4:$W$399,$D$6,FALSE)/AX16,3)*1000)","v":6580},{"$f":"IF($A$4=\"Numbers\",MROUND(VLOOKUP($C16&J$8,'Calc-V'!$A$4:$W$399,$D$6,FALSE),10),ROUND(VLOOKUP($C16&J$8,'Calc-V'!$A$4:$W$399,$D$6,FALSE)/AY16,3)*1000)","v":6580},{"$f":"IF($A$4=\"Numbers\",MROUND(VLOOKUP($C16&K$8,'Calc-V'!$A$4:$W$399,$D$6,FALSE),10),ROUND(VLOOKUP($C16&K$8,'Calc-V'!$A$4:$W$399,$D$6,FALSE)/AZ16,3)*1000)","v":6800},{"$f":"IF($A$4=\"Numbers\",MROUND(VLOOKUP($C16&L$8,'Calc-V'!$A$4:$W$399,$D$6,FALSE),10),ROUND(VLOOKUP($C16&L$8,'Calc-V'!$A$4:$W$399,$D$6,FALSE)/BA16,3)*1000)","v":6720},{"$f":"IF($A$4=\"Numbers\",MROUND(VLOOKUP($C16&M$8,'Calc-V'!$A$4:$W$399,$D$6,FALSE),10),ROUND(VLOOKUP($C16&M$8,'Calc-V'!$A$4:$W$399,$D$6,FALSE)/BB16,3)*1000)","v":6720},{"$f":"IF($A$4=\"Numbers\",MROUND(VLOOKUP($C16&N$8,'Calc-V'!$A$4:$W$399,$D$6,FALSE),10),ROUND(VLOOKUP($C16&N$8,'Calc-V'!$A$4:$W$399,$D$6,FALSE)/BC16,3)*1000)","v":7290},{"$f":"IF($A$4=\"Numbers\",MROUND(VLOOKUP($C16&O$8,'Calc-V'!$A$4:$W$399,$D$6,FALSE),10),ROUND(VLOOKUP($C16&O$8,'Calc-V'!$A$4:$W$399,$D$6,FALSE)/BD16,3)*1000)","v":6150},null,{"$f":"IF($A$4=\"Numbers\",MROUND(VLOOKUP($C16&D$8,'Calc-V'!$A$4:$S$399,$Q$6,FALSE),10),ROUND(VLOOKUP($C16&D$8,'Calc-V'!$A$4:$S$399,$Q$6,FALSE)/AS16,3)*1000)","v":1840},{"$f":"IF($A$4=\"Numbers\",MROUND(VLOOKUP($C16&E$8,'Calc-V'!$A$4:$S$399,$Q$6,FALSE),10),ROUND(VLOOKUP($C16&E$8,'Calc-V'!$A$4:$S$399,$Q$6,FALSE)/AT16,3)*1000)","v":1780},{"$f":"IF($A$4=\"Numbers\",MROUND(VLOOKUP($C16&F$8,'Calc-V'!$A$4:$S$399,$Q$6,FALSE),10),ROUND(VLOOKUP($C16&F$8,'Calc-V'!$A$4:$S$399,$Q$6,FALSE)/AU16,3)*1000)","v":1780},{"$f":"IF($A$4=\"Numbers\",MROUND(VLOOKUP($C16&G$8,'Calc-V'!$A$4:$S$399,$Q$6,FALSE),10),ROUND(VLOOKUP($C16&G$8,'Calc-V'!$A$4:$S$399,$Q$6,FALSE)/AV16,3)*1000)","v":1810},{"$f":"IF($A$4=\"Numbers\",MROUND(VLOOKUP($C16&H$8,'Calc-V'!$A$4:$S$399,$Q$6,FALSE),10),ROUND(VLOOKUP($C16&H$8,'Calc-V'!$A$4:$S$399,$Q$6,FALSE)/AW16,3)*1000)","v":1810},{"$f":"IF($A$4=\"Numbers\",MROUND(VLOOKUP($C16&I$8,'Calc-V'!$A$4:$S$399,$Q$6,FALSE),10),ROUND(VLOOKUP($C16&I$8,'Calc-V'!$A$4:$S$399,$Q$6,FALSE)/AX16,3)*1000)","v":1800},{"$f":"IF($A$4=\"Numbers\",MROUND(VLOOKUP($C16&J$8,'Calc-V'!$A$4:$S$399,$Q$6,FALSE),10),ROUND(VLOOKUP($C16&J$8,'Calc-V'!$A$4:$S$399,$Q$6,FALSE)/AY16,3)*1000)","v":1800},{"$f":"IF($A$4=\"Numbers\",MROUND(VLOOKUP($C16&K$8,'Calc-V'!$A$4:$S$399,$Q$6,FALSE),10),ROUND(VLOOKUP($C16&K$8,'Calc-V'!$A$4:$S$399,$Q$6,FALSE)/AZ16,3)*1000)","v":1920},{"$f":"IF($A$4=\"Numbers\",MROUND(VLOOKUP($C16&L$8,'Calc-V'!$A$4:$S$399,$Q$6,FALSE),10),ROUND(VLOOKUP($C16&L$8,'Calc-V'!$A$4:$S$399,$Q$6,FALSE)/BA16,3)*1000)","v":1760},{"$f":"IF($A$4=\"Numbers\",MROUND(VLOOKUP($C16&M$8,'Calc-V'!$A$4:$S$399,$Q$6,FALSE),10),ROUND(VLOOKUP($C16&M$8,'Calc-V'!$A$4:$S$399,$Q$6,FALSE)/BB16,3)*1000)","v":1760},{"$f":"IF($A$4=\"Numbers\",MROUND(VLOOKUP($C16&N$8,'Calc-V'!$A$4:$S$399,$Q$6,FALSE),10),ROUND(VLOOKUP($C16&N$8,'Calc-V'!$A$4:$S$399,$Q$6,FALSE)/BC16,3)*1000)","v":1700},{"$f":"IF($A$4=\"Numbers\",MROUND(VLOOKUP($C16&O$8,'Calc-V'!$A$4:$S$399,$Q$6,FALSE),10),ROUND(VLOOKUP($C16&O$8,'Calc-V'!$A$4:$S$399,$Q$6,FALSE)/BD16,3)*1000)","v":1630},null,{"$f":"IF($A$4=\"Numbers\",MROUND(VLOOKUP($C16&Q$8,'Calc-V'!$A$4:$S$399,$AD$6,FALSE),10),ROUND(VLOOKUP($C16&Q$8,'Calc-V'!$A$4:$S$399,$AD$6,FALSE)/AS16,3)*1000)","v":2100},{"$f":"IF($A$4=\"Numbers\",MROUND(VLOOKUP($C16&R$8,'Calc-V'!$A$4:$S$399,$AD$6,FALSE),10),ROUND(VLOOKUP($C16&R$8,'Calc-V'!$A$4:$S$399,$AD$6,FALSE)/AT16,3)*1000)","v":2330},{"$f":"IF($A$4=\"Numbers\",MROUND(VLOOKUP($C16&S$8,'Calc-V'!$A$4:$S$399,$AD$6,FALSE),10),ROUND(VLOOKUP($C16&S$8,'Calc-V'!$A$4:$S$399,$AD$6,FALSE)/AU16,3)*1000)","v":4410},{"$f":"IF($A$4=\"Numbers\",MROUND(VLOOKUP($C16&T$8,'Calc-V'!$A$4:$S$399,$AD$6,FALSE),10),ROUND(VLOOKUP($C16&T$8,'Calc-V'!$A$4:$S$399,$AD$6,FALSE)/AV16,3)*1000)","v":4730},{"$f":"IF($A$4=\"Numbers\",MROUND(VLOOKUP($C16&U$8,'Calc-V'!$A$4:$S$399,$AD$6,FALSE),10),ROUND(VLOOKUP($C16&U$8,'Calc-V'!$A$4:$S$399,$AD$6,FALSE)/AW16,3)*1000)","v":4730},{"$f":"IF($A$4=\"Numbers\",MROUND(VLOOKUP($C16&V$8,'Calc-V'!$A$4:$S$399,$AD$6,FALSE),10),ROUND(VLOOKUP($C16&V$8,'Calc-V'!$A$4:$S$399,$AD$6,FALSE)/AX16,3)*1000)","v":4780},{"$f":"IF($A$4=\"Numbers\",MROUND(VLOOKUP($C16&W$8,'Calc-V'!$A$4:$S$399,$AD$6,FALSE),10),ROUND(VLOOKUP($C16&W$8,'Calc-V'!$A$4:$S$399,$AD$6,FALSE)/AY16,3)*1000)","v":4780},{"$f":"IF($A$4=\"Numbers\",MROUND(VLOOKUP($C16&X$8,'Calc-V'!$A$4:$S$399,$AD$6,FALSE),10),ROUND(VLOOKUP($C16&X$8,'Calc-V'!$A$4:$S$399,$AD$6,FALSE)/AZ16,3)*1000)","v":4880},{"$f":"IF($A$4=\"Numbers\",MROUND(VLOOKUP($C16&Y$8,'Calc-V'!$A$4:$S$399,$AD$6,FALSE),10),ROUND(VLOOKUP($C16&Y$8,'Calc-V'!$A$4:$S$399,$AD$6,FALSE)/BA16,3)*1000)","v":4960},{"$f":"IF($A$4=\"Numbers\",MROUND(VLOOKUP($C16&Z$8,'Calc-V'!$A$4:$S$399,$AD$6,FALSE),10),ROUND(VLOOKUP($C16&Z$8,'Calc-V'!$A$4:$S$399,$AD$6,FALSE)/BB16,3)*1000)","v":4960},{"$f":"IF($A$4=\"Numbers\",MROUND(VLOOKUP($C16&AA$8,'Calc-V'!$A$4:$S$399,$AD$6,FALSE),10),ROUND(VLOOKUP($C16&AA$8,'Calc-V'!$A$4:$S$399,$AD$6,FALSE)/BC16,3)*1000)","v":5590},{"$f":"IF($A$4=\"Numbers\",MROUND(VLOOKUP($C16&AB$8,'Calc-V'!$A$4:$S$399,$AD$6,FALSE),10),ROUND(VLOOKUP($C16&AB$8,'Calc-V'!$A$4:$S$399,$AD$6,FALSE)/BD16,3)*1000)","v":4510},null,null,null,{"$f":"VLOOKUP($C16&AS$8,'Calc-V'!$A$4:$AA$399,$AS$6,FALSE)","v":120950},{"$f":"VLOOKUP($C16&AT$8,'Calc-V'!$A$4:$AA$399,$AS$6,FALSE)","v":121590},{"$f":"VLOOKUP($C16&AU$8,'Calc-V'!$A$4:$AA$399,$AS$6,FALSE)","v":121590},{"$f":"VLOOKUP($C16&AV$8,'Calc-V'!$A$4:$AA$399,$AS$6,FALSE)","v":122110},{"$f":"VLOOKUP($C16&AW$8,'Calc-V'!$A$4:$AA$399,$AS$6,FALSE)","v":122110},{"$f":"VLOOKUP($C16&AX$8,'Calc-V'!$A$4:$AA$399,$AS$6,FALSE)","v":122410},{"$f":"VLOOKUP($C16&AY$8,'Calc-V'!$A$4:$AA$399,$AS$6,FALSE)","v":122410},{"$f":"VLOOKUP($C16&AZ$8,'Calc-V'!$A$4:$AA$399,$AS$6,FALSE)","v":122690},{"$f":"VLOOKUP($C16&BA$8,'Calc-V'!$A$4:$AA$399,$AS$6,FALSE)","v":122720},{"$f":"VLOOKUP($C16&BB$8,'Calc-V'!$A$4:$AA$399,$AS$6,FALSE)","v":122720},{"$f":"VLOOKUP($C16&BC$8,'Calc-V'!$A$4:$AA$399,$AS$6,FALSE)","v":122440},{"$f":"VLOOKUP($C16&BD$8,'Calc-V'!$A$4:$AA$399,$AS$6,FALSE)","v":122150}]
[null,null,"East Dunbartonshire",{"$f":"IF($A$4=\"Numbers\",MROUND(VLOOKUP($C17&D$8,'Calc-V'!$A$4:$W$399,$D$6,FALSE),10),ROUND(VLOOKUP($C17&D$8,'Calc-V'!$A$4:$W$399,$D$6,FALSE)/AS17,3)*1000)","v":6530},{"$f":"IF($A$4=\"Numbers\",MROUND(VLOOKUP($C17&E$8,'Calc-V'!$A$4:$W$399,$D$6,FALSE),10),ROUND(VLOOKUP($C17&E$8,'Calc-V'!$A$4:$W$399,$D$6,FALSE)/AT17,3)*1000)","v":6950},{"$f":"IF($A$4=\"Numbers\",MROUND(VLOOKUP($C17&F$8,'Calc-V'!$A$4:$W$399,$D$6,FALSE),10),ROUND(VLOOKUP($C17&F$8,'Calc-V'!$A$4:$W$399,$D$6,FALSE)/AU17,3)*1000)","v":6950},{"$f":"IF($A$4=\"Numbers\",MROUND(VLOOKUP($C17&G$8,'Calc-V'!$A$4:$W$399,$D$6,FALSE),10),ROUND(VLOOKUP($C17&G$8,'Calc-V'!$A$4:$W$399,$D$6,FALSE)/AV17,3)*1000)","v":7610},{"$f":"IF($A$4=\"Numbers\",MROUND(VLOOKUP($C17&H$8,'Calc-V'!$A$4:$W$399,$D$6,FALSE),10),ROUND(VLOOKUP($C17&H$8,'Calc-V'!$A$4:$W$399,$D$6,FALSE)/AW17,3)*1000)","v":7610},{"$f":"IF($A$4=\"Numbers\",MROUND(VLOOKUP($C17&I$8,'Calc-V'!$A$4:$W$399,$D$6,FALSE),10),ROUND(VLOOKUP($C17&I$8,'Calc-V'!$A$4:$W$399,$D$6,FALSE)/AX17,3)*1000)","v":6960},{"$f":"IF($A$4=\"Numbers\",MROUND(VLOOKUP($C17&J$8,'Calc-V'!$A$4:$W$399,$D$6,FALSE),10),ROUND(VLOOKUP($C17&J$8,'Calc-V'!$A$4:$W$399,$D$6,FALSE)/AY17,3)*1000)","v":6960},{"$f":"IF($A$4=\"Numbers\",MROUND(VLOOKUP($C17&K$8,'Calc-V'!$A$4:$W$399,$D$6,FALSE),10),ROUND(VLOOKUP($C17&K$8,'Calc-V'!$A$4:$W$399,$D$6,FALSE)/AZ17,3)*1000)","v":7040},{"$f":"IF($A$4=\"Numbers\",MROUND(VLOOKUP($C17&L$8,'Calc-V'!$A$4:$W$399,$D$6,FALSE),10),ROUND(VLOOKUP($C17&L$8,'Calc-V'!$A$4:$W$399,$D$6,FALSE)/BA17,3)*1000)","v":6500},{"$f":"IF($A$4=\"Numbers\",MROUND(VLOOKUP($C17&M$8,'Calc-V'!$A$4:$W$399,$D$6,FALSE),10),ROUND(VLOOKUP($C17&M$8,'Calc-V'!$A$4:$W$399,$D$6,FALSE)/BB17,3)*1000)","v":6410},{"$f":"IF($A$4=\"Numbers\",MROUND(VLOOKUP($C17&N$8,'Calc-V'!$A$4:$W$399,$D$6,FALSE),10),ROUND(VLOOKUP($C17&N$8,'Calc-V'!$A$4:$W$399,$D$6,FALSE)/BC17,3)*1000)","v":8240},{"$f":"IF($A$4=\"Numbers\",MROUND(VLOOKUP($C17&O$8,'Calc-V'!$A$4:$W$399,$D$6,FALSE),10),ROUND(VLOOKUP($C17&O$8,'Calc-V'!$A$4:$W$399,$D$6,FALSE)/BD17,3)*1000)","v":8600},null,{"$f":"IF($A$4=\"Numbers\",MROUND(VLOOKUP($C17&D$8,'Calc-V'!$A$4:$S$399,$Q$6,FALSE),10),ROUND(VLOOKUP($C17&D$8,'Calc-V'!$A$4:$S$399,$Q$6,FALSE)/AS17,3)*1000)","v":1040},{"$f":"IF($A$4=\"Numbers\",MROUND(VLOOKUP($C17&E$8,'Calc-V'!$A$4:$S$399,$Q$6,FALSE),10),ROUND(VLOOKUP($C17&E$8,'Calc-V'!$A$4:$S$399,$Q$6,FALSE)/AT17,3)*1000)","v":960},{"$f":"IF($A$4=\"Numbers\",MROUND(VLOOKUP($C17&F$8,'Calc-V'!$A$4:$S$399,$Q$6,FALSE),10),ROUND(VLOOKUP($C17&F$8,'Calc-V'!$A$4:$S$399,$Q$6,FALSE)/AU17,3)*1000)","v":960},{"$f":"IF($A$4=\"Numbers\",MROUND(VLOOKUP($C17&G$8,'Calc-V'!$A$4:$S$399,$Q$6,FALSE),10),ROUND(VLOOKUP($C17&G$8,'Calc-V'!$A$4:$S$399,$Q$6,FALSE)/AV17,3)*1000)","v":1090},{"$f":"IF($A$4=\"Numbers\",MROUND(VLOOKUP($C17&H$8,'Calc-V'!$A$4:$S$399,$Q$6,FALSE),10),ROUND(VLOOKUP($C17&H$8,'Calc-V'!$A$4:$S$399,$Q$6,FALSE)/AW17,3)*1000)","v":1090},{"$f":"IF($A$4=\"Numbers\",MROUND(VLOOKUP($C17&I$8,'Calc-V'!$A$4:$S$399,$Q$6,FALSE),10),ROUND(VLOOKUP($C17&I$8,'Calc-V'!$A$4:$S$399,$Q$6,FALSE)/AX17,3)*1000)","v":1010},{"$f":"IF($A$4=\"Numbers\",MROUND(VLOOKUP($C17&J$8,'Calc-V'!$A$4:$S$399,$Q$6,FALSE),10),ROUND(VLOOKUP($C17&J$8,'Calc-V'!$A$4:$S$399,$Q$6,FALSE)/AY17,3)*1000)","v":1010},{"$f":"IF($A$4=\"Numbers\",MROUND(VLOOKUP($C17&K$8,'Calc-V'!$A$4:$S$399,$Q$6,FALSE),10),ROUND(VLOOKUP($C17&K$8,'Calc-V'!$A$4:$S$399,$Q$6,FALSE)/AZ17,3)*1000)","v":1080},{"$f":"IF($A$4=\"Numbers\",MROUND(VLOOKUP($C17&L$8,'Calc-V'!$A$4:$S$399,$Q$6,FALSE),10),ROUND(VLOOKUP($C17&L$8,'Calc-V'!$A$4:$S$399,$Q$6,FALSE)/BA17,3)*1000)","v":1140},{"$f":"IF($A$4=\"Numbers\",MROUND(VLOOKUP($C17&M$8,'Calc-V'!$A$4:$S$399,$Q$6,FALSE),10),ROUND(VLOOKUP($C17&M$8,'Calc-V'!$A$4:$S$399,$Q$6,FALSE)/BB17,3)*1000)","v":1140},{"$f":"IF($A$4=\"Numbers\",MROUND(VLOOKUP($C17&N$8,'Calc-V'!$A$4:$S$399,$Q$6,FALSE),10),ROUND(VLOOKUP($C17&N$8,'Calc-V'!$A$4:$S$399,$Q$6,FALSE)/BC17,3)*1000)","v":1180},{"$f":"IF($A$4=\"Numbers\",MROUND(VLOOKUP($C17&O$8,'Calc-V'!$A$4:$S$399,$Q$6,FALSE),10),ROUND(VLOOKUP($C17&O$8,'Calc-V'!$A$4:$S$399,$Q$6,FALSE)/BD17,3)*1000)","v":1030},null,{"$f":"IF($A$4=\"Numbers\",MROUND(VLOOKUP($C17&Q$8,'Calc-V'!$A$4:$S$399,$AD$6,FALSE),10),ROUND(VLOOKUP($C17&Q$8,'Calc-V'!$A$4:$S$399,$AD$6,FALSE)/AS17,3)*1000)","v":5490},{"$f":"IF($A$4=\"Numbers\",MROUND(VLOOKUP($C17&R$8,'Calc-V'!$A$4:$S$399,$AD$6,FALSE),10),ROUND(VLOOKUP($C17&R$8,'Calc-V'!$A$4:$S$399,$AD$6,FALSE)/AT17,3)*1000)","v":5990},{"$f":"IF($A$4=\"Numbers\",MROUND(VLOOKUP($C17&S$8,'Calc-V'!$A$4:$S$399,$AD$6,FALSE),10),ROUND(VLOOKUP($C17&S$8,'Calc-V'!$A$4:$S$399,$AD$6,FALSE)/AU17,3)*1000)","v":5990},{"$f":"IF($A$4=\"Numbers\",MROUND(VLOOKUP($C17&T$8,'Calc-V'!$A$4:$S$399,$AD$6,FALSE),10),ROUND(VLOOKUP($C17&T$8,'Calc-V'!$A$4:$S$399,$AD$6,FALSE)/AV17,3)*1000)","v":6520},{"$f":"IF($A$4=\"Numbers\",MROUND(VLOOKUP($C17&U$8,'Calc-V'!$A$4:$S$399,$AD$6,FALSE),10),ROUND(VLOOKUP($C17&U$8,'Calc-V'!$A$4:$S$399,$AD$6,FALSE)/AW17,3)*1000)","v":6520},{"$f":"IF($A$4=\"Numbers\",MROUND(VLOOKUP($C17&V$8,'Calc-V'!$A$4:$S$399,$AD$6,FALSE),10),ROUND(VLOOKUP($C17&V$8,'Calc-V'!$A$4:$S$399,$AD$6,FALSE)/AX17,3)*1000)","v":5950},{"$f":"IF($A$4=\"Numbers\",MROUND(VLOOKUP($C17&W$8,'Calc-V'!$A$4:$S$399,$AD$6,FALSE),10),ROUND(VLOOKUP($C17&W$8,'Calc-V'!$A$4:$S$399,$AD$6,FALSE)/AY17,3)*1000)","v":5950},{"$f":"IF($A$4=\"Numbers\",MROUND(VLOOKUP($C17&X$8,'Calc-V'!$A$4:$S$399,$AD$6,FALSE),10),ROUND(VLOOKUP($C17&X$8,'Calc-V'!$A$4:$S$399,$AD$6,FALSE)/AZ17,3)*1000)","v":5960},{"$f":"IF($A$4=\"Numbers\",MROUND(VLOOKUP($C17&Y$8,'Calc-V'!$A$4:$S$399,$AD$6,FALSE),10),ROUND(VLOOKUP($C17&Y$8,'Calc-V'!$A$4:$S$399,$AD$6,FALSE)/BA17,3)*1000)","v":5360},{"$f":"IF($A$4=\"Numbers\",MROUND(VLOOKUP($C17&Z$8,'Calc-V'!$A$4:$S$399,$AD$6,FALSE),10),ROUND(VLOOKUP($C17&Z$8,'Calc-V'!$A$4:$S$399,$AD$6,FALSE)/BB17,3)*1000)","v":5270},{"$f":"IF($A$4=\"Numbers\",MROUND(VLOOKUP($C17&AA$8,'Calc-V'!$A$4:$S$399,$AD$6,FALSE),10),ROUND(VLOOKUP($C17&AA$8,'Calc-V'!$A$4:$S$399,$AD$6,FALSE)/BC17,3)*1000)","v":7060},{"$f":"IF($A$4=\"Numbers\",MROUND(VLOOKUP($C17&AB$8,'Calc-V'!$A$4:$S$399,$AD$6,FALSE),10),ROUND(VLOOKUP($C17&AB$8,'Calc-V'!$A$4:$S$399,$AD$6,FALSE)/BD17,3)*1000)","v":7570},null,null,null,{"$f":"VLOOKUP($C17&AS$8,'Calc-V'!$A$4:$AA$399,$AS$6,FALSE)","v":105050},{"$f":"VLOOKUP($C17&AT$8,'Calc-V'!$A$4:$AA$399,$AS$6,FALSE)","v":104940},{"$f":"VLOOKUP($C17&AU$8,'Calc-V'!$A$4:$AA$399,$AS$6,FALSE)","v":104940},{"$f":"VLOOKUP($C17&AV$8,'Calc-V'!$A$4:$AA$399,$AS$6,FALSE)","v":104960},{"$f":"VLOOKUP($C17&AW$8,'Calc-V'!$A$4:$AA$399,$AS$6,FALSE)","v":104960},{"$f":"VLOOKUP($C17&AX$8,'Calc-V'!$A$4:$AA$399,$AS$6,FALSE)","v":104920},{"$f":"VLOOKUP($C17&AY$8,'Calc-V'!$A$4:$AA$399,$AS$6,FALSE)","v":104920},{"$f":"VLOOKUP($C17&AZ$8,'Calc-V'!$A$4:$AA$399,$AS$6,FALSE)","v":105000},{"$f":"VLOOKUP($C17&BA$8,'Calc-V'!$A$4:$AA$399,$AS$6,FALSE)","v":105880},{"$f":"VLOOKUP($C17&BB$8,'Calc-V'!$A$4:$AA$399,$AS$6,FALSE)","v":105880},{"$f":"VLOOKUP($C17&BC$8,'Calc-V'!$A$4:$AA$399,$AS$6,FALSE)","v":105860},{"$f":"VLOOKUP($C17&BD$8,'Calc-V'!$A$4:$AA$399,$AS$6,FALSE)","v":106730}]
[null,null,"East Lothian",{"$f":"IF($A$4=\"Numbers\",MROUND(VLOOKUP($C18&D$8,'Calc-V'!$A$4:$W$399,$D$6,FALSE),10),ROUND(VLOOKUP($C18&D$8,'Calc-V'!$A$4:$W$399,$D$6,FALSE)/AS18,3)*1000)","v":1750},{"$f":"IF($A$4=\"Numbers\",MROUND(VLOOKUP($C18&E$8,'Calc-V'!$A$4:$W$399,$D$6,FALSE),10),ROUND(VLOOKUP($C18&E$8,'Calc-V'!$A$4:$W$399,$D$6,FALSE)/AT18,3)*1000)","v":1690},{"$f":"IF($A$4=\"Numbers\",MROUND(VLOOKUP($C18&F$8,'Calc-V'!$A$4:$W$399,$D$6,FALSE),10),ROUND(VLOOKUP($C18&F$8,'Calc-V'!$A$4:$W$399,$D$6,FALSE)/AU18,3)*1000)","v":1690},{"$f":"IF($A$4=\"Numbers\",MROUND(VLOOKUP($C18&G$8,'Calc-V'!$A$4:$W$399,$D$6,FALSE),10),ROUND(VLOOKUP($C18&G$8,'Calc-V'!$A$4:$W$399,$D$6,FALSE)/AV18,3)*1000)","v":1660},{"$f":"IF($A$4=\"Numbers\",MROUND(VLOOKUP($C18&H$8,'Calc-V'!$A$4:$W$399,$D$6,FALSE),10),ROUND(VLOOKUP($C18&H$8,'Calc-V'!$A$4:$W$399,$D$6,FALSE)/AW18,3)*1000)","v":1660},{"$f":"IF($A$4=\"Numbers\",MROUND(VLOOKUP($C18&I$8,'Calc-V'!$A$4:$W$399,$D$6,FALSE),10),ROUND(VLOOKUP($C18&I$8,'Calc-V'!$A$4:$W$399,$D$6,FALSE)/AX18,3)*1000)","v":1770},{"$f":"IF($A$4=\"Numbers\",MROUND(VLOOKUP($C18&J$8,'Calc-V'!$A$4:$W$399,$D$6,FALSE),10),ROUND(VLOOKUP($C18&J$8,'Calc-V'!$A$4:$W$399,$D$6,FALSE)/AY18,3)*1000)","v":1770},{"$f":"IF($A$4=\"Numbers\",MROUND(VLOOKUP($C18&K$8,'Calc-V'!$A$4:$W$399,$D$6,FALSE),10),ROUND(VLOOKUP($C18&K$8,'Calc-V'!$A$4:$W$399,$D$6,FALSE)/AZ18,3)*1000)","v":1810},{"$f":"IF($A$4=\"Numbers\",MROUND(VLOOKUP($C18&L$8,'Calc-V'!$A$4:$W$399,$D$6,FALSE),10),ROUND(VLOOKUP($C18&L$8,'Calc-V'!$A$4:$W$399,$D$6,FALSE)/BA18,3)*1000)","v":2270},{"$f":"IF($A$4=\"Numbers\",MROUND(VLOOKUP($C18&M$8,'Calc-V'!$A$4:$W$399,$D$6,FALSE),10),ROUND(VLOOKUP($C18&M$8,'Calc-V'!$A$4:$W$399,$D$6,FALSE)/BB18,3)*1000)","v":2270},{"$f":"IF($A$4=\"Numbers\",MROUND(VLOOKUP($C18&N$8,'Calc-V'!$A$4:$W$399,$D$6,FALSE),10),ROUND(VLOOKUP($C18&N$8,'Calc-V'!$A$4:$W$399,$D$6,FALSE)/BC18,3)*1000)","v":2150},{"$f":"IF($A$4=\"Numbers\",MROUND(VLOOKUP($C18&O$8,'Calc-V'!$A$4:$W$399,$D$6,FALSE),10),ROUND(VLOOKUP($C18&O$8,'Calc-V'!$A$4:$W$399,$D$6,FALSE)/BD18,3)*1000)","v":1950},null,{"$f":"IF($A$4=\"Numbers\",MROUND(VLOOKUP($C18&D$8,'Calc-V'!$A$4:$S$399,$Q$6,FALSE),10),ROUND(VLOOKUP($C18&D$8,'Calc-V'!$A$4:$S$399,$Q$6,FALSE)/AS18,3)*1000)","v":1210},{"$f":"IF($A$4=\"Numbers\",MROUND(VLOOKUP($C18&E$8,'Calc-V'!$A$4:$S$399,$Q$6,FALSE),10),ROUND(VLOOKUP($C18&E$8,'Calc-V'!$A$4:$S$399,$Q$6,FALSE)/AT18,3)*1000)","v":1260},{"$f":"IF($A$4=\"Numbers\",MROUND(VLOOKUP($C18&F$8,'Calc-V'!$A$4:$S$399,$Q$6,FALSE),10),ROUND(VLOOKUP($C18&F$8,'Calc-V'!$A$4:$S$399,$Q$6,FALSE)/AU18,3)*1000)","v":1260},{"$f":"IF($A$4=\"Numbers\",MROUND(VLOOKUP($C18&G$8,'Calc-V'!$A$4:$S$399,$Q$6,FALSE),10),ROUND(VLOOKUP($C18&G$8,'Calc-V'!$A$4:$S$399,$Q$6,FALSE)/AV18,3)*1000)","v":1170},{"$f":"IF($A$4=\"Numbers\",MROUND(VLOOKUP($C18&H$8,'Calc-V'!$A$4:$S$399,$Q$6,FALSE),10),ROUND(VLOOKUP($C18&H$8,'Calc-V'!$A$4:$S$399,$Q$6,FALSE)/AW18,3)*1000)","v":1170},{"$f":"IF($A$4=\"Numbers\",MROUND(VLOOKUP($C18&I$8,'Calc-V'!$A$4:$S$399,$Q$6,FALSE),10),ROUND(VLOOKUP($C18&I$8,'Calc-V'!$A$4:$S$399,$Q$6,FALSE)/AX18,3)*1000)","v":1280},{"$f":"IF($A$4=\"Numbers\",MROUND(VLOOKUP($C18&J$8,'Calc-V'!$A$4:$S$399,$Q$6,FALSE),10),ROUND(VLOOKUP($C18&J$8,'Calc-V'!$A$4:$S$399,$Q$6,FALSE)/AY18,3)*1000)","v":1280},{"$f":"IF($A$4=\"Numbers\",MROUND(VLOOKUP($C18&K$8,'Calc-V'!$A$4:$S$399,$Q$6,FALSE),10),ROUND(VLOOKUP($C18&K$8,'Calc-V'!$A$4:$S$399,$Q$6,FALSE)/AZ18,3)*1000)","v":1300},{"$f":"IF($A$4=\"Numbers\",MROUND(VLOOKUP($C18&L$8,'Calc-V'!$A$4:$S$399,$Q$6,FALSE),10),ROUND(VLOOKUP($C18&L$8,'Calc-V'!$A$4:$S$399,$Q$6,FALSE)/BA18,3)*1000)","v":1440},{"$f":"IF($A$4=\"Numbers\",MROUND(VLOOKUP($C18&M$8,'Calc-V'!$A$4:$S$399,$Q$6,FALSE),10),ROUND(VLOOKUP($C18&M$8,'Calc-V'!$A$4:$S$399,$Q$6,FALSE)/BB18,3)*1000)","v":1440},{"$f":"IF($A$4=\"Numbers\",MROUND(VLOOKUP($C18&N$8,'Calc-V'!$A$4:$S$399,$Q$6,FALSE),10),ROUND(VLOOKUP($C18&N$8,'Calc-V'!$A$4:$S$399,$Q$6,FALSE)/BC18,3)*1000)","v":1500},{"$f":"IF($A$4=\"Numbers\",MROUND(VLOOKUP($C18&O$8,'Calc-V'!$A$4:$S$399,$Q$6,FALSE),10),ROUND(VLOOKUP($C18&O$8,'Calc-V'!$A$4:$S$399,$Q$6,FALSE)/BD18,3)*1000)","v":1290},null,{"$f":"IF($A$4=\"Numbers\",MROUND(VLOOKUP($C18&Q$8,'Calc-V'!$A$4:$S$399,$AD$6,FALSE),10),ROUND(VLOOKUP($C18&Q$8,'Calc-V'!$A$4:$S$399,$AD$6,FALSE)/AS18,3)*1000)","v":530},{"$f":"IF($A$4=\"Numbers\",MROUND(VLOOKUP($C18&R$8,'Calc-V'!$A$4:$S$399,$AD$6,FALSE),10),ROUND(VLOOKUP($C18&R$8,'Calc-V'!$A$4:$S$399,$AD$6,FALSE)/AT18,3)*1000)","v":430},{"$f":"IF($A$4=\"Numbers\",MROUND(VLOOKUP($C18&S$8,'Calc-V'!$A$4:$S$399,$AD$6,FALSE),10),ROUND(VLOOKUP($C18&S$8,'Calc-V'!$A$4:$S$399,$AD$6,FALSE)/AU18,3)*1000)","v":430},{"$f":"IF($A$4=\"Numbers\",MROUND(VLOOKUP($C18&T$8,'Calc-V'!$A$4:$S$399,$AD$6,FALSE),10),ROUND(VLOOKUP($C18&T$8,'Calc-V'!$A$4:$S$399,$AD$6,FALSE)/AV18,3)*1000)","v":490},{"$f":"IF($A$4=\"Numbers\",MROUND(VLOOKUP($C18&U$8,'Calc-V'!$A$4:$S$399,$AD$6,FALSE),10),ROUND(VLOOKUP($C18&U$8,'Calc-V'!$A$4:$S$399,$AD$6,FALSE)/AW18,3)*1000)","v":490},{"$f":"IF($A$4=\"Numbers\",MROUND(VLOOKUP($C18&V$8,'Calc-V'!$A$4:$S$399,$AD$6,FALSE),10),ROUND(VLOOKUP($C18&V$8,'Calc-V'!$A$4:$S$399,$AD$6,FALSE)/AX18,3)*1000)","v":490},{"$f":"IF($A$4=\"Numbers\",MROUND(VLOOKUP($C18&W$8,'Calc-V'!$A$4:$S$399,$AD$6,FALSE),10),ROUND(VLOOKUP($C18&W$8,'Calc-V'!$A$4:$S$399,$AD$6,FALSE)/AY18,3)*1000)","v":490},{"$f":"IF($A$4=\"Numbers\",MROUND(VLOOKUP($C18&X$8,'Calc-V'!$A$4:$S$399,$AD$6,FALSE),10),ROUND(VLOOKUP($C18&X$8,'Calc-V'!$A$4:$S$399,$AD$6,FALSE)/AZ18,3)*1000)","v":520},{"$f":"IF($A$4=\"Numbers\",MROUND(VLOOKUP($C18&Y$8,'Calc-V'!$A$4:$S$399,$AD$6,FALSE),10),ROUND(VLOOKUP($C18&Y$8,'Calc-V'!$A$4:$S$399,$AD$6,FALSE)/BA18,3)*1000)","v":830},{"$f":"IF($A$4=\"Numbers\",MROUND(VLOOKUP($C18&Z$8,'Calc-V'!$A$4:$S$399,$AD$6,FALSE),10),ROUND(VLOOKUP($C18&Z$8,'Calc-V'!$A$4:$S$399,$AD$6,FALSE)/BB18,3)*1000)","v":830},{"$f":"IF($A$4=\"Numbers\",MROUND(VLOOKUP($C18&AA$8,'Calc-V'!$A$4:$S$399,$AD$6,FALSE),10),ROUND(VLOOKUP($C18&AA$8,'Calc-V'!$A$4:$S$399,$AD$6,FALSE)/BC18,3)*1000)","v":650},{"$f":"IF($A$4=\"Numbers\",MROUND(VLOOKUP($C18&AB$8,'Calc-V'!$A$4:$S$399,$AD$6,FALSE),10),ROUND(VLOOKUP($C18&AB$8,'Calc-V'!$A$4:$S$399,$AD$6,FALSE)/BD18,3)*1000)","v":670},null,null,null,{"$f":"VLOOKUP($C18&AS$8,'Calc-V'!$A$4:$AA$399,$AS$6,FALSE)","v":95560},{"$f":"VLOOKUP($C18&AT$8,'Calc-V'!$A$4:$AA$399,$AS$6,FALSE)","v":97470},{"$f":"VLOOKUP($C18&AU$8,'Calc-V'!$A$4:$AA$399,$AS$6,FALSE)","v":97470},{"$f":"VLOOKUP($C18&AV$8,'Calc-V'!$A$4:$AA$399,$AS$6,FALSE)","v":98340},{"$f":"VLOOKUP($C18&AW$8,'Calc-V'!$A$4:$AA$399,$AS$6,FALSE)","v":98340},{"$f":"VLOOKUP($C18&AX$8,'Calc-V'!$A$4:$AA$399,$AS$6,FALSE)","v":99140},{"$f":"VLOOKUP($C18&AY$8,'Calc-V'!$A$4:$AA$399,$AS$6,FALSE)","v":99140},{"$f":"VLOOKUP($C18&AZ$8,'Calc-V'!$A$4:$AA$399,$AS$6,FALSE)","v":99920},{"$f":"VLOOKUP($C18&BA$8,'Calc-V'!$A$4:$AA$399,$AS$6,FALSE)","v":100850},{"$f":"VLOOKUP($C18&BB$8,'Calc-V'!$A$4:$AA$399,$AS$6,FALSE)","v":100850},{"$f":"VLOOKUP($C18&BC$8,'Calc-V'!$A$4:$AA$399,$AS$6,FALSE)","v":101360},{"$f":"VLOOKUP($C18&BD$8,'Calc-V'!$A$4:$AA$399,$AS$6,FALSE)","v":102050}]
[null,null,"East Renfrewshire",{"$f":"IF($A$4=\"Numbers\",MROUND(VLOOKUP($C19&D$8,'Calc-V'!$A$4:$W$399,$D$6,FALSE),10),ROUND(VLOOKUP($C19&D$8,'Calc-V'!$A$4:$W$399,$D$6,FALSE)/AS19,3)*1000)","v":4560},{"$f":"IF($A$4=\"Numbers\",MROUND(VLOOKUP($C19&E$8,'Calc-V'!$A$4:$W$399,$D$6,FALSE),10),ROUND(VLOOKUP($C19&E$8,'Calc-V'!$A$4:$W$399,$D$6,FALSE)/AT19,3)*1000)","v":4370},{"$f":"IF($A$4=\"Numbers\",MROUND(VLOOKUP($C19&F$8,'Calc-V'!$A$4:$W$399,$D$6,FALSE),10),ROUND(VLOOKUP($C19&F$8,'Calc-V'!$A$4:$W$399,$D$6,FALSE)/AU19,3)*1000)","v":4370},{"$f":"IF($A$4=\"Numbers\",MROUND(VLOOKUP($C19&G$8,'Calc-V'!$A$4:$W$399,$D$6,FALSE),10),ROUND(VLOOKUP($C19&G$8,'Calc-V'!$A$4:$W$399,$D$6,FALSE)/AV19,3)*1000)","v":4420},{"$f":"IF($A$4=\"Numbers\",MROUND(VLOOKUP($C19&H$8,'Calc-V'!$A$4:$W$399,$D$6,FALSE),10),ROUND(VLOOKUP($C19&H$8,'Calc-V'!$A$4:$W$399,$D$6,FALSE)/AW19,3)*1000)","v":4420},{"$f":"IF($A$4=\"Numbers\",MROUND(VLOOKUP($C19&I$8,'Calc-V'!$A$4:$W$399,$D$6,FALSE),10),ROUND(VLOOKUP($C19&I$8,'Calc-V'!$A$4:$W$399,$D$6,FALSE)/AX19,3)*1000)","v":4230},{"$f":"IF($A$4=\"Numbers\",MROUND(VLOOKUP($C19&J$8,'Calc-V'!$A$4:$W$399,$D$6,FALSE),10),ROUND(VLOOKUP($C19&J$8,'Calc-V'!$A$4:$W$399,$D$6,FALSE)/AY19,3)*1000)","v":4230},{"$f":"IF($A$4=\"Numbers\",MROUND(VLOOKUP($C19&K$8,'Calc-V'!$A$4:$W$399,$D$6,FALSE),10),ROUND(VLOOKUP($C19&K$8,'Calc-V'!$A$4:$W$399,$D$6,FALSE)/AZ19,3)*1000)","v":4640},{"$f":"IF($A$4=\"Numbers\",MROUND(VLOOKUP($C19&L$8,'Calc-V'!$A$4:$W$399,$D$6,FALSE),10),ROUND(VLOOKUP($C19&L$8,'Calc-V'!$A$4:$W$399,$D$6,FALSE)/BA19,3)*1000)","v":4810},{"$f":"IF($A$4=\"Numbers\",MROUND(VLOOKUP($C19&M$8,'Calc-V'!$A$4:$W$399,$D$6,FALSE),10),ROUND(VLOOKUP($C19&M$8,'Calc-V'!$A$4:$W$399,$D$6,FALSE)/BB19,3)*1000)","v":4810},{"$f":"IF($A$4=\"Numbers\",MROUND(VLOOKUP($C19&N$8,'Calc-V'!$A$4:$W$399,$D$6,FALSE),10),ROUND(VLOOKUP($C19&N$8,'Calc-V'!$A$4:$W$399,$D$6,FALSE)/BC19,3)*1000)","v":4370},{"$f":"IF($A$4=\"Numbers\",MROUND(VLOOKUP($C19&O$8,'Calc-V'!$A$4:$W$399,$D$6,FALSE),10),ROUND(VLOOKUP($C19&O$8,'Calc-V'!$A$4:$W$399,$D$6,FALSE)/BD19,3)*1000)","v":4370},null,{"$f":"IF($A$4=\"Numbers\",MROUND(VLOOKUP($C19&D$8,'Calc-V'!$A$4:$S$399,$Q$6,FALSE),10),ROUND(VLOOKUP($C19&D$8,'Calc-V'!$A$4:$S$399,$Q$6,FALSE)/AS19,3)*1000)","v":1520},{"$f":"IF($A$4=\"Numbers\",MROUND(VLOOKUP($C19&E$8,'Calc-V'!$A$4:$S$399,$Q$6,FALSE),10),ROUND(VLOOKUP($C19&E$8,'Calc-V'!$A$4:$S$399,$Q$6,FALSE)/AT19,3)*1000)","v":1200},{"$f":"IF($A$4=\"Numbers\",MROUND(VLOOKUP($C19&F$8,'Calc-V'!$A$4:$S$399,$Q$6,FALSE),10),ROUND(VLOOKUP($C19&F$8,'Calc-V'!$A$4:$S$399,$Q$6,FALSE)/AU19,3)*1000)","v":1200},{"$f":"IF($A$4=\"Numbers\",MROUND(VLOOKUP($C19&G$8,'Calc-V'!$A$4:$S$399,$Q$6,FALSE),10),ROUND(VLOOKUP($C19&G$8,'Calc-V'!$A$4:$S$399,$Q$6,FALSE)/AV19,3)*1000)","v":1200},{"$f":"IF($A$4=\"Numbers\",MROUND(VLOOKUP($C19&H$8,'Calc-V'!$A$4:$S$399,$Q$6,FALSE),10),ROUND(VLOOKUP($C19&H$8,'Calc-V'!$A$4:$S$399,$Q$6,FALSE)/AW19,3)*1000)","v":1200},{"$f":"IF($A$4=\"Numbers\",MROUND(VLOOKUP($C19&I$8,'Calc-V'!$A$4:$S$399,$Q$6,FALSE),10),ROUND(VLOOKUP($C19&I$8,'Calc-V'!$A$4:$S$399,$Q$6,FALSE)/AX19,3)*1000)","v":1150},{"$f":"IF($A$4=\"Numbers\",MROUND(VLOOKUP($C19&J$8,'Calc-V'!$A$4:$S$399,$Q$6,FALSE),10),ROUND(VLOOKUP($C19&J$8,'Calc-V'!$A$4:$S$399,$Q$6,FALSE)/AY19,3)*1000)","v":1150},{"$f":"IF($A$4=\"Numbers\",MROUND(VLOOKUP($C19&K$8,'Calc-V'!$A$4:$S$399,$Q$6,FALSE),10),ROUND(VLOOKUP($C19&K$8,'Calc-V'!$A$4:$S$399,$Q$6,FALSE)/AZ19,3)*1000)","v":1260},{"$f":"IF($A$4=\"Numbers\",MROUND(VLOOKUP($C19&L$8,'Calc-V'!$A$4:$S$399,$Q$6,FALSE),10),ROUND(VLOOKUP($C19&L$8,'Calc-V'!$A$4:$S$399,$Q$6,FALSE)/BA19,3)*1000)","v":1320},{"$f":"IF($A$4=\"Numbers\",MROUND(VLOOKUP($C19&M$8,'Calc-V'!$A$4:$S$399,$Q$6,FALSE),10),ROUND(VLOOKUP($C19&M$8,'Calc-V'!$A$4:$S$399,$Q$6,FALSE)/BB19,3)*1000)","v":1320},{"$f":"IF($A$4=\"Numbers\",MROUND(VLOOKUP($C19&N$8,'Calc-V'!$A$4:$S$399,$Q$6,FALSE),10),ROUND(VLOOKUP($C19&N$8,'Calc-V'!$A$4:$S$399,$Q$6,FALSE)/BC19,3)*1000)","v":990},{"$f":"IF($A$4=\"Numbers\",MROUND(VLOOKUP($C19&O$8,'Calc-V'!$A$4:$S$399,$Q$6,FALSE),10),ROUND(VLOOKUP($C19&O$8,'Calc-V'!$A$4:$S$399,$Q$6,FALSE)/BD19,3)*1000)","v":990},null,{"$f":"IF($A$4=\"Numbers\",MROUND(VLOOKUP($C19&Q$8,'Calc-V'!$A$4:$S$399,$AD$6,FALSE),10),ROUND(VLOOKUP($C19&Q$8,'Calc-V'!$A$4:$S$399,$AD$6,FALSE)/AS19,3)*1000)","v":3040},{"$f":"IF($A$4=\"Numbers\",MROUND(VLOOKUP($C19&R$8,'Calc-V'!$A$4:$S$399,$AD$6,FALSE),10),ROUND(VLOOKUP($C19&R$8,'Calc-V'!$A$4:$S$399,$AD$6,FALSE)/AT19,3)*1000)","v":3170},{"$f":"IF($A$4=\"Numbers\",MROUND(VLOOKUP($C19&S$8,'Calc-V'!$A$4:$S$399,$AD$6,FALSE),10),ROUND(VLOOKUP($C19&S$8,'Calc-V'!$A$4:$S$399,$AD$6,FALSE)/AU19,3)*1000)","v":3170},{"$f":"IF($A$4=\"Numbers\",MROUND(VLOOKUP($C19&T$8,'Calc-V'!$A$4:$S$399,$AD$6,FALSE),10),ROUND(VLOOKUP($C19&T$8,'Calc-V'!$A$4:$S$399,$AD$6,FALSE)/AV19,3)*1000)","v":3220},{"$f":"IF($A$4=\"Numbers\",MROUND(VLOOKUP($C19&U$8,'Calc-V'!$A$4:$S$399,$AD$6,FALSE),10),ROUND(VLOOKUP($C19&U$8,'Calc-V'!$A$4:$S$399,$AD$6,FALSE)/AW19,3)*1000)","v":3220},{"$f":"IF($A$4=\"Numbers\",MROUND(VLOOKUP($C19&V$8,'Calc-V'!$A$4:$S$399,$AD$6,FALSE),10),ROUND(VLOOKUP($C19&V$8,'Calc-V'!$A$4:$S$399,$AD$6,FALSE)/AX19,3)*1000)","v":3080},{"$f":"IF($A$4=\"Numbers\",MROUND(VLOOKUP($C19&W$8,'Calc-V'!$A$4:$S$399,$AD$6,FALSE),10),ROUND(VLOOKUP($C19&W$8,'Calc-V'!$A$4:$S$399,$AD$6,FALSE)/AY19,3)*1000)","v":3080},{"$f":"IF($A$4=\"Numbers\",MROUND(VLOOKUP($C19&X$8,'Calc-V'!$A$4:$S$399,$AD$6,FALSE),10),ROUND(VLOOKUP($C19&X$8,'Calc-V'!$A$4:$S$399,$AD$6,FALSE)/AZ19,3)*1000)","v":3380},{"$f":"IF($A$4=\"Numbers\",MROUND(VLOOKUP($C19&Y$8,'Calc-V'!$A$4:$S$399,$AD$6,FALSE),10),ROUND(VLOOKUP($C19&Y$8,'Calc-V'!$A$4:$S$399,$AD$6,FALSE)/BA19,3)*1000)","v":3490},{"$f":"IF($A$4=\"Numbers\",MROUND(VLOOKUP($C19&Z$8,'Calc-V'!$A$4:$S$399,$AD$6,FALSE),10),ROUND(VLOOKUP($C19&Z$8,'Calc-V'!$A$4:$S$399,$AD$6,FALSE)/BB19,3)*1000)","v":3490},{"$f":"IF($A$4=\"Numbers\",MROUND(VLOOKUP($C19&AA$8,'Calc-V'!$A$4:$S$399,$AD$6,FALSE),10),ROUND(VLOOKUP($C19&AA$8,'Calc-V'!$A$4:$S$399,$AD$6,FALSE)/BC19,3)*1000)","v":3370},{"$f":"IF($A$4=\"Numbers\",MROUND(VLOOKUP($C19&AB$8,'Calc-V'!$A$4:$S$399,$AD$6,FALSE),10),ROUND(VLOOKUP($C19&AB$8,'Calc-V'!$A$4:$S$399,$AD$6,FALSE)/BD19,3)*1000)","v":3370},null,null,null,{"$f":"VLOOKUP($C19&AS$8,'Calc-V'!$A$4:$AA$399,$AS$6,FALSE)","v":89840},{"$f":"VLOOKUP($C19&AT$8,'Calc-V'!$A$4:$AA$399,$AS$6,FALSE)","v":89870},{"$f":"VLOOKUP($C19&AU$8,'Calc-V'!$A$4:$AA$399,$AS$6,FALSE)","v":89870},{"$f":"VLOOKUP($C19&AV$8,'Calc-V'!$A$4:$AA$399,$AS$6,FALSE)","v":89980},{"$f":"VLOOKUP($C19&AW$8,'Calc-V'!$A$4:$AA$399,$AS$6,FALSE)","v":89980},{"$f":"VLOOKUP($C19&AX$8,'Calc-V'!$A$4:$AA$399,$AS$6,FALSE)","v":90410},{"$f":"VLOOKUP($C19&AY$8,'Calc-V'!$A$4:$AA$399,$AS$6,FALSE)","v":90410},{"$f":"VLOOKUP($C19&AZ$8,'Calc-V'!$A$4:$AA$399,$AS$6,FALSE)","v":90810},{"$f":"VLOOKUP($C19&BA$8,'Calc-V'!$A$4:$AA$399,$AS$6,FALSE)","v":91030},{"$f":"VLOOKUP($C19&BB$8,'Calc-V'!$A$4:$AA$399,$AS$6,FALSE)","v":91030},{"$f":"VLOOKUP($C19&BC$8,'Calc-V'!$A$4:$AA$399,$AS$6,FALSE)","v":91500},{"$f":"VLOOKUP($C19&BD$8,'Calc-V'!$A$4:$AA$399,$AS$6,FALSE)","v":92380}]
[null,null,"Edinburgh, City of",{"$f":"IF($A$4=\"Numbers\",MROUND(VLOOKUP($C20&D$8,'Calc-V'!$A$4:$W$399,$D$6,FALSE),10),ROUND(VLOOKUP($C20&D$8,'Calc-V'!$A$4:$W$399,$D$6,FALSE)/AS20,3)*1000)","v":21230},{"$f":"IF($A$4=\"Numbers\",MROUND(VLOOKUP($C20&E$8,'Calc-V'!$A$4:$W$399,$D$6,FALSE),10),ROUND(VLOOKUP($C20&E$8,'Calc-V'!$A$4:$W$399,$D$6,FALSE)/AT20,3)*1000)","v":21300},{"$f":"IF($A$4=\"Numbers\",MROUND(VLOOKUP($C20&F$8,'Calc-V'!$A$4:$W$399,$D$6,FALSE),10),ROUND(VLOOKUP($C20&F$8,'Calc-V'!$A$4:$W$399,$D$6,FALSE)/AU20,3)*1000)","v":21300},{"$f":"IF($A$4=\"Numbers\",MROUND(VLOOKUP($C20&G$8,'Calc-V'!$A$4:$W$399,$D$6,FALSE),10),ROUND(VLOOKUP($C20&G$8,'Calc-V'!$A$4:$W$399,$D$6,FALSE)/AV20,3)*1000)","v":21820},{"$f":"IF($A$4=\"Numbers\",MROUND(VLOOKUP($C20&H$8,'Calc-V'!$A$4:$W$399,$D$6,FALSE),10),ROUND(VLOOKUP($C20&H$8,'Calc-V'!$A$4:$W$399,$D$6,FALSE)/AW20,3)*1000)","v":21820},{"$f":"IF($A$4=\"Numbers\",MROUND(VLOOKUP($C20&I$8,'Calc-V'!$A$4:$W$399,$D$6,FALSE),10),ROUND(VLOOKUP($C20&I$8,'Calc-V'!$A$4:$W$399,$D$6,FALSE)/AX20,3)*1000)","v":21840},{"$f":"IF($A$4=\"Numbers\",MROUND(VLOOKUP($C20&J$8,'Calc-V'!$A$4:$W$399,$D$6,FALSE),10),ROUND(VLOOKUP($C20&J$8,'Calc-V'!$A$4:$W$399,$D$6,FALSE)/AY20,3)*1000)","v":16220},{"$f":"IF($A$4=\"Numbers\",MROUND(VLOOKUP($C20&K$8,'Calc-V'!$A$4:$W$399,$D$6,FALSE),10),ROUND(VLOOKUP($C20&K$8,'Calc-V'!$A$4:$W$399,$D$6,FALSE)/AZ20,3)*1000)","v":16720},{"$f":"IF($A$4=\"Numbers\",MROUND(VLOOKUP($C20&L$8,'Calc-V'!$A$4:$W$399,$D$6,FALSE),10),ROUND(VLOOKUP($C20&L$8,'Calc-V'!$A$4:$W$399,$D$6,FALSE)/BA20,3)*1000)","v":15310},{"$f":"IF($A$4=\"Numbers\",MROUND(VLOOKUP($C20&M$8,'Calc-V'!$A$4:$W$399,$D$6,FALSE),10),ROUND(VLOOKUP($C20&M$8,'Calc-V'!$A$4:$W$399,$D$6,FALSE)/BB20,3)*1000)","v":15310},{"$f":"IF($A$4=\"Numbers\",MROUND(VLOOKUP($C20&N$8,'Calc-V'!$A$4:$W$399,$D$6,FALSE),10),ROUND(VLOOKUP($C20&N$8,'Calc-V'!$A$4:$W$399,$D$6,FALSE)/BC20,3)*1000)","v":14990},{"$f":"IF($A$4=\"Numbers\",MROUND(VLOOKUP($C20&O$8,'Calc-V'!$A$4:$W$399,$D$6,FALSE),10),ROUND(VLOOKUP($C20&O$8,'Calc-V'!$A$4:$W$399,$D$6,FALSE)/BD20,3)*1000)","v":14880},null,{"$f":"IF($A$4=\"Numbers\",MROUND(VLOOKUP($C20&D$8,'Calc-V'!$A$4:$S$399,$Q$6,FALSE),10),ROUND(VLOOKUP($C20&D$8,'Calc-V'!$A$4:$S$399,$Q$6,FALSE)/AS20,3)*1000)","v":3930},{"$f":"IF($A$4=\"Numbers\",MROUND(VLOOKUP($C20&E$8,'Calc-V'!$A$4:$S$399,$Q$6,FALSE),10),ROUND(VLOOKUP($C20&E$8,'Calc-V'!$A$4:$S$399,$Q$6,FALSE)/AT20,3)*1000)","v":3930},{"$f":"IF($A$4=\"Numbers\",MROUND(VLOOKUP($C20&F$8,'Calc-V'!$A$4:$S$399,$Q$6,FALSE),10),ROUND(VLOOKUP($C20&F$8,'Calc-V'!$A$4:$S$399,$Q$6,FALSE)/AU20,3)*1000)","v":3930},{"$f":"IF($A$4=\"Numbers\",MROUND(VLOOKUP($C20&G$8,'Calc-V'!$A$4:$S$399,$Q$6,FALSE),10),ROUND(VLOOKUP($C20&G$8,'Calc-V'!$A$4:$S$399,$Q$6,FALSE)/AV20,3)*1000)","v":4110},{"$f":"IF($A$4=\"Numbers\",MROUND(VLOOKUP($C20&H$8,'Calc-V'!$A$4:$S$399,$Q$6,FALSE),10),ROUND(VLOOKUP($C20&H$8,'Calc-V'!$A$4:$S$399,$Q$6,FALSE)/AW20,3)*1000)","v":4110},{"$f":"IF($A$4=\"Numbers\",MROUND(VLOOKUP($C20&I$8,'Calc-V'!$A$4:$S$399,$Q$6,FALSE),10),ROUND(VLOOKUP($C20&I$8,'Calc-V'!$A$4:$S$399,$Q$6,FALSE)/AX20,3)*1000)","v":4150},{"$f":"IF($A$4=\"Numbers\",MROUND(VLOOKUP($C20&J$8,'Calc-V'!$A$4:$S$399,$Q$6,FALSE),10),ROUND(VLOOKUP($C20&J$8,'Calc-V'!$A$4:$S$399,$Q$6,FALSE)/AY20,3)*1000)","v":4150},{"$f":"IF($A$4=\"Numbers\",MROUND(VLOOKUP($C20&K$8,'Calc-V'!$A$4:$S$399,$Q$6,FALSE),10),ROUND(VLOOKUP($C20&K$8,'Calc-V'!$A$4:$S$399,$Q$6,FALSE)/AZ20,3)*1000)","v":4520},{"$f":"IF($A$4=\"Numbers\",MROUND(VLOOKUP($C20&L$8,'Calc-V'!$A$4:$S$399,$Q$6,FALSE),10),ROUND(VLOOKUP($C20&L$8,'Calc-V'!$A$4:$S$399,$Q$6,FALSE)/BA20,3)*1000)","v":3790},{"$f":"IF($A$4=\"Numbers\",MROUND(VLOOKUP($C20&M$8,'Calc-V'!$A$4:$S$399,$Q$6,FALSE),10),ROUND(VLOOKUP($C20&M$8,'Calc-V'!$A$4:$S$399,$Q$6,FALSE)/BB20,3)*1000)","v":3790},{"$f":"IF($A$4=\"Numbers\",MROUND(VLOOKUP($C20&N$8,'Calc-V'!$A$4:$S$399,$Q$6,FALSE),10),ROUND(VLOOKUP($C20&N$8,'Calc-V'!$A$4:$S$399,$Q$6,FALSE)/BC20,3)*1000)","v":3590},{"$f":"IF($A$4=\"Numbers\",MROUND(VLOOKUP($C20&O$8,'Calc-V'!$A$4:$S$399,$Q$6,FALSE),10),ROUND(VLOOKUP($C20&O$8,'Calc-V'!$A$4:$S$399,$Q$6,FALSE)/BD20,3)*1000)","v":3280},null,{"$f":"IF($A$4=\"Numbers\",MROUND(VLOOKUP($C20&Q$8,'Calc-V'!$A$4:$S$399,$AD$6,FALSE),10),ROUND(VLOOKUP($C20&Q$8,'Calc-V'!$A$4:$S$399,$AD$6,FALSE)/AS20,3)*1000)","v":17300},{"$f":"IF($A$4=\"Numbers\",MROUND(VLOOKUP($C20&R$8,'Calc-V'!$A$4:$S$399,$AD$6,FALSE),10),ROUND(VLOOKUP($C20&R$8,'Calc-V'!$A$4:$S$399,$AD$6,FALSE)/AT20,3)*1000)","v":17360},{"$f":"IF($A$4=\"Numbers\",MROUND(VLOOKUP($C20&S$8,'Calc-V'!$A$4:$S$399,$AD$6,FALSE),10),ROUND(VLOOKUP($C20&S$8,'Calc-V'!$A$4:$S$399,$AD$6,FALSE)/AU20,3)*1000)","v":17360},{"$f":"IF($A$4=\"Numbers\",MROUND(VLOOKUP($C20&T$8,'Calc-V'!$A$4:$S$399,$AD$6,FALSE),10),ROUND(VLOOKUP($C20&T$8,'Calc-V'!$A$4:$S$399,$AD$6,FALSE)/AV20,3)*1000)","v":17710},{"$f":"IF($A$4=\"Numbers\",MROUND(VLOOKUP($C20&U$8,'Calc-V'!$A$4:$S$399,$AD$6,FALSE),10),ROUND(VLOOKUP($C20&U$8,'Calc-V'!$A$4:$S$399,$AD$6,FALSE)/AW20,3)*1000)","v":17710},{"$f":"IF($A$4=\"Numbers\",MROUND(VLOOKUP($C20&V$8,'Calc-V'!$A$4:$S$399,$AD$6,FALSE),10),ROUND(VLOOKUP($C20&V$8,'Calc-V'!$A$4:$S$399,$AD$6,FALSE)/AX20,3)*1000)","v":17680},{"$f":"IF($A$4=\"Numbers\",MROUND(VLOOKUP($C20&W$8,'Calc-V'!$A$4:$S$399,$AD$6,FALSE),10),ROUND(VLOOKUP($C20&W$8,'Calc-V'!$A$4:$S$399,$AD$6,FALSE)/AY20,3)*1000)","v":12070},{"$f":"IF($A$4=\"Numbers\",MROUND(VLOOKUP($C20&X$8,'Calc-V'!$A$4:$S$399,$AD$6,FALSE),10),ROUND(VLOOKUP($C20&X$8,'Calc-V'!$A$4:$S$399,$AD$6,FALSE)/AZ20,3)*1000)","v":12200},{"$f":"IF($A$4=\"Numbers\",MROUND(VLOOKUP($C20&Y$8,'Calc-V'!$A$4:$S$399,$AD$6,FALSE),10),ROUND(VLOOKUP($C20&Y$8,'Calc-V'!$A$4:$S$399,$AD$6,FALSE)/BA20,3)*1000)","v":11530},{"$f":"IF($A$4=\"Numbers\",MROUND(VLOOKUP($C20&Z$8,'Calc-V'!$A$4:$S$399,$AD$6,FALSE),10),ROUND(VLOOKUP($C20&Z$8,'Calc-V'!$A$4:$S$399,$AD$6,FALSE)/BB20,3)*1000)","v":11530},{"$f":"IF($A$4=\"Numbers\",MROUND(VLOOKUP($C20&AA$8,'Calc-V'!$A$4:$S$399,$AD$6,FALSE),10),ROUND(VLOOKUP($C20&AA$8,'Calc-V'!$A$4:$S$399,$AD$6,FALSE)/BC20,3)*1000)","v":11400},{"$f":"IF($A$4=\"Numbers\",MROUND(VLOOKUP($C20&AB$8,'Calc-V'!$A$4:$S$399,$AD$6,FALSE),10),ROUND(VLOOKUP($C20&AB$8,'Calc-V'!$A$4:$S$399,$AD$6,FALSE)/BD20,3)*1000)","v":11590},null,null,null,{"$f":"VLOOKUP($C20&AS$8,'Calc-V'!$A$4:$AA$399,$AS$6,FALSE)","v":456040},{"$f":"VLOOKUP($C20&AT$8,'Calc-V'!$A$4:$AA$399,$AS$6,FALSE)","v":458520},{"$f":"VLOOKUP($C20&AU$8,'Calc-V'!$A$4:$AA$399,$AS$6,FALSE)","v":458520},{"$f":"VLOOKUP($C20&AV$8,'Calc-V'!$A$4:$AA$399,$AS$6,FALSE)","v":463240},{"$f":"VLOOKUP($C20&AW$8,'Calc-V'!$A$4:$AA$399,$AS$6,FALSE)","v":463240},{"$f":"VLOOKUP($C20&AX$8,'Calc-V'!$A$4:$AA$399,$AS$6,FALSE)","v":469940},{"$f":"VLOOKUP($C20&AY$8,'Calc-V'!$A$4:$AA$399,$AS$6,FALSE)","v":469940},{"$f":"VLOOKUP($C20&AZ$8,'Calc-V'!$A$4:$AA$399,$AS$6,FALSE)","v":477940},{"$f":"VLOOKUP($C20&BA$8,'Calc-V'!$A$4:$AA$399,$AS$6,FALSE)","v":482640},{"$f":"VLOOKUP($C20&BB$8,'Calc-V'!$A$4:$AA$399,$AS$6,FALSE)","v":482640},{"$f":"VLOOKUP($C20&BC$8,'Calc-V'!$A$4:$AA$399,$AS$6,FALSE)","v":487500},{"$f":"VLOOKUP($C20&BD$8,'Calc-V'!$A$4:$AA$399,$AS$6,FALSE)","v":492680}]
[null,null,"Eilean Siar",{"$f":"IF($A$4=\"Numbers\",MROUND(VLOOKUP($C21&D$8,'Calc-V'!$A$4:$W$399,$D$6,FALSE),10),ROUND(VLOOKUP($C21&D$8,'Calc-V'!$A$4:$W$399,$D$6,FALSE)/AS21,3)*1000)","v":1000},{"$f":"IF($A$4=\"Numbers\",MROUND(VLOOKUP($C21&E$8,'Calc-V'!$A$4:$W$399,$D$6,FALSE),10),ROUND(VLOOKUP($C21&E$8,'Calc-V'!$A$4:$W$399,$D$6,FALSE)/AT21,3)*1000)","v":1100},{"$f":"IF($A$4=\"Numbers\",MROUND(VLOOKUP($C21&F$8,'Calc-V'!$A$4:$W$399,$D$6,FALSE),10),ROUND(VLOOKUP($C21&F$8,'Calc-V'!$A$4:$W$399,$D$6,FALSE)/AU21,3)*1000)","v":1100},{"$f":"IF($A$4=\"Numbers\",MROUND(VLOOKUP($C21&G$8,'Calc-V'!$A$4:$W$399,$D$6,FALSE),10),ROUND(VLOOKUP($C21&G$8,'Calc-V'!$A$4:$W$399,$D$6,FALSE)/AV21,3)*1000)","v":1220},{"$f":"IF($A$4=\"Numbers\",MROUND(VLOOKUP($C21&H$8,'Calc-V'!$A$4:$W$399,$D$6,FALSE),10),ROUND(VLOOKUP($C21&H$8,'Calc-V'!$A$4:$W$399,$D$6,FALSE)/AW21,3)*1000)","v":1220},{"$f":"IF($A$4=\"Numbers\",MROUND(VLOOKUP($C21&I$8,'Calc-V'!$A$4:$W$399,$D$6,FALSE),10),ROUND(VLOOKUP($C21&I$8,'Calc-V'!$A$4:$W$399,$D$6,FALSE)/AX21,3)*1000)","v":1350},{"$f":"IF($A$4=\"Numbers\",MROUND(VLOOKUP($C21&J$8,'Calc-V'!$A$4:$W$399,$D$6,FALSE),10),ROUND(VLOOKUP($C21&J$8,'Calc-V'!$A$4:$W$399,$D$6,FALSE)/AY21,3)*1000)","v":1350},{"$f":"IF($A$4=\"Numbers\",MROUND(VLOOKUP($C21&K$8,'Calc-V'!$A$4:$W$399,$D$6,FALSE),10),ROUND(VLOOKUP($C21&K$8,'Calc-V'!$A$4:$W$399,$D$6,FALSE)/AZ21,3)*1000)","v":1300},{"$f":"IF($A$4=\"Numbers\",MROUND(VLOOKUP($C21&L$8,'Calc-V'!$A$4:$W$399,$D$6,FALSE),10),ROUND(VLOOKUP($C21&L$8,'Calc-V'!$A$4:$W$399,$D$6,FALSE)/BA21,3)*1000)","v":1300},{"$f":"IF($A$4=\"Numbers\",MROUND(VLOOKUP($C21&M$8,'Calc-V'!$A$4:$W$399,$D$6,FALSE),10),ROUND(VLOOKUP($C21&M$8,'Calc-V'!$A$4:$W$399,$D$6,FALSE)/BB21,3)*1000)","v":1160},{"$f":"IF($A$4=\"Numbers\",MROUND(VLOOKUP($C21&N$8,'Calc-V'!$A$4:$W$399,$D$6,FALSE),10),ROUND(VLOOKUP($C21&N$8,'Calc-V'!$A$4:$W$399,$D$6,FALSE)/BC21,3)*1000)","v":1190},{"$f":"IF($A$4=\"Numbers\",MROUND(VLOOKUP($C21&O$8,'Calc-V'!$A$4:$W$399,$D$6,FALSE),10),ROUND(VLOOKUP($C21&O$8,'Calc-V'!$A$4:$W$399,$D$6,FALSE)/BD21,3)*1000)","v":1250},null,{"$f":"IF($A$4=\"Numbers\",MROUND(VLOOKUP($C21&D$8,'Calc-V'!$A$4:$S$399,$Q$6,FALSE),10),ROUND(VLOOKUP($C21&D$8,'Calc-V'!$A$4:$S$399,$Q$6,FALSE)/AS21,3)*1000)","v":710},{"$f":"IF($A$4=\"Numbers\",MROUND(VLOOKUP($C21&E$8,'Calc-V'!$A$4:$S$399,$Q$6,FALSE),10),ROUND(VLOOKUP($C21&E$8,'Calc-V'!$A$4:$S$399,$Q$6,FALSE)/AT21,3)*1000)","v":800},{"$f":"IF($A$4=\"Numbers\",MROUND(VLOOKUP($C21&F$8,'Calc-V'!$A$4:$S$399,$Q$6,FALSE),10),ROUND(VLOOKUP($C21&F$8,'Calc-V'!$A$4:$S$399,$Q$6,FALSE)/AU21,3)*1000)","v":800},{"$f":"IF($A$4=\"Numbers\",MROUND(VLOOKUP($C21&G$8,'Calc-V'!$A$4:$S$399,$Q$6,FALSE),10),ROUND(VLOOKUP($C21&G$8,'Calc-V'!$A$4:$S$399,$Q$6,FALSE)/AV21,3)*1000)","v":820},{"$f":"IF($A$4=\"Numbers\",MROUND(VLOOKUP($C21&H$8,'Calc-V'!$A$4:$S$399,$Q$6,FALSE),10),ROUND(VLOOKUP($C21&H$8,'Calc-V'!$A$4:$S$399,$Q$6,FALSE)/AW21,3)*1000)","v":820},{"$f":"IF($A$4=\"Numbers\",MROUND(VLOOKUP($C21&I$8,'Calc-V'!$A$4:$S$399,$Q$6,FALSE),10),ROUND(VLOOKUP($C21&I$8,'Calc-V'!$A$4:$S$399,$Q$6,FALSE)/AX21,3)*1000)","v":920},{"$f":"IF($A$4=\"Numbers\",MROUND(VLOOKUP($C21&J$8,'Calc-V'!$A$4:$S$399,$Q$6,FALSE),10),ROUND(VLOOKUP($C21&J$8,'Calc-V'!$A$4:$S$399,$Q$6,FALSE)/AY21,3)*1000)","v":920},{"$f":"IF($A$4=\"Numbers\",MROUND(VLOOKUP($C21&K$8,'Calc-V'!$A$4:$S$399,$Q$6,FALSE),10),ROUND(VLOOKUP($C21&K$8,'Calc-V'!$A$4:$S$399,$Q$6,FALSE)/AZ21,3)*1000)","v":740},{"$f":"IF($A$4=\"Numbers\",MROUND(VLOOKUP($C21&L$8,'Calc-V'!$A$4:$S$399,$Q$6,FALSE),10),ROUND(VLOOKUP($C21&L$8,'Calc-V'!$A$4:$S$399,$Q$6,FALSE)/BA21,3)*1000)","v":690},{"$f":"IF($A$4=\"Numbers\",MROUND(VLOOKUP($C21&M$8,'Calc-V'!$A$4:$S$399,$Q$6,FALSE),10),ROUND(VLOOKUP($C21&M$8,'Calc-V'!$A$4:$S$399,$Q$6,FALSE)/BB21,3)*1000)","v":690},{"$f":"IF($A$4=\"Numbers\",MROUND(VLOOKUP($C21&N$8,'Calc-V'!$A$4:$S$399,$Q$6,FALSE),10),ROUND(VLOOKUP($C21&N$8,'Calc-V'!$A$4:$S$399,$Q$6,FALSE)/BC21,3)*1000)","v":730},{"$f":"IF($A$4=\"Numbers\",MROUND(VLOOKUP($C21&O$8,'Calc-V'!$A$4:$S$399,$Q$6,FALSE),10),ROUND(VLOOKUP($C21&O$8,'Calc-V'!$A$4:$S$399,$Q$6,FALSE)/BD21,3)*1000)","v":680},null,{"$f":"IF($A$4=\"Numbers\",MROUND(VLOOKUP($C21&Q$8,'Calc-V'!$A$4:$S$399,$AD$6,FALSE),10),ROUND(VLOOKUP($C21&Q$8,'Calc-V'!$A$4:$S$399,$AD$6,FALSE)/AS21,3)*1000)","v":300},{"$f":"IF($A$4=\"Numbers\",MROUND(VLOOKUP($C21&R$8,'Calc-V'!$A$4:$S$399,$AD$6,FALSE),10),ROUND(VLOOKUP($C21&R$8,'Calc-V'!$A$4:$S$399,$AD$6,FALSE)/AT21,3)*1000)","v":290},{"$f":"IF($A$4=\"Numbers\",MROUND(VLOOKUP($C21&S$8,'Calc-V'!$A$4:$S$399,$AD$6,FALSE),10),ROUND(VLOOKUP($C21&S$8,'Calc-V'!$A$4:$S$399,$AD$6,FALSE)/AU21,3)*1000)","v":290},{"$f":"IF($A$4=\"Numbers\",MROUND(VLOOKUP($C21&T$8,'Calc-V'!$A$4:$S$399,$AD$6,FALSE),10),ROUND(VLOOKUP($C21&T$8,'Calc-V'!$A$4:$S$399,$AD$6,FALSE)/AV21,3)*1000)","v":400},{"$f":"IF($A$4=\"Numbers\",MROUND(VLOOKUP($C21&U$8,'Calc-V'!$A$4:$S$399,$AD$6,FALSE),10),ROUND(VLOOKUP($C21&U$8,'Calc-V'!$A$4:$S$399,$AD$6,FALSE)/AW21,3)*1000)","v":400},{"$f":"IF($A$4=\"Numbers\",MROUND(VLOOKUP($C21&V$8,'Calc-V'!$A$4:$S$399,$AD$6,FALSE),10),ROUND(VLOOKUP($C21&V$8,'Calc-V'!$A$4:$S$399,$AD$6,FALSE)/AX21,3)*1000)","v":430},{"$f":"IF($A$4=\"Numbers\",MROUND(VLOOKUP($C21&W$8,'Calc-V'!$A$4:$S$399,$AD$6,FALSE),10),ROUND(VLOOKUP($C21&W$8,'Calc-V'!$A$4:$S$399,$AD$6,FALSE)/AY21,3)*1000)","v":430},{"$f":"IF($A$4=\"Numbers\",MROUND(VLOOKUP($C21&X$8,'Calc-V'!$A$4:$S$399,$AD$6,FALSE),10),ROUND(VLOOKUP($C21&X$8,'Calc-V'!$A$4:$S$399,$AD$6,FALSE)/AZ21,3)*1000)","v":570},{"$f":"IF($A$4=\"Numbers\",MROUND(VLOOKUP($C21&Y$8,'Calc-V'!$A$4:$S$399,$AD$6,FALSE),10),ROUND(VLOOKUP($C21&Y$8,'Calc-V'!$A$4:$S$399,$AD$6,FALSE)/BA21,3)*1000)","v":610},{"$f":"IF($A$4=\"Numbers\",MROUND(VLOOKUP($C21&Z$8,'Calc-V'!$A$4:$S$399,$AD$6,FALSE),10),ROUND(VLOOKUP($C21&Z$8,'Calc-V'!$A$4:$S$399,$AD$6,FALSE)/BB21,3)*1000)","v":470},{"$f":"IF($A$4=\"Numbers\",MROUND(VLOOKUP($C21&AA$8,'Calc-V'!$A$4:$S$399,$AD$6,FALSE),10),ROUND(VLOOKUP($C21&AA$8,'Calc-V'!$A$4:$S$399,$AD$6,FALSE)/BC21,3)*1000)","v":460},{"$f":"IF($A$4=\"Numbers\",MROUND(VLOOKUP($C21&AB$8,'Calc-V'!$A$4:$S$399,$AD$6,FALSE),10),ROUND(VLOOKUP($C21&AB$8,'Calc-V'!$A$4:$S$399,$AD$6,FALSE)/BD21,3)*1000)","v":580},null,null,null,{"$f":"VLOOKUP($C21&AS$8,'Calc-V'!$A$4:$AA$399,$AS$6,FALSE)","v":27210},{"$f":"VLOOKUP($C21&AT$8,'Calc-V'!$A$4:$AA$399,$AS$6,FALSE)","v":27280},{"$f":"VLOOKUP($C21&AU$8,'Calc-V'!$A$4:$AA$399,$AS$6,FALSE)","v":27280},{"$f":"VLOOKUP($C21&AV$8,'Calc-V'!$A$4:$AA$399,$AS$6,FALSE)","v":27420},{"$f":"VLOOKUP($C21&AW$8,'Calc-V'!$A$4:$AA$399,$AS$6,FALSE)","v":27420},{"$f":"VLOOKUP($C21&AX$8,'Calc-V'!$A$4:$AA$399,$AS$6,FALSE)","v":27600},{"$f":"VLOOKUP($C21&AY$8,'Calc-V'!$A$4:$AA$399,$AS$6,FALSE)","v":27600},{"$f":"VLOOKUP($C21&AZ$8,'Calc-V'!$A$4:$AA$399,$AS$6,FALSE)","v":27690},{"$f":"VLOOKUP($C21&BA$8,'Calc-V'!$A$4:$AA$399,$AS$6,FALSE)","v":27560},{"$f":"VLOOKUP($C21&BB$8,'Calc-V'!$A$4:$AA$399,$AS$6,FALSE)","v":27560},{"$f":"VLOOKUP($C21&BC$8,'Calc-V'!$A$4:$AA$399,$AS$6,FALSE)","v":27400},{"$f":"VLOOKUP($C21&BD$8,'Calc-V'!$A$4:$AA$399,$AS$6,FALSE)","v":27250}]
[null,null,"Falkirk",{"$f":"IF($A$4=\"Numbers\",MROUND(VLOOKUP($C22&D$8,'Calc-V'!$A$4:$W$399,$D$6,FALSE),10),ROUND(VLOOKUP($C22&D$8,'Calc-V'!$A$4:$W$399,$D$6,FALSE)/AS22,3)*1000)","v":3250},{"$f":"IF($A$4=\"Numbers\",MROUND(VLOOKUP($C22&E$8,'Calc-V'!$A$4:$W$399,$D$6,FALSE),10),ROUND(VLOOKUP($C22&E$8,'Calc-V'!$A$4:$W$399,$D$6,FALSE)/AT22,3)*1000)","v":3330},{"$f":"IF($A$4=\"Numbers\",MROUND(VLOOKUP($C22&F$8,'Calc-V'!$A$4:$W$399,$D$6,FALSE),10),ROUND(VLOOKUP($C22&F$8,'Calc-V'!$A$4:$W$399,$D$6,FALSE)/AU22,3)*1000)","v":3240},{"$f":"IF($A$4=\"Numbers\",MROUND(VLOOKUP($C22&G$8,'Calc-V'!$A$4:$W$399,$D$6,FALSE),10),ROUND(VLOOKUP($C22&G$8,'Calc-V'!$A$4:$W$399,$D$6,FALSE)/AV22,3)*1000)","v":3330},{"$f":"IF($A$4=\"Numbers\",MROUND(VLOOKUP($C22&H$8,'Calc-V'!$A$4:$W$399,$D$6,FALSE),10),ROUND(VLOOKUP($C22&H$8,'Calc-V'!$A$4:$W$399,$D$6,FALSE)/AW22,3)*1000)","v":3330},{"$f":"IF($A$4=\"Numbers\",MROUND(VLOOKUP($C22&I$8,'Calc-V'!$A$4:$W$399,$D$6,FALSE),10),ROUND(VLOOKUP($C22&I$8,'Calc-V'!$A$4:$W$399,$D$6,FALSE)/AX22,3)*1000)","v":3300},{"$f":"IF($A$4=\"Numbers\",MROUND(VLOOKUP($C22&J$8,'Calc-V'!$A$4:$W$399,$D$6,FALSE),10),ROUND(VLOOKUP($C22&J$8,'Calc-V'!$A$4:$W$399,$D$6,FALSE)/AY22,3)*1000)","v":3300},{"$f":"IF($A$4=\"Numbers\",MROUND(VLOOKUP($C22&K$8,'Calc-V'!$A$4:$W$399,$D$6,FALSE),10),ROUND(VLOOKUP($C22&K$8,'Calc-V'!$A$4:$W$399,$D$6,FALSE)/AZ22,3)*1000)","v":3340},{"$f":"IF($A$4=\"Numbers\",MROUND(VLOOKUP($C22&L$8,'Calc-V'!$A$4:$W$399,$D$6,FALSE),10),ROUND(VLOOKUP($C22&L$8,'Calc-V'!$A$4:$W$399,$D$6,FALSE)/BA22,3)*1000)","v":3390},{"$f":"IF($A$4=\"Numbers\",MROUND(VLOOKUP($C22&M$8,'Calc-V'!$A$4:$W$399,$D$6,FALSE),10),ROUND(VLOOKUP($C22&M$8,'Calc-V'!$A$4:$W$399,$D$6,FALSE)/BB22,3)*1000)","v":3390},{"$f":"IF($A$4=\"Numbers\",MROUND(VLOOKUP($C22&N$8,'Calc-V'!$A$4:$W$399,$D$6,FALSE),10),ROUND(VLOOKUP($C22&N$8,'Calc-V'!$A$4:$W$399,$D$6,FALSE)/BC22,3)*1000)","v":3110},{"$f":"IF($A$4=\"Numbers\",MROUND(VLOOKUP($C22&O$8,'Calc-V'!$A$4:$W$399,$D$6,FALSE),10),ROUND(VLOOKUP($C22&O$8,'Calc-V'!$A$4:$W$399,$D$6,FALSE)/BD22,3)*1000)","v":3220},null,{"$f":"IF($A$4=\"Numbers\",MROUND(VLOOKUP($C22&D$8,'Calc-V'!$A$4:$S$399,$Q$6,FALSE),10),ROUND(VLOOKUP($C22&D$8,'Calc-V'!$A$4:$S$399,$Q$6,FALSE)/AS22,3)*1000)","v":1780},{"$f":"IF($A$4=\"Numbers\",MROUND(VLOOKUP($C22&E$8,'Calc-V'!$A$4:$S$399,$Q$6,FALSE),10),ROUND(VLOOKUP($C22&E$8,'Calc-V'!$A$4:$S$399,$Q$6,FALSE)/AT22,3)*1000)","v":1840},{"$f":"IF($A$4=\"Numbers\",MROUND(VLOOKUP($C22&F$8,'Calc-V'!$A$4:$S$399,$Q$6,FALSE),10),ROUND(VLOOKUP($C22&F$8,'Calc-V'!$A$4:$S$399,$Q$6,FALSE)/AU22,3)*1000)","v":1640},{"$f":"IF($A$4=\"Numbers\",MROUND(VLOOKUP($C22&G$8,'Calc-V'!$A$4:$S$399,$Q$6,FALSE),10),ROUND(VLOOKUP($C22&G$8,'Calc-V'!$A$4:$S$399,$Q$6,FALSE)/AV22,3)*1000)","v":1660},{"$f":"IF($A$4=\"Numbers\",MROUND(VLOOKUP($C22&H$8,'Calc-V'!$A$4:$S$399,$Q$6,FALSE),10),ROUND(VLOOKUP($C22&H$8,'Calc-V'!$A$4:$S$399,$Q$6,FALSE)/AW22,3)*1000)","v":1660},{"$f":"IF($A$4=\"Numbers\",MROUND(VLOOKUP($C22&I$8,'Calc-V'!$A$4:$S$399,$Q$6,FALSE),10),ROUND(VLOOKUP($C22&I$8,'Calc-V'!$A$4:$S$399,$Q$6,FALSE)/AX22,3)*1000)","v":1610},{"$f":"IF($A$4=\"Numbers\",MROUND(VLOOKUP($C22&J$8,'Calc-V'!$A$4:$S$399,$Q$6,FALSE),10),ROUND(VLOOKUP($C22&J$8,'Calc-V'!$A$4:$S$399,$Q$6,FALSE)/AY22,3)*1000)","v":1610},{"$f":"IF($A$4=\"Numbers\",MROUND(VLOOKUP($C22&K$8,'Calc-V'!$A$4:$S$399,$Q$6,FALSE),10),ROUND(VLOOKUP($C22&K$8,'Calc-V'!$A$4:$S$399,$Q$6,FALSE)/AZ22,3)*1000)","v":1660},{"$f":"IF($A$4=\"Numbers\",MROUND(VLOOKUP($C22&L$8,'Calc-V'!$A$4:$S$399,$Q$6,FALSE),10),ROUND(VLOOKUP($C22&L$8,'Calc-V'!$A$4:$S$399,$Q$6,FALSE)/BA22,3)*1000)","v":1780},{"$f":"IF($A$4=\"Numbers\",MROUND(VLOOKUP($C22&M$8,'Calc-V'!$A$4:$S$399,$Q$6,FALSE),10),ROUND(VLOOKUP($C22&M$8,'Calc-V'!$A$4:$S$399,$Q$6,FALSE)/BB22,3)*1000)","v":1780},{"$f":"IF($A$4=\"Numbers\",MROUND(VLOOKUP($C22&N$8,'Calc-V'!$A$4:$S$399,$Q$6,FALSE),10),ROUND(VLOOKUP($C22&N$8,'Calc-V'!$A$4:$S$399,$Q$6,FALSE)/BC22,3)*1000)","v":1570},{"$f":"IF($A$4=\"Numbers\",MROUND(VLOOKUP($C22&O$8,'Calc-V'!$A$4:$S$399,$Q$6,FALSE),10),ROUND(VLOOKUP($C22&O$8,'Calc-V'!$A$4:$S$399,$Q$6,FALSE)/BD22,3)*1000)","v":1690},null,{"$f":"IF($A$4=\"Numbers\",MROUND(VLOOKUP($C22&Q$8,'Calc-V'!$A$4:$S$399,$AD$6,FALSE),10),ROUND(VLOOKUP($C22&Q$8,'Calc-V'!$A$4:$S$399,$AD$6,FALSE)/AS22,3)*1000)","v":1470},{"$f":"IF($A$4=\"Numbers\",MROUND(VLOOKUP($C22&R$8,'Calc-V'!$A$4:$S$399,$AD$6,FALSE),10),ROUND(VLOOKUP($C22&R$8,'Calc-V'!$A$4:$S$399,$AD$6,FALSE)/AT22,3)*1000)","v":1490},{"$f":"IF($A$4=\"Numbers\",MROUND(VLOOKUP($C22&S$8,'Calc-V'!$A$4:$S$399,$AD$6,FALSE),10),ROUND(VLOOKUP($C22&S$8,'Calc-V'!$A$4:$S$399,$AD$6,FALSE)/AU22,3)*1000)","v":1600},{"$f":"IF($A$4=\"Numbers\",MROUND(VLOOKUP($C22&T$8,'Calc-V'!$A$4:$S$399,$AD$6,FALSE),10),ROUND(VLOOKUP($C22&T$8,'Calc-V'!$A$4:$S$399,$AD$6,FALSE)/AV22,3)*1000)","v":1670},{"$f":"IF($A$4=\"Numbers\",MROUND(VLOOKUP($C22&U$8,'Calc-V'!$A$4:$S$399,$AD$6,FALSE),10),ROUND(VLOOKUP($C22&U$8,'Calc-V'!$A$4:$S$399,$AD$6,FALSE)/AW22,3)*1000)","v":1670},{"$f":"IF($A$4=\"Numbers\",MROUND(VLOOKUP($C22&V$8,'Calc-V'!$A$4:$S$399,$AD$6,FALSE),10),ROUND(VLOOKUP($C22&V$8,'Calc-V'!$A$4:$S$399,$AD$6,FALSE)/AX22,3)*1000)","v":1690},{"$f":"IF($A$4=\"Numbers\",MROUND(VLOOKUP($C22&W$8,'Calc-V'!$A$4:$S$399,$AD$6,FALSE),10),ROUND(VLOOKUP($C22&W$8,'Calc-V'!$A$4:$S$399,$AD$6,FALSE)/AY22,3)*1000)","v":1690},{"$f":"IF($A$4=\"Numbers\",MROUND(VLOOKUP($C22&X$8,'Calc-V'!$A$4:$S$399,$AD$6,FALSE),10),ROUND(VLOOKUP($C22&X$8,'Calc-V'!$A$4:$S$399,$AD$6,FALSE)/AZ22,3)*1000)","v":1680},{"$f":"IF($A$4=\"Numbers\",MROUND(VLOOKUP($C22&Y$8,'Calc-V'!$A$4:$S$399,$AD$6,FALSE),10),ROUND(VLOOKUP($C22&Y$8,'Calc-V'!$A$4:$S$399,$AD$6,FALSE)/BA22,3)*1000)","v":1610},{"$f":"IF($A$4=\"Numbers\",MROUND(VLOOKUP($C22&Z$8,'Calc-V'!$A$4:$S$399,$AD$6,FALSE),10),ROUND(VLOOKUP($C22&Z$8,'Calc-V'!$A$4:$S$399,$AD$6,FALSE)/BB22,3)*1000)","v":1610},{"$f":"IF($A$4=\"Numbers\",MROUND(VLOOKUP($C22&AA$8,'Calc-V'!$A$4:$S$399,$AD$6,FALSE),10),ROUND(VLOOKUP($C22&AA$8,'Calc-V'!$A$4:$S$399,$AD$6,FALSE)/BC22,3)*1000)","v":1540},{"$f":"IF($A$4=\"Numbers\",MROUND(VLOOKUP($C22&AB$8,'Calc-V'!$A$4:$S$399,$AD$6,FALSE),10),ROUND(VLOOKUP($C22&AB$8,'Calc-V'!$A$4:$S$399,$AD$6,FALSE)/BD22,3)*1000)","v":1530},null,null,null,{"$f":"VLOOKUP($C22&AS$8,'Calc-V'!$A$4:$AA$399,$AS$6,FALSE)","v":152320},{"$f":"VLOOKUP($C22&AT$8,'Calc-V'!$A$4:$AA$399,$AS$6,FALSE)","v":153290},{"$f":"VLOOKUP($C22&AU$8,'Calc-V'!$A$4:$AA$399,$AS$6,FALSE)","v":153290},{"$f":"VLOOKUP($C22&AV$8,'Calc-V'!$A$4:$AA$399,$AS$6,FALSE)","v":154210},{"$f":"VLOOKUP($C22&AW$8,'Calc-V'!$A$4:$AA$399,$AS$6,FALSE)","v":154210},{"$f":"VLOOKUP($C22&AX$8,'Calc-V'!$A$4:$AA$399,$AS$6,FALSE)","v":155140},{"$f":"VLOOKUP($C22&AY$8,'Calc-V'!$A$4:$AA$399,$AS$6,FALSE)","v":155140},{"$f":"VLOOKUP($C22&AZ$8,'Calc-V'!$A$4:$AA$399,$AS$6,FALSE)","v":156250},{"$f":"VLOOKUP($C22&BA$8,'Calc-V'!$A$4:$AA$399,$AS$6,FALSE)","v":156800},{"$f":"VLOOKUP($C22&BB$8,'Calc-V'!$A$4:$AA$399,$AS$6,FALSE)","v":156800},{"$f":"VLOOKUP($C22&BC$8,'Calc-V'!$A$4:$AA$399,$AS$6,FALSE)","v":157140},{"$f":"VLOOKUP($C22&BD$8,'Calc-V'!$A$4:$AA$399,$AS$6,FALSE)","v":157640}]
[null,null,"Fife",{"$f":"IF($A$4=\"Numbers\",MROUND(VLOOKUP($C23&D$8,'Calc-V'!$A$4:$W$399,$D$6,FALSE),10),ROUND(VLOOKUP($C23&D$8,'Calc-V'!$A$4:$W$399,$D$6,FALSE)/AS23,3)*1000)","v":8340},{"$f":"IF($A$4=\"Numbers\",MROUND(VLOOKUP($C23&E$8,'Calc-V'!$A$4:$W$399,$D$6,FALSE),10),ROUND(VLOOKUP($C23&E$8,'Calc-V'!$A$4:$W$399,$D$6,FALSE)/AT23,3)*1000)","v":7960},{"$f":"IF($A$4=\"Numbers\",MROUND(VLOOKUP($C23&F$8,'Calc-V'!$A$4:$W$399,$D$6,FALSE),10),ROUND(VLOOKUP($C23&F$8,'Calc-V'!$A$4:$W$399,$D$6,FALSE)/AU23,3)*1000)","v":18670},{"$f":"IF($A$4=\"Numbers\",MROUND(VLOOKUP($C23&G$8,'Calc-V'!$A$4:$W$399,$D$6,FALSE),10),ROUND(VLOOKUP($C23&G$8,'Calc-V'!$A$4:$W$399,$D$6,FALSE)/AV23,3)*1000)","v":20460},{"$f":"IF($A$4=\"Numbers\",MROUND(VLOOKUP($C23&H$8,'Calc-V'!$A$4:$W$399,$D$6,FALSE),10),ROUND(VLOOKUP($C23&H$8,'Calc-V'!$A$4:$W$399,$D$6,FALSE)/AW23,3)*1000)","v":22440},{"$f":"IF($A$4=\"Numbers\",MROUND(VLOOKUP($C23&I$8,'Calc-V'!$A$4:$W$399,$D$6,FALSE),10),ROUND(VLOOKUP($C23&I$8,'Calc-V'!$A$4:$W$399,$D$6,FALSE)/AX23,3)*1000)","v":23680},{"$f":"IF($A$4=\"Numbers\",MROUND(VLOOKUP($C23&J$8,'Calc-V'!$A$4:$W$399,$D$6,FALSE),10),ROUND(VLOOKUP($C23&J$8,'Calc-V'!$A$4:$W$399,$D$6,FALSE)/AY23,3)*1000)","v":18260},{"$f":"IF($A$4=\"Numbers\",MROUND(VLOOKUP($C23&K$8,'Calc-V'!$A$4:$W$399,$D$6,FALSE),10),ROUND(VLOOKUP($C23&K$8,'Calc-V'!$A$4:$W$399,$D$6,FALSE)/AZ23,3)*1000)","v":17470},{"$f":"IF($A$4=\"Numbers\",MROUND(VLOOKUP($C23&L$8,'Calc-V'!$A$4:$W$399,$D$6,FALSE),10),ROUND(VLOOKUP($C23&L$8,'Calc-V'!$A$4:$W$399,$D$6,FALSE)/BA23,3)*1000)","v":18070},{"$f":"IF($A$4=\"Numbers\",MROUND(VLOOKUP($C23&M$8,'Calc-V'!$A$4:$W$399,$D$6,FALSE),10),ROUND(VLOOKUP($C23&M$8,'Calc-V'!$A$4:$W$399,$D$6,FALSE)/BB23,3)*1000)","v":18070},{"$f":"IF($A$4=\"Numbers\",MROUND(VLOOKUP($C23&N$8,'Calc-V'!$A$4:$W$399,$D$6,FALSE),10),ROUND(VLOOKUP($C23&N$8,'Calc-V'!$A$4:$W$399,$D$6,FALSE)/BC23,3)*1000)","v":18800},{"$f":"IF($A$4=\"Numbers\",MROUND(VLOOKUP($C23&O$8,'Calc-V'!$A$4:$W$399,$D$6,FALSE),10),ROUND(VLOOKUP($C23&O$8,'Calc-V'!$A$4:$W$399,$D$6,FALSE)/BD23,3)*1000)","v":18430},null,{"$f":"IF($A$4=\"Numbers\",MROUND(VLOOKUP($C23&D$8,'Calc-V'!$A$4:$S$399,$Q$6,FALSE),10),ROUND(VLOOKUP($C23&D$8,'Calc-V'!$A$4:$S$399,$Q$6,FALSE)/AS23,3)*1000)","v":4330},{"$f":"IF($A$4=\"Numbers\",MROUND(VLOOKUP($C23&E$8,'Calc-V'!$A$4:$S$399,$Q$6,FALSE),10),ROUND(VLOOKUP($C23&E$8,'Calc-V'!$A$4:$S$399,$Q$6,FALSE)/AT23,3)*1000)","v":4000},{"$f":"IF($A$4=\"Numbers\",MROUND(VLOOKUP($C23&F$8,'Calc-V'!$A$4:$S$399,$Q$6,FALSE),10),ROUND(VLOOKUP($C23&F$8,'Calc-V'!$A$4:$S$399,$Q$6,FALSE)/AU23,3)*1000)","v":4000},{"$f":"IF($A$4=\"Numbers\",MROUND(VLOOKUP($C23&G$8,'Calc-V'!$A$4:$S$399,$Q$6,FALSE),10),ROUND(VLOOKUP($C23&G$8,'Calc-V'!$A$4:$S$399,$Q$6,FALSE)/AV23,3)*1000)","v":4110},{"$f":"IF($A$4=\"Numbers\",MROUND(VLOOKUP($C23&H$8,'Calc-V'!$A$4:$S$399,$Q$6,FALSE),10),ROUND(VLOOKUP($C23&H$8,'Calc-V'!$A$4:$S$399,$Q$6,FALSE)/AW23,3)*1000)","v":3860},{"$f":"IF($A$4=\"Numbers\",MROUND(VLOOKUP($C23&I$8,'Calc-V'!$A$4:$S$399,$Q$6,FALSE),10),ROUND(VLOOKUP($C23&I$8,'Calc-V'!$A$4:$S$399,$Q$6,FALSE)/AX23,3)*1000)","v":4160},{"$f":"IF($A$4=\"Numbers\",MROUND(VLOOKUP($C23&J$8,'Calc-V'!$A$4:$S$399,$Q$6,FALSE),10),ROUND(VLOOKUP($C23&J$8,'Calc-V'!$A$4:$S$399,$Q$6,FALSE)/AY23,3)*1000)","v":4160},{"$f":"IF($A$4=\"Numbers\",MROUND(VLOOKUP($C23&K$8,'Calc-V'!$A$4:$S$399,$Q$6,FALSE),10),ROUND(VLOOKUP($C23&K$8,'Calc-V'!$A$4:$S$399,$Q$6,FALSE)/AZ23,3)*1000)","v":4410},{"$f":"IF($A$4=\"Numbers\",MROUND(VLOOKUP($C23&L$8,'Calc-V'!$A$4:$S$399,$Q$6,FALSE),10),ROUND(VLOOKUP($C23&L$8,'Calc-V'!$A$4:$S$399,$Q$6,FALSE)/BA23,3)*1000)","v":4470},{"$f":"IF($A$4=\"Numbers\",MROUND(VLOOKUP($C23&M$8,'Calc-V'!$A$4:$S$399,$Q$6,FALSE),10),ROUND(VLOOKUP($C23&M$8,'Calc-V'!$A$4:$S$399,$Q$6,FALSE)/BB23,3)*1000)","v":4470},{"$f":"IF($A$4=\"Numbers\",MROUND(VLOOKUP($C23&N$8,'Calc-V'!$A$4:$S$399,$Q$6,FALSE),10),ROUND(VLOOKUP($C23&N$8,'Calc-V'!$A$4:$S$399,$Q$6,FALSE)/BC23,3)*1000)","v":4730},{"$f":"IF($A$4=\"Numbers\",MROUND(VLOOKUP($C23&O$8,'Calc-V'!$A$4:$S$399,$Q$6,FALSE),10),ROUND(VLOOKUP($C23&O$8,'Calc-V'!$A$4:$S$399,$Q$6,FALSE)/BD23,3)*1000)","v":5600},null,{"$f":"IF($A$4=\"Numbers\",MROUND(VLOOKUP($C23&Q$8,'Calc-V'!$A$4:$S$399,$AD$6,FALSE),10),ROUND(VLOOKUP($C23&Q$8,'Calc-V'!$A$4:$S$399,$AD$6,FALSE)/AS23,3)*1000)","v":4020},{"$f":"IF($A$4=\"Numbers\",MROUND(VLOOKUP($C23&R$8,'Calc-V'!$A$4:$S$399,$AD$6,FALSE),10),ROUND(VLOOKUP($C23&R$8,'Calc-V'!$A$4:$S$399,$AD$6,FALSE)/AT23,3)*1000)","v":3970},{"$f":"IF($A$4=\"Numbers\",MROUND(VLOOKUP($C23&S$8,'Calc-V'!$A$4:$S$399,$AD$6,FALSE),10),ROUND(VLOOKUP($C23&S$8,'Calc-V'!$A$4:$S$399,$AD$6,FALSE)/AU23,3)*1000)","v":14670},{"$f":"IF($A$4=\"Numbers\",MROUND(VLOOKUP($C23&T$8,'Calc-V'!$A$4:$S$399,$AD$6,FALSE),10),ROUND(VLOOKUP($C23&T$8,'Calc-V'!$A$4:$S$399,$AD$6,FALSE)/AV23,3)*1000)","v":16350},{"$f":"IF($A$4=\"Numbers\",MROUND(VLOOKUP($C23&U$8,'Calc-V'!$A$4:$S$399,$AD$6,FALSE),10),ROUND(VLOOKUP($C23&U$8,'Calc-V'!$A$4:$S$399,$AD$6,FALSE)/AW23,3)*1000)","v":18580},{"$f":"IF($A$4=\"Numbers\",MROUND(VLOOKUP($C23&V$8,'Calc-V'!$A$4:$S$399,$AD$6,FALSE),10),ROUND(VLOOKUP($C23&V$8,'Calc-V'!$A$4:$S$399,$AD$6,FALSE)/AX23,3)*1000)","v":19520},{"$f":"IF($A$4=\"Numbers\",MROUND(VLOOKUP($C23&W$8,'Calc-V'!$A$4:$S$399,$AD$6,FALSE),10),ROUND(VLOOKUP($C23&W$8,'Calc-V'!$A$4:$S$399,$AD$6,FALSE)/AY23,3)*1000)","v":14100},{"$f":"IF($A$4=\"Numbers\",MROUND(VLOOKUP($C23&X$8,'Calc-V'!$A$4:$S$399,$AD$6,FALSE),10),ROUND(VLOOKUP($C23&X$8,'Calc-V'!$A$4:$S$399,$AD$6,FALSE)/AZ23,3)*1000)","v":13060},{"$f":"IF($A$4=\"Numbers\",MROUND(VLOOKUP($C23&Y$8,'Calc-V'!$A$4:$S$399,$AD$6,FALSE),10),ROUND(VLOOKUP($C23&Y$8,'Calc-V'!$A$4:$S$399,$AD$6,FALSE)/BA23,3)*1000)","v":13600},{"$f":"IF($A$4=\"Numbers\",MROUND(VLOOKUP($C23&Z$8,'Calc-V'!$A$4:$S$399,$AD$6,FALSE),10),ROUND(VLOOKUP($C23&Z$8,'Calc-V'!$A$4:$S$399,$AD$6,FALSE)/BB23,3)*1000)","v":13600},{"$f":"IF($A$4=\"Numbers\",MROUND(VLOOKUP($C23&AA$8,'Calc-V'!$A$4:$S$399,$AD$6,FALSE),10),ROUND(VLOOKUP($C23&AA$8,'Calc-V'!$A$4:$S$399,$AD$6,FALSE)/BC23,3)*1000)","v":14070},{"$f":"IF($A$4=\"Numbers\",MROUND(VLOOKUP($C23&AB$8,'Calc-V'!$A$4:$S$399,$AD$6,FALSE),10),ROUND(VLOOKUP($C23&AB$8,'Calc-V'!$A$4:$S$399,$AD$6,FALSE)/BD23,3)*1000)","v":12830},null,null,null,{"$f":"VLOOKUP($C23&AS$8,'Calc-V'!$A$4:$AA$399,$AS$6,FALSE)","v":358750},{"$f":"VLOOKUP($C23&AT$8,'Calc-V'!$A$4:$AA$399,$AS$6,FALSE)","v":360050},{"$f":"VLOOKUP($C23&AU$8,'Calc-V'!$A$4:$AA$399,$AS$6,FALSE)","v":360050},{"$f":"VLOOKUP($C23&AV$8,'Calc-V'!$A$4:$AA$399,$AS$6,FALSE)","v":361410},{"$f":"VLOOKUP($C23&AW$8,'Calc-V'!$A$4:$AA$399,$AS$6,FALSE)","v":361410},{"$f":"VLOOKUP($C23&AX$8,'Calc-V'!$A$4:$AA$399,$AS$6,FALSE)","v":362610},{"$f":"VLOOKUP($C23&AY$8,'Calc-V'!$A$4:$AA$399,$AS$6,FALSE)","v":362610},{"$f":"VLOOKUP($C23&AZ$8,'Calc-V'!$A$4:$AA$399,$AS$6,FALSE)","v":365300},{"$f":"VLOOKUP($C23&BA$8,'Calc-V'!$A$4:$AA$399,$AS$6,FALSE)","v":366220},{"$f":"VLOOKUP($C23&BB$8,'Calc-V'!$A$4:$AA$399,$AS$6,FALSE)","v":366220},{"$f":"VLOOKUP($C23&BC$8,'Calc-V'!$A$4:$AA$399,$AS$6,FALSE)","v":366910},{"$f":"VLOOKUP($C23&BD$8,'Calc-V'!$A$4:$AA$399,$AS$6,FALSE)","v":367260}]
[null,null,"Glasgow City",{"$f":"IF($A$4=\"Numbers\",MROUND(VLOOKUP($C24&D$8,'Calc-V'!$A$4:$W$399,$D$6,FALSE),10),ROUND(VLOOKUP($C24&D$8,'Calc-V'!$A$4:$W$399,$D$6,FALSE)/AS24,3)*1000)","v":25210},{"$f":"IF($A$4=\"Numbers\",MROUND(VLOOKUP($C24&E$8,'Calc-V'!$A$4:$W$399,$D$6,FALSE),10),ROUND(VLOOKUP($C24&E$8,'Calc-V'!$A$4:$W$399,$D$6,FALSE)/AT24,3)*1000)","v":22960},{"$f":"IF($A$4=\"Numbers\",MROUND(VLOOKUP($C24&F$8,'Calc-V'!$A$4:$W$399,$D$6,FALSE),10),ROUND(VLOOKUP($C24&F$8,'Calc-V'!$A$4:$W$399,$D$6,FALSE)/AU24,3)*1000)","v":22960},{"$f":"IF($A$4=\"Numbers\",MROUND(VLOOKUP($C24&G$8,'Calc-V'!$A$4:$W$399,$D$6,FALSE),10),ROUND(VLOOKUP($C24&G$8,'Calc-V'!$A$4:$W$399,$D$6,FALSE)/AV24,3)*1000)","v":21650},{"$f":"IF($A$4=\"Numbers\",MROUND(VLOOKUP($C24&H$8,'Calc-V'!$A$4:$W$399,$D$6,FALSE),10),ROUND(VLOOKUP($C24&H$8,'Calc-V'!$A$4:$W$399,$D$6,FALSE)/AW24,3)*1000)","v":21650},{"$f":"IF($A$4=\"Numbers\",MROUND(VLOOKUP($C24&I$8,'Calc-V'!$A$4:$W$399,$D$6,FALSE),10),ROUND(VLOOKUP($C24&I$8,'Calc-V'!$A$4:$W$399,$D$6,FALSE)/AX24,3)*1000)","v":22210},{"$f":"IF($A$4=\"Numbers\",MROUND(VLOOKUP($C24&J$8,'Calc-V'!$A$4:$W$399,$D$6,FALSE),10),ROUND(VLOOKUP($C24&J$8,'Calc-V'!$A$4:$W$399,$D$6,FALSE)/AY24,3)*1000)","v":23320},{"$f":"IF($A$4=\"Numbers\",MROUND(VLOOKUP($C24&K$8,'Calc-V'!$A$4:$W$399,$D$6,FALSE),10),ROUND(VLOOKUP($C24&K$8,'Calc-V'!$A$4:$W$399,$D$6,FALSE)/AZ24,3)*1000)","v":21450},{"$f":"IF($A$4=\"Numbers\",MROUND(VLOOKUP($C24&L$8,'Calc-V'!$A$4:$W$399,$D$6,FALSE),10),ROUND(VLOOKUP($C24&L$8,'Calc-V'!$A$4:$W$399,$D$6,FALSE)/BA24,3)*1000)","v":20720},{"$f":"IF($A$4=\"Numbers\",MROUND(VLOOKUP($C24&M$8,'Calc-V'!$A$4:$W$399,$D$6,FALSE),10),ROUND(VLOOKUP($C24&M$8,'Calc-V'!$A$4:$W$399,$D$6,FALSE)/BB24,3)*1000)","v":20720},{"$f":"IF($A$4=\"Numbers\",MROUND(VLOOKUP($C24&N$8,'Calc-V'!$A$4:$W$399,$D$6,FALSE),10),ROUND(VLOOKUP($C24&N$8,'Calc-V'!$A$4:$W$399,$D$6,FALSE)/BC24,3)*1000)","v":15920},{"$f":"IF($A$4=\"Numbers\",MROUND(VLOOKUP($C24&O$8,'Calc-V'!$A$4:$W$399,$D$6,FALSE),10),ROUND(VLOOKUP($C24&O$8,'Calc-V'!$A$4:$W$399,$D$6,FALSE)/BD24,3)*1000)","v":11990},null,{"$f":"IF($A$4=\"Numbers\",MROUND(VLOOKUP($C24&D$8,'Calc-V'!$A$4:$S$399,$Q$6,FALSE),10),ROUND(VLOOKUP($C24&D$8,'Calc-V'!$A$4:$S$399,$Q$6,FALSE)/AS24,3)*1000)","v":6930},{"$f":"IF($A$4=\"Numbers\",MROUND(VLOOKUP($C24&E$8,'Calc-V'!$A$4:$S$399,$Q$6,FALSE),10),ROUND(VLOOKUP($C24&E$8,'Calc-V'!$A$4:$S$399,$Q$6,FALSE)/AT24,3)*1000)","v":6530},{"$f":"IF($A$4=\"Numbers\",MROUND(VLOOKUP($C24&F$8,'Calc-V'!$A$4:$S$399,$Q$6,FALSE),10),ROUND(VLOOKUP($C24&F$8,'Calc-V'!$A$4:$S$399,$Q$6,FALSE)/AU24,3)*1000)","v":6530},{"$f":"IF($A$4=\"Numbers\",MROUND(VLOOKUP($C24&G$8,'Calc-V'!$A$4:$S$399,$Q$6,FALSE),10),ROUND(VLOOKUP($C24&G$8,'Calc-V'!$A$4:$S$399,$Q$6,FALSE)/AV24,3)*1000)","v":6210},{"$f":"IF($A$4=\"Numbers\",MROUND(VLOOKUP($C24&H$8,'Calc-V'!$A$4:$S$399,$Q$6,FALSE),10),ROUND(VLOOKUP($C24&H$8,'Calc-V'!$A$4:$S$399,$Q$6,FALSE)/AW24,3)*1000)","v":6210},{"$f":"IF($A$4=\"Numbers\",MROUND(VLOOKUP($C24&I$8,'Calc-V'!$A$4:$S$399,$Q$6,FALSE),10),ROUND(VLOOKUP($C24&I$8,'Calc-V'!$A$4:$S$399,$Q$6,FALSE)/AX24,3)*1000)","v":4780},{"$f":"IF($A$4=\"Numbers\",MROUND(VLOOKUP($C24&J$8,'Calc-V'!$A$4:$S$399,$Q$6,FALSE),10),ROUND(VLOOKUP($C24&J$8,'Calc-V'!$A$4:$S$399,$Q$6,FALSE)/AY24,3)*1000)","v":4780},{"$f":"IF($A$4=\"Numbers\",MROUND(VLOOKUP($C24&K$8,'Calc-V'!$A$4:$S$399,$Q$6,FALSE),10),ROUND(VLOOKUP($C24&K$8,'Calc-V'!$A$4:$S$399,$Q$6,FALSE)/AZ24,3)*1000)","v":4160},{"$f":"IF($A$4=\"Numbers\",MROUND(VLOOKUP($C24&L$8,'Calc-V'!$A$4:$S$399,$Q$6,FALSE),10),ROUND(VLOOKUP($C24&L$8,'Calc-V'!$A$4:$S$399,$Q$6,FALSE)/BA24,3)*1000)","v":4040},{"$f":"IF($A$4=\"Numbers\",MROUND(VLOOKUP($C24&M$8,'Calc-V'!$A$4:$S$399,$Q$6,FALSE),10),ROUND(VLOOKUP($C24&M$8,'Calc-V'!$A$4:$S$399,$Q$6,FALSE)/BB24,3)*1000)","v":4040},{"$f":"IF($A$4=\"Numbers\",MROUND(VLOOKUP($C24&N$8,'Calc-V'!$A$4:$S$399,$Q$6,FALSE),10),ROUND(VLOOKUP($C24&N$8,'Calc-V'!$A$4:$S$399,$Q$6,FALSE)/BC24,3)*1000)","v":2500},{"$f":"IF($A$4=\"Numbers\",MROUND(VLOOKUP($C24&O$8,'Calc-V'!$A$4:$S$399,$Q$6,FALSE),10),ROUND(VLOOKUP($C24&O$8,'Calc-V'!$A$4:$S$399,$Q$6,FALSE)/BD24,3)*1000)","v":1990},null,{"$f":"IF($A$4=\"Numbers\",MROUND(VLOOKUP($C24&Q$8,'Calc-V'!$A$4:$S$399,$AD$6,FALSE),10),ROUND(VLOOKUP($C24&Q$8,'Calc-V'!$A$4:$S$399,$AD$6,FALSE)/AS24,3)*1000)","v":18280},{"$f":"IF($A$4=\"Numbers\",MROUND(VLOOKUP($C24&R$8,'Calc-V'!$A$4:$S$399,$AD$6,FALSE),10),ROUND(VLOOKUP($C24&R$8,'Calc-V'!$A$4:$S$399,$AD$6,FALSE)/AT24,3)*1000)","v":16430},{"$f":"IF($A$4=\"Numbers\",MROUND(VLOOKUP($C24&S$8,'Calc-V'!$A$4:$S$399,$AD$6,FALSE),10),ROUND(VLOOKUP($C24&S$8,'Calc-V'!$A$4:$S$399,$AD$6,FALSE)/AU24,3)*1000)","v":16430},{"$f":"IF($A$4=\"Numbers\",MROUND(VLOOKUP($C24&T$8,'Calc-V'!$A$4:$S$399,$AD$6,FALSE),10),ROUND(VLOOKUP($C24&T$8,'Calc-V'!$A$4:$S$399,$AD$6,FALSE)/AV24,3)*1000)","v":15440},{"$f":"IF($A$4=\"Numbers\",MROUND(VLOOKUP($C24&U$8,'Calc-V'!$A$4:$S$399,$AD$6,FALSE),10),ROUND(VLOOKUP($C24&U$8,'Calc-V'!$A$4:$S$399,$AD$6,FALSE)/AW24,3)*1000)","v":15440},{"$f":"IF($A$4=\"Numbers\",MROUND(VLOOKUP($C24&V$8,'Calc-V'!$A$4:$S$399,$AD$6,FALSE),10),ROUND(VLOOKUP($C24&V$8,'Calc-V'!$A$4:$S$399,$AD$6,FALSE)/AX24,3)*1000)","v":17440},{"$f":"IF($A$4=\"Numbers\",MROUND(VLOOKUP($C24&W$8,'Calc-V'!$A$4:$S$399,$AD$6,FALSE),10),ROUND(VLOOKUP($C24&W$8,'Calc-V'!$A$4:$S$399,$AD$6,FALSE)/AY24,3)*1000)","v":18540},{"$f":"IF($A$4=\"Numbers\",MROUND(VLOOKUP($C24&X$8,'Calc-V'!$A$4:$S$399,$AD$6,FALSE),10),ROUND(VLOOKUP($C24&X$8,'Calc-V'!$A$4:$S$399,$AD$6,FALSE)/AZ24,3)*1000)","v":17290},{"$f":"IF($A$4=\"Numbers\",MROUND(VLOOKUP($C24&Y$8,'Calc-V'!$A$4:$S$399,$AD$6,FALSE),10),ROUND(VLOOKUP($C24&Y$8,'Calc-V'!$A$4:$S$399,$AD$6,FALSE)/BA24,3)*1000)","v":16680},{"$f":"IF($A$4=\"Numbers\",MROUND(VLOOKUP($C24&Z$8,'Calc-V'!$A$4:$S$399,$AD$6,FALSE),10),ROUND(VLOOKUP($C24&Z$8,'Calc-V'!$A$4:$S$399,$AD$6,FALSE)/BB24,3)*1000)","v":16680},{"$f":"IF($A$4=\"Numbers\",MROUND(VLOOKUP($C24&AA$8,'Calc-V'!$A$4:$S$399,$AD$6,FALSE),10),ROUND(VLOOKUP($C24&AA$8,'Calc-V'!$A$4:$S$399,$AD$6,FALSE)/BC24,3)*1000)","v":13410},{"$f":"IF($A$4=\"Numbers\",MROUND(VLOOKUP($C24&AB$8,'Calc-V'!$A$4:$S$399,$AD$6,FALSE),10),ROUND(VLOOKUP($C24&AB$8,'Calc-V'!$A$4:$S$399,$AD$6,FALSE)/BD24,3)*1000)","v":10000},null,null,null,{"$f":"VLOOKUP($C24&AS$8,'Calc-V'!$A$4:$AA$399,$AS$6,FALSE)","v":571760},{"$f":"VLOOKUP($C24&AT$8,'Calc-V'!$A$4:$AA$399,$AS$6,FALSE)","v":576200},{"$f":"VLOOKUP($C24&AU$8,'Calc-V'!$A$4:$AA$399,$AS$6,FALSE)","v":576200},{"$f":"VLOOKUP($C24&AV$8,'Calc-V'!$A$4:$AA$399,$AS$6,FALSE)","v":581620},{"$f":"VLOOKUP($C24&AW$8,'Calc-V'!$A$4:$AA$399,$AS$6,FALSE)","v":581620},{"$f":"VLOOKUP($C24&AX$8,'Calc-V'!$A$4:$AA$399,$AS$6,FALSE)","v":586500},{"$f":"VLOOKUP($C24&AY$8,'Calc-V'!$A$4:$AA$399,$AS$6,FALSE)","v":586500},{"$f":"VLOOKUP($C24&AZ$8,'Calc-V'!$A$4:$AA$399,$AS$6,FALSE)","v":593060},{"$f":"VLOOKUP($C24&BA$8,'Calc-V'!$A$4:$AA$399,$AS$6,FALSE)","v":595080},{"$f":"VLOOKUP($C24&BB$8,'Calc-V'!$A$4:$AA$399,$AS$6,FALSE)","v":595080},{"$f":"VLOOKUP($C24&BC$8,'Calc-V'!$A$4:$AA$399,$AS$6,FALSE)","v":596550},{"$f":"VLOOKUP($C24&BD$8,'Calc-V'!$A$4:$AA$399,$AS$6,FALSE)","v":599650}]
[null,null,"Highland",{"$f":"IF($A$4=\"Numbers\",MROUND(VLOOKUP($C25&D$8,'Calc-V'!$A$4:$W$399,$D$6,FALSE),10),ROUND(VLOOKUP($C25&D$8,'Calc-V'!$A$4:$W$399,$D$6,FALSE)/AS25,3)*1000)","v":3860},{"$f":"IF($A$4=\"Numbers\",MROUND(VLOOKUP($C25&E$8,'Calc-V'!$A$4:$W$399,$D$6,FALSE),10),ROUND(VLOOKUP($C25&E$8,'Calc-V'!$A$4:$W$399,$D$6,FALSE)/AT25,3)*1000)","v":3850},{"$f":"IF($A$4=\"Numbers\",MROUND(VLOOKUP($C25&F$8,'Calc-V'!$A$4:$W$399,$D$6,FALSE),10),ROUND(VLOOKUP($C25&F$8,'Calc-V'!$A$4:$W$399,$D$6,FALSE)/AU25,3)*1000)","v":4850},{"$f":"IF($A$4=\"Numbers\",MROUND(VLOOKUP($C25&G$8,'Calc-V'!$A$4:$W$399,$D$6,FALSE),10),ROUND(VLOOKUP($C25&G$8,'Calc-V'!$A$4:$W$399,$D$6,FALSE)/AV25,3)*1000)","v":5690},{"$f":"IF($A$4=\"Numbers\",MROUND(VLOOKUP($C25&H$8,'Calc-V'!$A$4:$W$399,$D$6,FALSE),10),ROUND(VLOOKUP($C25&H$8,'Calc-V'!$A$4:$W$399,$D$6,FALSE)/AW25,3)*1000)","v":5690},{"$f":"IF($A$4=\"Numbers\",MROUND(VLOOKUP($C25&I$8,'Calc-V'!$A$4:$W$399,$D$6,FALSE),10),ROUND(VLOOKUP($C25&I$8,'Calc-V'!$A$4:$W$399,$D$6,FALSE)/AX25,3)*1000)","v":5090},{"$f":"IF($A$4=\"Numbers\",MROUND(VLOOKUP($C25&J$8,'Calc-V'!$A$4:$W$399,$D$6,FALSE),10),ROUND(VLOOKUP($C25&J$8,'Calc-V'!$A$4:$W$399,$D$6,FALSE)/AY25,3)*1000)","v":5090},{"$f":"IF($A$4=\"Numbers\",MROUND(VLOOKUP($C25&K$8,'Calc-V'!$A$4:$W$399,$D$6,FALSE),10),ROUND(VLOOKUP($C25&K$8,'Calc-V'!$A$4:$W$399,$D$6,FALSE)/AZ25,3)*1000)","v":4940},{"$f":"IF($A$4=\"Numbers\",MROUND(VLOOKUP($C25&L$8,'Calc-V'!$A$4:$W$399,$D$6,FALSE),10),ROUND(VLOOKUP($C25&L$8,'Calc-V'!$A$4:$W$399,$D$6,FALSE)/BA25,3)*1000)","v":5020},{"$f":"IF($A$4=\"Numbers\",MROUND(VLOOKUP($C25&M$8,'Calc-V'!$A$4:$W$399,$D$6,FALSE),10),ROUND(VLOOKUP($C25&M$8,'Calc-V'!$A$4:$W$399,$D$6,FALSE)/BB25,3)*1000)","v":5020},{"$f":"IF($A$4=\"Numbers\",MROUND(VLOOKUP($C25&N$8,'Calc-V'!$A$4:$W$399,$D$6,FALSE),10),ROUND(VLOOKUP($C25&N$8,'Calc-V'!$A$4:$W$399,$D$6,FALSE)/BC25,3)*1000)","v":5110},{"$f":"IF($A$4=\"Numbers\",MROUND(VLOOKUP($C25&O$8,'Calc-V'!$A$4:$W$399,$D$6,FALSE),10),ROUND(VLOOKUP($C25&O$8,'Calc-V'!$A$4:$W$399,$D$6,FALSE)/BD25,3)*1000)","v":5270},null,{"$f":"IF($A$4=\"Numbers\",MROUND(VLOOKUP($C25&D$8,'Calc-V'!$A$4:$S$399,$Q$6,FALSE),10),ROUND(VLOOKUP($C25&D$8,'Calc-V'!$A$4:$S$399,$Q$6,FALSE)/AS25,3)*1000)","v":2140},{"$f":"IF($A$4=\"Numbers\",MROUND(VLOOKUP($C25&E$8,'Calc-V'!$A$4:$S$399,$Q$6,FALSE),10),ROUND(VLOOKUP($C25&E$8,'Calc-V'!$A$4:$S$399,$Q$6,FALSE)/AT25,3)*1000)","v":2130},{"$f":"IF($A$4=\"Numbers\",MROUND(VLOOKUP($C25&F$8,'Calc-V'!$A$4:$S$399,$Q$6,FALSE),10),ROUND(VLOOKUP($C25&F$8,'Calc-V'!$A$4:$S$399,$Q$6,FALSE)/AU25,3)*1000)","v":2130},{"$f":"IF($A$4=\"Numbers\",MROUND(VLOOKUP($C25&G$8,'Calc-V'!$A$4:$S$399,$Q$6,FALSE),10),ROUND(VLOOKUP($C25&G$8,'Calc-V'!$A$4:$S$399,$Q$6,FALSE)/AV25,3)*1000)","v":2760},{"$f":"IF($A$4=\"Numbers\",MROUND(VLOOKUP($C25&H$8,'Calc-V'!$A$4:$S$399,$Q$6,FALSE),10),ROUND(VLOOKUP($C25&H$8,'Calc-V'!$A$4:$S$399,$Q$6,FALSE)/AW25,3)*1000)","v":2760},{"$f":"IF($A$4=\"Numbers\",MROUND(VLOOKUP($C25&I$8,'Calc-V'!$A$4:$S$399,$Q$6,FALSE),10),ROUND(VLOOKUP($C25&I$8,'Calc-V'!$A$4:$S$399,$Q$6,FALSE)/AX25,3)*1000)","v":2410},{"$f":"IF($A$4=\"Numbers\",MROUND(VLOOKUP($C25&J$8,'Calc-V'!$A$4:$S$399,$Q$6,FALSE),10),ROUND(VLOOKUP($C25&J$8,'Calc-V'!$A$4:$S$399,$Q$6,FALSE)/AY25,3)*1000)","v":2410},{"$f":"IF($A$4=\"Numbers\",MROUND(VLOOKUP($C25&K$8,'Calc-V'!$A$4:$S$399,$Q$6,FALSE),10),ROUND(VLOOKUP($C25&K$8,'Calc-V'!$A$4:$S$399,$Q$6,FALSE)/AZ25,3)*1000)","v":2520},{"$f":"IF($A$4=\"Numbers\",MROUND(VLOOKUP($C25&L$8,'Calc-V'!$A$4:$S$399,$Q$6,FALSE),10),ROUND(VLOOKUP($C25&L$8,'Calc-V'!$A$4:$S$399,$Q$6,FALSE)/BA25,3)*1000)","v":2680},{"$f":"IF($A$4=\"Numbers\",MROUND(VLOOKUP($C25&M$8,'Calc-V'!$A$4:$S$399,$Q$6,FALSE),10),ROUND(VLOOKUP($C25&M$8,'Calc-V'!$A$4:$S$399,$Q$6,FALSE)/BB25,3)*1000)","v":2680},{"$f":"IF($A$4=\"Numbers\",MROUND(VLOOKUP($C25&N$8,'Calc-V'!$A$4:$S$399,$Q$6,FALSE),10),ROUND(VLOOKUP($C25&N$8,'Calc-V'!$A$4:$S$399,$Q$6,FALSE)/BC25,3)*1000)","v":2390},{"$f":"IF($A$4=\"Numbers\",MROUND(VLOOKUP($C25&O$8,'Calc-V'!$A$4:$S$399,$Q$6,FALSE),10),ROUND(VLOOKUP($C25&O$8,'Calc-V'!$A$4:$S$399,$Q$6,FALSE)/BD25,3)*1000)","v":2480},null,{"$f":"IF($A$4=\"Numbers\",MROUND(VLOOKUP($C25&Q$8,'Calc-V'!$A$4:$S$399,$AD$6,FALSE),10),ROUND(VLOOKUP($C25&Q$8,'Calc-V'!$A$4:$S$399,$AD$6,FALSE)/AS25,3)*1000)","v":1710},{"$f":"IF($A$4=\"Numbers\",MROUND(VLOOKUP($C25&R$8,'Calc-V'!$A$4:$S$399,$AD$6,FALSE),10),ROUND(VLOOKUP($C25&R$8,'Calc-V'!$A$4:$S$399,$AD$6,FALSE)/AT25,3)*1000)","v":1730},{"$f":"IF($A$4=\"Numbers\",MROUND(VLOOKUP($C25&S$8,'Calc-V'!$A$4:$S$399,$AD$6,FALSE),10),ROUND(VLOOKUP($C25&S$8,'Calc-V'!$A$4:$S$399,$AD$6,FALSE)/AU25,3)*1000)","v":2720},{"$f":"IF($A$4=\"Numbers\",MROUND(VLOOKUP($C25&T$8,'Calc-V'!$A$4:$S$399,$AD$6,FALSE),10),ROUND(VLOOKUP($C25&T$8,'Calc-V'!$A$4:$S$399,$AD$6,FALSE)/AV25,3)*1000)","v":2930},{"$f":"IF($A$4=\"Numbers\",MROUND(VLOOKUP($C25&U$8,'Calc-V'!$A$4:$S$399,$AD$6,FALSE),10),ROUND(VLOOKUP($C25&U$8,'Calc-V'!$A$4:$S$399,$AD$6,FALSE)/AW25,3)*1000)","v":2930},{"$f":"IF($A$4=\"Numbers\",MROUND(VLOOKUP($C25&V$8,'Calc-V'!$A$4:$S$399,$AD$6,FALSE),10),ROUND(VLOOKUP($C25&V$8,'Calc-V'!$A$4:$S$399,$AD$6,FALSE)/AX25,3)*1000)","v":2680},{"$f":"IF($A$4=\"Numbers\",MROUND(VLOOKUP($C25&W$8,'Calc-V'!$A$4:$S$399,$AD$6,FALSE),10),ROUND(VLOOKUP($C25&W$8,'Calc-V'!$A$4:$S$399,$AD$6,FALSE)/AY25,3)*1000)","v":2680},{"$f":"IF($A$4=\"Numbers\",MROUND(VLOOKUP($C25&X$8,'Calc-V'!$A$4:$S$399,$AD$6,FALSE),10),ROUND(VLOOKUP($C25&X$8,'Calc-V'!$A$4:$S$399,$AD$6,FALSE)/AZ25,3)*1000)","v":2420},{"$f":"IF($A$4=\"Numbers\",MROUND(VLOOKUP($C25&Y$8,'Calc-V'!$A$4:$S$399,$AD$6,FALSE),10),ROUND(VLOOKUP($C25&Y$8,'Calc-V'!$A$4:$S$399,$AD$6,FALSE)/BA25,3)*1000)","v":2350},{"$f":"IF($A$4=\"Numbers\",MROUND(VLOOKUP($C25&Z$8,'Calc-V'!$A$4:$S$399,$AD$6,FALSE),10),ROUND(VLOOKUP($C25&Z$8,'Calc-V'!$A$4:$S$399,$AD$6,FALSE)/BB25,3)*1000)","v":2350},{"$f":"IF($A$4=\"Numbers\",MROUND(VLOOKUP($C25&AA$8,'Calc-V'!$A$4:$S$399,$AD$6,FALSE),10),ROUND(VLOOKUP($C25&AA$8,'Calc-V'!$A$4:$S$399,$AD$6,FALSE)/BC25,3)*1000)","v":2720},{"$f":"IF($A$4=\"Numbers\",MROUND(VLOOKUP($C25&AB$8,'Calc-V'!$A$4:$S$399,$AD$6,FALSE),10),ROUND(VLOOKUP($C25&AB$8,'Calc-V'!$A$4:$S$399,$AD$6,FALSE)/BD25,3)*1000)","v":2790},null,null,null,{"$f":"VLOOKUP($C25&AS$8,'Calc-V'!$A$4:$AA$399,$AS$6,FALSE)","v":224000},{"$f":"VLOOKUP($C25&AT$8,'Calc-V'!$A$4:$AA$399,$AS$6,FALSE)","v":226980},{"$f":"VLOOKUP($C25&AU$8,'Calc-V'!$A$4:$AA$399,$AS$6,FALSE)","v":226980},{"$f":"VLOOKUP($C25&AV$8,'Calc-V'!$A$4:$AA$399,$AS$6,FALSE)","v":228750},{"$f":"VLOOKUP($C25&AW$8,'Calc-V'!$A$4:$AA$399,$AS$6,FALSE)","v":228750},{"$f":"VLOOKUP($C25&AX$8,'Calc-V'!$A$4:$AA$399,$AS$6,FALSE)","v":230730},{"$f":"VLOOKUP($C25&AY$8,'Calc-V'!$A$4:$AA$399,$AS$6,FALSE)","v":230730},{"$f":"VLOOKUP($C25&AZ$8,'Calc-V'!$A$4:$AA$399,$AS$6,FALSE)","v":232730},{"$f":"VLOOKUP($C25&BA$8,'Calc-V'!$A$4:$AA$399,$AS$6,FALSE)","v":232910},{"$f":"VLOOKUP($C25&BB$8,'Calc-V'!$A$4:$AA$399,$AS$6,FALSE)","v":232910},{"$f":"VLOOKUP($C25&BC$8,'Calc-V'!$A$4:$AA$399,$AS$6,FALSE)","v":232950},{"$f":"VLOOKUP($C25&BD$8,'Calc-V'!$A$4:$AA$399,$AS$6,FALSE)","v":233100}]
[null,null,"Inverclyde",{"$f":"IF($A$4=\"Numbers\",MROUND(VLOOKUP($C26&D$8,'Calc-V'!$A$4:$W$399,$D$6,FALSE),10),ROUND(VLOOKUP($C26&D$8,'Calc-V'!$A$4:$W$399,$D$6,FALSE)/AS26,3)*1000)","v":6990},{"$f":"IF($A$4=\"Numbers\",MROUND(VLOOKUP($C26&E$8,'Calc-V'!$A$4:$W$399,$D$6,FALSE),10),ROUND(VLOOKUP($C26&E$8,'Calc-V'!$A$4:$W$399,$D$6,FALSE)/AT26,3)*1000)","v":6790},{"$f":"IF($A$4=\"Numbers\",MROUND(VLOOKUP($C26&F$8,'Calc-V'!$A$4:$W$399,$D$6,FALSE),10),ROUND(VLOOKUP($C26&F$8,'Calc-V'!$A$4:$W$399,$D$6,FALSE)/AU26,3)*1000)","v":12350},{"$f":"IF($A$4=\"Numbers\",MROUND(VLOOKUP($C26&G$8,'Calc-V'!$A$4:$W$399,$D$6,FALSE),10),ROUND(VLOOKUP($C26&G$8,'Calc-V'!$A$4:$W$399,$D$6,FALSE)/AV26,3)*1000)","v":12780},{"$f":"IF($A$4=\"Numbers\",MROUND(VLOOKUP($C26&H$8,'Calc-V'!$A$4:$W$399,$D$6,FALSE),10),ROUND(VLOOKUP($C26&H$8,'Calc-V'!$A$4:$W$399,$D$6,FALSE)/AW26,3)*1000)","v":12780},{"$f":"IF($A$4=\"Numbers\",MROUND(VLOOKUP($C26&I$8,'Calc-V'!$A$4:$W$399,$D$6,FALSE),10),ROUND(VLOOKUP($C26&I$8,'Calc-V'!$A$4:$W$399,$D$6,FALSE)/AX26,3)*1000)","v":11940},{"$f":"IF($A$4=\"Numbers\",MROUND(VLOOKUP($C26&J$8,'Calc-V'!$A$4:$W$399,$D$6,FALSE),10),ROUND(VLOOKUP($C26&J$8,'Calc-V'!$A$4:$W$399,$D$6,FALSE)/AY26,3)*1000)","v":11940},{"$f":"IF($A$4=\"Numbers\",MROUND(VLOOKUP($C26&K$8,'Calc-V'!$A$4:$W$399,$D$6,FALSE),10),ROUND(VLOOKUP($C26&K$8,'Calc-V'!$A$4:$W$399,$D$6,FALSE)/AZ26,3)*1000)","v":12650},{"$f":"IF($A$4=\"Numbers\",MROUND(VLOOKUP($C26&L$8,'Calc-V'!$A$4:$W$399,$D$6,FALSE),10),ROUND(VLOOKUP($C26&L$8,'Calc-V'!$A$4:$W$399,$D$6,FALSE)/BA26,3)*1000)","v":10920},{"$f":"IF($A$4=\"Numbers\",MROUND(VLOOKUP($C26&M$8,'Calc-V'!$A$4:$W$399,$D$6,FALSE),10),ROUND(VLOOKUP($C26&M$8,'Calc-V'!$A$4:$W$399,$D$6,FALSE)/BB26,3)*1000)","v":10920},{"$f":"IF($A$4=\"Numbers\",MROUND(VLOOKUP($C26&N$8,'Calc-V'!$A$4:$W$399,$D$6,FALSE),10),ROUND(VLOOKUP($C26&N$8,'Calc-V'!$A$4:$W$399,$D$6,FALSE)/BC26,3)*1000)","v":10980},{"$f":"IF($A$4=\"Numbers\",MROUND(VLOOKUP($C26&O$8,'Calc-V'!$A$4:$W$399,$D$6,FALSE),10),ROUND(VLOOKUP($C26&O$8,'Calc-V'!$A$4:$W$399,$D$6,FALSE)/BD26,3)*1000)","v":10700},null,{"$f":"IF($A$4=\"Numbers\",MROUND(VLOOKUP($C26&D$8,'Calc-V'!$A$4:$S$399,$Q$6,FALSE),10),ROUND(VLOOKUP($C26&D$8,'Calc-V'!$A$4:$S$399,$Q$6,FALSE)/AS26,3)*1000)","v":850},{"$f":"IF($A$4=\"Numbers\",MROUND(VLOOKUP($C26&E$8,'Calc-V'!$A$4:$S$399,$Q$6,FALSE),10),ROUND(VLOOKUP($C26&E$8,'Calc-V'!$A$4:$S$399,$Q$6,FALSE)/AT26,3)*1000)","v":930},{"$f":"IF($A$4=\"Numbers\",MROUND(VLOOKUP($C26&F$8,'Calc-V'!$A$4:$S$399,$Q$6,FALSE),10),ROUND(VLOOKUP($C26&F$8,'Calc-V'!$A$4:$S$399,$Q$6,FALSE)/AU26,3)*1000)","v":930},{"$f":"IF($A$4=\"Numbers\",MROUND(VLOOKUP($C26&G$8,'Calc-V'!$A$4:$S$399,$Q$6,FALSE),10),ROUND(VLOOKUP($C26&G$8,'Calc-V'!$A$4:$S$399,$Q$6,FALSE)/AV26,3)*1000)","v":970},{"$f":"IF($A$4=\"Numbers\",MROUND(VLOOKUP($C26&H$8,'Calc-V'!$A$4:$S$399,$Q$6,FALSE),10),ROUND(VLOOKUP($C26&H$8,'Calc-V'!$A$4:$S$399,$Q$6,FALSE)/AW26,3)*1000)","v":970},{"$f":"IF($A$4=\"Numbers\",MROUND(VLOOKUP($C26&I$8,'Calc-V'!$A$4:$S$399,$Q$6,FALSE),10),ROUND(VLOOKUP($C26&I$8,'Calc-V'!$A$4:$S$399,$Q$6,FALSE)/AX26,3)*1000)","v":950},{"$f":"IF($A$4=\"Numbers\",MROUND(VLOOKUP($C26&J$8,'Calc-V'!$A$4:$S$399,$Q$6,FALSE),10),ROUND(VLOOKUP($C26&J$8,'Calc-V'!$A$4:$S$399,$Q$6,FALSE)/AY26,3)*1000)","v":950},{"$f":"IF($A$4=\"Numbers\",MROUND(VLOOKUP($C26&K$8,'Calc-V'!$A$4:$S$399,$Q$6,FALSE),10),ROUND(VLOOKUP($C26&K$8,'Calc-V'!$A$4:$S$399,$Q$6,FALSE)/AZ26,3)*1000)","v":870},{"$f":"IF($A$4=\"Numbers\",MROUND(VLOOKUP($C26&L$8,'Calc-V'!$A$4:$S$399,$Q$6,FALSE),10),ROUND(VLOOKUP($C26&L$8,'Calc-V'!$A$4:$S$399,$Q$6,FALSE)/BA26,3)*1000)","v":1060},{"$f":"IF($A$4=\"Numbers\",MROUND(VLOOKUP($C26&M$8,'Calc-V'!$A$4:$S$399,$Q$6,FALSE),10),ROUND(VLOOKUP($C26&M$8,'Calc-V'!$A$4:$S$399,$Q$6,FALSE)/BB26,3)*1000)","v":1060},{"$f":"IF($A$4=\"Numbers\",MROUND(VLOOKUP($C26&N$8,'Calc-V'!$A$4:$S$399,$Q$6,FALSE),10),ROUND(VLOOKUP($C26&N$8,'Calc-V'!$A$4:$S$399,$Q$6,FALSE)/BC26,3)*1000)","v":1120},{"$f":"IF($A$4=\"Numbers\",MROUND(VLOOKUP($C26&O$8,'Calc-V'!$A$4:$S$399,$Q$6,FALSE),10),ROUND(VLOOKUP($C26&O$8,'Calc-V'!$A$4:$S$399,$Q$6,FALSE)/BD26,3)*1000)","v":900},null,{"$f":"IF($A$4=\"Numbers\",MROUND(VLOOKUP($C26&Q$8,'Calc-V'!$A$4:$S$399,$AD$6,FALSE),10),ROUND(VLOOKUP($C26&Q$8,'Calc-V'!$A$4:$S$399,$AD$6,FALSE)/AS26,3)*1000)","v":6140},{"$f":"IF($A$4=\"Numbers\",MROUND(VLOOKUP($C26&R$8,'Calc-V'!$A$4:$S$399,$AD$6,FALSE),10),ROUND(VLOOKUP($C26&R$8,'Calc-V'!$A$4:$S$399,$AD$6,FALSE)/AT26,3)*1000)","v":5860},{"$f":"IF($A$4=\"Numbers\",MROUND(VLOOKUP($C26&S$8,'Calc-V'!$A$4:$S$399,$AD$6,FALSE),10),ROUND(VLOOKUP($C26&S$8,'Calc-V'!$A$4:$S$399,$AD$6,FALSE)/AU26,3)*1000)","v":11420},{"$f":"IF($A$4=\"Numbers\",MROUND(VLOOKUP($C26&T$8,'Calc-V'!$A$4:$S$399,$AD$6,FALSE),10),ROUND(VLOOKUP($C26&T$8,'Calc-V'!$A$4:$S$399,$AD$6,FALSE)/AV26,3)*1000)","v":11810},{"$f":"IF($A$4=\"Numbers\",MROUND(VLOOKUP($C26&U$8,'Calc-V'!$A$4:$S$399,$AD$6,FALSE),10),ROUND(VLOOKUP($C26&U$8,'Calc-V'!$A$4:$S$399,$AD$6,FALSE)/AW26,3)*1000)","v":11810},{"$f":"IF($A$4=\"Numbers\",MROUND(VLOOKUP($C26&V$8,'Calc-V'!$A$4:$S$399,$AD$6,FALSE),10),ROUND(VLOOKUP($C26&V$8,'Calc-V'!$A$4:$S$399,$AD$6,FALSE)/AX26,3)*1000)","v":10990},{"$f":"IF($A$4=\"Numbers\",MROUND(VLOOKUP($C26&W$8,'Calc-V'!$A$4:$S$399,$AD$6,FALSE),10),ROUND(VLOOKUP($C26&W$8,'Calc-V'!$A$4:$S$399,$AD$6,FALSE)/AY26,3)*1000)","v":10990},{"$f":"IF($A$4=\"Numbers\",MROUND(VLOOKUP($C26&X$8,'Calc-V'!$A$4:$S$399,$AD$6,FALSE),10),ROUND(VLOOKUP($C26&X$8,'Calc-V'!$A$4:$S$399,$AD$6,FALSE)/AZ26,3)*1000)","v":11790},{"$f":"IF($A$4=\"Numbers\",MROUND(VLOOKUP($C26&Y$8,'Calc-V'!$A$4:$S$399,$AD$6,FALSE),10),ROUND(VLOOKUP($C26&Y$8,'Calc-V'!$A$4:$S$399,$AD$6,FALSE)/BA26,3)*1000)","v":9860},{"$f":"IF($A$4=\"Numbers\",MROUND(VLOOKUP($C26&Z$8,'Calc-V'!$A$4:$S$399,$AD$6,FALSE),10),ROUND(VLOOKUP($C26&Z$8,'Calc-V'!$A$4:$S$399,$AD$6,FALSE)/BB26,3)*1000)","v":9860},{"$f":"IF($A$4=\"Numbers\",MROUND(VLOOKUP($C26&AA$8,'Calc-V'!$A$4:$S$399,$AD$6,FALSE),10),ROUND(VLOOKUP($C26&AA$8,'Calc-V'!$A$4:$S$399,$AD$6,FALSE)/BC26,3)*1000)","v":9860},{"$f":"IF($A$4=\"Numbers\",MROUND(VLOOKUP($C26&AB$8,'Calc-V'!$A$4:$S$399,$AD$6,FALSE),10),ROUND(VLOOKUP($C26&AB$8,'Calc-V'!$A$4:$S$399,$AD$6,FALSE)/BD26,3)*1000)","v":9800},null,null,null,{"$f":"VLOOKUP($C26&AS$8,'Calc-V'!$A$4:$AA$399,$AS$6,FALSE)","v":82110},{"$f":"VLOOKUP($C26&AT$8,'Calc-V'!$A$4:$AA$399,$AS$6,FALSE)","v":82000},{"$f":"VLOOKUP($C26&AU$8,'Calc-V'!$A$4:$AA$399,$AS$6,FALSE)","v":82000},{"$f":"VLOOKUP($C26&AV$8,'Calc-V'!$A$4:$AA$399,$AS$6,FALSE)","v":81670},{"$f":"VLOOKUP($C26&AW$8,'Calc-V'!$A$4:$AA$399,$AS$6,FALSE)","v":81670},{"$f":"VLOOKUP($C26&AX$8,'Calc-V'!$A$4:$AA$399,$AS$6,FALSE)","v":81510},{"$f":"VLOOKUP($C26&AY$8,'Calc-V'!$A$4:$AA$399,$AS$6,FALSE)","v":81510},{"$f":"VLOOKUP($C26&AZ$8,'Calc-V'!$A$4:$AA$399,$AS$6,FALSE)","v":81220},{"$f":"VLOOKUP($C26&BA$8,'Calc-V'!$A$4:$AA$399,$AS$6,FALSE)","v":80680},{"$f":"VLOOKUP($C26&BB$8,'Calc-V'!$A$4:$AA$399,$AS$6,FALSE)","v":80680},{"$f":"VLOOKUP($C26&BC$8,'Calc-V'!$A$4:$AA$399,$AS$6,FALSE)","v":80310},{"$f":"VLOOKUP($C26&BD$8,'Calc-V'!$A$4:$AA$399,$AS$6,FALSE)","v":79860}]
[null,null,"Midlothian",{"$f":"IF($A$4=\"Numbers\",MROUND(VLOOKUP($C27&D$8,'Calc-V'!$A$4:$W$399,$D$6,FALSE),10),ROUND(VLOOKUP($C27&D$8,'Calc-V'!$A$4:$W$399,$D$6,FALSE)/AS27,3)*1000)","v":3080},{"$f":"IF($A$4=\"Numbers\",MROUND(VLOOKUP($C27&E$8,'Calc-V'!$A$4:$W$399,$D$6,FALSE),10),ROUND(VLOOKUP($C27&E$8,'Calc-V'!$A$4:$W$399,$D$6,FALSE)/AT27,3)*1000)","v":3400},{"$f":"IF($A$4=\"Numbers\",MROUND(VLOOKUP($C27&F$8,'Calc-V'!$A$4:$W$399,$D$6,FALSE),10),ROUND(VLOOKUP($C27&F$8,'Calc-V'!$A$4:$W$399,$D$6,FALSE)/AU27,3)*1000)","v":3310},{"$f":"IF($A$4=\"Numbers\",MROUND(VLOOKUP($C27&G$8,'Calc-V'!$A$4:$W$399,$D$6,FALSE),10),ROUND(VLOOKUP($C27&G$8,'Calc-V'!$A$4:$W$399,$D$6,FALSE)/AV27,3)*1000)","v":3560},{"$f":"IF($A$4=\"Numbers\",MROUND(VLOOKUP($C27&H$8,'Calc-V'!$A$4:$W$399,$D$6,FALSE),10),ROUND(VLOOKUP($C27&H$8,'Calc-V'!$A$4:$W$399,$D$6,FALSE)/AW27,3)*1000)","v":3560},{"$f":"IF($A$4=\"Numbers\",MROUND(VLOOKUP($C27&I$8,'Calc-V'!$A$4:$W$399,$D$6,FALSE),10),ROUND(VLOOKUP($C27&I$8,'Calc-V'!$A$4:$W$399,$D$6,FALSE)/AX27,3)*1000)","v":3460},{"$f":"IF($A$4=\"Numbers\",MROUND(VLOOKUP($C27&J$8,'Calc-V'!$A$4:$W$399,$D$6,FALSE),10),ROUND(VLOOKUP($C27&J$8,'Calc-V'!$A$4:$W$399,$D$6,FALSE)/AY27,3)*1000)","v":4070},{"$f":"IF($A$4=\"Numbers\",MROUND(VLOOKUP($C27&K$8,'Calc-V'!$A$4:$W$399,$D$6,FALSE),10),ROUND(VLOOKUP($C27&K$8,'Calc-V'!$A$4:$W$399,$D$6,FALSE)/AZ27,3)*1000)","v":4790},{"$f":"IF($A$4=\"Numbers\",MROUND(VLOOKUP($C27&L$8,'Calc-V'!$A$4:$W$399,$D$6,FALSE),10),ROUND(VLOOKUP($C27&L$8,'Calc-V'!$A$4:$W$399,$D$6,FALSE)/BA27,3)*1000)","v":5080},{"$f":"IF($A$4=\"Numbers\",MROUND(VLOOKUP($C27&M$8,'Calc-V'!$A$4:$W$399,$D$6,FALSE),10),ROUND(VLOOKUP($C27&M$8,'Calc-V'!$A$4:$W$399,$D$6,FALSE)/BB27,3)*1000)","v":5090},{"$f":"IF($A$4=\"Numbers\",MROUND(VLOOKUP($C27&N$8,'Calc-V'!$A$4:$W$399,$D$6,FALSE),10),ROUND(VLOOKUP($C27&N$8,'Calc-V'!$A$4:$W$399,$D$6,FALSE)/BC27,3)*1000)","v":5150},{"$f":"IF($A$4=\"Numbers\",MROUND(VLOOKUP($C27&O$8,'Calc-V'!$A$4:$W$399,$D$6,FALSE),10),ROUND(VLOOKUP($C27&O$8,'Calc-V'!$A$4:$W$399,$D$6,FALSE)/BD27,3)*1000)","v":5380},null,{"$f":"IF($A$4=\"Numbers\",MROUND(VLOOKUP($C27&D$8,'Calc-V'!$A$4:$S$399,$Q$6,FALSE),10),ROUND(VLOOKUP($C27&D$8,'Calc-V'!$A$4:$S$399,$Q$6,FALSE)/AS27,3)*1000)","v":910},{"$f":"IF($A$4=\"Numbers\",MROUND(VLOOKUP($C27&E$8,'Calc-V'!$A$4:$S$399,$Q$6,FALSE),10),ROUND(VLOOKUP($C27&E$8,'Calc-V'!$A$4:$S$399,$Q$6,FALSE)/AT27,3)*1000)","v":1120},{"$f":"IF($A$4=\"Numbers\",MROUND(VLOOKUP($C27&F$8,'Calc-V'!$A$4:$S$399,$Q$6,FALSE),10),ROUND(VLOOKUP($C27&F$8,'Calc-V'!$A$4:$S$399,$Q$6,FALSE)/AU27,3)*1000)","v":1040},{"$f":"IF($A$4=\"Numbers\",MROUND(VLOOKUP($C27&G$8,'Calc-V'!$A$4:$S$399,$Q$6,FALSE),10),ROUND(VLOOKUP($C27&G$8,'Calc-V'!$A$4:$S$399,$Q$6,FALSE)/AV27,3)*1000)","v":900},{"$f":"IF($A$4=\"Numbers\",MROUND(VLOOKUP($C27&H$8,'Calc-V'!$A$4:$S$399,$Q$6,FALSE),10),ROUND(VLOOKUP($C27&H$8,'Calc-V'!$A$4:$S$399,$Q$6,FALSE)/AW27,3)*1000)","v":900},{"$f":"IF($A$4=\"Numbers\",MROUND(VLOOKUP($C27&I$8,'Calc-V'!$A$4:$S$399,$Q$6,FALSE),10),ROUND(VLOOKUP($C27&I$8,'Calc-V'!$A$4:$S$399,$Q$6,FALSE)/AX27,3)*1000)","v":850},{"$f":"IF($A$4=\"Numbers\",MROUND(VLOOKUP($C27&J$8,'Calc-V'!$A$4:$S$399,$Q$6,FALSE),10),ROUND(VLOOKUP($C27&J$8,'Calc-V'!$A$4:$S$399,$Q$6,FALSE)/AY27,3)*1000)","v":850},{"$f":"IF($A$4=\"Numbers\",MROUND(VLOOKUP($C27&K$8,'Calc-V'!$A$4:$S$399,$Q$6,FALSE),10),ROUND(VLOOKUP($C27&K$8,'Calc-V'!$A$4:$S$399,$Q$6,FALSE)/AZ27,3)*1000)","v":940},{"$f":"IF($A$4=\"Numbers\",MROUND(VLOOKUP($C27&L$8,'Calc-V'!$A$4:$S$399,$Q$6,FALSE),10),ROUND(VLOOKUP($C27&L$8,'Calc-V'!$A$4:$S$399,$Q$6,FALSE)/BA27,3)*1000)","v":930},{"$f":"IF($A$4=\"Numbers\",MROUND(VLOOKUP($C27&M$8,'Calc-V'!$A$4:$S$399,$Q$6,FALSE),10),ROUND(VLOOKUP($C27&M$8,'Calc-V'!$A$4:$S$399,$Q$6,FALSE)/BB27,3)*1000)","v":940},{"$f":"IF($A$4=\"Numbers\",MROUND(VLOOKUP($C27&N$8,'Calc-V'!$A$4:$S$399,$Q$6,FALSE),10),ROUND(VLOOKUP($C27&N$8,'Calc-V'!$A$4:$S$399,$Q$6,FALSE)/BC27,3)*1000)","v":590},{"$f":"IF($A$4=\"Numbers\",MROUND(VLOOKUP($C27&O$8,'Calc-V'!$A$4:$S$399,$Q$6,FALSE),10),ROUND(VLOOKUP($C27&O$8,'Calc-V'!$A$4:$S$399,$Q$6,FALSE)/BD27,3)*1000)","v":630},null,{"$f":"IF($A$4=\"Numbers\",MROUND(VLOOKUP($C27&Q$8,'Calc-V'!$A$4:$S$399,$AD$6,FALSE),10),ROUND(VLOOKUP($C27&Q$8,'Calc-V'!$A$4:$S$399,$AD$6,FALSE)/AS27,3)*1000)","v":2170},{"$f":"IF($A$4=\"Numbers\",MROUND(VLOOKUP($C27&R$8,'Calc-V'!$A$4:$S$399,$AD$6,FALSE),10),ROUND(VLOOKUP($C27&R$8,'Calc-V'!$A$4:$S$399,$AD$6,FALSE)/AT27,3)*1000)","v":2280},{"$f":"IF($A$4=\"Numbers\",MROUND(VLOOKUP($C27&S$8,'Calc-V'!$A$4:$S$399,$AD$6,FALSE),10),ROUND(VLOOKUP($C27&S$8,'Calc-V'!$A$4:$S$399,$AD$6,FALSE)/AU27,3)*1000)","v":2270},{"$f":"IF($A$4=\"Numbers\",MROUND(VLOOKUP($C27&T$8,'Calc-V'!$A$4:$S$399,$AD$6,FALSE),10),ROUND(VLOOKUP($C27&T$8,'Calc-V'!$A$4:$S$399,$AD$6,FALSE)/AV27,3)*1000)","v":2650},{"$f":"IF($A$4=\"Numbers\",MROUND(VLOOKUP($C27&U$8,'Calc-V'!$A$4:$S$399,$AD$6,FALSE),10),ROUND(VLOOKUP($C27&U$8,'Calc-V'!$A$4:$S$399,$AD$6,FALSE)/AW27,3)*1000)","v":2650},{"$f":"IF($A$4=\"Numbers\",MROUND(VLOOKUP($C27&V$8,'Calc-V'!$A$4:$S$399,$AD$6,FALSE),10),ROUND(VLOOKUP($C27&V$8,'Calc-V'!$A$4:$S$399,$AD$6,FALSE)/AX27,3)*1000)","v":2610},{"$f":"IF($A$4=\"Numbers\",MROUND(VLOOKUP($C27&W$8,'Calc-V'!$A$4:$S$399,$AD$6,FALSE),10),ROUND(VLOOKUP($C27&W$8,'Calc-V'!$A$4:$S$399,$AD$6,FALSE)/AY27,3)*1000)","v":3220},{"$f":"IF($A$4=\"Numbers\",MROUND(VLOOKUP($C27&X$8,'Calc-V'!$A$4:$S$399,$AD$6,FALSE),10),ROUND(VLOOKUP($C27&X$8,'Calc-V'!$A$4:$S$399,$AD$6,FALSE)/AZ27,3)*1000)","v":3850},{"$f":"IF($A$4=\"Numbers\",MROUND(VLOOKUP($C27&Y$8,'Calc-V'!$A$4:$S$399,$AD$6,FALSE),10),ROUND(VLOOKUP($C27&Y$8,'Calc-V'!$A$4:$S$399,$AD$6,FALSE)/BA27,3)*1000)","v":4150},{"$f":"IF($A$4=\"Numbers\",MROUND(VLOOKUP($C27&Z$8,'Calc-V'!$A$4:$S$399,$AD$6,FALSE),10),ROUND(VLOOKUP($C27&Z$8,'Calc-V'!$A$4:$S$399,$AD$6,FALSE)/BB27,3)*1000)","v":4150},{"$f":"IF($A$4=\"Numbers\",MROUND(VLOOKUP($C27&AA$8,'Calc-V'!$A$4:$S$399,$AD$6,FALSE),10),ROUND(VLOOKUP($C27&AA$8,'Calc-V'!$A$4:$S$399,$AD$6,FALSE)/BC27,3)*1000)","v":4560},{"$f":"IF($A$4=\"Numbers\",MROUND(VLOOKUP($C27&AB$8,'Calc-V'!$A$4:$S$399,$AD$6,FALSE),10),ROUND(VLOOKUP($C27&AB$8,'Calc-V'!$A$4:$S$399,$AD$6,FALSE)/BD27,3)*1000)","v":4750},null,null,null,{"$f":"VLOOKUP($C27&AS$8,'Calc-V'!$A$4:$AA$399,$AS$6,FALSE)","v":80370},{"$f":"VLOOKUP($C27&AT$8,'Calc-V'!$A$4:$AA$399,$AS$6,FALSE)","v":81540},{"$f":"VLOOKUP($C27&AU$8,'Calc-V'!$A$4:$AA$399,$AS$6,FALSE)","v":81540},{"$f":"VLOOKUP($C27&AV$8,'Calc-V'!$A$4:$AA$399,$AS$6,FALSE)","v":81900},{"$f":"VLOOKUP($C27&AW$8,'Calc-V'!$A$4:$AA$399,$AS$6,FALSE)","v":81900},{"$f":"VLOOKUP($C27&AX$8,'Calc-V'!$A$4:$AA$399,$AS$6,FALSE)","v":82360},{"$f":"VLOOKUP($C27&AY$8,'Calc-V'!$A$4:$AA$399,$AS$6,FALSE)","v":82360},{"$f":"VLOOKUP($C27&AZ$8,'Calc-V'!$A$4:$AA$399,$AS$6,FALSE)","v":83450},{"$f":"VLOOKUP($C27&BA$8,'Calc-V'!$A$4:$AA$399,$AS$6,FALSE)","v":84240},{"$f":"VLOOKUP($C27&BB$8,'Calc-V'!$A$4:$AA$399,$AS$6,FALSE)","v":84240},{"$f":"VLOOKUP($C27&BC$8,'Calc-V'!$A$4:$AA$399,$AS$6,FALSE)","v":84700},{"$f":"VLOOKUP($C27&BD$8,'Calc-V'!$A$4:$AA$399,$AS$6,FALSE)","v":86210}]
[null,null,"Moray",{"$f":"IF($A$4=\"Numbers\",MROUND(VLOOKUP($C28&D$8,'Calc-V'!$A$4:$W$399,$D$6,FALSE),10),ROUND(VLOOKUP($C28&D$8,'Calc-V'!$A$4:$W$399,$D$6,FALSE)/AS28,3)*1000)","v":1820},{"$f":"IF($A$4=\"Numbers\",MROUND(VLOOKUP($C28&E$8,'Calc-V'!$A$4:$W$399,$D$6,FALSE),10),ROUND(VLOOKUP($C28&E$8,'Calc-V'!$A$4:$W$399,$D$6,FALSE)/AT28,3)*1000)","v":1870},{"$f":"IF($A$4=\"Numbers\",MROUND(VLOOKUP($C28&F$8,'Calc-V'!$A$4:$W$399,$D$6,FALSE),10),ROUND(VLOOKUP($C28&F$8,'Calc-V'!$A$4:$W$399,$D$6,FALSE)/AU28,3)*1000)","v":1790},{"$f":"IF($A$4=\"Numbers\",MROUND(VLOOKUP($C28&G$8,'Calc-V'!$A$4:$W$399,$D$6,FALSE),10),ROUND(VLOOKUP($C28&G$8,'Calc-V'!$A$4:$W$399,$D$6,FALSE)/AV28,3)*1000)","v":1950},{"$f":"IF($A$4=\"Numbers\",MROUND(VLOOKUP($C28&H$8,'Calc-V'!$A$4:$W$399,$D$6,FALSE),10),ROUND(VLOOKUP($C28&H$8,'Calc-V'!$A$4:$W$399,$D$6,FALSE)/AW28,3)*1000)","v":1950},{"$f":"IF($A$4=\"Numbers\",MROUND(VLOOKUP($C28&I$8,'Calc-V'!$A$4:$W$399,$D$6,FALSE),10),ROUND(VLOOKUP($C28&I$8,'Calc-V'!$A$4:$W$399,$D$6,FALSE)/AX28,3)*1000)","v":1990},{"$f":"IF($A$4=\"Numbers\",MROUND(VLOOKUP($C28&J$8,'Calc-V'!$A$4:$W$399,$D$6,FALSE),10),ROUND(VLOOKUP($C28&J$8,'Calc-V'!$A$4:$W$399,$D$6,FALSE)/AY28,3)*1000)","v":1990},{"$f":"IF($A$4=\"Numbers\",MROUND(VLOOKUP($C28&K$8,'Calc-V'!$A$4:$W$399,$D$6,FALSE),10),ROUND(VLOOKUP($C28&K$8,'Calc-V'!$A$4:$W$399,$D$6,FALSE)/AZ28,3)*1000)","v":1990},{"$f":"IF($A$4=\"Numbers\",MROUND(VLOOKUP($C28&L$8,'Calc-V'!$A$4:$W$399,$D$6,FALSE),10),ROUND(VLOOKUP($C28&L$8,'Calc-V'!$A$4:$W$399,$D$6,FALSE)/BA28,3)*1000)","v":2090},{"$f":"IF($A$4=\"Numbers\",MROUND(VLOOKUP($C28&M$8,'Calc-V'!$A$4:$W$399,$D$6,FALSE),10),ROUND(VLOOKUP($C28&M$8,'Calc-V'!$A$4:$W$399,$D$6,FALSE)/BB28,3)*1000)","v":2090},{"$f":"IF($A$4=\"Numbers\",MROUND(VLOOKUP($C28&N$8,'Calc-V'!$A$4:$W$399,$D$6,FALSE),10),ROUND(VLOOKUP($C28&N$8,'Calc-V'!$A$4:$W$399,$D$6,FALSE)/BC28,3)*1000)","v":2030},{"$f":"IF($A$4=\"Numbers\",MROUND(VLOOKUP($C28&O$8,'Calc-V'!$A$4:$W$399,$D$6,FALSE),10),ROUND(VLOOKUP($C28&O$8,'Calc-V'!$A$4:$W$399,$D$6,FALSE)/BD28,3)*1000)","v":1950},null,{"$f":"IF($A$4=\"Numbers\",MROUND(VLOOKUP($C28&D$8,'Calc-V'!$A$4:$S$399,$Q$6,FALSE),10),ROUND(VLOOKUP($C28&D$8,'Calc-V'!$A$4:$S$399,$Q$6,FALSE)/AS28,3)*1000)","v":980},{"$f":"IF($A$4=\"Numbers\",MROUND(VLOOKUP($C28&E$8,'Calc-V'!$A$4:$S$399,$Q$6,FALSE),10),ROUND(VLOOKUP($C28&E$8,'Calc-V'!$A$4:$S$399,$Q$6,FALSE)/AT28,3)*1000)","v":940},{"$f":"IF($A$4=\"Numbers\",MROUND(VLOOKUP($C28&F$8,'Calc-V'!$A$4:$S$399,$Q$6,FALSE),10),ROUND(VLOOKUP($C28&F$8,'Calc-V'!$A$4:$S$399,$Q$6,FALSE)/AU28,3)*1000)","v":940},{"$f":"IF($A$4=\"Numbers\",MROUND(VLOOKUP($C28&G$8,'Calc-V'!$A$4:$S$399,$Q$6,FALSE),10),ROUND(VLOOKUP($C28&G$8,'Calc-V'!$A$4:$S$399,$Q$6,FALSE)/AV28,3)*1000)","v":1230},{"$f":"IF($A$4=\"Numbers\",MROUND(VLOOKUP($C28&H$8,'Calc-V'!$A$4:$S$399,$Q$6,FALSE),10),ROUND(VLOOKUP($C28&H$8,'Calc-V'!$A$4:$S$399,$Q$6,FALSE)/AW28,3)*1000)","v":1230},{"$f":"IF($A$4=\"Numbers\",MROUND(VLOOKUP($C28&I$8,'Calc-V'!$A$4:$S$399,$Q$6,FALSE),10),ROUND(VLOOKUP($C28&I$8,'Calc-V'!$A$4:$S$399,$Q$6,FALSE)/AX28,3)*1000)","v":1240},{"$f":"IF($A$4=\"Numbers\",MROUND(VLOOKUP($C28&J$8,'Calc-V'!$A$4:$S$399,$Q$6,FALSE),10),ROUND(VLOOKUP($C28&J$8,'Calc-V'!$A$4:$S$399,$Q$6,FALSE)/AY28,3)*1000)","v":1240},{"$f":"IF($A$4=\"Numbers\",MROUND(VLOOKUP($C28&K$8,'Calc-V'!$A$4:$S$399,$Q$6,FALSE),10),ROUND(VLOOKUP($C28&K$8,'Calc-V'!$A$4:$S$399,$Q$6,FALSE)/AZ28,3)*1000)","v":1160},{"$f":"IF($A$4=\"Numbers\",MROUND(VLOOKUP($C28&L$8,'Calc-V'!$A$4:$S$399,$Q$6,FALSE),10),ROUND(VLOOKUP($C28&L$8,'Calc-V'!$A$4:$S$399,$Q$6,FALSE)/BA28,3)*1000)","v":1270},{"$f":"IF($A$4=\"Numbers\",MROUND(VLOOKUP($C28&M$8,'Calc-V'!$A$4:$S$399,$Q$6,FALSE),10),ROUND(VLOOKUP($C28&M$8,'Calc-V'!$A$4:$S$399,$Q$6,FALSE)/BB28,3)*1000)","v":1270},{"$f":"IF($A$4=\"Numbers\",MROUND(VLOOKUP($C28&N$8,'Calc-V'!$A$4:$S$399,$Q$6,FALSE),10),ROUND(VLOOKUP($C28&N$8,'Calc-V'!$A$4:$S$399,$Q$6,FALSE)/BC28,3)*1000)","v":1040},{"$f":"IF($A$4=\"Numbers\",MROUND(VLOOKUP($C28&O$8,'Calc-V'!$A$4:$S$399,$Q$6,FALSE),10),ROUND(VLOOKUP($C28&O$8,'Calc-V'!$A$4:$S$399,$Q$6,FALSE)/BD28,3)*1000)","v":1090},null,{"$f":"IF($A$4=\"Numbers\",MROUND(VLOOKUP($C28&Q$8,'Calc-V'!$A$4:$S$399,$AD$6,FALSE),10),ROUND(VLOOKUP($C28&Q$8,'Calc-V'!$A$4:$S$399,$AD$6,FALSE)/AS28,3)*1000)","v":850},{"$f":"IF($A$4=\"Numbers\",MROUND(VLOOKUP($C28&R$8,'Calc-V'!$A$4:$S$399,$AD$6,FALSE),10),ROUND(VLOOKUP($C28&R$8,'Calc-V'!$A$4:$S$399,$AD$6,FALSE)/AT28,3)*1000)","v":920},{"$f":"IF($A$4=\"Numbers\",MROUND(VLOOKUP($C28&S$8,'Calc-V'!$A$4:$S$399,$AD$6,FALSE),10),ROUND(VLOOKUP($C28&S$8,'Calc-V'!$A$4:$S$399,$AD$6,FALSE)/AU28,3)*1000)","v":850},{"$f":"IF($A$4=\"Numbers\",MROUND(VLOOKUP($C28&T$8,'Calc-V'!$A$4:$S$399,$AD$6,FALSE),10),ROUND(VLOOKUP($C28&T$8,'Calc-V'!$A$4:$S$399,$AD$6,FALSE)/AV28,3)*1000)","v":720},{"$f":"IF($A$4=\"Numbers\",MROUND(VLOOKUP($C28&U$8,'Calc-V'!$A$4:$S$399,$AD$6,FALSE),10),ROUND(VLOOKUP($C28&U$8,'Calc-V'!$A$4:$S$399,$AD$6,FALSE)/AW28,3)*1000)","v":720},{"$f":"IF($A$4=\"Numbers\",MROUND(VLOOKUP($C28&V$8,'Calc-V'!$A$4:$S$399,$AD$6,FALSE),10),ROUND(VLOOKUP($C28&V$8,'Calc-V'!$A$4:$S$399,$AD$6,FALSE)/AX28,3)*1000)","v":750},{"$f":"IF($A$4=\"Numbers\",MROUND(VLOOKUP($C28&W$8,'Calc-V'!$A$4:$S$399,$AD$6,FALSE),10),ROUND(VLOOKUP($C28&W$8,'Calc-V'!$A$4:$S$399,$AD$6,FALSE)/AY28,3)*1000)","v":750},{"$f":"IF($A$4=\"Numbers\",MROUND(VLOOKUP($C28&X$8,'Calc-V'!$A$4:$S$399,$AD$6,FALSE),10),ROUND(VLOOKUP($C28&X$8,'Calc-V'!$A$4:$S$399,$AD$6,FALSE)/AZ28,3)*1000)","v":830},{"$f":"IF($A$4=\"Numbers\",MROUND(VLOOKUP($C28&Y$8,'Calc-V'!$A$4:$S$399,$AD$6,FALSE),10),ROUND(VLOOKUP($C28&Y$8,'Calc-V'!$A$4:$S$399,$AD$6,FALSE)/BA28,3)*1000)","v":820},{"$f":"IF($A$4=\"Numbers\",MROUND(VLOOKUP($C28&Z$8,'Calc-V'!$A$4:$S$399,$AD$6,FALSE),10),ROUND(VLOOKUP($C28&Z$8,'Calc-V'!$A$4:$S$399,$AD$6,FALSE)/BB28,3)*1000)","v":820},{"$f":"IF($A$4=\"Numbers\",MROUND(VLOOKUP($C28&AA$8,'Calc-V'!$A$4:$S$399,$AD$6,FALSE),10),ROUND(VLOOKUP($C28&AA$8,'Calc-V'!$A$4:$S$399,$AD$6,FALSE)/BC28,3)*1000)","v":1000},{"$f":"IF($A$4=\"Numbers\",MROUND(VLOOKUP($C28&AB$8,'Calc-V'!$A$4:$S$399,$AD$6,FALSE),10),ROUND(VLOOKUP($C28&AB$8,'Calc-V'!$A$4:$S$399,$AD$6,FALSE)/BD28,3)*1000)","v":870},null,null,null,{"$f":"VLOOKUP($C28&AS$8,'Calc-V'!$A$4:$AA$399,$AS$6,FALSE)","v":91440},{"$f":"VLOOKUP($C28&AT$8,'Calc-V'!$A$4:$AA$399,$AS$6,FALSE)","v":92830},{"$f":"VLOOKUP($C28&AU$8,'Calc-V'!$A$4:$AA$399,$AS$6,FALSE)","v":92830},{"$f":"VLOOKUP($C28&AV$8,'Calc-V'!$A$4:$AA$399,$AS$6,FALSE)","v":93170},{"$f":"VLOOKUP($C28&AW$8,'Calc-V'!$A$4:$AA$399,$AS$6,FALSE)","v":93170},{"$f":"VLOOKUP($C28&AX$8,'Calc-V'!$A$4:$AA$399,$AS$6,FALSE)","v":93690},{"$f":"VLOOKUP($C28&AY$8,'Calc-V'!$A$4:$AA$399,$AS$6,FALSE)","v":93690},{"$f":"VLOOKUP($C28&AZ$8,'Calc-V'!$A$4:$AA$399,$AS$6,FALSE)","v":93470},{"$f":"VLOOKUP($C28&BA$8,'Calc-V'!$A$4:$AA$399,$AS$6,FALSE)","v":92910},{"$f":"VLOOKUP($C28&BB$8,'Calc-V'!$A$4:$AA$399,$AS$6,FALSE)","v":92910},{"$f":"VLOOKUP($C28&BC$8,'Calc-V'!$A$4:$AA$399,$AS$6,FALSE)","v":94350},{"$f":"VLOOKUP($C28&BD$8,'Calc-V'!$A$4:$AA$399,$AS$6,FALSE)","v":94750}]
[null,null,"North Ayrshire",{"$f":"IF($A$4=\"Numbers\",MROUND(VLOOKUP($C29&D$8,'Calc-V'!$A$4:$W$399,$D$6,FALSE),10),ROUND(VLOOKUP($C29&D$8,'Calc-V'!$A$4:$W$399,$D$6,FALSE)/AS29,3)*1000)","v":4490},{"$f":"IF($A$4=\"Numbers\",MROUND(VLOOKUP($C29&E$8,'Calc-V'!$A$4:$W$399,$D$6,FALSE),10),ROUND(VLOOKUP($C29&E$8,'Calc-V'!$A$4:$W$399,$D$6,FALSE)/AT29,3)*1000)","v":4880},{"$f":"IF($A$4=\"Numbers\",MROUND(VLOOKUP($C29&F$8,'Calc-V'!$A$4:$W$399,$D$6,FALSE),10),ROUND(VLOOKUP($C29&F$8,'Calc-V'!$A$4:$W$399,$D$6,FALSE)/AU29,3)*1000)","v":4880},{"$f":"IF($A$4=\"Numbers\",MROUND(VLOOKUP($C29&G$8,'Calc-V'!$A$4:$W$399,$D$6,FALSE),10),ROUND(VLOOKUP($C29&G$8,'Calc-V'!$A$4:$W$399,$D$6,FALSE)/AV29,3)*1000)","v":4770},{"$f":"IF($A$4=\"Numbers\",MROUND(VLOOKUP($C29&H$8,'Calc-V'!$A$4:$W$399,$D$6,FALSE),10),ROUND(VLOOKUP($C29&H$8,'Calc-V'!$A$4:$W$399,$D$6,FALSE)/AW29,3)*1000)","v":4770},{"$f":"IF($A$4=\"Numbers\",MROUND(VLOOKUP($C29&I$8,'Calc-V'!$A$4:$W$399,$D$6,FALSE),10),ROUND(VLOOKUP($C29&I$8,'Calc-V'!$A$4:$W$399,$D$6,FALSE)/AX29,3)*1000)","v":4850},{"$f":"IF($A$4=\"Numbers\",MROUND(VLOOKUP($C29&J$8,'Calc-V'!$A$4:$W$399,$D$6,FALSE),10),ROUND(VLOOKUP($C29&J$8,'Calc-V'!$A$4:$W$399,$D$6,FALSE)/AY29,3)*1000)","v":4850},{"$f":"IF($A$4=\"Numbers\",MROUND(VLOOKUP($C29&K$8,'Calc-V'!$A$4:$W$399,$D$6,FALSE),10),ROUND(VLOOKUP($C29&K$8,'Calc-V'!$A$4:$W$399,$D$6,FALSE)/AZ29,3)*1000)","v":4560},{"$f":"IF($A$4=\"Numbers\",MROUND(VLOOKUP($C29&L$8,'Calc-V'!$A$4:$W$399,$D$6,FALSE),10),ROUND(VLOOKUP($C29&L$8,'Calc-V'!$A$4:$W$399,$D$6,FALSE)/BA29,3)*1000)","v":6190},{"$f":"IF($A$4=\"Numbers\",MROUND(VLOOKUP($C29&M$8,'Calc-V'!$A$4:$W$399,$D$6,FALSE),10),ROUND(VLOOKUP($C29&M$8,'Calc-V'!$A$4:$W$399,$D$6,FALSE)/BB29,3)*1000)","v":6250},{"$f":"IF($A$4=\"Numbers\",MROUND(VLOOKUP($C29&N$8,'Calc-V'!$A$4:$W$399,$D$6,FALSE),10),ROUND(VLOOKUP($C29&N$8,'Calc-V'!$A$4:$W$399,$D$6,FALSE)/BC29,3)*1000)","v":6030},{"$f":"IF($A$4=\"Numbers\",MROUND(VLOOKUP($C29&O$8,'Calc-V'!$A$4:$W$399,$D$6,FALSE),10),ROUND(VLOOKUP($C29&O$8,'Calc-V'!$A$4:$W$399,$D$6,FALSE)/BD29,3)*1000)","v":6180},null,{"$f":"IF($A$4=\"Numbers\",MROUND(VLOOKUP($C29&D$8,'Calc-V'!$A$4:$S$399,$Q$6,FALSE),10),ROUND(VLOOKUP($C29&D$8,'Calc-V'!$A$4:$S$399,$Q$6,FALSE)/AS29,3)*1000)","v":2350},{"$f":"IF($A$4=\"Numbers\",MROUND(VLOOKUP($C29&E$8,'Calc-V'!$A$4:$S$399,$Q$6,FALSE),10),ROUND(VLOOKUP($C29&E$8,'Calc-V'!$A$4:$S$399,$Q$6,FALSE)/AT29,3)*1000)","v":2640},{"$f":"IF($A$4=\"Numbers\",MROUND(VLOOKUP($C29&F$8,'Calc-V'!$A$4:$S$399,$Q$6,FALSE),10),ROUND(VLOOKUP($C29&F$8,'Calc-V'!$A$4:$S$399,$Q$6,FALSE)/AU29,3)*1000)","v":2640},{"$f":"IF($A$4=\"Numbers\",MROUND(VLOOKUP($C29&G$8,'Calc-V'!$A$4:$S$399,$Q$6,FALSE),10),ROUND(VLOOKUP($C29&G$8,'Calc-V'!$A$4:$S$399,$Q$6,FALSE)/AV29,3)*1000)","v":2470},{"$f":"IF($A$4=\"Numbers\",MROUND(VLOOKUP($C29&H$8,'Calc-V'!$A$4:$S$399,$Q$6,FALSE),10),ROUND(VLOOKUP($C29&H$8,'Calc-V'!$A$4:$S$399,$Q$6,FALSE)/AW29,3)*1000)","v":2470},{"$f":"IF($A$4=\"Numbers\",MROUND(VLOOKUP($C29&I$8,'Calc-V'!$A$4:$S$399,$Q$6,FALSE),10),ROUND(VLOOKUP($C29&I$8,'Calc-V'!$A$4:$S$399,$Q$6,FALSE)/AX29,3)*1000)","v":2390},{"$f":"IF($A$4=\"Numbers\",MROUND(VLOOKUP($C29&J$8,'Calc-V'!$A$4:$S$399,$Q$6,FALSE),10),ROUND(VLOOKUP($C29&J$8,'Calc-V'!$A$4:$S$399,$Q$6,FALSE)/AY29,3)*1000)","v":2390},{"$f":"IF($A$4=\"Numbers\",MROUND(VLOOKUP($C29&K$8,'Calc-V'!$A$4:$S$399,$Q$6,FALSE),10),ROUND(VLOOKUP($C29&K$8,'Calc-V'!$A$4:$S$399,$Q$6,FALSE)/AZ29,3)*1000)","v":2280},{"$f":"IF($A$4=\"Numbers\",MROUND(VLOOKUP($C29&L$8,'Calc-V'!$A$4:$S$399,$Q$6,FALSE),10),ROUND(VLOOKUP($C29&L$8,'Calc-V'!$A$4:$S$399,$Q$6,FALSE)/BA29,3)*1000)","v":2000},{"$f":"IF($A$4=\"Numbers\",MROUND(VLOOKUP($C29&M$8,'Calc-V'!$A$4:$S$399,$Q$6,FALSE),10),ROUND(VLOOKUP($C29&M$8,'Calc-V'!$A$4:$S$399,$Q$6,FALSE)/BB29,3)*1000)","v":2050},{"$f":"IF($A$4=\"Numbers\",MROUND(VLOOKUP($C29&N$8,'Calc-V'!$A$4:$S$399,$Q$6,FALSE),10),ROUND(VLOOKUP($C29&N$8,'Calc-V'!$A$4:$S$399,$Q$6,FALSE)/BC29,3)*1000)","v":1990},{"$f":"IF($A$4=\"Numbers\",MROUND(VLOOKUP($C29&O$8,'Calc-V'!$A$4:$S$399,$Q$6,FALSE),10),ROUND(VLOOKUP($C29&O$8,'Calc-V'!$A$4:$S$399,$Q$6,FALSE)/BD29,3)*1000)","v":2210},null,{"$f":"IF($A$4=\"Numbers\",MROUND(VLOOKUP($C29&Q$8,'Calc-V'!$A$4:$S$399,$AD$6,FALSE),10),ROUND(VLOOKUP($C29&Q$8,'Calc-V'!$A$4:$S$399,$AD$6,FALSE)/AS29,3)*1000)","v":2140},{"$f":"IF($A$4=\"Numbers\",MROUND(VLOOKUP($C29&R$8,'Calc-V'!$A$4:$S$399,$AD$6,FALSE),10),ROUND(VLOOKUP($C29&R$8,'Calc-V'!$A$4:$S$399,$AD$6,FALSE)/AT29,3)*1000)","v":2240},{"$f":"IF($A$4=\"Numbers\",MROUND(VLOOKUP($C29&S$8,'Calc-V'!$A$4:$S$399,$AD$6,FALSE),10),ROUND(VLOOKUP($C29&S$8,'Calc-V'!$A$4:$S$399,$AD$6,FALSE)/AU29,3)*1000)","v":2240},{"$f":"IF($A$4=\"Numbers\",MROUND(VLOOKUP($C29&T$8,'Calc-V'!$A$4:$S$399,$AD$6,FALSE),10),ROUND(VLOOKUP($C29&T$8,'Calc-V'!$A$4:$S$399,$AD$6,FALSE)/AV29,3)*1000)","v":2300},{"$f":"IF($A$4=\"Numbers\",MROUND(VLOOKUP($C29&U$8,'Calc-V'!$A$4:$S$399,$AD$6,FALSE),10),ROUND(VLOOKUP($C29&U$8,'Calc-V'!$A$4:$S$399,$AD$6,FALSE)/AW29,3)*1000)","v":2300},{"$f":"IF($A$4=\"Numbers\",MROUND(VLOOKUP($C29&V$8,'Calc-V'!$A$4:$S$399,$AD$6,FALSE),10),ROUND(VLOOKUP($C29&V$8,'Calc-V'!$A$4:$S$399,$AD$6,FALSE)/AX29,3)*1000)","v":2450},{"$f":"IF($A$4=\"Numbers\",MROUND(VLOOKUP($C29&W$8,'Calc-V'!$A$4:$S$399,$AD$6,FALSE),10),ROUND(VLOOKUP($C29&W$8,'Calc-V'!$A$4:$S$399,$AD$6,FALSE)/AY29,3)*1000)","v":2450},{"$f":"IF($A$4=\"Numbers\",MROUND(VLOOKUP($C29&X$8,'Calc-V'!$A$4:$S$399,$AD$6,FALSE),10),ROUND(VLOOKUP($C29&X$8,'Calc-V'!$A$4:$S$399,$AD$6,FALSE)/AZ29,3)*1000)","v":2270},{"$f":"IF($A$4=\"Numbers\",MROUND(VLOOKUP($C29&Y$8,'Calc-V'!$A$4:$S$399,$AD$6,FALSE),10),ROUND(VLOOKUP($C29&Y$8,'Calc-V'!$A$4:$S$399,$AD$6,FALSE)/BA29,3)*1000)","v":4190},{"$f":"IF($A$4=\"Numbers\",MROUND(VLOOKUP($C29&Z$8,'Calc-V'!$A$4:$S$399,$AD$6,FALSE),10),ROUND(VLOOKUP($C29&Z$8,'Calc-V'!$A$4:$S$399,$AD$6,FALSE)/BB29,3)*1000)","v":4190},{"$f":"IF($A$4=\"Numbers\",MROUND(VLOOKUP($C29&AA$8,'Calc-V'!$A$4:$S$399,$AD$6,FALSE),10),ROUND(VLOOKUP($C29&AA$8,'Calc-V'!$A$4:$S$399,$AD$6,FALSE)/BC29,3)*1000)","v":4030},{"$f":"IF($A$4=\"Numbers\",MROUND(VLOOKUP($C29&AB$8,'Calc-V'!$A$4:$S$399,$AD$6,FALSE),10),ROUND(VLOOKUP($C29&AB$8,'Calc-V'!$A$4:$S$399,$AD$6,FALSE)/BD29,3)*1000)","v":3970},null,null,null,{"$f":"VLOOKUP($C29&AS$8,'Calc-V'!$A$4:$AA$399,$AS$6,FALSE)","v":137420},{"$f":"VLOOKUP($C29&AT$8,'Calc-V'!$A$4:$AA$399,$AS$6,FALSE)","v":137910},{"$f":"VLOOKUP($C29&AU$8,'Calc-V'!$A$4:$AA$399,$AS$6,FALSE)","v":137910},{"$f":"VLOOKUP($C29&AV$8,'Calc-V'!$A$4:$AA$399,$AS$6,FALSE)","v":137830},{"$f":"VLOOKUP($C29&AW$8,'Calc-V'!$A$4:$AA$399,$AS$6,FALSE)","v":137830},{"$f":"VLOOKUP($C29&AX$8,'Calc-V'!$A$4:$AA$399,$AS$6,FALSE)","v":137790},{"$f":"VLOOKUP($C29&AY$8,'Calc-V'!$A$4:$AA$399,$AS$6,FALSE)","v":137790},{"$f":"VLOOKUP($C29&AZ$8,'Calc-V'!$A$4:$AA$399,$AS$6,FALSE)","v":138090},{"$f":"VLOOKUP($C29&BA$8,'Calc-V'!$A$4:$AA$399,$AS$6,FALSE)","v":137560},{"$f":"VLOOKUP($C29&BB$8,'Calc-V'!$A$4:$AA$399,$AS$6,FALSE)","v":137560},{"$f":"VLOOKUP($C29&BC$8,'Calc-V'!$A$4:$AA$399,$AS$6,FALSE)","v":136920},{"$f":"VLOOKUP($C29&BD$8,'Calc-V'!$A$4:$AA$399,$AS$6,FALSE)","v":136450}]
[null,null,"North Lanarkshire",{"$f":"IF($A$4=\"Numbers\",MROUND(VLOOKUP($C30&D$8,'Calc-V'!$A$4:$W$399,$D$6,FALSE),10),ROUND(VLOOKUP($C30&D$8,'Calc-V'!$A$4:$W$399,$D$6,FALSE)/AS30,3)*1000)","v":10020},{"$f":"IF($A$4=\"Numbers\",MROUND(VLOOKUP($C30&E$8,'Calc-V'!$A$4:$W$399,$D$6,FALSE),10),ROUND(VLOOKUP($C30&E$8,'Calc-V'!$A$4:$W$399,$D$6,FALSE)/AT30,3)*1000)","v":12820},{"$f":"IF($A$4=\"Numbers\",MROUND(VLOOKUP($C30&F$8,'Calc-V'!$A$4:$W$399,$D$6,FALSE),10),ROUND(VLOOKUP($C30&F$8,'Calc-V'!$A$4:$W$399,$D$6,FALSE)/AU30,3)*1000)","v":12820},{"$f":"IF($A$4=\"Numbers\",MROUND(VLOOKUP($C30&G$8,'Calc-V'!$A$4:$W$399,$D$6,FALSE),10),ROUND(VLOOKUP($C30&G$8,'Calc-V'!$A$4:$W$399,$D$6,FALSE)/AV30,3)*1000)","v":11240},{"$f":"IF($A$4=\"Numbers\",MROUND(VLOOKUP($C30&H$8,'Calc-V'!$A$4:$W$399,$D$6,FALSE),10),ROUND(VLOOKUP($C30&H$8,'Calc-V'!$A$4:$W$399,$D$6,FALSE)/AW30,3)*1000)","v":11240},{"$f":"IF($A$4=\"Numbers\",MROUND(VLOOKUP($C30&I$8,'Calc-V'!$A$4:$W$399,$D$6,FALSE),10),ROUND(VLOOKUP($C30&I$8,'Calc-V'!$A$4:$W$399,$D$6,FALSE)/AX30,3)*1000)","v":10760},{"$f":"IF($A$4=\"Numbers\",MROUND(VLOOKUP($C30&J$8,'Calc-V'!$A$4:$W$399,$D$6,FALSE),10),ROUND(VLOOKUP($C30&J$8,'Calc-V'!$A$4:$W$399,$D$6,FALSE)/AY30,3)*1000)","v":10760},{"$f":"IF($A$4=\"Numbers\",MROUND(VLOOKUP($C30&K$8,'Calc-V'!$A$4:$W$399,$D$6,FALSE),10),ROUND(VLOOKUP($C30&K$8,'Calc-V'!$A$4:$W$399,$D$6,FALSE)/AZ30,3)*1000)","v":11090},{"$f":"IF($A$4=\"Numbers\",MROUND(VLOOKUP($C30&L$8,'Calc-V'!$A$4:$W$399,$D$6,FALSE),10),ROUND(VLOOKUP($C30&L$8,'Calc-V'!$A$4:$W$399,$D$6,FALSE)/BA30,3)*1000)","v":11410},{"$f":"IF($A$4=\"Numbers\",MROUND(VLOOKUP($C30&M$8,'Calc-V'!$A$4:$W$399,$D$6,FALSE),10),ROUND(VLOOKUP($C30&M$8,'Calc-V'!$A$4:$W$399,$D$6,FALSE)/BB30,3)*1000)","v":11410},{"$f":"IF($A$4=\"Numbers\",MROUND(VLOOKUP($C30&N$8,'Calc-V'!$A$4:$W$399,$D$6,FALSE),10),ROUND(VLOOKUP($C30&N$8,'Calc-V'!$A$4:$W$399,$D$6,FALSE)/BC30,3)*1000)","v":11770},{"$f":"IF($A$4=\"Numbers\",MROUND(VLOOKUP($C30&O$8,'Calc-V'!$A$4:$W$399,$D$6,FALSE),10),ROUND(VLOOKUP($C30&O$8,'Calc-V'!$A$4:$W$399,$D$6,FALSE)/BD30,3)*1000)","v":11180},null,{"$f":"IF($A$4=\"Numbers\",MROUND(VLOOKUP($C30&D$8,'Calc-V'!$A$4:$S$399,$Q$6,FALSE),10),ROUND(VLOOKUP($C30&D$8,'Calc-V'!$A$4:$S$399,$Q$6,FALSE)/AS30,3)*1000)","v":3190},{"$f":"IF($A$4=\"Numbers\",MROUND(VLOOKUP($C30&E$8,'Calc-V'!$A$4:$S$399,$Q$6,FALSE),10),ROUND(VLOOKUP($C30&E$8,'Calc-V'!$A$4:$S$399,$Q$6,FALSE)/AT30,3)*1000)","v":2830},{"$f":"IF($A$4=\"Numbers\",MROUND(VLOOKUP($C30&F$8,'Calc-V'!$A$4:$S$399,$Q$6,FALSE),10),ROUND(VLOOKUP($C30&F$8,'Calc-V'!$A$4:$S$399,$Q$6,FALSE)/AU30,3)*1000)","v":2830},{"$f":"IF($A$4=\"Numbers\",MROUND(VLOOKUP($C30&G$8,'Calc-V'!$A$4:$S$399,$Q$6,FALSE),10),ROUND(VLOOKUP($C30&G$8,'Calc-V'!$A$4:$S$399,$Q$6,FALSE)/AV30,3)*1000)","v":3010},{"$f":"IF($A$4=\"Numbers\",MROUND(VLOOKUP($C30&H$8,'Calc-V'!$A$4:$S$399,$Q$6,FALSE),10),ROUND(VLOOKUP($C30&H$8,'Calc-V'!$A$4:$S$399,$Q$6,FALSE)/AW30,3)*1000)","v":3010},{"$f":"IF($A$4=\"Numbers\",MROUND(VLOOKUP($C30&I$8,'Calc-V'!$A$4:$S$399,$Q$6,FALSE),10),ROUND(VLOOKUP($C30&I$8,'Calc-V'!$A$4:$S$399,$Q$6,FALSE)/AX30,3)*1000)","v":2880},{"$f":"IF($A$4=\"Numbers\",MROUND(VLOOKUP($C30&J$8,'Calc-V'!$A$4:$S$399,$Q$6,FALSE),10),ROUND(VLOOKUP($C30&J$8,'Calc-V'!$A$4:$S$399,$Q$6,FALSE)/AY30,3)*1000)","v":2880},{"$f":"IF($A$4=\"Numbers\",MROUND(VLOOKUP($C30&K$8,'Calc-V'!$A$4:$S$399,$Q$6,FALSE),10),ROUND(VLOOKUP($C30&K$8,'Calc-V'!$A$4:$S$399,$Q$6,FALSE)/AZ30,3)*1000)","v":2850},{"$f":"IF($A$4=\"Numbers\",MROUND(VLOOKUP($C30&L$8,'Calc-V'!$A$4:$S$399,$Q$6,FALSE),10),ROUND(VLOOKUP($C30&L$8,'Calc-V'!$A$4:$S$399,$Q$6,FALSE)/BA30,3)*1000)","v":2780},{"$f":"IF($A$4=\"Numbers\",MROUND(VLOOKUP($C30&M$8,'Calc-V'!$A$4:$S$399,$Q$6,FALSE),10),ROUND(VLOOKUP($C30&M$8,'Calc-V'!$A$4:$S$399,$Q$6,FALSE)/BB30,3)*1000)","v":2780},{"$f":"IF($A$4=\"Numbers\",MROUND(VLOOKUP($C30&N$8,'Calc-V'!$A$4:$S$399,$Q$6,FALSE),10),ROUND(VLOOKUP($C30&N$8,'Calc-V'!$A$4:$S$399,$Q$6,FALSE)/BC30,3)*1000)","v":2590},{"$f":"IF($A$4=\"Numbers\",MROUND(VLOOKUP($C30&O$8,'Calc-V'!$A$4:$S$399,$Q$6,FALSE),10),ROUND(VLOOKUP($C30&O$8,'Calc-V'!$A$4:$S$399,$Q$6,FALSE)/BD30,3)*1000)","v":2520},null,{"$f":"IF($A$4=\"Numbers\",MROUND(VLOOKUP($C30&Q$8,'Calc-V'!$A$4:$S$399,$AD$6,FALSE),10),ROUND(VLOOKUP($C30&Q$8,'Calc-V'!$A$4:$S$399,$AD$6,FALSE)/AS30,3)*1000)","v":6840},{"$f":"IF($A$4=\"Numbers\",MROUND(VLOOKUP($C30&R$8,'Calc-V'!$A$4:$S$399,$AD$6,FALSE),10),ROUND(VLOOKUP($C30&R$8,'Calc-V'!$A$4:$S$399,$AD$6,FALSE)/AT30,3)*1000)","v":9990},{"$f":"IF($A$4=\"Numbers\",MROUND(VLOOKUP($C30&S$8,'Calc-V'!$A$4:$S$399,$AD$6,FALSE),10),ROUND(VLOOKUP($C30&S$8,'Calc-V'!$A$4:$S$399,$AD$6,FALSE)/AU30,3)*1000)","v":9990},{"$f":"IF($A$4=\"Numbers\",MROUND(VLOOKUP($C30&T$8,'Calc-V'!$A$4:$S$399,$AD$6,FALSE),10),ROUND(VLOOKUP($C30&T$8,'Calc-V'!$A$4:$S$399,$AD$6,FALSE)/AV30,3)*1000)","v":8230},{"$f":"IF($A$4=\"Numbers\",MROUND(VLOOKUP($C30&U$8,'Calc-V'!$A$4:$S$399,$AD$6,FALSE),10),ROUND(VLOOKUP($C30&U$8,'Calc-V'!$A$4:$S$399,$AD$6,FALSE)/AW30,3)*1000)","v":8230},{"$f":"IF($A$4=\"Numbers\",MROUND(VLOOKUP($C30&V$8,'Calc-V'!$A$4:$S$399,$AD$6,FALSE),10),ROUND(VLOOKUP($C30&V$8,'Calc-V'!$A$4:$S$399,$AD$6,FALSE)/AX30,3)*1000)","v":7880},{"$f":"IF($A$4=\"Numbers\",MROUND(VLOOKUP($C30&W$8,'Calc-V'!$A$4:$S$399,$AD$6,FALSE),10),ROUND(VLOOKUP($C30&W$8,'Calc-V'!$A$4:$S$399,$AD$6,FALSE)/AY30,3)*1000)","v":7880},{"$f":"IF($A$4=\"Numbers\",MROUND(VLOOKUP($C30&X$8,'Calc-V'!$A$4:$S$399,$AD$6,FALSE),10),ROUND(VLOOKUP($C30&X$8,'Calc-V'!$A$4:$S$399,$AD$6,FALSE)/AZ30,3)*1000)","v":8240},{"$f":"IF($A$4=\"Numbers\",MROUND(VLOOKUP($C30&Y$8,'Calc-V'!$A$4:$S$399,$AD$6,FALSE),10),ROUND(VLOOKUP($C30&Y$8,'Calc-V'!$A$4:$S$399,$AD$6,FALSE)/BA30,3)*1000)","v":8620},{"$f":"IF($A$4=\"Numbers\",MROUND(VLOOKUP($C30&Z$8,'Calc-V'!$A$4:$S$399,$AD$6,FALSE),10),ROUND(VLOOKUP($C30&Z$8,'Calc-V'!$A$4:$S$399,$AD$6,FALSE)/BB30,3)*1000)","v":8620},{"$f":"IF($A$4=\"Numbers\",MROUND(VLOOKUP($C30&AA$8,'Calc-V'!$A$4:$S$399,$AD$6,FALSE),10),ROUND(VLOOKUP($C30&AA$8,'Calc-V'!$A$4:$S$399,$AD$6,FALSE)/BC30,3)*1000)","v":9180},{"$f":"IF($A$4=\"Numbers\",MROUND(VLOOKUP($C30&AB$8,'Calc-V'!$A$4:$S$399,$AD$6,FALSE),10),ROUND(VLOOKUP($C30&AB$8,'Calc-V'!$A$4:$S$399,$AD$6,FALSE)/BD30,3)*1000)","v":8660},null,null,null,{"$f":"VLOOKUP($C30&AS$8,'Calc-V'!$A$4:$AA$399,$AS$6,FALSE)","v":331170},{"$f":"VLOOKUP($C30&AT$8,'Calc-V'!$A$4:$AA$399,$AS$6,FALSE)","v":333290},{"$f":"VLOOKUP($C30&AU$8,'Calc-V'!$A$4:$AA$399,$AS$6,FALSE)","v":333290},{"$f":"VLOOKUP($C30&AV$8,'Calc-V'!$A$4:$AA$399,$AS$6,FALSE)","v":335160},{"$f":"VLOOKUP($C30&AW$8,'Calc-V'!$A$4:$AA$399,$AS$6,FALSE)","v":335160},{"$f":"VLOOKUP($C30&AX$8,'Calc-V'!$A$4:$AA$399,$AS$6,FALSE)","v":336280},{"$f":"VLOOKUP($C30&AY$8,'Calc-V'!$A$4:$AA$399,$AS$6,FALSE)","v":336280},{"$f":"VLOOKUP($C30&AZ$8,'Calc-V'!$A$4:$AA$399,$AS$6,FALSE)","v":337720},{"$f":"VLOOKUP($C30&BA$8,'Calc-V'!$A$4:$AA$399,$AS$6,FALSE)","v":337870},{"$f":"VLOOKUP($C30&BB$8,'Calc-V'!$A$4:$AA$399,$AS$6,FALSE)","v":337870},{"$f":"VLOOKUP($C30&BC$8,'Calc-V'!$A$4:$AA$399,$AS$6,FALSE)","v":337730},{"$f":"VLOOKUP($C30&BD$8,'Calc-V'!$A$4:$AA$399,$AS$6,FALSE)","v":337950}]
[null,null,"Orkney Islands",{"$f":"IF($A$4=\"Numbers\",MROUND(VLOOKUP($C31&D$8,'Calc-V'!$A$4:$W$399,$D$6,FALSE),10),ROUND(VLOOKUP($C31&D$8,'Calc-V'!$A$4:$W$399,$D$6,FALSE)/AS31,3)*1000)","v":1400},{"$f":"IF($A$4=\"Numbers\",MROUND(VLOOKUP($C31&E$8,'Calc-V'!$A$4:$W$399,$D$6,FALSE),10),ROUND(VLOOKUP($C31&E$8,'Calc-V'!$A$4:$W$399,$D$6,FALSE)/AT31,3)*1000)","v":1350},{"$f":"IF($A$4=\"Numbers\",MROUND(VLOOKUP($C31&F$8,'Calc-V'!$A$4:$W$399,$D$6,FALSE),10),ROUND(VLOOKUP($C31&F$8,'Calc-V'!$A$4:$W$399,$D$6,FALSE)/AU31,3)*1000)","v":1850},{"$f":"IF($A$4=\"Numbers\",MROUND(VLOOKUP($C31&G$8,'Calc-V'!$A$4:$W$399,$D$6,FALSE),10),ROUND(VLOOKUP($C31&G$8,'Calc-V'!$A$4:$W$399,$D$6,FALSE)/AV31,3)*1000)","v":1650},{"$f":"IF($A$4=\"Numbers\",MROUND(VLOOKUP($C31&H$8,'Calc-V'!$A$4:$W$399,$D$6,FALSE),10),ROUND(VLOOKUP($C31&H$8,'Calc-V'!$A$4:$W$399,$D$6,FALSE)/AW31,3)*1000)","v":1740},{"$f":"IF($A$4=\"Numbers\",MROUND(VLOOKUP($C31&I$8,'Calc-V'!$A$4:$W$399,$D$6,FALSE),10),ROUND(VLOOKUP($C31&I$8,'Calc-V'!$A$4:$W$399,$D$6,FALSE)/AX31,3)*1000)","v":1920},{"$f":"IF($A$4=\"Numbers\",MROUND(VLOOKUP($C31&J$8,'Calc-V'!$A$4:$W$399,$D$6,FALSE),10),ROUND(VLOOKUP($C31&J$8,'Calc-V'!$A$4:$W$399,$D$6,FALSE)/AY31,3)*1000)","v":1920},{"$f":"IF($A$4=\"Numbers\",MROUND(VLOOKUP($C31&K$8,'Calc-V'!$A$4:$W$399,$D$6,FALSE),10),ROUND(VLOOKUP($C31&K$8,'Calc-V'!$A$4:$W$399,$D$6,FALSE)/AZ31,3)*1000)","v":2080},{"$f":"IF($A$4=\"Numbers\",MROUND(VLOOKUP($C31&L$8,'Calc-V'!$A$4:$W$399,$D$6,FALSE),10),ROUND(VLOOKUP($C31&L$8,'Calc-V'!$A$4:$W$399,$D$6,FALSE)/BA31,3)*1000)","v":2080},{"$f":"IF($A$4=\"Numbers\",MROUND(VLOOKUP($C31&M$8,'Calc-V'!$A$4:$W$399,$D$6,FALSE),10),ROUND(VLOOKUP($C31&M$8,'Calc-V'!$A$4:$W$399,$D$6,FALSE)/BB31,3)*1000)","v":2080},{"$f":"IF($A$4=\"Numbers\",MROUND(VLOOKUP($C31&N$8,'Calc-V'!$A$4:$W$399,$D$6,FALSE),10),ROUND(VLOOKUP($C31&N$8,'Calc-V'!$A$4:$W$399,$D$6,FALSE)/BC31,3)*1000)","v":1700},{"$f":"IF($A$4=\"Numbers\",MROUND(VLOOKUP($C31&O$8,'Calc-V'!$A$4:$W$399,$D$6,FALSE),10),ROUND(VLOOKUP($C31&O$8,'Calc-V'!$A$4:$W$399,$D$6,FALSE)/BD31,3)*1000)","v":620},null,{"$f":"IF($A$4=\"Numbers\",MROUND(VLOOKUP($C31&D$8,'Calc-V'!$A$4:$S$399,$Q$6,FALSE),10),ROUND(VLOOKUP($C31&D$8,'Calc-V'!$A$4:$S$399,$Q$6,FALSE)/AS31,3)*1000)","v":530},{"$f":"IF($A$4=\"Numbers\",MROUND(VLOOKUP($C31&E$8,'Calc-V'!$A$4:$S$399,$Q$6,FALSE),10),ROUND(VLOOKUP($C31&E$8,'Calc-V'!$A$4:$S$399,$Q$6,FALSE)/AT31,3)*1000)","v":490},{"$f":"IF($A$4=\"Numbers\",MROUND(VLOOKUP($C31&F$8,'Calc-V'!$A$4:$S$399,$Q$6,FALSE),10),ROUND(VLOOKUP($C31&F$8,'Calc-V'!$A$4:$S$399,$Q$6,FALSE)/AU31,3)*1000)","v":490},{"$f":"IF($A$4=\"Numbers\",MROUND(VLOOKUP($C31&G$8,'Calc-V'!$A$4:$S$399,$Q$6,FALSE),10),ROUND(VLOOKUP($C31&G$8,'Calc-V'!$A$4:$S$399,$Q$6,FALSE)/AV31,3)*1000)","v":480},{"$f":"IF($A$4=\"Numbers\",MROUND(VLOOKUP($C31&H$8,'Calc-V'!$A$4:$S$399,$Q$6,FALSE),10),ROUND(VLOOKUP($C31&H$8,'Calc-V'!$A$4:$S$399,$Q$6,FALSE)/AW31,3)*1000)","v":480},{"$f":"IF($A$4=\"Numbers\",MROUND(VLOOKUP($C31&I$8,'Calc-V'!$A$4:$S$399,$Q$6,FALSE),10),ROUND(VLOOKUP($C31&I$8,'Calc-V'!$A$4:$S$399,$Q$6,FALSE)/AX31,3)*1000)","v":490},{"$f":"IF($A$4=\"Numbers\",MROUND(VLOOKUP($C31&J$8,'Calc-V'!$A$4:$S$399,$Q$6,FALSE),10),ROUND(VLOOKUP($C31&J$8,'Calc-V'!$A$4:$S$399,$Q$6,FALSE)/AY31,3)*1000)","v":490},{"$f":"IF($A$4=\"Numbers\",MROUND(VLOOKUP($C31&K$8,'Calc-V'!$A$4:$S$399,$Q$6,FALSE),10),ROUND(VLOOKUP($C31&K$8,'Calc-V'!$A$4:$S$399,$Q$6,FALSE)/AZ31,3)*1000)","v":520},{"$f":"IF($A$4=\"Numbers\",MROUND(VLOOKUP($C31&L$8,'Calc-V'!$A$4:$S$399,$Q$6,FALSE),10),ROUND(VLOOKUP($C31&L$8,'Calc-V'!$A$4:$S$399,$Q$6,FALSE)/BA31,3)*1000)","v":520},{"$f":"IF($A$4=\"Numbers\",MROUND(VLOOKUP($C31&M$8,'Calc-V'!$A$4:$S$399,$Q$6,FALSE),10),ROUND(VLOOKUP($C31&M$8,'Calc-V'!$A$4:$S$399,$Q$6,FALSE)/BB31,3)*1000)","v":520},{"$f":"IF($A$4=\"Numbers\",MROUND(VLOOKUP($C31&N$8,'Calc-V'!$A$4:$S$399,$Q$6,FALSE),10),ROUND(VLOOKUP($C31&N$8,'Calc-V'!$A$4:$S$399,$Q$6,FALSE)/BC31,3)*1000)","v":490},{"$f":"IF($A$4=\"Numbers\",MROUND(VLOOKUP($C31&O$8,'Calc-V'!$A$4:$S$399,$Q$6,FALSE),10),ROUND(VLOOKUP($C31&O$8,'Calc-V'!$A$4:$S$399,$Q$6,FALSE)/BD31,3)*1000)","v":470},null,{"$f":"IF($A$4=\"Numbers\",MROUND(VLOOKUP($C31&Q$8,'Calc-V'!$A$4:$S$399,$AD$6,FALSE),10),ROUND(VLOOKUP($C31&Q$8,'Calc-V'!$A$4:$S$399,$AD$6,FALSE)/AS31,3)*1000)","v":870},{"$f":"IF($A$4=\"Numbers\",MROUND(VLOOKUP($C31&R$8,'Calc-V'!$A$4:$S$399,$AD$6,FALSE),10),ROUND(VLOOKUP($C31&R$8,'Calc-V'!$A$4:$S$399,$AD$6,FALSE)/AT31,3)*1000)","v":870},{"$f":"IF($A$4=\"Numbers\",MROUND(VLOOKUP($C31&S$8,'Calc-V'!$A$4:$S$399,$AD$6,FALSE),10),ROUND(VLOOKUP($C31&S$8,'Calc-V'!$A$4:$S$399,$AD$6,FALSE)/AU31,3)*1000)","v":1360},{"$f":"IF($A$4=\"Numbers\",MROUND(VLOOKUP($C31&T$8,'Calc-V'!$A$4:$S$399,$AD$6,FALSE),10),ROUND(VLOOKUP($C31&T$8,'Calc-V'!$A$4:$S$399,$AD$6,FALSE)/AV31,3)*1000)","v":1170},{"$f":"IF($A$4=\"Numbers\",MROUND(VLOOKUP($C31&U$8,'Calc-V'!$A$4:$S$399,$AD$6,FALSE),10),ROUND(VLOOKUP($C31&U$8,'Calc-V'!$A$4:$S$399,$AD$6,FALSE)/AW31,3)*1000)","v":1260},{"$f":"IF($A$4=\"Numbers\",MROUND(VLOOKUP($C31&V$8,'Calc-V'!$A$4:$S$399,$AD$6,FALSE),10),ROUND(VLOOKUP($C31&V$8,'Calc-V'!$A$4:$S$399,$AD$6,FALSE)/AX31,3)*1000)","v":1440},{"$f":"IF($A$4=\"Numbers\",MROUND(VLOOKUP($C31&W$8,'Calc-V'!$A$4:$S$399,$AD$6,FALSE),10),ROUND(VLOOKUP($C31&W$8,'Calc-V'!$A$4:$S$399,$AD$6,FALSE)/AY31,3)*1000)","v":1440},{"$f":"IF($A$4=\"Numbers\",MROUND(VLOOKUP($C31&X$8,'Calc-V'!$A$4:$S$399,$AD$6,FALSE),10),ROUND(VLOOKUP($C31&X$8,'Calc-V'!$A$4:$S$399,$AD$6,FALSE)/AZ31,3)*1000)","v":1560},{"$f":"IF($A$4=\"Numbers\",MROUND(VLOOKUP($C31&Y$8,'Calc-V'!$A$4:$S$399,$AD$6,FALSE),10),ROUND(VLOOKUP($C31&Y$8,'Calc-V'!$A$4:$S$399,$AD$6,FALSE)/BA31,3)*1000)","v":1560},{"$f":"IF($A$4=\"Numbers\",MROUND(VLOOKUP($C31&Z$8,'Calc-V'!$A$4:$S$399,$AD$6,FALSE),10),ROUND(VLOOKUP($C31&Z$8,'Calc-V'!$A$4:$S$399,$AD$6,FALSE)/BB31,3)*1000)","v":1560},{"$f":"IF($A$4=\"Numbers\",MROUND(VLOOKUP($C31&AA$8,'Calc-V'!$A$4:$S$399,$AD$6,FALSE),10),ROUND(VLOOKUP($C31&AA$8,'Calc-V'!$A$4:$S$399,$AD$6,FALSE)/BC31,3)*1000)","v":1210},{"$f":"IF($A$4=\"Numbers\",MROUND(VLOOKUP($C31&AB$8,'Calc-V'!$A$4:$S$399,$AD$6,FALSE),10),ROUND(VLOOKUP($C31&AB$8,'Calc-V'!$A$4:$S$399,$AD$6,FALSE)/BD31,3)*1000)","v":140},null,null,null,{"$f":"VLOOKUP($C31&AS$8,'Calc-V'!$A$4:$AA$399,$AS$6,FALSE)","v":20580},{"$f":"VLOOKUP($C31&AT$8,'Calc-V'!$A$4:$AA$399,$AS$6,FALSE)","v":20740},{"$f":"VLOOKUP($C31&AU$8,'Calc-V'!$A$4:$AA$399,$AS$6,FALSE)","v":20740},{"$f":"VLOOKUP($C31&AV$8,'Calc-V'!$A$4:$AA$399,$AS$6,FALSE)","v":20940},{"$f":"VLOOKUP($C31&AW$8,'Calc-V'!$A$4:$AA$399,$AS$6,FALSE)","v":20940},{"$f":"VLOOKUP($C31&AX$8,'Calc-V'!$A$4:$AA$399,$AS$6,FALSE)","v":21220},{"$f":"VLOOKUP($C31&AY$8,'Calc-V'!$A$4:$AA$399,$AS$6,FALSE)","v":21220},{"$f":"VLOOKUP($C31&AZ$8,'Calc-V'!$A$4:$AA$399,$AS$6,FALSE)","v":21420},{"$f":"VLOOKUP($C31&BA$8,'Calc-V'!$A$4:$AA$399,$AS$6,FALSE)","v":21530},{"$f":"VLOOKUP($C31&BB$8,'Calc-V'!$A$4:$AA$399,$AS$6,FALSE)","v":21530},{"$f":"VLOOKUP($C31&BC$8,'Calc-V'!$A$4:$AA$399,$AS$6,FALSE)","v":21570},{"$f":"VLOOKUP($C31&BD$8,'Calc-V'!$A$4:$AA$399,$AS$6,FALSE)","v":21590}]
[null,null,"Perth & Kinross",{"$f":"IF($A$4=\"Numbers\",MROUND(VLOOKUP($C32&D$8,'Calc-V'!$A$4:$W$399,$D$6,FALSE),10),ROUND(VLOOKUP($C32&D$8,'Calc-V'!$A$4:$W$399,$D$6,FALSE)/AS32,3)*1000)","v":4860},{"$f":"IF($A$4=\"Numbers\",MROUND(VLOOKUP($C32&E$8,'Calc-V'!$A$4:$W$399,$D$6,FALSE),10),ROUND(VLOOKUP($C32&E$8,'Calc-V'!$A$4:$W$399,$D$6,FALSE)/AT32,3)*1000)","v":5110},{"$f":"IF($A$4=\"Numbers\",MROUND(VLOOKUP($C32&F$8,'Calc-V'!$A$4:$W$399,$D$6,FALSE),10),ROUND(VLOOKUP($C32&F$8,'Calc-V'!$A$4:$W$399,$D$6,FALSE)/AU32,3)*1000)","v":5110},{"$f":"IF($A$4=\"Numbers\",MROUND(VLOOKUP($C32&G$8,'Calc-V'!$A$4:$W$399,$D$6,FALSE),10),ROUND(VLOOKUP($C32&G$8,'Calc-V'!$A$4:$W$399,$D$6,FALSE)/AV32,3)*1000)","v":6320},{"$f":"IF($A$4=\"Numbers\",MROUND(VLOOKUP($C32&H$8,'Calc-V'!$A$4:$W$399,$D$6,FALSE),10),ROUND(VLOOKUP($C32&H$8,'Calc-V'!$A$4:$W$399,$D$6,FALSE)/AW32,3)*1000)","v":6320},{"$f":"IF($A$4=\"Numbers\",MROUND(VLOOKUP($C32&I$8,'Calc-V'!$A$4:$W$399,$D$6,FALSE),10),ROUND(VLOOKUP($C32&I$8,'Calc-V'!$A$4:$W$399,$D$6,FALSE)/AX32,3)*1000)","v":6200},{"$f":"IF($A$4=\"Numbers\",MROUND(VLOOKUP($C32&J$8,'Calc-V'!$A$4:$W$399,$D$6,FALSE),10),ROUND(VLOOKUP($C32&J$8,'Calc-V'!$A$4:$W$399,$D$6,FALSE)/AY32,3)*1000)","v":6200},{"$f":"IF($A$4=\"Numbers\",MROUND(VLOOKUP($C32&K$8,'Calc-V'!$A$4:$W$399,$D$6,FALSE),10),ROUND(VLOOKUP($C32&K$8,'Calc-V'!$A$4:$W$399,$D$6,FALSE)/AZ32,3)*1000)","v":7330},{"$f":"IF($A$4=\"Numbers\",MROUND(VLOOKUP($C32&L$8,'Calc-V'!$A$4:$W$399,$D$6,FALSE),10),ROUND(VLOOKUP($C32&L$8,'Calc-V'!$A$4:$W$399,$D$6,FALSE)/BA32,3)*1000)","v":8280},{"$f":"IF($A$4=\"Numbers\",MROUND(VLOOKUP($C32&M$8,'Calc-V'!$A$4:$W$399,$D$6,FALSE),10),ROUND(VLOOKUP($C32&M$8,'Calc-V'!$A$4:$W$399,$D$6,FALSE)/BB32,3)*1000)","v":8280},{"$f":"IF($A$4=\"Numbers\",MROUND(VLOOKUP($C32&N$8,'Calc-V'!$A$4:$W$399,$D$6,FALSE),10),ROUND(VLOOKUP($C32&N$8,'Calc-V'!$A$4:$W$399,$D$6,FALSE)/BC32,3)*1000)","v":7630},{"$f":"IF($A$4=\"Numbers\",MROUND(VLOOKUP($C32&O$8,'Calc-V'!$A$4:$W$399,$D$6,FALSE),10),ROUND(VLOOKUP($C32&O$8,'Calc-V'!$A$4:$W$399,$D$6,FALSE)/BD32,3)*1000)","v":9000},null,{"$f":"IF($A$4=\"Numbers\",MROUND(VLOOKUP($C32&D$8,'Calc-V'!$A$4:$S$399,$Q$6,FALSE),10),ROUND(VLOOKUP($C32&D$8,'Calc-V'!$A$4:$S$399,$Q$6,FALSE)/AS32,3)*1000)","v":2560},{"$f":"IF($A$4=\"Numbers\",MROUND(VLOOKUP($C32&E$8,'Calc-V'!$A$4:$S$399,$Q$6,FALSE),10),ROUND(VLOOKUP($C32&E$8,'Calc-V'!$A$4:$S$399,$Q$6,FALSE)/AT32,3)*1000)","v":2480},{"$f":"IF($A$4=\"Numbers\",MROUND(VLOOKUP($C32&F$8,'Calc-V'!$A$4:$S$399,$Q$6,FALSE),10),ROUND(VLOOKUP($C32&F$8,'Calc-V'!$A$4:$S$399,$Q$6,FALSE)/AU32,3)*1000)","v":2480},{"$f":"IF($A$4=\"Numbers\",MROUND(VLOOKUP($C32&G$8,'Calc-V'!$A$4:$S$399,$Q$6,FALSE),10),ROUND(VLOOKUP($C32&G$8,'Calc-V'!$A$4:$S$399,$Q$6,FALSE)/AV32,3)*1000)","v":2250},{"$f":"IF($A$4=\"Numbers\",MROUND(VLOOKUP($C32&H$8,'Calc-V'!$A$4:$S$399,$Q$6,FALSE),10),ROUND(VLOOKUP($C32&H$8,'Calc-V'!$A$4:$S$399,$Q$6,FALSE)/AW32,3)*1000)","v":2250},{"$f":"IF($A$4=\"Numbers\",MROUND(VLOOKUP($C32&I$8,'Calc-V'!$A$4:$S$399,$Q$6,FALSE),10),ROUND(VLOOKUP($C32&I$8,'Calc-V'!$A$4:$S$399,$Q$6,FALSE)/AX32,3)*1000)","v":2370},{"$f":"IF($A$4=\"Numbers\",MROUND(VLOOKUP($C32&J$8,'Calc-V'!$A$4:$S$399,$Q$6,FALSE),10),ROUND(VLOOKUP($C32&J$8,'Calc-V'!$A$4:$S$399,$Q$6,FALSE)/AY32,3)*1000)","v":2370},{"$f":"IF($A$4=\"Numbers\",MROUND(VLOOKUP($C32&K$8,'Calc-V'!$A$4:$S$399,$Q$6,FALSE),10),ROUND(VLOOKUP($C32&K$8,'Calc-V'!$A$4:$S$399,$Q$6,FALSE)/AZ32,3)*1000)","v":2920},{"$f":"IF($A$4=\"Numbers\",MROUND(VLOOKUP($C32&L$8,'Calc-V'!$A$4:$S$399,$Q$6,FALSE),10),ROUND(VLOOKUP($C32&L$8,'Calc-V'!$A$4:$S$399,$Q$6,FALSE)/BA32,3)*1000)","v":2140},{"$f":"IF($A$4=\"Numbers\",MROUND(VLOOKUP($C32&M$8,'Calc-V'!$A$4:$S$399,$Q$6,FALSE),10),ROUND(VLOOKUP($C32&M$8,'Calc-V'!$A$4:$S$399,$Q$6,FALSE)/BB32,3)*1000)","v":2140},{"$f":"IF($A$4=\"Numbers\",MROUND(VLOOKUP($C32&N$8,'Calc-V'!$A$4:$S$399,$Q$6,FALSE),10),ROUND(VLOOKUP($C32&N$8,'Calc-V'!$A$4:$S$399,$Q$6,FALSE)/BC32,3)*1000)","v":2000},{"$f":"IF($A$4=\"Numbers\",MROUND(VLOOKUP($C32&O$8,'Calc-V'!$A$4:$S$399,$Q$6,FALSE),10),ROUND(VLOOKUP($C32&O$8,'Calc-V'!$A$4:$S$399,$Q$6,FALSE)/BD32,3)*1000)","v":2440},null,{"$f":"IF($A$4=\"Numbers\",MROUND(VLOOKUP($C32&Q$8,'Calc-V'!$A$4:$S$399,$AD$6,FALSE),10),ROUND(VLOOKUP($C32&Q$8,'Calc-V'!$A$4:$S$399,$AD$6,FALSE)/AS32,3)*1000)","v":2300},{"$f":"IF($A$4=\"Numbers\",MROUND(VLOOKUP($C32&R$8,'Calc-V'!$A$4:$S$399,$AD$6,FALSE),10),ROUND(VLOOKUP($C32&R$8,'Calc-V'!$A$4:$S$399,$AD$6,FALSE)/AT32,3)*1000)","v":2630},{"$f":"IF($A$4=\"Numbers\",MROUND(VLOOKUP($C32&S$8,'Calc-V'!$A$4:$S$399,$AD$6,FALSE),10),ROUND(VLOOKUP($C32&S$8,'Calc-V'!$A$4:$S$399,$AD$6,FALSE)/AU32,3)*1000)","v":2630},{"$f":"IF($A$4=\"Numbers\",MROUND(VLOOKUP($C32&T$8,'Calc-V'!$A$4:$S$399,$AD$6,FALSE),10),ROUND(VLOOKUP($C32&T$8,'Calc-V'!$A$4:$S$399,$AD$6,FALSE)/AV32,3)*1000)","v":4070},{"$f":"IF($A$4=\"Numbers\",MROUND(VLOOKUP($C32&U$8,'Calc-V'!$A$4:$S$399,$AD$6,FALSE),10),ROUND(VLOOKUP($C32&U$8,'Calc-V'!$A$4:$S$399,$AD$6,FALSE)/AW32,3)*1000)","v":4070},{"$f":"IF($A$4=\"Numbers\",MROUND(VLOOKUP($C32&V$8,'Calc-V'!$A$4:$S$399,$AD$6,FALSE),10),ROUND(VLOOKUP($C32&V$8,'Calc-V'!$A$4:$S$399,$AD$6,FALSE)/AX32,3)*1000)","v":3830},{"$f":"IF($A$4=\"Numbers\",MROUND(VLOOKUP($C32&W$8,'Calc-V'!$A$4:$S$399,$AD$6,FALSE),10),ROUND(VLOOKUP($C32&W$8,'Calc-V'!$A$4:$S$399,$AD$6,FALSE)/AY32,3)*1000)","v":3830},{"$f":"IF($A$4=\"Numbers\",MROUND(VLOOKUP($C32&X$8,'Calc-V'!$A$4:$S$399,$AD$6,FALSE),10),ROUND(VLOOKUP($C32&X$8,'Calc-V'!$A$4:$S$399,$AD$6,FALSE)/AZ32,3)*1000)","v":4410},{"$f":"IF($A$4=\"Numbers\",MROUND(VLOOKUP($C32&Y$8,'Calc-V'!$A$4:$S$399,$AD$6,FALSE),10),ROUND(VLOOKUP($C32&Y$8,'Calc-V'!$A$4:$S$399,$AD$6,FALSE)/BA32,3)*1000)","v":6150},{"$f":"IF($A$4=\"Numbers\",MROUND(VLOOKUP($C32&Z$8,'Calc-V'!$A$4:$S$399,$AD$6,FALSE),10),ROUND(VLOOKUP($C32&Z$8,'Calc-V'!$A$4:$S$399,$AD$6,FALSE)/BB32,3)*1000)","v":6150},{"$f":"IF($A$4=\"Numbers\",MROUND(VLOOKUP($C32&AA$8,'Calc-V'!$A$4:$S$399,$AD$6,FALSE),10),ROUND(VLOOKUP($C32&AA$8,'Calc-V'!$A$4:$S$399,$AD$6,FALSE)/BC32,3)*1000)","v":5630},{"$f":"IF($A$4=\"Numbers\",MROUND(VLOOKUP($C32&AB$8,'Calc-V'!$A$4:$S$399,$AD$6,FALSE),10),ROUND(VLOOKUP($C32&AB$8,'Calc-V'!$A$4:$S$399,$AD$6,FALSE)/BD32,3)*1000)","v":6560},null,null,null,{"$f":"VLOOKUP($C32&AS$8,'Calc-V'!$A$4:$AA$399,$AS$6,FALSE)","v":141140},{"$f":"VLOOKUP($C32&AT$8,'Calc-V'!$A$4:$AA$399,$AS$6,FALSE)","v":143130},{"$f":"VLOOKUP($C32&AU$8,'Calc-V'!$A$4:$AA$399,$AS$6,FALSE)","v":143130},{"$f":"VLOOKUP($C32&AV$8,'Calc-V'!$A$4:$AA$399,$AS$6,FALSE)","v":144370},{"$f":"VLOOKUP($C32&AW$8,'Calc-V'!$A$4:$AA$399,$AS$6,FALSE)","v":144370},{"$f":"VLOOKUP($C32&AX$8,'Calc-V'!$A$4:$AA$399,$AS$6,FALSE)","v":145600},{"$f":"VLOOKUP($C32&AY$8,'Calc-V'!$A$4:$AA$399,$AS$6,FALSE)","v":145600},{"$f":"VLOOKUP($C32&AZ$8,'Calc-V'!$A$4:$AA$399,$AS$6,FALSE)","v":146850},{"$f":"VLOOKUP($C32&BA$8,'Calc-V'!$A$4:$AA$399,$AS$6,FALSE)","v":147740},{"$f":"VLOOKUP($C32&BB$8,'Calc-V'!$A$4:$AA$399,$AS$6,FALSE)","v":147740},{"$f":"VLOOKUP($C32&BC$8,'Calc-V'!$A$4:$AA$399,$AS$6,FALSE)","v":147750},{"$f":"VLOOKUP($C32&BD$8,'Calc-V'!$A$4:$AA$399,$AS$6,FALSE)","v":148880}]
[null,null,"Renfrewshire",{"$f":"IF($A$4=\"Numbers\",MROUND(VLOOKUP($C33&D$8,'Calc-V'!$A$4:$W$399,$D$6,FALSE),10),ROUND(VLOOKUP($C33&D$8,'Calc-V'!$A$4:$W$399,$D$6,FALSE)/AS33,3)*1000)","v":4200},{"$f":"IF($A$4=\"Numbers\",MROUND(VLOOKUP($C33&E$8,'Calc-V'!$A$4:$W$399,$D$6,FALSE),10),ROUND(VLOOKUP($C33&E$8,'Calc-V'!$A$4:$W$399,$D$6,FALSE)/AT33,3)*1000)","v":4200},{"$f":"IF($A$4=\"Numbers\",MROUND(VLOOKUP($C33&F$8,'Calc-V'!$A$4:$W$399,$D$6,FALSE),10),ROUND(VLOOKUP($C33&F$8,'Calc-V'!$A$4:$W$399,$D$6,FALSE)/AU33,3)*1000)","v":4010},{"$f":"IF($A$4=\"Numbers\",MROUND(VLOOKUP($C33&G$8,'Calc-V'!$A$4:$W$399,$D$6,FALSE),10),ROUND(VLOOKUP($C33&G$8,'Calc-V'!$A$4:$W$399,$D$6,FALSE)/AV33,3)*1000)","v":4030},{"$f":"IF($A$4=\"Numbers\",MROUND(VLOOKUP($C33&H$8,'Calc-V'!$A$4:$W$399,$D$6,FALSE),10),ROUND(VLOOKUP($C33&H$8,'Calc-V'!$A$4:$W$399,$D$6,FALSE)/AW33,3)*1000)","v":4030},{"$f":"IF($A$4=\"Numbers\",MROUND(VLOOKUP($C33&I$8,'Calc-V'!$A$4:$W$399,$D$6,FALSE),10),ROUND(VLOOKUP($C33&I$8,'Calc-V'!$A$4:$W$399,$D$6,FALSE)/AX33,3)*1000)","v":3670},{"$f":"IF($A$4=\"Numbers\",MROUND(VLOOKUP($C33&J$8,'Calc-V'!$A$4:$W$399,$D$6,FALSE),10),ROUND(VLOOKUP($C33&J$8,'Calc-V'!$A$4:$W$399,$D$6,FALSE)/AY33,3)*1000)","v":3670},{"$f":"IF($A$4=\"Numbers\",MROUND(VLOOKUP($C33&K$8,'Calc-V'!$A$4:$W$399,$D$6,FALSE),10),ROUND(VLOOKUP($C33&K$8,'Calc-V'!$A$4:$W$399,$D$6,FALSE)/AZ33,3)*1000)","v":3450},{"$f":"IF($A$4=\"Numbers\",MROUND(VLOOKUP($C33&L$8,'Calc-V'!$A$4:$W$399,$D$6,FALSE),10),ROUND(VLOOKUP($C33&L$8,'Calc-V'!$A$4:$W$399,$D$6,FALSE)/BA33,3)*1000)","v":3850},{"$f":"IF($A$4=\"Numbers\",MROUND(VLOOKUP($C33&M$8,'Calc-V'!$A$4:$W$399,$D$6,FALSE),10),ROUND(VLOOKUP($C33&M$8,'Calc-V'!$A$4:$W$399,$D$6,FALSE)/BB33,3)*1000)","v":3850},{"$f":"IF($A$4=\"Numbers\",MROUND(VLOOKUP($C33&N$8,'Calc-V'!$A$4:$W$399,$D$6,FALSE),10),ROUND(VLOOKUP($C33&N$8,'Calc-V'!$A$4:$W$399,$D$6,FALSE)/BC33,3)*1000)","v":3520},{"$f":"IF($A$4=\"Numbers\",MROUND(VLOOKUP($C33&O$8,'Calc-V'!$A$4:$W$399,$D$6,FALSE),10),ROUND(VLOOKUP($C33&O$8,'Calc-V'!$A$4:$W$399,$D$6,FALSE)/BD33,3)*1000)","v":3340},null,{"$f":"IF($A$4=\"Numbers\",MROUND(VLOOKUP($C33&D$8,'Calc-V'!$A$4:$S$399,$Q$6,FALSE),10),ROUND(VLOOKUP($C33&D$8,'Calc-V'!$A$4:$S$399,$Q$6,FALSE)/AS33,3)*1000)","v":2510},{"$f":"IF($A$4=\"Numbers\",MROUND(VLOOKUP($C33&E$8,'Calc-V'!$A$4:$S$399,$Q$6,FALSE),10),ROUND(VLOOKUP($C33&E$8,'Calc-V'!$A$4:$S$399,$Q$6,FALSE)/AT33,3)*1000)","v":2650},{"$f":"IF($A$4=\"Numbers\",MROUND(VLOOKUP($C33&F$8,'Calc-V'!$A$4:$S$399,$Q$6,FALSE),10),ROUND(VLOOKUP($C33&F$8,'Calc-V'!$A$4:$S$399,$Q$6,FALSE)/AU33,3)*1000)","v":2650},{"$f":"IF($A$4=\"Numbers\",MROUND(VLOOKUP($C33&G$8,'Calc-V'!$A$4:$S$399,$Q$6,FALSE),10),ROUND(VLOOKUP($C33&G$8,'Calc-V'!$A$4:$S$399,$Q$6,FALSE)/AV33,3)*1000)","v":2570},{"$f":"IF($A$4=\"Numbers\",MROUND(VLOOKUP($C33&H$8,'Calc-V'!$A$4:$S$399,$Q$6,FALSE),10),ROUND(VLOOKUP($C33&H$8,'Calc-V'!$A$4:$S$399,$Q$6,FALSE)/AW33,3)*1000)","v":2570},{"$f":"IF($A$4=\"Numbers\",MROUND(VLOOKUP($C33&I$8,'Calc-V'!$A$4:$S$399,$Q$6,FALSE),10),ROUND(VLOOKUP($C33&I$8,'Calc-V'!$A$4:$S$399,$Q$6,FALSE)/AX33,3)*1000)","v":2360},{"$f":"IF($A$4=\"Numbers\",MROUND(VLOOKUP($C33&J$8,'Calc-V'!$A$4:$S$399,$Q$6,FALSE),10),ROUND(VLOOKUP($C33&J$8,'Calc-V'!$A$4:$S$399,$Q$6,FALSE)/AY33,3)*1000)","v":2360},{"$f":"IF($A$4=\"Numbers\",MROUND(VLOOKUP($C33&K$8,'Calc-V'!$A$4:$S$399,$Q$6,FALSE),10),ROUND(VLOOKUP($C33&K$8,'Calc-V'!$A$4:$S$399,$Q$6,FALSE)/AZ33,3)*1000)","v":2290},{"$f":"IF($A$4=\"Numbers\",MROUND(VLOOKUP($C33&L$8,'Calc-V'!$A$4:$S$399,$Q$6,FALSE),10),ROUND(VLOOKUP($C33&L$8,'Calc-V'!$A$4:$S$399,$Q$6,FALSE)/BA33,3)*1000)","v":2510},{"$f":"IF($A$4=\"Numbers\",MROUND(VLOOKUP($C33&M$8,'Calc-V'!$A$4:$S$399,$Q$6,FALSE),10),ROUND(VLOOKUP($C33&M$8,'Calc-V'!$A$4:$S$399,$Q$6,FALSE)/BB33,3)*1000)","v":2510},{"$f":"IF($A$4=\"Numbers\",MROUND(VLOOKUP($C33&N$8,'Calc-V'!$A$4:$S$399,$Q$6,FALSE),10),ROUND(VLOOKUP($C33&N$8,'Calc-V'!$A$4:$S$399,$Q$6,FALSE)/BC33,3)*1000)","v":2180},{"$f":"IF($A$4=\"Numbers\",MROUND(VLOOKUP($C33&O$8,'Calc-V'!$A$4:$S$399,$Q$6,FALSE),10),ROUND(VLOOKUP($C33&O$8,'Calc-V'!$A$4:$S$399,$Q$6,FALSE)/BD33,3)*1000)","v":2030},null,{"$f":"IF($A$4=\"Numbers\",MROUND(VLOOKUP($C33&Q$8,'Calc-V'!$A$4:$S$399,$AD$6,FALSE),10),ROUND(VLOOKUP($C33&Q$8,'Calc-V'!$A$4:$S$399,$AD$6,FALSE)/AS33,3)*1000)","v":1700},{"$f":"IF($A$4=\"Numbers\",MROUND(VLOOKUP($C33&R$8,'Calc-V'!$A$4:$S$399,$AD$6,FALSE),10),ROUND(VLOOKUP($C33&R$8,'Calc-V'!$A$4:$S$399,$AD$6,FALSE)/AT33,3)*1000)","v":1550},{"$f":"IF($A$4=\"Numbers\",MROUND(VLOOKUP($C33&S$8,'Calc-V'!$A$4:$S$399,$AD$6,FALSE),10),ROUND(VLOOKUP($C33&S$8,'Calc-V'!$A$4:$S$399,$AD$6,FALSE)/AU33,3)*1000)","v":1360},{"$f":"IF($A$4=\"Numbers\",MROUND(VLOOKUP($C33&T$8,'Calc-V'!$A$4:$S$399,$AD$6,FALSE),10),ROUND(VLOOKUP($C33&T$8,'Calc-V'!$A$4:$S$399,$AD$6,FALSE)/AV33,3)*1000)","v":1460},{"$f":"IF($A$4=\"Numbers\",MROUND(VLOOKUP($C33&U$8,'Calc-V'!$A$4:$S$399,$AD$6,FALSE),10),ROUND(VLOOKUP($C33&U$8,'Calc-V'!$A$4:$S$399,$AD$6,FALSE)/AW33,3)*1000)","v":1460},{"$f":"IF($A$4=\"Numbers\",MROUND(VLOOKUP($C33&V$8,'Calc-V'!$A$4:$S$399,$AD$6,FALSE),10),ROUND(VLOOKUP($C33&V$8,'Calc-V'!$A$4:$S$399,$AD$6,FALSE)/AX33,3)*1000)","v":1310},{"$f":"IF($A$4=\"Numbers\",MROUND(VLOOKUP($C33&W$8,'Calc-V'!$A$4:$S$399,$AD$6,FALSE),10),ROUND(VLOOKUP($C33&W$8,'Calc-V'!$A$4:$S$399,$AD$6,FALSE)/AY33,3)*1000)","v":1310},{"$f":"IF($A$4=\"Numbers\",MROUND(VLOOKUP($C33&X$8,'Calc-V'!$A$4:$S$399,$AD$6,FALSE),10),ROUND(VLOOKUP($C33&X$8,'Calc-V'!$A$4:$S$399,$AD$6,FALSE)/AZ33,3)*1000)","v":1160},{"$f":"IF($A$4=\"Numbers\",MROUND(VLOOKUP($C33&Y$8,'Calc-V'!$A$4:$S$399,$AD$6,FALSE),10),ROUND(VLOOKUP($C33&Y$8,'Calc-V'!$A$4:$S$399,$AD$6,FALSE)/BA33,3)*1000)","v":1340},{"$f":"IF($A$4=\"Numbers\",MROUND(VLOOKUP($C33&Z$8,'Calc-V'!$A$4:$S$399,$AD$6,FALSE),10),ROUND(VLOOKUP($C33&Z$8,'Calc-V'!$A$4:$S$399,$AD$6,FALSE)/BB33,3)*1000)","v":1340},{"$f":"IF($A$4=\"Numbers\",MROUND(VLOOKUP($C33&AA$8,'Calc-V'!$A$4:$S$399,$AD$6,FALSE),10),ROUND(VLOOKUP($C33&AA$8,'Calc-V'!$A$4:$S$399,$AD$6,FALSE)/BC33,3)*1000)","v":1340},{"$f":"IF($A$4=\"Numbers\",MROUND(VLOOKUP($C33&AB$8,'Calc-V'!$A$4:$S$399,$AD$6,FALSE),10),ROUND(VLOOKUP($C33&AB$8,'Calc-V'!$A$4:$S$399,$AD$6,FALSE)/BD33,3)*1000)","v":1310},null,null,null,{"$f":"VLOOKUP($C33&AS$8,'Calc-V'!$A$4:$AA$399,$AS$6,FALSE)","v":171860},{"$f":"VLOOKUP($C33&AT$8,'Calc-V'!$A$4:$AA$399,$AS$6,FALSE)","v":172640},{"$f":"VLOOKUP($C33&AU$8,'Calc-V'!$A$4:$AA$399,$AS$6,FALSE)","v":172640},{"$f":"VLOOKUP($C33&AV$8,'Calc-V'!$A$4:$AA$399,$AS$6,FALSE)","v":173020},{"$f":"VLOOKUP($C33&AW$8,'Calc-V'!$A$4:$AA$399,$AS$6,FALSE)","v":173020},{"$f":"VLOOKUP($C33&AX$8,'Calc-V'!$A$4:$AA$399,$AS$6,FALSE)","v":173700},{"$f":"VLOOKUP($C33&AY$8,'Calc-V'!$A$4:$AA$399,$AS$6,FALSE)","v":173700},{"$f":"VLOOKUP($C33&AZ$8,'Calc-V'!$A$4:$AA$399,$AS$6,FALSE)","v":174700},{"$f":"VLOOKUP($C33&BA$8,'Calc-V'!$A$4:$AA$399,$AS$6,FALSE)","v":174310},{"$f":"VLOOKUP($C33&BB$8,'Calc-V'!$A$4:$AA$399,$AS$6,FALSE)","v":174310},{"$f":"VLOOKUP($C33&BC$8,'Calc-V'!$A$4:$AA$399,$AS$6,FALSE)","v":173900},{"$f":"VLOOKUP($C33&BD$8,'Calc-V'!$A$4:$AA$399,$AS$6,FALSE)","v":174230}]
[null,null,"Scottish Borders",{"$f":"IF($A$4=\"Numbers\",MROUND(VLOOKUP($C34&D$8,'Calc-V'!$A$4:$W$399,$D$6,FALSE),10),ROUND(VLOOKUP($C34&D$8,'Calc-V'!$A$4:$W$399,$D$6,FALSE)/AS34,3)*1000)","v":1620},{"$f":"IF($A$4=\"Numbers\",MROUND(VLOOKUP($C34&E$8,'Calc-V'!$A$4:$W$399,$D$6,FALSE),10),ROUND(VLOOKUP($C34&E$8,'Calc-V'!$A$4:$W$399,$D$6,FALSE)/AT34,3)*1000)","v":1930},{"$f":"IF($A$4=\"Numbers\",MROUND(VLOOKUP($C34&F$8,'Calc-V'!$A$4:$W$399,$D$6,FALSE),10),ROUND(VLOOKUP($C34&F$8,'Calc-V'!$A$4:$W$399,$D$6,FALSE)/AU34,3)*1000)","v":1920},{"$f":"IF($A$4=\"Numbers\",MROUND(VLOOKUP($C34&G$8,'Calc-V'!$A$4:$W$399,$D$6,FALSE),10),ROUND(VLOOKUP($C34&G$8,'Calc-V'!$A$4:$W$399,$D$6,FALSE)/AV34,3)*1000)","v":2020},{"$f":"IF($A$4=\"Numbers\",MROUND(VLOOKUP($C34&H$8,'Calc-V'!$A$4:$W$399,$D$6,FALSE),10),ROUND(VLOOKUP($C34&H$8,'Calc-V'!$A$4:$W$399,$D$6,FALSE)/AW34,3)*1000)","v":2020},{"$f":"IF($A$4=\"Numbers\",MROUND(VLOOKUP($C34&I$8,'Calc-V'!$A$4:$W$399,$D$6,FALSE),10),ROUND(VLOOKUP($C34&I$8,'Calc-V'!$A$4:$W$399,$D$6,FALSE)/AX34,3)*1000)","v":2050},{"$f":"IF($A$4=\"Numbers\",MROUND(VLOOKUP($C34&J$8,'Calc-V'!$A$4:$W$399,$D$6,FALSE),10),ROUND(VLOOKUP($C34&J$8,'Calc-V'!$A$4:$W$399,$D$6,FALSE)/AY34,3)*1000)","v":2050},{"$f":"IF($A$4=\"Numbers\",MROUND(VLOOKUP($C34&K$8,'Calc-V'!$A$4:$W$399,$D$6,FALSE),10),ROUND(VLOOKUP($C34&K$8,'Calc-V'!$A$4:$W$399,$D$6,FALSE)/AZ34,3)*1000)","v":2280},{"$f":"IF($A$4=\"Numbers\",MROUND(VLOOKUP($C34&L$8,'Calc-V'!$A$4:$W$399,$D$6,FALSE),10),ROUND(VLOOKUP($C34&L$8,'Calc-V'!$A$4:$W$399,$D$6,FALSE)/BA34,3)*1000)","v":2150},{"$f":"IF($A$4=\"Numbers\",MROUND(VLOOKUP($C34&M$8,'Calc-V'!$A$4:$W$399,$D$6,FALSE),10),ROUND(VLOOKUP($C34&M$8,'Calc-V'!$A$4:$W$399,$D$6,FALSE)/BB34,3)*1000)","v":2150},{"$f":"IF($A$4=\"Numbers\",MROUND(VLOOKUP($C34&N$8,'Calc-V'!$A$4:$W$399,$D$6,FALSE),10),ROUND(VLOOKUP($C34&N$8,'Calc-V'!$A$4:$W$399,$D$6,FALSE)/BC34,3)*1000)","v":2310},{"$f":"IF($A$4=\"Numbers\",MROUND(VLOOKUP($C34&O$8,'Calc-V'!$A$4:$W$399,$D$6,FALSE),10),ROUND(VLOOKUP($C34&O$8,'Calc-V'!$A$4:$W$399,$D$6,FALSE)/BD34,3)*1000)","v":2550},null,{"$f":"IF($A$4=\"Numbers\",MROUND(VLOOKUP($C34&D$8,'Calc-V'!$A$4:$S$399,$Q$6,FALSE),10),ROUND(VLOOKUP($C34&D$8,'Calc-V'!$A$4:$S$399,$Q$6,FALSE)/AS34,3)*1000)","v":1300},{"$f":"IF($A$4=\"Numbers\",MROUND(VLOOKUP($C34&E$8,'Calc-V'!$A$4:$S$399,$Q$6,FALSE),10),ROUND(VLOOKUP($C34&E$8,'Calc-V'!$A$4:$S$399,$Q$6,FALSE)/AT34,3)*1000)","v":1620},{"$f":"IF($A$4=\"Numbers\",MROUND(VLOOKUP($C34&F$8,'Calc-V'!$A$4:$S$399,$Q$6,FALSE),10),ROUND(VLOOKUP($C34&F$8,'Calc-V'!$A$4:$S$399,$Q$6,FALSE)/AU34,3)*1000)","v":1580},{"$f":"IF($A$4=\"Numbers\",MROUND(VLOOKUP($C34&G$8,'Calc-V'!$A$4:$S$399,$Q$6,FALSE),10),ROUND(VLOOKUP($C34&G$8,'Calc-V'!$A$4:$S$399,$Q$6,FALSE)/AV34,3)*1000)","v":1650},{"$f":"IF($A$4=\"Numbers\",MROUND(VLOOKUP($C34&H$8,'Calc-V'!$A$4:$S$399,$Q$6,FALSE),10),ROUND(VLOOKUP($C34&H$8,'Calc-V'!$A$4:$S$399,$Q$6,FALSE)/AW34,3)*1000)","v":1650},{"$f":"IF($A$4=\"Numbers\",MROUND(VLOOKUP($C34&I$8,'Calc-V'!$A$4:$S$399,$Q$6,FALSE),10),ROUND(VLOOKUP($C34&I$8,'Calc-V'!$A$4:$S$399,$Q$6,FALSE)/AX34,3)*1000)","v":1540},{"$f":"IF($A$4=\"Numbers\",MROUND(VLOOKUP($C34&J$8,'Calc-V'!$A$4:$S$399,$Q$6,FALSE),10),ROUND(VLOOKUP($C34&J$8,'Calc-V'!$A$4:$S$399,$Q$6,FALSE)/AY34,3)*1000)","v":1540},{"$f":"IF($A$4=\"Numbers\",MROUND(VLOOKUP($C34&K$8,'Calc-V'!$A$4:$S$399,$Q$6,FALSE),10),ROUND(VLOOKUP($C34&K$8,'Calc-V'!$A$4:$S$399,$Q$6,FALSE)/AZ34,3)*1000)","v":1730},{"$f":"IF($A$4=\"Numbers\",MROUND(VLOOKUP($C34&L$8,'Calc-V'!$A$4:$S$399,$Q$6,FALSE),10),ROUND(VLOOKUP($C34&L$8,'Calc-V'!$A$4:$S$399,$Q$6,FALSE)/BA34,3)*1000)","v":1660},{"$f":"IF($A$4=\"Numbers\",MROUND(VLOOKUP($C34&M$8,'Calc-V'!$A$4:$S$399,$Q$6,FALSE),10),ROUND(VLOOKUP($C34&M$8,'Calc-V'!$A$4:$S$399,$Q$6,FALSE)/BB34,3)*1000)","v":1660},{"$f":"IF($A$4=\"Numbers\",MROUND(VLOOKUP($C34&N$8,'Calc-V'!$A$4:$S$399,$Q$6,FALSE),10),ROUND(VLOOKUP($C34&N$8,'Calc-V'!$A$4:$S$399,$Q$6,FALSE)/BC34,3)*1000)","v":1790},{"$f":"IF($A$4=\"Numbers\",MROUND(VLOOKUP($C34&O$8,'Calc-V'!$A$4:$S$399,$Q$6,FALSE),10),ROUND(VLOOKUP($C34&O$8,'Calc-V'!$A$4:$S$399,$Q$6,FALSE)/BD34,3)*1000)","v":1490},null,{"$f":"IF($A$4=\"Numbers\",MROUND(VLOOKUP($C34&Q$8,'Calc-V'!$A$4:$S$399,$AD$6,FALSE),10),ROUND(VLOOKUP($C34&Q$8,'Calc-V'!$A$4:$S$399,$AD$6,FALSE)/AS34,3)*1000)","v":320},{"$f":"IF($A$4=\"Numbers\",MROUND(VLOOKUP($C34&R$8,'Calc-V'!$A$4:$S$399,$AD$6,FALSE),10),ROUND(VLOOKUP($C34&R$8,'Calc-V'!$A$4:$S$399,$AD$6,FALSE)/AT34,3)*1000)","v":310},{"$f":"IF($A$4=\"Numbers\",MROUND(VLOOKUP($C34&S$8,'Calc-V'!$A$4:$S$399,$AD$6,FALSE),10),ROUND(VLOOKUP($C34&S$8,'Calc-V'!$A$4:$S$399,$AD$6,FALSE)/AU34,3)*1000)","v":330},{"$f":"IF($A$4=\"Numbers\",MROUND(VLOOKUP($C34&T$8,'Calc-V'!$A$4:$S$399,$AD$6,FALSE),10),ROUND(VLOOKUP($C34&T$8,'Calc-V'!$A$4:$S$399,$AD$6,FALSE)/AV34,3)*1000)","v":380},{"$f":"IF($A$4=\"Numbers\",MROUND(VLOOKUP($C34&U$8,'Calc-V'!$A$4:$S$399,$AD$6,FALSE),10),ROUND(VLOOKUP($C34&U$8,'Calc-V'!$A$4:$S$399,$AD$6,FALSE)/AW34,3)*1000)","v":380},{"$f":"IF($A$4=\"Numbers\",MROUND(VLOOKUP($C34&V$8,'Calc-V'!$A$4:$S$399,$AD$6,FALSE),10),ROUND(VLOOKUP($C34&V$8,'Calc-V'!$A$4:$S$399,$AD$6,FALSE)/AX34,3)*1000)","v":510},{"$f":"IF($A$4=\"Numbers\",MROUND(VLOOKUP($C34&W$8,'Calc-V'!$A$4:$S$399,$AD$6,FALSE),10),ROUND(VLOOKUP($C34&W$8,'Calc-V'!$A$4:$S$399,$AD$6,FALSE)/AY34,3)*1000)","v":510},{"$f":"IF($A$4=\"Numbers\",MROUND(VLOOKUP($C34&X$8,'Calc-V'!$A$4:$S$399,$AD$6,FALSE),10),ROUND(VLOOKUP($C34&X$8,'Calc-V'!$A$4:$S$399,$AD$6,FALSE)/AZ34,3)*1000)","v":550},{"$f":"IF($A$4=\"Numbers\",MROUND(VLOOKUP($C34&Y$8,'Calc-V'!$A$4:$S$399,$AD$6,FALSE),10),ROUND(VLOOKUP($C34&Y$8,'Calc-V'!$A$4:$S$399,$AD$6,FALSE)/BA34,3)*1000)","v":490},{"$f":"IF($A$4=\"Numbers\",MROUND(VLOOKUP($C34&Z$8,'Calc-V'!$A$4:$S$399,$AD$6,FALSE),10),ROUND(VLOOKUP($C34&Z$8,'Calc-V'!$A$4:$S$399,$AD$6,FALSE)/BB34,3)*1000)","v":490},{"$f":"IF($A$4=\"Numbers\",MROUND(VLOOKUP($C34&AA$8,'Calc-V'!$A$4:$S$399,$AD$6,FALSE),10),ROUND(VLOOKUP($C34&AA$8,'Calc-V'!$A$4:$S$399,$AD$6,FALSE)/BC34,3)*1000)","v":520},{"$f":"IF($A$4=\"Numbers\",MROUND(VLOOKUP($C34&AB$8,'Calc-V'!$A$4:$S$399,$AD$6,FALSE),10),ROUND(VLOOKUP($C34&AB$8,'Calc-V'!$A$4:$S$399,$AD$6,FALSE)/BD34,3)*1000)","v":1070},null,null,null,{"$f":"VLOOKUP($C34&AS$8,'Calc-V'!$A$4:$AA$399,$AS$6,FALSE)","v":112200},{"$f":"VLOOKUP($C34&AT$8,'Calc-V'!$A$4:$AA$399,$AS$6,FALSE)","v":113360},{"$f":"VLOOKUP($C34&AU$8,'Calc-V'!$A$4:$AA$399,$AS$6,FALSE)","v":113360},{"$f":"VLOOKUP($C34&AV$8,'Calc-V'!$A$4:$AA$399,$AS$6,FALSE)","v":113590},{"$f":"VLOOKUP($C34&AW$8,'Calc-V'!$A$4:$AA$399,$AS$6,FALSE)","v":113590},{"$f":"VLOOKUP($C34&AX$8,'Calc-V'!$A$4:$AA$399,$AS$6,FALSE)","v":113690},{"$f":"VLOOKUP($C34&AY$8,'Calc-V'!$A$4:$AA$399,$AS$6,FALSE)","v":113690},{"$f":"VLOOKUP($C34&AZ$8,'Calc-V'!$A$4:$AA$399,$AS$6,FALSE)","v":113880},{"$f":"VLOOKUP($C34&BA$8,'Calc-V'!$A$4:$AA$399,$AS$6,FALSE)","v":113710},{"$f":"VLOOKUP($C34&BB$8,'Calc-V'!$A$4:$AA$399,$AS$6,FALSE)","v":113710},{"$f":"VLOOKUP($C34&BC$8,'Calc-V'!$A$4:$AA$399,$AS$6,FALSE)","v":113870},{"$f":"VLOOKUP($C34&BD$8,'Calc-V'!$A$4:$AA$399,$AS$6,FALSE)","v":114030}]
[null,null,"Shetland Islands",{"$f":"IF($A$4=\"Numbers\",MROUND(VLOOKUP($C35&D$8,'Calc-V'!$A$4:$W$399,$D$6,FALSE),10),ROUND(VLOOKUP($C35&D$8,'Calc-V'!$A$4:$W$399,$D$6,FALSE)/AS35,3)*1000)","v":1590},{"$f":"IF($A$4=\"Numbers\",MROUND(VLOOKUP($C35&E$8,'Calc-V'!$A$4:$W$399,$D$6,FALSE),10),ROUND(VLOOKUP($C35&E$8,'Calc-V'!$A$4:$W$399,$D$6,FALSE)/AT35,3)*1000)","v":1600},{"$f":"IF($A$4=\"Numbers\",MROUND(VLOOKUP($C35&F$8,'Calc-V'!$A$4:$W$399,$D$6,FALSE),10),ROUND(VLOOKUP($C35&F$8,'Calc-V'!$A$4:$W$399,$D$6,FALSE)/AU35,3)*1000)","v":1600},{"$f":"IF($A$4=\"Numbers\",MROUND(VLOOKUP($C35&G$8,'Calc-V'!$A$4:$W$399,$D$6,FALSE),10),ROUND(VLOOKUP($C35&G$8,'Calc-V'!$A$4:$W$399,$D$6,FALSE)/AV35,3)*1000)","v":1760},{"$f":"IF($A$4=\"Numbers\",MROUND(VLOOKUP($C35&H$8,'Calc-V'!$A$4:$W$399,$D$6,FALSE),10),ROUND(VLOOKUP($C35&H$8,'Calc-V'!$A$4:$W$399,$D$6,FALSE)/AW35,3)*1000)","v":1900},{"$f":"IF($A$4=\"Numbers\",MROUND(VLOOKUP($C35&I$8,'Calc-V'!$A$4:$W$399,$D$6,FALSE),10),ROUND(VLOOKUP($C35&I$8,'Calc-V'!$A$4:$W$399,$D$6,FALSE)/AX35,3)*1000)","v":2400},{"$f":"IF($A$4=\"Numbers\",MROUND(VLOOKUP($C35&J$8,'Calc-V'!$A$4:$W$399,$D$6,FALSE),10),ROUND(VLOOKUP($C35&J$8,'Calc-V'!$A$4:$W$399,$D$6,FALSE)/AY35,3)*1000)","v":3220},{"$f":"IF($A$4=\"Numbers\",MROUND(VLOOKUP($C35&K$8,'Calc-V'!$A$4:$W$399,$D$6,FALSE),10),ROUND(VLOOKUP($C35&K$8,'Calc-V'!$A$4:$W$399,$D$6,FALSE)/AZ35,3)*1000)","v":3750},{"$f":"IF($A$4=\"Numbers\",MROUND(VLOOKUP($C35&L$8,'Calc-V'!$A$4:$W$399,$D$6,FALSE),10),ROUND(VLOOKUP($C35&L$8,'Calc-V'!$A$4:$W$399,$D$6,FALSE)/BA35,3)*1000)","v":3930},{"$f":"IF($A$4=\"Numbers\",MROUND(VLOOKUP($C35&M$8,'Calc-V'!$A$4:$W$399,$D$6,FALSE),10),ROUND(VLOOKUP($C35&M$8,'Calc-V'!$A$4:$W$399,$D$6,FALSE)/BB35,3)*1000)","v":4170},{"$f":"IF($A$4=\"Numbers\",MROUND(VLOOKUP($C35&N$8,'Calc-V'!$A$4:$W$399,$D$6,FALSE),10),ROUND(VLOOKUP($C35&N$8,'Calc-V'!$A$4:$W$399,$D$6,FALSE)/BC35,3)*1000)","v":4280},{"$f":"IF($A$4=\"Numbers\",MROUND(VLOOKUP($C35&O$8,'Calc-V'!$A$4:$W$399,$D$6,FALSE),10),ROUND(VLOOKUP($C35&O$8,'Calc-V'!$A$4:$W$399,$D$6,FALSE)/BD35,3)*1000)","v":4170},null,{"$f":"IF($A$4=\"Numbers\",MROUND(VLOOKUP($C35&D$8,'Calc-V'!$A$4:$S$399,$Q$6,FALSE),10),ROUND(VLOOKUP($C35&D$8,'Calc-V'!$A$4:$S$399,$Q$6,FALSE)/AS35,3)*1000)","v":1250},{"$f":"IF($A$4=\"Numbers\",MROUND(VLOOKUP($C35&E$8,'Calc-V'!$A$4:$S$399,$Q$6,FALSE),10),ROUND(VLOOKUP($C35&E$8,'Calc-V'!$A$4:$S$399,$Q$6,FALSE)/AT35,3)*1000)","v":1170},{"$f":"IF($A$4=\"Numbers\",MROUND(VLOOKUP($C35&F$8,'Calc-V'!$A$4:$S$399,$Q$6,FALSE),10),ROUND(VLOOKUP($C35&F$8,'Calc-V'!$A$4:$S$399,$Q$6,FALSE)/AU35,3)*1000)","v":1170},{"$f":"IF($A$4=\"Numbers\",MROUND(VLOOKUP($C35&G$8,'Calc-V'!$A$4:$S$399,$Q$6,FALSE),10),ROUND(VLOOKUP($C35&G$8,'Calc-V'!$A$4:$S$399,$Q$6,FALSE)/AV35,3)*1000)","v":1350},{"$f":"IF($A$4=\"Numbers\",MROUND(VLOOKUP($C35&H$8,'Calc-V'!$A$4:$S$399,$Q$6,FALSE),10),ROUND(VLOOKUP($C35&H$8,'Calc-V'!$A$4:$S$399,$Q$6,FALSE)/AW35,3)*1000)","v":1350},{"$f":"IF($A$4=\"Numbers\",MROUND(VLOOKUP($C35&I$8,'Calc-V'!$A$4:$S$399,$Q$6,FALSE),10),ROUND(VLOOKUP($C35&I$8,'Calc-V'!$A$4:$S$399,$Q$6,FALSE)/AX35,3)*1000)","v":1830},{"$f":"IF($A$4=\"Numbers\",MROUND(VLOOKUP($C35&J$8,'Calc-V'!$A$4:$S$399,$Q$6,FALSE),10),ROUND(VLOOKUP($C35&J$8,'Calc-V'!$A$4:$S$399,$Q$6,FALSE)/AY35,3)*1000)","v":1830},{"$f":"IF($A$4=\"Numbers\",MROUND(VLOOKUP($C35&K$8,'Calc-V'!$A$4:$S$399,$Q$6,FALSE),10),ROUND(VLOOKUP($C35&K$8,'Calc-V'!$A$4:$S$399,$Q$6,FALSE)/AZ35,3)*1000)","v":2160},{"$f":"IF($A$4=\"Numbers\",MROUND(VLOOKUP($C35&L$8,'Calc-V'!$A$4:$S$399,$Q$6,FALSE),10),ROUND(VLOOKUP($C35&L$8,'Calc-V'!$A$4:$S$399,$Q$6,FALSE)/BA35,3)*1000)","v":2350},{"$f":"IF($A$4=\"Numbers\",MROUND(VLOOKUP($C35&M$8,'Calc-V'!$A$4:$S$399,$Q$6,FALSE),10),ROUND(VLOOKUP($C35&M$8,'Calc-V'!$A$4:$S$399,$Q$6,FALSE)/BB35,3)*1000)","v":2590},{"$f":"IF($A$4=\"Numbers\",MROUND(VLOOKUP($C35&N$8,'Calc-V'!$A$4:$S$399,$Q$6,FALSE),10),ROUND(VLOOKUP($C35&N$8,'Calc-V'!$A$4:$S$399,$Q$6,FALSE)/BC35,3)*1000)","v":2690},{"$f":"IF($A$4=\"Numbers\",MROUND(VLOOKUP($C35&O$8,'Calc-V'!$A$4:$S$399,$Q$6,FALSE),10),ROUND(VLOOKUP($C35&O$8,'Calc-V'!$A$4:$S$399,$Q$6,FALSE)/BD35,3)*1000)","v":2720},null,{"$f":"IF($A$4=\"Numbers\",MROUND(VLOOKUP($C35&Q$8,'Calc-V'!$A$4:$S$399,$AD$6,FALSE),10),ROUND(VLOOKUP($C35&Q$8,'Calc-V'!$A$4:$S$399,$AD$6,FALSE)/AS35,3)*1000)","v":340},{"$f":"IF($A$4=\"Numbers\",MROUND(VLOOKUP($C35&R$8,'Calc-V'!$A$4:$S$399,$AD$6,FALSE),10),ROUND(VLOOKUP($C35&R$8,'Calc-V'!$A$4:$S$399,$AD$6,FALSE)/AT35,3)*1000)","v":430},{"$f":"IF($A$4=\"Numbers\",MROUND(VLOOKUP($C35&S$8,'Calc-V'!$A$4:$S$399,$AD$6,FALSE),10),ROUND(VLOOKUP($C35&S$8,'Calc-V'!$A$4:$S$399,$AD$6,FALSE)/AU35,3)*1000)","v":430},{"$f":"IF($A$4=\"Numbers\",MROUND(VLOOKUP($C35&T$8,'Calc-V'!$A$4:$S$399,$AD$6,FALSE),10),ROUND(VLOOKUP($C35&T$8,'Calc-V'!$A$4:$S$399,$AD$6,FALSE)/AV35,3)*1000)","v":410},{"$f":"IF($A$4=\"Numbers\",MROUND(VLOOKUP($C35&U$8,'Calc-V'!$A$4:$S$399,$AD$6,FALSE),10),ROUND(VLOOKUP($C35&U$8,'Calc-V'!$A$4:$S$399,$AD$6,FALSE)/AW35,3)*1000)","v":550},{"$f":"IF($A$4=\"Numbers\",MROUND(VLOOKUP($C35&V$8,'Calc-V'!$A$4:$S$399,$AD$6,FALSE),10),ROUND(VLOOKUP($C35&V$8,'Calc-V'!$A$4:$S$399,$AD$6,FALSE)/AX35,3)*1000)","v":560},{"$f":"IF($A$4=\"Numbers\",MROUND(VLOOKUP($C35&W$8,'Calc-V'!$A$4:$S$399,$AD$6,FALSE),10),ROUND(VLOOKUP($C35&W$8,'Calc-V'!$A$4:$S$399,$AD$6,FALSE)/AY35,3)*1000)","v":1390},{"$f":"IF($A$4=\"Numbers\",MROUND(VLOOKUP($C35&X$8,'Calc-V'!$A$4:$S$399,$AD$6,FALSE),10),ROUND(VLOOKUP($C35&X$8,'Calc-V'!$A$4:$S$399,$AD$6,FALSE)/AZ35,3)*1000)","v":1580},{"$f":"IF($A$4=\"Numbers\",MROUND(VLOOKUP($C35&Y$8,'Calc-V'!$A$4:$S$399,$AD$6,FALSE),10),ROUND(VLOOKUP($C35&Y$8,'Calc-V'!$A$4:$S$399,$AD$6,FALSE)/BA35,3)*1000)","v":1580},{"$f":"IF($A$4=\"Numbers\",MROUND(VLOOKUP($C35&Z$8,'Calc-V'!$A$4:$S$399,$AD$6,FALSE),10),ROUND(VLOOKUP($C35&Z$8,'Calc-V'!$A$4:$S$399,$AD$6,FALSE)/BB35,3)*1000)","v":1580},{"$f":"IF($A$4=\"Numbers\",MROUND(VLOOKUP($C35&AA$8,'Calc-V'!$A$4:$S$399,$AD$6,FALSE),10),ROUND(VLOOKUP($C35&AA$8,'Calc-V'!$A$4:$S$399,$AD$6,FALSE)/BC35,3)*1000)","v":1590},{"$f":"IF($A$4=\"Numbers\",MROUND(VLOOKUP($C35&AB$8,'Calc-V'!$A$4:$S$399,$AD$6,FALSE),10),ROUND(VLOOKUP($C35&AB$8,'Calc-V'!$A$4:$S$399,$AD$6,FALSE)/BD35,3)*1000)","v":1450},null,null,null,{"$f":"VLOOKUP($C35&AS$8,'Calc-V'!$A$4:$AA$399,$AS$6,FALSE)","v":22350},{"$f":"VLOOKUP($C35&AT$8,'Calc-V'!$A$4:$AA$399,$AS$6,FALSE)","v":22480},{"$f":"VLOOKUP($C35&AU$8,'Calc-V'!$A$4:$AA$399,$AS$6,FALSE)","v":22480},{"$f":"VLOOKUP($C35&AV$8,'Calc-V'!$A$4:$AA$399,$AS$6,FALSE)","v":22790},{"$f":"VLOOKUP($C35&AW$8,'Calc-V'!$A$4:$AA$399,$AS$6,FALSE)","v":22790},{"$f":"VLOOKUP($C35&AX$8,'Calc-V'!$A$4:$AA$399,$AS$6,FALSE)","v":23060},{"$f":"VLOOKUP($C35&AY$8,'Calc-V'!$A$4:$AA$399,$AS$6,FALSE)","v":23060},{"$f":"VLOOKUP($C35&AZ$8,'Calc-V'!$A$4:$AA$399,$AS$6,FALSE)","v":23240},{"$f":"VLOOKUP($C35&BA$8,'Calc-V'!$A$4:$AA$399,$AS$6,FALSE)","v":23210},{"$f":"VLOOKUP($C35&BB$8,'Calc-V'!$A$4:$AA$399,$AS$6,FALSE)","v":23210},{"$f":"VLOOKUP($C35&BC$8,'Calc-V'!$A$4:$AA$399,$AS$6,FALSE)","v":23200},{"$f":"VLOOKUP($C35&BD$8,'Calc-V'!$A$4:$AA$399,$AS$6,FALSE)","v":23230}]
[null,null,"South Ayrshire",{"$f":"IF($A$4=\"Numbers\",MROUND(VLOOKUP($C36&D$8,'Calc-V'!$A$4:$W$399,$D$6,FALSE),10),ROUND(VLOOKUP($C36&D$8,'Calc-V'!$A$4:$W$399,$D$6,FALSE)/AS36,3)*1000)","v":3150},{"$f":"IF($A$4=\"Numbers\",MROUND(VLOOKUP($C36&E$8,'Calc-V'!$A$4:$W$399,$D$6,FALSE),10),ROUND(VLOOKUP($C36&E$8,'Calc-V'!$A$4:$W$399,$D$6,FALSE)/AT36,3)*1000)","v":3220},{"$f":"IF($A$4=\"Numbers\",MROUND(VLOOKUP($C36&F$8,'Calc-V'!$A$4:$W$399,$D$6,FALSE),10),ROUND(VLOOKUP($C36&F$8,'Calc-V'!$A$4:$W$399,$D$6,FALSE)/AU36,3)*1000)","v":3220},{"$f":"IF($A$4=\"Numbers\",MROUND(VLOOKUP($C36&G$8,'Calc-V'!$A$4:$W$399,$D$6,FALSE),10),ROUND(VLOOKUP($C36&G$8,'Calc-V'!$A$4:$W$399,$D$6,FALSE)/AV36,3)*1000)","v":3240},{"$f":"IF($A$4=\"Numbers\",MROUND(VLOOKUP($C36&H$8,'Calc-V'!$A$4:$W$399,$D$6,FALSE),10),ROUND(VLOOKUP($C36&H$8,'Calc-V'!$A$4:$W$399,$D$6,FALSE)/AW36,3)*1000)","v":6580},{"$f":"IF($A$4=\"Numbers\",MROUND(VLOOKUP($C36&I$8,'Calc-V'!$A$4:$W$399,$D$6,FALSE),10),ROUND(VLOOKUP($C36&I$8,'Calc-V'!$A$4:$W$399,$D$6,FALSE)/AX36,3)*1000)","v":7300},{"$f":"IF($A$4=\"Numbers\",MROUND(VLOOKUP($C36&J$8,'Calc-V'!$A$4:$W$399,$D$6,FALSE),10),ROUND(VLOOKUP($C36&J$8,'Calc-V'!$A$4:$W$399,$D$6,FALSE)/AY36,3)*1000)","v":7300},{"$f":"IF($A$4=\"Numbers\",MROUND(VLOOKUP($C36&K$8,'Calc-V'!$A$4:$W$399,$D$6,FALSE),10),ROUND(VLOOKUP($C36&K$8,'Calc-V'!$A$4:$W$399,$D$6,FALSE)/AZ36,3)*1000)","v":7070},{"$f":"IF($A$4=\"Numbers\",MROUND(VLOOKUP($C36&L$8,'Calc-V'!$A$4:$W$399,$D$6,FALSE),10),ROUND(VLOOKUP($C36&L$8,'Calc-V'!$A$4:$W$399,$D$6,FALSE)/BA36,3)*1000)","v":7780},{"$f":"IF($A$4=\"Numbers\",MROUND(VLOOKUP($C36&M$8,'Calc-V'!$A$4:$W$399,$D$6,FALSE),10),ROUND(VLOOKUP($C36&M$8,'Calc-V'!$A$4:$W$399,$D$6,FALSE)/BB36,3)*1000)","v":7780},{"$f":"IF($A$4=\"Numbers\",MROUND(VLOOKUP($C36&N$8,'Calc-V'!$A$4:$W$399,$D$6,FALSE),10),ROUND(VLOOKUP($C36&N$8,'Calc-V'!$A$4:$W$399,$D$6,FALSE)/BC36,3)*1000)","v":7830},{"$f":"IF($A$4=\"Numbers\",MROUND(VLOOKUP($C36&O$8,'Calc-V'!$A$4:$W$399,$D$6,FALSE),10),ROUND(VLOOKUP($C36&O$8,'Calc-V'!$A$4:$W$399,$D$6,FALSE)/BD36,3)*1000)","v":7950},null,{"$f":"IF($A$4=\"Numbers\",MROUND(VLOOKUP($C36&D$8,'Calc-V'!$A$4:$S$399,$Q$6,FALSE),10),ROUND(VLOOKUP($C36&D$8,'Calc-V'!$A$4:$S$399,$Q$6,FALSE)/AS36,3)*1000)","v":1840},{"$f":"IF($A$4=\"Numbers\",MROUND(VLOOKUP($C36&E$8,'Calc-V'!$A$4:$S$399,$Q$6,FALSE),10),ROUND(VLOOKUP($C36&E$8,'Calc-V'!$A$4:$S$399,$Q$6,FALSE)/AT36,3)*1000)","v":1970},{"$f":"IF($A$4=\"Numbers\",MROUND(VLOOKUP($C36&F$8,'Calc-V'!$A$4:$S$399,$Q$6,FALSE),10),ROUND(VLOOKUP($C36&F$8,'Calc-V'!$A$4:$S$399,$Q$6,FALSE)/AU36,3)*1000)","v":1970},{"$f":"IF($A$4=\"Numbers\",MROUND(VLOOKUP($C36&G$8,'Calc-V'!$A$4:$S$399,$Q$6,FALSE),10),ROUND(VLOOKUP($C36&G$8,'Calc-V'!$A$4:$S$399,$Q$6,FALSE)/AV36,3)*1000)","v":1720},{"$f":"IF($A$4=\"Numbers\",MROUND(VLOOKUP($C36&H$8,'Calc-V'!$A$4:$S$399,$Q$6,FALSE),10),ROUND(VLOOKUP($C36&H$8,'Calc-V'!$A$4:$S$399,$Q$6,FALSE)/AW36,3)*1000)","v":1720},{"$f":"IF($A$4=\"Numbers\",MROUND(VLOOKUP($C36&I$8,'Calc-V'!$A$4:$S$399,$Q$6,FALSE),10),ROUND(VLOOKUP($C36&I$8,'Calc-V'!$A$4:$S$399,$Q$6,FALSE)/AX36,3)*1000)","v":2060},{"$f":"IF($A$4=\"Numbers\",MROUND(VLOOKUP($C36&J$8,'Calc-V'!$A$4:$S$399,$Q$6,FALSE),10),ROUND(VLOOKUP($C36&J$8,'Calc-V'!$A$4:$S$399,$Q$6,FALSE)/AY36,3)*1000)","v":2060},{"$f":"IF($A$4=\"Numbers\",MROUND(VLOOKUP($C36&K$8,'Calc-V'!$A$4:$S$399,$Q$6,FALSE),10),ROUND(VLOOKUP($C36&K$8,'Calc-V'!$A$4:$S$399,$Q$6,FALSE)/AZ36,3)*1000)","v":2180},{"$f":"IF($A$4=\"Numbers\",MROUND(VLOOKUP($C36&L$8,'Calc-V'!$A$4:$S$399,$Q$6,FALSE),10),ROUND(VLOOKUP($C36&L$8,'Calc-V'!$A$4:$S$399,$Q$6,FALSE)/BA36,3)*1000)","v":2630},{"$f":"IF($A$4=\"Numbers\",MROUND(VLOOKUP($C36&M$8,'Calc-V'!$A$4:$S$399,$Q$6,FALSE),10),ROUND(VLOOKUP($C36&M$8,'Calc-V'!$A$4:$S$399,$Q$6,FALSE)/BB36,3)*1000)","v":2630},{"$f":"IF($A$4=\"Numbers\",MROUND(VLOOKUP($C36&N$8,'Calc-V'!$A$4:$S$399,$Q$6,FALSE),10),ROUND(VLOOKUP($C36&N$8,'Calc-V'!$A$4:$S$399,$Q$6,FALSE)/BC36,3)*1000)","v":2680},{"$f":"IF($A$4=\"Numbers\",MROUND(VLOOKUP($C36&O$8,'Calc-V'!$A$4:$S$399,$Q$6,FALSE),10),ROUND(VLOOKUP($C36&O$8,'Calc-V'!$A$4:$S$399,$Q$6,FALSE)/BD36,3)*1000)","v":2440},null,{"$f":"IF($A$4=\"Numbers\",MROUND(VLOOKUP($C36&Q$8,'Calc-V'!$A$4:$S$399,$AD$6,FALSE),10),ROUND(VLOOKUP($C36&Q$8,'Calc-V'!$A$4:$S$399,$AD$6,FALSE)/AS36,3)*1000)","v":1310},{"$f":"IF($A$4=\"Numbers\",MROUND(VLOOKUP($C36&R$8,'Calc-V'!$A$4:$S$399,$AD$6,FALSE),10),ROUND(VLOOKUP($C36&R$8,'Calc-V'!$A$4:$S$399,$AD$6,FALSE)/AT36,3)*1000)","v":1250},{"$f":"IF($A$4=\"Numbers\",MROUND(VLOOKUP($C36&S$8,'Calc-V'!$A$4:$S$399,$AD$6,FALSE),10),ROUND(VLOOKUP($C36&S$8,'Calc-V'!$A$4:$S$399,$AD$6,FALSE)/AU36,3)*1000)","v":1250},{"$f":"IF($A$4=\"Numbers\",MROUND(VLOOKUP($C36&T$8,'Calc-V'!$A$4:$S$399,$AD$6,FALSE),10),ROUND(VLOOKUP($C36&T$8,'Calc-V'!$A$4:$S$399,$AD$6,FALSE)/AV36,3)*1000)","v":1530},{"$f":"IF($A$4=\"Numbers\",MROUND(VLOOKUP($C36&U$8,'Calc-V'!$A$4:$S$399,$AD$6,FALSE),10),ROUND(VLOOKUP($C36&U$8,'Calc-V'!$A$4:$S$399,$AD$6,FALSE)/AW36,3)*1000)","v":4860},{"$f":"IF($A$4=\"Numbers\",MROUND(VLOOKUP($C36&V$8,'Calc-V'!$A$4:$S$399,$AD$6,FALSE),10),ROUND(VLOOKUP($C36&V$8,'Calc-V'!$A$4:$S$399,$AD$6,FALSE)/AX36,3)*1000)","v":5240},{"$f":"IF($A$4=\"Numbers\",MROUND(VLOOKUP($C36&W$8,'Calc-V'!$A$4:$S$399,$AD$6,FALSE),10),ROUND(VLOOKUP($C36&W$8,'Calc-V'!$A$4:$S$399,$AD$6,FALSE)/AY36,3)*1000)","v":5240},{"$f":"IF($A$4=\"Numbers\",MROUND(VLOOKUP($C36&X$8,'Calc-V'!$A$4:$S$399,$AD$6,FALSE),10),ROUND(VLOOKUP($C36&X$8,'Calc-V'!$A$4:$S$399,$AD$6,FALSE)/AZ36,3)*1000)","v":4890},{"$f":"IF($A$4=\"Numbers\",MROUND(VLOOKUP($C36&Y$8,'Calc-V'!$A$4:$S$399,$AD$6,FALSE),10),ROUND(VLOOKUP($C36&Y$8,'Calc-V'!$A$4:$S$399,$AD$6,FALSE)/BA36,3)*1000)","v":5150},{"$f":"IF($A$4=\"Numbers\",MROUND(VLOOKUP($C36&Z$8,'Calc-V'!$A$4:$S$399,$AD$6,FALSE),10),ROUND(VLOOKUP($C36&Z$8,'Calc-V'!$A$4:$S$399,$AD$6,FALSE)/BB36,3)*1000)","v":5150},{"$f":"IF($A$4=\"Numbers\",MROUND(VLOOKUP($C36&AA$8,'Calc-V'!$A$4:$S$399,$AD$6,FALSE),10),ROUND(VLOOKUP($C36&AA$8,'Calc-V'!$A$4:$S$399,$AD$6,FALSE)/BC36,3)*1000)","v":5150},{"$f":"IF($A$4=\"Numbers\",MROUND(VLOOKUP($C36&AB$8,'Calc-V'!$A$4:$S$399,$AD$6,FALSE),10),ROUND(VLOOKUP($C36&AB$8,'Calc-V'!$A$4:$S$399,$AD$6,FALSE)/BD36,3)*1000)","v":5520},null,null,null,{"$f":"VLOOKUP($C36&AS$8,'Calc-V'!$A$4:$AA$399,$AS$6,FALSE)","v":112380},{"$f":"VLOOKUP($C36&AT$8,'Calc-V'!$A$4:$AA$399,$AS$6,FALSE)","v":112610},{"$f":"VLOOKUP($C36&AU$8,'Calc-V'!$A$4:$AA$399,$AS$6,FALSE)","v":112610},{"$f":"VLOOKUP($C36&AV$8,'Calc-V'!$A$4:$AA$399,$AS$6,FALSE)","v":112490},{"$f":"VLOOKUP($C36&AW$8,'Calc-V'!$A$4:$AA$399,$AS$6,FALSE)","v":112490},{"$f":"VLOOKUP($C36&AX$8,'Calc-V'!$A$4:$AA$399,$AS$6,FALSE)","v":112600},{"$f":"VLOOKUP($C36&AY$8,'Calc-V'!$A$4:$AA$399,$AS$6,FALSE)","v":112600},{"$f":"VLOOKUP($C36&AZ$8,'Calc-V'!$A$4:$AA$399,$AS$6,FALSE)","v":112980},{"$f":"VLOOKUP($C36&BA$8,'Calc-V'!$A$4:$AA$399,$AS$6,FALSE)","v":112910},{"$f":"VLOOKUP($C36&BB$8,'Calc-V'!$A$4:$AA$399,$AS$6,FALSE)","v":112910},{"$f":"VLOOKUP($C36&BC$8,'Calc-V'!$A$4:$AA$399,$AS$6,FALSE)","v":112850},{"$f":"VLOOKUP($C36&BD$8,'Calc-V'!$A$4:$AA$399,$AS$6,FALSE)","v":112510}]
[null,null,"South Lanarkshire",{"$f":"IF($A$4=\"Numbers\",MROUND(VLOOKUP($C37&D$8,'Calc-V'!$A$4:$W$399,$D$6,FALSE),10),ROUND(VLOOKUP($C37&D$8,'Calc-V'!$A$4:$W$399,$D$6,FALSE)/AS37,3)*1000)","v":10670},{"$f":"IF($A$4=\"Numbers\",MROUND(VLOOKUP($C37&E$8,'Calc-V'!$A$4:$W$399,$D$6,FALSE),10),ROUND(VLOOKUP($C37&E$8,'Calc-V'!$A$4:$W$399,$D$6,FALSE)/AT37,3)*1000)","v":11580},{"$f":"IF($A$4=\"Numbers\",MROUND(VLOOKUP($C37&F$8,'Calc-V'!$A$4:$W$399,$D$6,FALSE),10),ROUND(VLOOKUP($C37&F$8,'Calc-V'!$A$4:$W$399,$D$6,FALSE)/AU37,3)*1000)","v":11580},{"$f":"IF($A$4=\"Numbers\",MROUND(VLOOKUP($C37&G$8,'Calc-V'!$A$4:$W$399,$D$6,FALSE),10),ROUND(VLOOKUP($C37&G$8,'Calc-V'!$A$4:$W$399,$D$6,FALSE)/AV37,3)*1000)","v":12630},{"$f":"IF($A$4=\"Numbers\",MROUND(VLOOKUP($C37&H$8,'Calc-V'!$A$4:$W$399,$D$6,FALSE),10),ROUND(VLOOKUP($C37&H$8,'Calc-V'!$A$4:$W$399,$D$6,FALSE)/AW37,3)*1000)","v":12630},{"$f":"IF($A$4=\"Numbers\",MROUND(VLOOKUP($C37&I$8,'Calc-V'!$A$4:$W$399,$D$6,FALSE),10),ROUND(VLOOKUP($C37&I$8,'Calc-V'!$A$4:$W$399,$D$6,FALSE)/AX37,3)*1000)","v":13850},{"$f":"IF($A$4=\"Numbers\",MROUND(VLOOKUP($C37&J$8,'Calc-V'!$A$4:$W$399,$D$6,FALSE),10),ROUND(VLOOKUP($C37&J$8,'Calc-V'!$A$4:$W$399,$D$6,FALSE)/AY37,3)*1000)","v":13850},{"$f":"IF($A$4=\"Numbers\",MROUND(VLOOKUP($C37&K$8,'Calc-V'!$A$4:$W$399,$D$6,FALSE),10),ROUND(VLOOKUP($C37&K$8,'Calc-V'!$A$4:$W$399,$D$6,FALSE)/AZ37,3)*1000)","v":13720},{"$f":"IF($A$4=\"Numbers\",MROUND(VLOOKUP($C37&L$8,'Calc-V'!$A$4:$W$399,$D$6,FALSE),10),ROUND(VLOOKUP($C37&L$8,'Calc-V'!$A$4:$W$399,$D$6,FALSE)/BA37,3)*1000)","v":12850},{"$f":"IF($A$4=\"Numbers\",MROUND(VLOOKUP($C37&M$8,'Calc-V'!$A$4:$W$399,$D$6,FALSE),10),ROUND(VLOOKUP($C37&M$8,'Calc-V'!$A$4:$W$399,$D$6,FALSE)/BB37,3)*1000)","v":12850},{"$f":"IF($A$4=\"Numbers\",MROUND(VLOOKUP($C37&N$8,'Calc-V'!$A$4:$W$399,$D$6,FALSE),10),ROUND(VLOOKUP($C37&N$8,'Calc-V'!$A$4:$W$399,$D$6,FALSE)/BC37,3)*1000)","v":13480},{"$f":"IF($A$4=\"Numbers\",MROUND(VLOOKUP($C37&O$8,'Calc-V'!$A$4:$W$399,$D$6,FALSE),10),ROUND(VLOOKUP($C37&O$8,'Calc-V'!$A$4:$W$399,$D$6,FALSE)/BD37,3)*1000)","v":12570},null,{"$f":"IF($A$4=\"Numbers\",MROUND(VLOOKUP($C37&D$8,'Calc-V'!$A$4:$S$399,$Q$6,FALSE),10),ROUND(VLOOKUP($C37&D$8,'Calc-V'!$A$4:$S$399,$Q$6,FALSE)/AS37,3)*1000)","v":3930},{"$f":"IF($A$4=\"Numbers\",MROUND(VLOOKUP($C37&E$8,'Calc-V'!$A$4:$S$399,$Q$6,FALSE),10),ROUND(VLOOKUP($C37&E$8,'Calc-V'!$A$4:$S$399,$Q$6,FALSE)/AT37,3)*1000)","v":4510},{"$f":"IF($A$4=\"Numbers\",MROUND(VLOOKUP($C37&F$8,'Calc-V'!$A$4:$S$399,$Q$6,FALSE),10),ROUND(VLOOKUP($C37&F$8,'Calc-V'!$A$4:$S$399,$Q$6,FALSE)/AU37,3)*1000)","v":4510},{"$f":"IF($A$4=\"Numbers\",MROUND(VLOOKUP($C37&G$8,'Calc-V'!$A$4:$S$399,$Q$6,FALSE),10),ROUND(VLOOKUP($C37&G$8,'Calc-V'!$A$4:$S$399,$Q$6,FALSE)/AV37,3)*1000)","v":5190},{"$f":"IF($A$4=\"Numbers\",MROUND(VLOOKUP($C37&H$8,'Calc-V'!$A$4:$S$399,$Q$6,FALSE),10),ROUND(VLOOKUP($C37&H$8,'Calc-V'!$A$4:$S$399,$Q$6,FALSE)/AW37,3)*1000)","v":5190},{"$f":"IF($A$4=\"Numbers\",MROUND(VLOOKUP($C37&I$8,'Calc-V'!$A$4:$S$399,$Q$6,FALSE),10),ROUND(VLOOKUP($C37&I$8,'Calc-V'!$A$4:$S$399,$Q$6,FALSE)/AX37,3)*1000)","v":6270},{"$f":"IF($A$4=\"Numbers\",MROUND(VLOOKUP($C37&J$8,'Calc-V'!$A$4:$S$399,$Q$6,FALSE),10),ROUND(VLOOKUP($C37&J$8,'Calc-V'!$A$4:$S$399,$Q$6,FALSE)/AY37,3)*1000)","v":6270},{"$f":"IF($A$4=\"Numbers\",MROUND(VLOOKUP($C37&K$8,'Calc-V'!$A$4:$S$399,$Q$6,FALSE),10),ROUND(VLOOKUP($C37&K$8,'Calc-V'!$A$4:$S$399,$Q$6,FALSE)/AZ37,3)*1000)","v":6030},{"$f":"IF($A$4=\"Numbers\",MROUND(VLOOKUP($C37&L$8,'Calc-V'!$A$4:$S$399,$Q$6,FALSE),10),ROUND(VLOOKUP($C37&L$8,'Calc-V'!$A$4:$S$399,$Q$6,FALSE)/BA37,3)*1000)","v":5530},{"$f":"IF($A$4=\"Numbers\",MROUND(VLOOKUP($C37&M$8,'Calc-V'!$A$4:$S$399,$Q$6,FALSE),10),ROUND(VLOOKUP($C37&M$8,'Calc-V'!$A$4:$S$399,$Q$6,FALSE)/BB37,3)*1000)","v":5530},{"$f":"IF($A$4=\"Numbers\",MROUND(VLOOKUP($C37&N$8,'Calc-V'!$A$4:$S$399,$Q$6,FALSE),10),ROUND(VLOOKUP($C37&N$8,'Calc-V'!$A$4:$S$399,$Q$6,FALSE)/BC37,3)*1000)","v":6040},{"$f":"IF($A$4=\"Numbers\",MROUND(VLOOKUP($C37&O$8,'Calc-V'!$A$4:$S$399,$Q$6,FALSE),10),ROUND(VLOOKUP($C37&O$8,'Calc-V'!$A$4:$S$399,$Q$6,FALSE)/BD37,3)*1000)","v":5170},null,{"$f":"IF($A$4=\"Numbers\",MROUND(VLOOKUP($C37&Q$8,'Calc-V'!$A$4:$S$399,$AD$6,FALSE),10),ROUND(VLOOKUP($C37&Q$8,'Calc-V'!$A$4:$S$399,$AD$6,FALSE)/AS37,3)*1000)","v":6750},{"$f":"IF($A$4=\"Numbers\",MROUND(VLOOKUP($C37&R$8,'Calc-V'!$A$4:$S$399,$AD$6,FALSE),10),ROUND(VLOOKUP($C37&R$8,'Calc-V'!$A$4:$S$399,$AD$6,FALSE)/AT37,3)*1000)","v":7070},{"$f":"IF($A$4=\"Numbers\",MROUND(VLOOKUP($C37&S$8,'Calc-V'!$A$4:$S$399,$AD$6,FALSE),10),ROUND(VLOOKUP($C37&S$8,'Calc-V'!$A$4:$S$399,$AD$6,FALSE)/AU37,3)*1000)","v":7070},{"$f":"IF($A$4=\"Numbers\",MROUND(VLOOKUP($C37&T$8,'Calc-V'!$A$4:$S$399,$AD$6,FALSE),10),ROUND(VLOOKUP($C37&T$8,'Calc-V'!$A$4:$S$399,$AD$6,FALSE)/AV37,3)*1000)","v":7440},{"$f":"IF($A$4=\"Numbers\",MROUND(VLOOKUP($C37&U$8,'Calc-V'!$A$4:$S$399,$AD$6,FALSE),10),ROUND(VLOOKUP($C37&U$8,'Calc-V'!$A$4:$S$399,$AD$6,FALSE)/AW37,3)*1000)","v":7440},{"$f":"IF($A$4=\"Numbers\",MROUND(VLOOKUP($C37&V$8,'Calc-V'!$A$4:$S$399,$AD$6,FALSE),10),ROUND(VLOOKUP($C37&V$8,'Calc-V'!$A$4:$S$399,$AD$6,FALSE)/AX37,3)*1000)","v":7570},{"$f":"IF($A$4=\"Numbers\",MROUND(VLOOKUP($C37&W$8,'Calc-V'!$A$4:$S$399,$AD$6,FALSE),10),ROUND(VLOOKUP($C37&W$8,'Calc-V'!$A$4:$S$399,$AD$6,FALSE)/AY37,3)*1000)","v":7570},{"$f":"IF($A$4=\"Numbers\",MROUND(VLOOKUP($C37&X$8,'Calc-V'!$A$4:$S$399,$AD$6,FALSE),10),ROUND(VLOOKUP($C37&X$8,'Calc-V'!$A$4:$S$399,$AD$6,FALSE)/AZ37,3)*1000)","v":7690},{"$f":"IF($A$4=\"Numbers\",MROUND(VLOOKUP($C37&Y$8,'Calc-V'!$A$4:$S$399,$AD$6,FALSE),10),ROUND(VLOOKUP($C37&Y$8,'Calc-V'!$A$4:$S$399,$AD$6,FALSE)/BA37,3)*1000)","v":7320},{"$f":"IF($A$4=\"Numbers\",MROUND(VLOOKUP($C37&Z$8,'Calc-V'!$A$4:$S$399,$AD$6,FALSE),10),ROUND(VLOOKUP($C37&Z$8,'Calc-V'!$A$4:$S$399,$AD$6,FALSE)/BB37,3)*1000)","v":7320},{"$f":"IF($A$4=\"Numbers\",MROUND(VLOOKUP($C37&AA$8,'Calc-V'!$A$4:$S$399,$AD$6,FALSE),10),ROUND(VLOOKUP($C37&AA$8,'Calc-V'!$A$4:$S$399,$AD$6,FALSE)/BC37,3)*1000)","v":7440},{"$f":"IF($A$4=\"Numbers\",MROUND(VLOOKUP($C37&AB$8,'Calc-V'!$A$4:$S$399,$AD$6,FALSE),10),ROUND(VLOOKUP($C37&AB$8,'Calc-V'!$A$4:$S$399,$AD$6,FALSE)/BD37,3)*1000)","v":7400},null,null,null,{"$f":"VLOOKUP($C37&AS$8,'Calc-V'!$A$4:$AA$399,$AS$6,FALSE)","v":310380},{"$f":"VLOOKUP($C37&AT$8,'Calc-V'!$A$4:$AA$399,$AS$6,FALSE)","v":311320},{"$f":"VLOOKUP($C37&AU$8,'Calc-V'!$A$4:$AA$399,$AS$6,FALSE)","v":311320},{"$f":"VLOOKUP($C37&AV$8,'Calc-V'!$A$4:$AA$399,$AS$6,FALSE)","v":312180},{"$f":"VLOOKUP($C37&AW$8,'Calc-V'!$A$4:$AA$399,$AS$6,FALSE)","v":312180},{"$f":"VLOOKUP($C37&AX$8,'Calc-V'!$A$4:$AA$399,$AS$6,FALSE)","v":313180},{"$f":"VLOOKUP($C37&AY$8,'Calc-V'!$A$4:$AA$399,$AS$6,FALSE)","v":313180},{"$f":"VLOOKUP($C37&AZ$8,'Calc-V'!$A$4:$AA$399,$AS$6,FALSE)","v":313900},{"$f":"VLOOKUP($C37&BA$8,'Calc-V'!$A$4:$AA$399,$AS$6,FALSE)","v":314360},{"$f":"VLOOKUP($C37&BB$8,'Calc-V'!$A$4:$AA$399,$AS$6,FALSE)","v":314360},{"$f":"VLOOKUP($C37&BC$8,'Calc-V'!$A$4:$AA$399,$AS$6,FALSE)","v":314850},{"$f":"VLOOKUP($C37&BD$8,'Calc-V'!$A$4:$AA$399,$AS$6,FALSE)","v":315360}]
[null,null,"Stirling",{"$f":"IF($A$4=\"Numbers\",MROUND(VLOOKUP($C38&D$8,'Calc-V'!$A$4:$W$399,$D$6,FALSE),10),ROUND(VLOOKUP($C38&D$8,'Calc-V'!$A$4:$W$399,$D$6,FALSE)/AS38,3)*1000)","v":1930},{"$f":"IF($A$4=\"Numbers\",MROUND(VLOOKUP($C38&E$8,'Calc-V'!$A$4:$W$399,$D$6,FALSE),10),ROUND(VLOOKUP($C38&E$8,'Calc-V'!$A$4:$W$399,$D$6,FALSE)/AT38,3)*1000)","v":1590},{"$f":"IF($A$4=\"Numbers\",MROUND(VLOOKUP($C38&F$8,'Calc-V'!$A$4:$W$399,$D$6,FALSE),10),ROUND(VLOOKUP($C38&F$8,'Calc-V'!$A$4:$W$399,$D$6,FALSE)/AU38,3)*1000)","v":1590},{"$f":"IF($A$4=\"Numbers\",MROUND(VLOOKUP($C38&G$8,'Calc-V'!$A$4:$W$399,$D$6,FALSE),10),ROUND(VLOOKUP($C38&G$8,'Calc-V'!$A$4:$W$399,$D$6,FALSE)/AV38,3)*1000)","v":1600},{"$f":"IF($A$4=\"Numbers\",MROUND(VLOOKUP($C38&H$8,'Calc-V'!$A$4:$W$399,$D$6,FALSE),10),ROUND(VLOOKUP($C38&H$8,'Calc-V'!$A$4:$W$399,$D$6,FALSE)/AW38,3)*1000)","v":1600},{"$f":"IF($A$4=\"Numbers\",MROUND(VLOOKUP($C38&I$8,'Calc-V'!$A$4:$W$399,$D$6,FALSE),10),ROUND(VLOOKUP($C38&I$8,'Calc-V'!$A$4:$W$399,$D$6,FALSE)/AX38,3)*1000)","v":1840},{"$f":"IF($A$4=\"Numbers\",MROUND(VLOOKUP($C38&J$8,'Calc-V'!$A$4:$W$399,$D$6,FALSE),10),ROUND(VLOOKUP($C38&J$8,'Calc-V'!$A$4:$W$399,$D$6,FALSE)/AY38,3)*1000)","v":1840},{"$f":"IF($A$4=\"Numbers\",MROUND(VLOOKUP($C38&K$8,'Calc-V'!$A$4:$W$399,$D$6,FALSE),10),ROUND(VLOOKUP($C38&K$8,'Calc-V'!$A$4:$W$399,$D$6,FALSE)/AZ38,3)*1000)","v":2210},{"$f":"IF($A$4=\"Numbers\",MROUND(VLOOKUP($C38&L$8,'Calc-V'!$A$4:$W$399,$D$6,FALSE),10),ROUND(VLOOKUP($C38&L$8,'Calc-V'!$A$4:$W$399,$D$6,FALSE)/BA38,3)*1000)","v":2230},{"$f":"IF($A$4=\"Numbers\",MROUND(VLOOKUP($C38&M$8,'Calc-V'!$A$4:$W$399,$D$6,FALSE),10),ROUND(VLOOKUP($C38&M$8,'Calc-V'!$A$4:$W$399,$D$6,FALSE)/BB38,3)*1000)","v":2230},{"$f":"IF($A$4=\"Numbers\",MROUND(VLOOKUP($C38&N$8,'Calc-V'!$A$4:$W$399,$D$6,FALSE),10),ROUND(VLOOKUP($C38&N$8,'Calc-V'!$A$4:$W$399,$D$6,FALSE)/BC38,3)*1000)","v":2150},{"$f":"IF($A$4=\"Numbers\",MROUND(VLOOKUP($C38&O$8,'Calc-V'!$A$4:$W$399,$D$6,FALSE),10),ROUND(VLOOKUP($C38&O$8,'Calc-V'!$A$4:$W$399,$D$6,FALSE)/BD38,3)*1000)","v":2360},null,{"$f":"IF($A$4=\"Numbers\",MROUND(VLOOKUP($C38&D$8,'Calc-V'!$A$4:$S$399,$Q$6,FALSE),10),ROUND(VLOOKUP($C38&D$8,'Calc-V'!$A$4:$S$399,$Q$6,FALSE)/AS38,3)*1000)","v":1340},{"$f":"IF($A$4=\"Numbers\",MROUND(VLOOKUP($C38&E$8,'Calc-V'!$A$4:$S$399,$Q$6,FALSE),10),ROUND(VLOOKUP($C38&E$8,'Calc-V'!$A$4:$S$399,$Q$6,FALSE)/AT38,3)*1000)","v":1050},{"$f":"IF($A$4=\"Numbers\",MROUND(VLOOKUP($C38&F$8,'Calc-V'!$A$4:$S$399,$Q$6,FALSE),10),ROUND(VLOOKUP($C38&F$8,'Calc-V'!$A$4:$S$399,$Q$6,FALSE)/AU38,3)*1000)","v":1050},{"$f":"IF($A$4=\"Numbers\",MROUND(VLOOKUP($C38&G$8,'Calc-V'!$A$4:$S$399,$Q$6,FALSE),10),ROUND(VLOOKUP($C38&G$8,'Calc-V'!$A$4:$S$399,$Q$6,FALSE)/AV38,3)*1000)","v":880},{"$f":"IF($A$4=\"Numbers\",MROUND(VLOOKUP($C38&H$8,'Calc-V'!$A$4:$S$399,$Q$6,FALSE),10),ROUND(VLOOKUP($C38&H$8,'Calc-V'!$A$4:$S$399,$Q$6,FALSE)/AW38,3)*1000)","v":880},{"$f":"IF($A$4=\"Numbers\",MROUND(VLOOKUP($C38&I$8,'Calc-V'!$A$4:$S$399,$Q$6,FALSE),10),ROUND(VLOOKUP($C38&I$8,'Calc-V'!$A$4:$S$399,$Q$6,FALSE)/AX38,3)*1000)","v":1040},{"$f":"IF($A$4=\"Numbers\",MROUND(VLOOKUP($C38&J$8,'Calc-V'!$A$4:$S$399,$Q$6,FALSE),10),ROUND(VLOOKUP($C38&J$8,'Calc-V'!$A$4:$S$399,$Q$6,FALSE)/AY38,3)*1000)","v":1040},{"$f":"IF($A$4=\"Numbers\",MROUND(VLOOKUP($C38&K$8,'Calc-V'!$A$4:$S$399,$Q$6,FALSE),10),ROUND(VLOOKUP($C38&K$8,'Calc-V'!$A$4:$S$399,$Q$6,FALSE)/AZ38,3)*1000)","v":1400},{"$f":"IF($A$4=\"Numbers\",MROUND(VLOOKUP($C38&L$8,'Calc-V'!$A$4:$S$399,$Q$6,FALSE),10),ROUND(VLOOKUP($C38&L$8,'Calc-V'!$A$4:$S$399,$Q$6,FALSE)/BA38,3)*1000)","v":1390},{"$f":"IF($A$4=\"Numbers\",MROUND(VLOOKUP($C38&M$8,'Calc-V'!$A$4:$S$399,$Q$6,FALSE),10),ROUND(VLOOKUP($C38&M$8,'Calc-V'!$A$4:$S$399,$Q$6,FALSE)/BB38,3)*1000)","v":1390},{"$f":"IF($A$4=\"Numbers\",MROUND(VLOOKUP($C38&N$8,'Calc-V'!$A$4:$S$399,$Q$6,FALSE),10),ROUND(VLOOKUP($C38&N$8,'Calc-V'!$A$4:$S$399,$Q$6,FALSE)/BC38,3)*1000)","v":1650},{"$f":"IF($A$4=\"Numbers\",MROUND(VLOOKUP($C38&O$8,'Calc-V'!$A$4:$S$399,$Q$6,FALSE),10),ROUND(VLOOKUP($C38&O$8,'Calc-V'!$A$4:$S$399,$Q$6,FALSE)/BD38,3)*1000)","v":1800},null,{"$f":"IF($A$4=\"Numbers\",MROUND(VLOOKUP($C38&Q$8,'Calc-V'!$A$4:$S$399,$AD$6,FALSE),10),ROUND(VLOOKUP($C38&Q$8,'Calc-V'!$A$4:$S$399,$AD$6,FALSE)/AS38,3)*1000)","v":590},{"$f":"IF($A$4=\"Numbers\",MROUND(VLOOKUP($C38&R$8,'Calc-V'!$A$4:$S$399,$AD$6,FALSE),10),ROUND(VLOOKUP($C38&R$8,'Calc-V'!$A$4:$S$399,$AD$6,FALSE)/AT38,3)*1000)","v":550},{"$f":"IF($A$4=\"Numbers\",MROUND(VLOOKUP($C38&S$8,'Calc-V'!$A$4:$S$399,$AD$6,FALSE),10),ROUND(VLOOKUP($C38&S$8,'Calc-V'!$A$4:$S$399,$AD$6,FALSE)/AU38,3)*1000)","v":550},{"$f":"IF($A$4=\"Numbers\",MROUND(VLOOKUP($C38&T$8,'Calc-V'!$A$4:$S$399,$AD$6,FALSE),10),ROUND(VLOOKUP($C38&T$8,'Calc-V'!$A$4:$S$399,$AD$6,FALSE)/AV38,3)*1000)","v":710},{"$f":"IF($A$4=\"Numbers\",MROUND(VLOOKUP($C38&U$8,'Calc-V'!$A$4:$S$399,$AD$6,FALSE),10),ROUND(VLOOKUP($C38&U$8,'Calc-V'!$A$4:$S$399,$AD$6,FALSE)/AW38,3)*1000)","v":710},{"$f":"IF($A$4=\"Numbers\",MROUND(VLOOKUP($C38&V$8,'Calc-V'!$A$4:$S$399,$AD$6,FALSE),10),ROUND(VLOOKUP($C38&V$8,'Calc-V'!$A$4:$S$399,$AD$6,FALSE)/AX38,3)*1000)","v":800},{"$f":"IF($A$4=\"Numbers\",MROUND(VLOOKUP($C38&W$8,'Calc-V'!$A$4:$S$399,$AD$6,FALSE),10),ROUND(VLOOKUP($C38&W$8,'Calc-V'!$A$4:$S$399,$AD$6,FALSE)/AY38,3)*1000)","v":800},{"$f":"IF($A$4=\"Numbers\",MROUND(VLOOKUP($C38&X$8,'Calc-V'!$A$4:$S$399,$AD$6,FALSE),10),ROUND(VLOOKUP($C38&X$8,'Calc-V'!$A$4:$S$399,$AD$6,FALSE)/AZ38,3)*1000)","v":810},{"$f":"IF($A$4=\"Numbers\",MROUND(VLOOKUP($C38&Y$8,'Calc-V'!$A$4:$S$399,$AD$6,FALSE),10),ROUND(VLOOKUP($C38&Y$8,'Calc-V'!$A$4:$S$399,$AD$6,FALSE)/BA38,3)*1000)","v":840},{"$f":"IF($A$4=\"Numbers\",MROUND(VLOOKUP($C38&Z$8,'Calc-V'!$A$4:$S$399,$AD$6,FALSE),10),ROUND(VLOOKUP($C38&Z$8,'Calc-V'!$A$4:$S$399,$AD$6,FALSE)/BB38,3)*1000)","v":840},{"$f":"IF($A$4=\"Numbers\",MROUND(VLOOKUP($C38&AA$8,'Calc-V'!$A$4:$S$399,$AD$6,FALSE),10),ROUND(VLOOKUP($C38&AA$8,'Calc-V'!$A$4:$S$399,$AD$6,FALSE)/BC38,3)*1000)","v":500},{"$f":"IF($A$4=\"Numbers\",MROUND(VLOOKUP($C38&AB$8,'Calc-V'!$A$4:$S$399,$AD$6,FALSE),10),ROUND(VLOOKUP($C38&AB$8,'Calc-V'!$A$4:$S$399,$AD$6,FALSE)/BD38,3)*1000)","v":560},null,null,null,{"$f":"VLOOKUP($C38&AS$8,'Calc-V'!$A$4:$AA$399,$AS$6,FALSE)","v":88430},{"$f":"VLOOKUP($C38&AT$8,'Calc-V'!$A$4:$AA$399,$AS$6,FALSE)","v":88540},{"$f":"VLOOKUP($C38&AU$8,'Calc-V'!$A$4:$AA$399,$AS$6,FALSE)","v":88540},{"$f":"VLOOKUP($C38&AV$8,'Calc-V'!$A$4:$AA$399,$AS$6,FALSE)","v":88690},{"$f":"VLOOKUP($C38&AW$8,'Calc-V'!$A$4:$AA$399,$AS$6,FALSE)","v":88690},{"$f":"VLOOKUP($C38&AX$8,'Calc-V'!$A$4:$AA$399,$AS$6,FALSE)","v":89550},{"$f":"VLOOKUP($C38&AY$8,'Calc-V'!$A$4:$AA$399,$AS$6,FALSE)","v":89550},{"$f":"VLOOKUP($C38&AZ$8,'Calc-V'!$A$4:$AA$399,$AS$6,FALSE)","v":90330},{"$f":"VLOOKUP($C38&BA$8,'Calc-V'!$A$4:$AA$399,$AS$6,FALSE)","v":91020},{"$f":"VLOOKUP($C38&BB$8,'Calc-V'!$A$4:$AA$399,$AS$6,FALSE)","v":91020},{"$f":"VLOOKUP($C38&BC$8,'Calc-V'!$A$4:$AA$399,$AS$6,FALSE)","v":91260},{"$f":"VLOOKUP($C38&BD$8,'Calc-V'!$A$4:$AA$399,$AS$6,FALSE)","v":91580}]
[null,null,"West Dunbartonshire",{"$f":"IF($A$4=\"Numbers\",MROUND(VLOOKUP($C39&D$8,'Calc-V'!$A$4:$W$399,$D$6,FALSE),10),ROUND(VLOOKUP($C39&D$8,'Calc-V'!$A$4:$W$399,$D$6,FALSE)/AS39,3)*1000)","v":7400},{"$f":"IF($A$4=\"Numbers\",MROUND(VLOOKUP($C39&E$8,'Calc-V'!$A$4:$W$399,$D$6,FALSE),10),ROUND(VLOOKUP($C39&E$8,'Calc-V'!$A$4:$W$399,$D$6,FALSE)/AT39,3)*1000)","v":7360},{"$f":"IF($A$4=\"Numbers\",MROUND(VLOOKUP($C39&F$8,'Calc-V'!$A$4:$W$399,$D$6,FALSE),10),ROUND(VLOOKUP($C39&F$8,'Calc-V'!$A$4:$W$399,$D$6,FALSE)/AU39,3)*1000)","v":7360},{"$f":"IF($A$4=\"Numbers\",MROUND(VLOOKUP($C39&G$8,'Calc-V'!$A$4:$W$399,$D$6,FALSE),10),ROUND(VLOOKUP($C39&G$8,'Calc-V'!$A$4:$W$399,$D$6,FALSE)/AV39,3)*1000)","v":7750},{"$f":"IF($A$4=\"Numbers\",MROUND(VLOOKUP($C39&H$8,'Calc-V'!$A$4:$W$399,$D$6,FALSE),10),ROUND(VLOOKUP($C39&H$8,'Calc-V'!$A$4:$W$399,$D$6,FALSE)/AW39,3)*1000)","v":7750},{"$f":"IF($A$4=\"Numbers\",MROUND(VLOOKUP($C39&I$8,'Calc-V'!$A$4:$W$399,$D$6,FALSE),10),ROUND(VLOOKUP($C39&I$8,'Calc-V'!$A$4:$W$399,$D$6,FALSE)/AX39,3)*1000)","v":7610},{"$f":"IF($A$4=\"Numbers\",MROUND(VLOOKUP($C39&J$8,'Calc-V'!$A$4:$W$399,$D$6,FALSE),10),ROUND(VLOOKUP($C39&J$8,'Calc-V'!$A$4:$W$399,$D$6,FALSE)/AY39,3)*1000)","v":7610},{"$f":"IF($A$4=\"Numbers\",MROUND(VLOOKUP($C39&K$8,'Calc-V'!$A$4:$W$399,$D$6,FALSE),10),ROUND(VLOOKUP($C39&K$8,'Calc-V'!$A$4:$W$399,$D$6,FALSE)/AZ39,3)*1000)","v":6980},{"$f":"IF($A$4=\"Numbers\",MROUND(VLOOKUP($C39&L$8,'Calc-V'!$A$4:$W$399,$D$6,FALSE),10),ROUND(VLOOKUP($C39&L$8,'Calc-V'!$A$4:$W$399,$D$6,FALSE)/BA39,3)*1000)","v":6890},{"$f":"IF($A$4=\"Numbers\",MROUND(VLOOKUP($C39&M$8,'Calc-V'!$A$4:$W$399,$D$6,FALSE),10),ROUND(VLOOKUP($C39&M$8,'Calc-V'!$A$4:$W$399,$D$6,FALSE)/BB39,3)*1000)","v":6890},{"$f":"IF($A$4=\"Numbers\",MROUND(VLOOKUP($C39&N$8,'Calc-V'!$A$4:$W$399,$D$6,FALSE),10),ROUND(VLOOKUP($C39&N$8,'Calc-V'!$A$4:$W$399,$D$6,FALSE)/BC39,3)*1000)","v":6520},{"$f":"IF($A$4=\"Numbers\",MROUND(VLOOKUP($C39&O$8,'Calc-V'!$A$4:$W$399,$D$6,FALSE),10),ROUND(VLOOKUP($C39&O$8,'Calc-V'!$A$4:$W$399,$D$6,FALSE)/BD39,3)*1000)","v":6920},null,{"$f":"IF($A$4=\"Numbers\",MROUND(VLOOKUP($C39&D$8,'Calc-V'!$A$4:$S$399,$Q$6,FALSE),10),ROUND(VLOOKUP($C39&D$8,'Calc-V'!$A$4:$S$399,$Q$6,FALSE)/AS39,3)*1000)","v":1170},{"$f":"IF($A$4=\"Numbers\",MROUND(VLOOKUP($C39&E$8,'Calc-V'!$A$4:$S$399,$Q$6,FALSE),10),ROUND(VLOOKUP($C39&E$8,'Calc-V'!$A$4:$S$399,$Q$6,FALSE)/AT39,3)*1000)","v":1200},{"$f":"IF($A$4=\"Numbers\",MROUND(VLOOKUP($C39&F$8,'Calc-V'!$A$4:$S$399,$Q$6,FALSE),10),ROUND(VLOOKUP($C39&F$8,'Calc-V'!$A$4:$S$399,$Q$6,FALSE)/AU39,3)*1000)","v":1200},{"$f":"IF($A$4=\"Numbers\",MROUND(VLOOKUP($C39&G$8,'Calc-V'!$A$4:$S$399,$Q$6,FALSE),10),ROUND(VLOOKUP($C39&G$8,'Calc-V'!$A$4:$S$399,$Q$6,FALSE)/AV39,3)*1000)","v":1190},{"$f":"IF($A$4=\"Numbers\",MROUND(VLOOKUP($C39&H$8,'Calc-V'!$A$4:$S$399,$Q$6,FALSE),10),ROUND(VLOOKUP($C39&H$8,'Calc-V'!$A$4:$S$399,$Q$6,FALSE)/AW39,3)*1000)","v":1190},{"$f":"IF($A$4=\"Numbers\",MROUND(VLOOKUP($C39&I$8,'Calc-V'!$A$4:$S$399,$Q$6,FALSE),10),ROUND(VLOOKUP($C39&I$8,'Calc-V'!$A$4:$S$399,$Q$6,FALSE)/AX39,3)*1000)","v":1120},{"$f":"IF($A$4=\"Numbers\",MROUND(VLOOKUP($C39&J$8,'Calc-V'!$A$4:$S$399,$Q$6,FALSE),10),ROUND(VLOOKUP($C39&J$8,'Calc-V'!$A$4:$S$399,$Q$6,FALSE)/AY39,3)*1000)","v":1120},{"$f":"IF($A$4=\"Numbers\",MROUND(VLOOKUP($C39&K$8,'Calc-V'!$A$4:$S$399,$Q$6,FALSE),10),ROUND(VLOOKUP($C39&K$8,'Calc-V'!$A$4:$S$399,$Q$6,FALSE)/AZ39,3)*1000)","v":1010},{"$f":"IF($A$4=\"Numbers\",MROUND(VLOOKUP($C39&L$8,'Calc-V'!$A$4:$S$399,$Q$6,FALSE),10),ROUND(VLOOKUP($C39&L$8,'Calc-V'!$A$4:$S$399,$Q$6,FALSE)/BA39,3)*1000)","v":900},{"$f":"IF($A$4=\"Numbers\",MROUND(VLOOKUP($C39&M$8,'Calc-V'!$A$4:$S$399,$Q$6,FALSE),10),ROUND(VLOOKUP($C39&M$8,'Calc-V'!$A$4:$S$399,$Q$6,FALSE)/BB39,3)*1000)","v":900},{"$f":"IF($A$4=\"Numbers\",MROUND(VLOOKUP($C39&N$8,'Calc-V'!$A$4:$S$399,$Q$6,FALSE),10),ROUND(VLOOKUP($C39&N$8,'Calc-V'!$A$4:$S$399,$Q$6,FALSE)/BC39,3)*1000)","v":960},{"$f":"IF($A$4=\"Numbers\",MROUND(VLOOKUP($C39&O$8,'Calc-V'!$A$4:$S$399,$Q$6,FALSE),10),ROUND(VLOOKUP($C39&O$8,'Calc-V'!$A$4:$S$399,$Q$6,FALSE)/BD39,3)*1000)","v":920},null,{"$f":"IF($A$4=\"Numbers\",MROUND(VLOOKUP($C39&Q$8,'Calc-V'!$A$4:$S$399,$AD$6,FALSE),10),ROUND(VLOOKUP($C39&Q$8,'Calc-V'!$A$4:$S$399,$AD$6,FALSE)/AS39,3)*1000)","v":6240},{"$f":"IF($A$4=\"Numbers\",MROUND(VLOOKUP($C39&R$8,'Calc-V'!$A$4:$S$399,$AD$6,FALSE),10),ROUND(VLOOKUP($C39&R$8,'Calc-V'!$A$4:$S$399,$AD$6,FALSE)/AT39,3)*1000)","v":6160},{"$f":"IF($A$4=\"Numbers\",MROUND(VLOOKUP($C39&S$8,'Calc-V'!$A$4:$S$399,$AD$6,FALSE),10),ROUND(VLOOKUP($C39&S$8,'Calc-V'!$A$4:$S$399,$AD$6,FALSE)/AU39,3)*1000)","v":6160},{"$f":"IF($A$4=\"Numbers\",MROUND(VLOOKUP($C39&T$8,'Calc-V'!$A$4:$S$399,$AD$6,FALSE),10),ROUND(VLOOKUP($C39&T$8,'Calc-V'!$A$4:$S$399,$AD$6,FALSE)/AV39,3)*1000)","v":6570},{"$f":"IF($A$4=\"Numbers\",MROUND(VLOOKUP($C39&U$8,'Calc-V'!$A$4:$S$399,$AD$6,FALSE),10),ROUND(VLOOKUP($C39&U$8,'Calc-V'!$A$4:$S$399,$AD$6,FALSE)/AW39,3)*1000)","v":6570},{"$f":"IF($A$4=\"Numbers\",MROUND(VLOOKUP($C39&V$8,'Calc-V'!$A$4:$S$399,$AD$6,FALSE),10),ROUND(VLOOKUP($C39&V$8,'Calc-V'!$A$4:$S$399,$AD$6,FALSE)/AX39,3)*1000)","v":6490},{"$f":"IF($A$4=\"Numbers\",MROUND(VLOOKUP($C39&W$8,'Calc-V'!$A$4:$S$399,$AD$6,FALSE),10),ROUND(VLOOKUP($C39&W$8,'Calc-V'!$A$4:$S$399,$AD$6,FALSE)/AY39,3)*1000)","v":6490},{"$f":"IF($A$4=\"Numbers\",MROUND(VLOOKUP($C39&X$8,'Calc-V'!$A$4:$S$399,$AD$6,FALSE),10),ROUND(VLOOKUP($C39&X$8,'Calc-V'!$A$4:$S$399,$AD$6,FALSE)/AZ39,3)*1000)","v":5970},{"$f":"IF($A$4=\"Numbers\",MROUND(VLOOKUP($C39&Y$8,'Calc-V'!$A$4:$S$399,$AD$6,FALSE),10),ROUND(VLOOKUP($C39&Y$8,'Calc-V'!$A$4:$S$399,$AD$6,FALSE)/BA39,3)*1000)","v":5980},{"$f":"IF($A$4=\"Numbers\",MROUND(VLOOKUP($C39&Z$8,'Calc-V'!$A$4:$S$399,$AD$6,FALSE),10),ROUND(VLOOKUP($C39&Z$8,'Calc-V'!$A$4:$S$399,$AD$6,FALSE)/BB39,3)*1000)","v":5980},{"$f":"IF($A$4=\"Numbers\",MROUND(VLOOKUP($C39&AA$8,'Calc-V'!$A$4:$S$399,$AD$6,FALSE),10),ROUND(VLOOKUP($C39&AA$8,'Calc-V'!$A$4:$S$399,$AD$6,FALSE)/BC39,3)*1000)","v":5570},{"$f":"IF($A$4=\"Numbers\",MROUND(VLOOKUP($C39&AB$8,'Calc-V'!$A$4:$S$399,$AD$6,FALSE),10),ROUND(VLOOKUP($C39&AB$8,'Calc-V'!$A$4:$S$399,$AD$6,FALSE)/BD39,3)*1000)","v":6010},null,null,null,{"$f":"VLOOKUP($C39&AS$8,'Calc-V'!$A$4:$AA$399,$AS$6,FALSE)","v":91370},{"$f":"VLOOKUP($C39&AT$8,'Calc-V'!$A$4:$AA$399,$AS$6,FALSE)","v":91190},{"$f":"VLOOKUP($C39&AU$8,'Calc-V'!$A$4:$AA$399,$AS$6,FALSE)","v":91190},{"$f":"VLOOKUP($C39&AV$8,'Calc-V'!$A$4:$AA$399,$AS$6,FALSE)","v":91080},{"$f":"VLOOKUP($C39&AW$8,'Calc-V'!$A$4:$AA$399,$AS$6,FALSE)","v":91080},{"$f":"VLOOKUP($C39&AX$8,'Calc-V'!$A$4:$AA$399,$AS$6,FALSE)","v":90800},{"$f":"VLOOKUP($C39&AY$8,'Calc-V'!$A$4:$AA$399,$AS$6,FALSE)","v":90800},{"$f":"VLOOKUP($C39&AZ$8,'Calc-V'!$A$4:$AA$399,$AS$6,FALSE)","v":90610},{"$f":"VLOOKUP($C39&BA$8,'Calc-V'!$A$4:$AA$399,$AS$6,FALSE)","v":90340},{"$f":"VLOOKUP($C39&BB$8,'Calc-V'!$A$4:$AA$399,$AS$6,FALSE)","v":90340},{"$f":"VLOOKUP($C39&BC$8,'Calc-V'!$A$4:$AA$399,$AS$6,FALSE)","v":89810},{"$f":"VLOOKUP($C39&BD$8,'Calc-V'!$A$4:$AA$399,$AS$6,FALSE)","v":89730}]
[null,null,"West Lothian",{"$f":"IF($A$4=\"Numbers\",MROUND(VLOOKUP($C40&D$8,'Calc-V'!$A$4:$W$399,$D$6,FALSE),10),ROUND(VLOOKUP($C40&D$8,'Calc-V'!$A$4:$W$399,$D$6,FALSE)/AS40,3)*1000)","v":1590},{"$f":"IF($A$4=\"Numbers\",MROUND(VLOOKUP($C40&E$8,'Calc-V'!$A$4:$W$399,$D$6,FALSE),10),ROUND(VLOOKUP($C40&E$8,'Calc-V'!$A$4:$W$399,$D$6,FALSE)/AT40,3)*1000)","v":1870},{"$f":"IF($A$4=\"Numbers\",MROUND(VLOOKUP($C40&F$8,'Calc-V'!$A$4:$W$399,$D$6,FALSE),10),ROUND(VLOOKUP($C40&F$8,'Calc-V'!$A$4:$W$399,$D$6,FALSE)/AU40,3)*1000)","v":2190},{"$f":"IF($A$4=\"Numbers\",MROUND(VLOOKUP($C40&G$8,'Calc-V'!$A$4:$W$399,$D$6,FALSE),10),ROUND(VLOOKUP($C40&G$8,'Calc-V'!$A$4:$W$399,$D$6,FALSE)/AV40,3)*1000)","v":2710},{"$f":"IF($A$4=\"Numbers\",MROUND(VLOOKUP($C40&H$8,'Calc-V'!$A$4:$W$399,$D$6,FALSE),10),ROUND(VLOOKUP($C40&H$8,'Calc-V'!$A$4:$W$399,$D$6,FALSE)/AW40,3)*1000)","v":2710},{"$f":"IF($A$4=\"Numbers\",MROUND(VLOOKUP($C40&I$8,'Calc-V'!$A$4:$W$399,$D$6,FALSE),10),ROUND(VLOOKUP($C40&I$8,'Calc-V'!$A$4:$W$399,$D$6,FALSE)/AX40,3)*1000)","v":2510},{"$f":"IF($A$4=\"Numbers\",MROUND(VLOOKUP($C40&J$8,'Calc-V'!$A$4:$W$399,$D$6,FALSE),10),ROUND(VLOOKUP($C40&J$8,'Calc-V'!$A$4:$W$399,$D$6,FALSE)/AY40,3)*1000)","v":2510},{"$f":"IF($A$4=\"Numbers\",MROUND(VLOOKUP($C40&K$8,'Calc-V'!$A$4:$W$399,$D$6,FALSE),10),ROUND(VLOOKUP($C40&K$8,'Calc-V'!$A$4:$W$399,$D$6,FALSE)/AZ40,3)*1000)","v":2410},{"$f":"IF($A$4=\"Numbers\",MROUND(VLOOKUP($C40&L$8,'Calc-V'!$A$4:$W$399,$D$6,FALSE),10),ROUND(VLOOKUP($C40&L$8,'Calc-V'!$A$4:$W$399,$D$6,FALSE)/BA40,3)*1000)","v":2820},{"$f":"IF($A$4=\"Numbers\",MROUND(VLOOKUP($C40&M$8,'Calc-V'!$A$4:$W$399,$D$6,FALSE),10),ROUND(VLOOKUP($C40&M$8,'Calc-V'!$A$4:$W$399,$D$6,FALSE)/BB40,3)*1000)","v":3970},{"$f":"IF($A$4=\"Numbers\",MROUND(VLOOKUP($C40&N$8,'Calc-V'!$A$4:$W$399,$D$6,FALSE),10),ROUND(VLOOKUP($C40&N$8,'Calc-V'!$A$4:$W$399,$D$6,FALSE)/BC40,3)*1000)","v":4840},{"$f":"IF($A$4=\"Numbers\",MROUND(VLOOKUP($C40&O$8,'Calc-V'!$A$4:$W$399,$D$6,FALSE),10),ROUND(VLOOKUP($C40&O$8,'Calc-V'!$A$4:$W$399,$D$6,FALSE)/BD40,3)*1000)","v":4490},null,{"$f":"IF($A$4=\"Numbers\",MROUND(VLOOKUP($C40&D$8,'Calc-V'!$A$4:$S$399,$Q$6,FALSE),10),ROUND(VLOOKUP($C40&D$8,'Calc-V'!$A$4:$S$399,$Q$6,FALSE)/AS40,3)*1000)","v":1110},{"$f":"IF($A$4=\"Numbers\",MROUND(VLOOKUP($C40&E$8,'Calc-V'!$A$4:$S$399,$Q$6,FALSE),10),ROUND(VLOOKUP($C40&E$8,'Calc-V'!$A$4:$S$399,$Q$6,FALSE)/AT40,3)*1000)","v":1310},{"$f":"IF($A$4=\"Numbers\",MROUND(VLOOKUP($C40&F$8,'Calc-V'!$A$4:$S$399,$Q$6,FALSE),10),ROUND(VLOOKUP($C40&F$8,'Calc-V'!$A$4:$S$399,$Q$6,FALSE)/AU40,3)*1000)","v":1310},{"$f":"IF($A$4=\"Numbers\",MROUND(VLOOKUP($C40&G$8,'Calc-V'!$A$4:$S$399,$Q$6,FALSE),10),ROUND(VLOOKUP($C40&G$8,'Calc-V'!$A$4:$S$399,$Q$6,FALSE)/AV40,3)*1000)","v":1410},{"$f":"IF($A$4=\"Numbers\",MROUND(VLOOKUP($C40&H$8,'Calc-V'!$A$4:$S$399,$Q$6,FALSE),10),ROUND(VLOOKUP($C40&H$8,'Calc-V'!$A$4:$S$399,$Q$6,FALSE)/AW40,3)*1000)","v":1410},{"$f":"IF($A$4=\"Numbers\",MROUND(VLOOKUP($C40&I$8,'Calc-V'!$A$4:$S$399,$Q$6,FALSE),10),ROUND(VLOOKUP($C40&I$8,'Calc-V'!$A$4:$S$399,$Q$6,FALSE)/AX40,3)*1000)","v":1330},{"$f":"IF($A$4=\"Numbers\",MROUND(VLOOKUP($C40&J$8,'Calc-V'!$A$4:$S$399,$Q$6,FALSE),10),ROUND(VLOOKUP($C40&J$8,'Calc-V'!$A$4:$S$399,$Q$6,FALSE)/AY40,3)*1000)","v":1330},{"$f":"IF($A$4=\"Numbers\",MROUND(VLOOKUP($C40&K$8,'Calc-V'!$A$4:$S$399,$Q$6,FALSE),10),ROUND(VLOOKUP($C40&K$8,'Calc-V'!$A$4:$S$399,$Q$6,FALSE)/AZ40,3)*1000)","v":1240},{"$f":"IF($A$4=\"Numbers\",MROUND(VLOOKUP($C40&L$8,'Calc-V'!$A$4:$S$399,$Q$6,FALSE),10),ROUND(VLOOKUP($C40&L$8,'Calc-V'!$A$4:$S$399,$Q$6,FALSE)/BA40,3)*1000)","v":1420},{"$f":"IF($A$4=\"Numbers\",MROUND(VLOOKUP($C40&M$8,'Calc-V'!$A$4:$S$399,$Q$6,FALSE),10),ROUND(VLOOKUP($C40&M$8,'Calc-V'!$A$4:$S$399,$Q$6,FALSE)/BB40,3)*1000)","v":1410},{"$f":"IF($A$4=\"Numbers\",MROUND(VLOOKUP($C40&N$8,'Calc-V'!$A$4:$S$399,$Q$6,FALSE),10),ROUND(VLOOKUP($C40&N$8,'Calc-V'!$A$4:$S$399,$Q$6,FALSE)/BC40,3)*1000)","v":1540},{"$f":"IF($A$4=\"Numbers\",MROUND(VLOOKUP($C40&O$8,'Calc-V'!$A$4:$S$399,$Q$6,FALSE),10),ROUND(VLOOKUP($C40&O$8,'Calc-V'!$A$4:$S$399,$Q$6,FALSE)/BD40,3)*1000)","v":1520},null,{"$f":"IF($A$4=\"Numbers\",MROUND(VLOOKUP($C40&Q$8,'Calc-V'!$A$4:$S$399,$AD$6,FALSE),10),ROUND(VLOOKUP($C40&Q$8,'Calc-V'!$A$4:$S$399,$AD$6,FALSE)/AS40,3)*1000)","v":480},{"$f":"IF($A$4=\"Numbers\",MROUND(VLOOKUP($C40&R$8,'Calc-V'!$A$4:$S$399,$AD$6,FALSE),10),ROUND(VLOOKUP($C40&R$8,'Calc-V'!$A$4:$S$399,$AD$6,FALSE)/AT40,3)*1000)","v":560},{"$f":"IF($A$4=\"Numbers\",MROUND(VLOOKUP($C40&S$8,'Calc-V'!$A$4:$S$399,$AD$6,FALSE),10),ROUND(VLOOKUP($C40&S$8,'Calc-V'!$A$4:$S$399,$AD$6,FALSE)/AU40,3)*1000)","v":890},{"$f":"IF($A$4=\"Numbers\",MROUND(VLOOKUP($C40&T$8,'Calc-V'!$A$4:$S$399,$AD$6,FALSE),10),ROUND(VLOOKUP($C40&T$8,'Calc-V'!$A$4:$S$399,$AD$6,FALSE)/AV40,3)*1000)","v":1310},{"$f":"IF($A$4=\"Numbers\",MROUND(VLOOKUP($C40&U$8,'Calc-V'!$A$4:$S$399,$AD$6,FALSE),10),ROUND(VLOOKUP($C40&U$8,'Calc-V'!$A$4:$S$399,$AD$6,FALSE)/AW40,3)*1000)","v":1310},{"$f":"IF($A$4=\"Numbers\",MROUND(VLOOKUP($C40&V$8,'Calc-V'!$A$4:$S$399,$AD$6,FALSE),10),ROUND(VLOOKUP($C40&V$8,'Calc-V'!$A$4:$S$399,$AD$6,FALSE)/AX40,3)*1000)","v":1170},{"$f":"IF($A$4=\"Numbers\",MROUND(VLOOKUP($C40&W$8,'Calc-V'!$A$4:$S$399,$AD$6,FALSE),10),ROUND(VLOOKUP($C40&W$8,'Calc-V'!$A$4:$S$399,$AD$6,FALSE)/AY40,3)*1000)","v":1170},{"$f":"IF($A$4=\"Numbers\",MROUND(VLOOKUP($C40&X$8,'Calc-V'!$A$4:$S$399,$AD$6,FALSE),10),ROUND(VLOOKUP($C40&X$8,'Calc-V'!$A$4:$S$399,$AD$6,FALSE)/AZ40,3)*1000)","v":1170},{"$f":"IF($A$4=\"Numbers\",MROUND(VLOOKUP($C40&Y$8,'Calc-V'!$A$4:$S$399,$AD$6,FALSE),10),ROUND(VLOOKUP($C40&Y$8,'Calc-V'!$A$4:$S$399,$AD$6,FALSE)/BA40,3)*1000)","v":1400},{"$f":"IF($A$4=\"Numbers\",MROUND(VLOOKUP($C40&Z$8,'Calc-V'!$A$4:$S$399,$AD$6,FALSE),10),ROUND(VLOOKUP($C40&Z$8,'Calc-V'!$A$4:$S$399,$AD$6,FALSE)/BB40,3)*1000)","v":2550},{"$f":"IF($A$4=\"Numbers\",MROUND(VLOOKUP($C40&AA$8,'Calc-V'!$A$4:$S$399,$AD$6,FALSE),10),ROUND(VLOOKUP($C40&AA$8,'Calc-V'!$A$4:$S$399,$AD$6,FALSE)/BC40,3)*1000)","v":3300},{"$f":"IF($A$4=\"Numbers\",MROUND(VLOOKUP($C40&AB$8,'Calc-V'!$A$4:$S$399,$AD$6,FALSE),10),ROUND(VLOOKUP($C40&AB$8,'Calc-V'!$A$4:$S$399,$AD$6,FALSE)/BD40,3)*1000)","v":2970},null,null,null,{"$f":"VLOOKUP($C40&AS$8,'Calc-V'!$A$4:$AA$399,$AS$6,FALSE)","v":169470},{"$f":"VLOOKUP($C40&AT$8,'Calc-V'!$A$4:$AA$399,$AS$6,FALSE)","v":171380},{"$f":"VLOOKUP($C40&AU$8,'Calc-V'!$A$4:$AA$399,$AS$6,FALSE)","v":171380},{"$f":"VLOOKUP($C40&AV$8,'Calc-V'!$A$4:$AA$399,$AS$6,FALSE)","v":173040},{"$f":"VLOOKUP($C40&AW$8,'Calc-V'!$A$4:$AA$399,$AS$6,FALSE)","v":173040},{"$f":"VLOOKUP($C40&AX$8,'Calc-V'!$A$4:$AA$399,$AS$6,FALSE)","v":174090},{"$f":"VLOOKUP($C40&AY$8,'Calc-V'!$A$4:$AA$399,$AS$6,FALSE)","v":174090},{"$f":"VLOOKUP($C40&AZ$8,'Calc-V'!$A$4:$AA$399,$AS$6,FALSE)","v":175300},{"$f":"VLOOKUP($C40&BA$8,'Calc-V'!$A$4:$AA$399,$AS$6,FALSE)","v":175990},{"$f":"VLOOKUP($C40&BB$8,'Calc-V'!$A$4:$AA$399,$AS$6,FALSE)","v":175990},{"$f":"VLOOKUP($C40&BC$8,'Calc-V'!$A$4:$AA$399,$AS$6,FALSE)","v":176140},{"$f":"VLOOKUP($C40&BD$8,'Calc-V'!$A$4:$AA$399,$AS$6,FALSE)","v":177150}]
[null,null,"Scotland",{"$f":"IF($A$4=\"Numbers\",MROUND(VLOOKUP($C41&D$8,'Calc-V'!$A$4:$W$399,$D$6,FALSE),10),ROUND(VLOOKUP($C41&D$8,'Calc-V'!$A$4:$W$399,$D$6,FALSE)/AS41,3)*1000)","v":172730},{"$f":"IF($A$4=\"Numbers\",MROUND(VLOOKUP($C41&E$8,'Calc-V'!$A$4:$W$399,$D$6,FALSE),10),ROUND(VLOOKUP($C41&E$8,'Calc-V'!$A$4:$W$399,$D$6,FALSE)/AT41,3)*1000)","v":174030},{"$f":"IF($A$4=\"Numbers\",MROUND(VLOOKUP($C41&F$8,'Calc-V'!$A$4:$W$399,$D$6,FALSE),10),ROUND(VLOOKUP($C41&F$8,'Calc-V'!$A$4:$W$399,$D$6,FALSE)/AU41,3)*1000)","v":195710},{"$f":"IF($A$4=\"Numbers\",MROUND(VLOOKUP($C41&G$8,'Calc-V'!$A$4:$W$399,$D$6,FALSE),10),ROUND(VLOOKUP($C41&G$8,'Calc-V'!$A$4:$W$399,$D$6,FALSE)/AV41,3)*1000)","v":203570},{"$f":"IF($A$4=\"Numbers\",MROUND(VLOOKUP($C41&H$8,'Calc-V'!$A$4:$W$399,$D$6,FALSE),10),ROUND(VLOOKUP($C41&H$8,'Calc-V'!$A$4:$W$399,$D$6,FALSE)/AW41,3)*1000)","v":209800},{"$f":"IF($A$4=\"Numbers\",MROUND(VLOOKUP($C41&I$8,'Calc-V'!$A$4:$W$399,$D$6,FALSE),10),ROUND(VLOOKUP($C41&I$8,'Calc-V'!$A$4:$W$399,$D$6,FALSE)/AX41,3)*1000)","v":211210},{"$f":"IF($A$4=\"Numbers\",MROUND(VLOOKUP($C41&J$8,'Calc-V'!$A$4:$W$399,$D$6,FALSE),10),ROUND(VLOOKUP($C41&J$8,'Calc-V'!$A$4:$W$399,$D$6,FALSE)/AY41,3)*1000)","v":203730},{"$f":"IF($A$4=\"Numbers\",MROUND(VLOOKUP($C41&K$8,'Calc-V'!$A$4:$W$399,$D$6,FALSE),10),ROUND(VLOOKUP($C41&K$8,'Calc-V'!$A$4:$W$399,$D$6,FALSE)/AZ41,3)*1000)","v":205070},{"$f":"IF($A$4=\"Numbers\",MROUND(VLOOKUP($C41&L$8,'Calc-V'!$A$4:$W$399,$D$6,FALSE),10),ROUND(VLOOKUP($C41&L$8,'Calc-V'!$A$4:$W$399,$D$6,FALSE)/BA41,3)*1000)","v":205800},{"$f":"IF($A$4=\"Numbers\",MROUND(VLOOKUP($C41&M$8,'Calc-V'!$A$4:$W$399,$D$6,FALSE),10),ROUND(VLOOKUP($C41&M$8,'Calc-V'!$A$4:$W$399,$D$6,FALSE)/BB41,3)*1000)","v":205080},{"$f":"IF($A$4=\"Numbers\",MROUND(VLOOKUP($C41&N$8,'Calc-V'!$A$4:$W$399,$D$6,FALSE),10),ROUND(VLOOKUP($C41&N$8,'Calc-V'!$A$4:$W$399,$D$6,FALSE)/BC41,3)*1000)","v":202690},{"$f":"IF($A$4=\"Numbers\",MROUND(VLOOKUP($C41&O$8,'Calc-V'!$A$4:$W$399,$D$6,FALSE),10),ROUND(VLOOKUP($C41&O$8,'Calc-V'!$A$4:$W$399,$D$6,FALSE)/BD41,3)*1000)","v":196060},null,{"$f":"IF($A$4=\"Numbers\",MROUND(VLOOKUP($C41&D$8,'Calc-V'!$A$4:$S$399,$Q$6,FALSE),10),ROUND(VLOOKUP($C41&D$8,'Calc-V'!$A$4:$S$399,$Q$6,FALSE)/AS41,3)*1000)","v":62750},{"$f":"IF($A$4=\"Numbers\",MROUND(VLOOKUP($C41&E$8,'Calc-V'!$A$4:$S$399,$Q$6,FALSE),10),ROUND(VLOOKUP($C41&E$8,'Calc-V'!$A$4:$S$399,$Q$6,FALSE)/AT41,3)*1000)","v":62800},{"$f":"IF($A$4=\"Numbers\",MROUND(VLOOKUP($C41&F$8,'Calc-V'!$A$4:$S$399,$Q$6,FALSE),10),ROUND(VLOOKUP($C41&F$8,'Calc-V'!$A$4:$S$399,$Q$6,FALSE)/AU41,3)*1000)","v":62730},{"$f":"IF($A$4=\"Numbers\",MROUND(VLOOKUP($C41&G$8,'Calc-V'!$A$4:$S$399,$Q$6,FALSE),10),ROUND(VLOOKUP($C41&G$8,'Calc-V'!$A$4:$S$399,$Q$6,FALSE)/AV41,3)*1000)","v":64110},{"$f":"IF($A$4=\"Numbers\",MROUND(VLOOKUP($C41&H$8,'Calc-V'!$A$4:$S$399,$Q$6,FALSE),10),ROUND(VLOOKUP($C41&H$8,'Calc-V'!$A$4:$S$399,$Q$6,FALSE)/AW41,3)*1000)","v":64290},{"$f":"IF($A$4=\"Numbers\",MROUND(VLOOKUP($C41&I$8,'Calc-V'!$A$4:$S$399,$Q$6,FALSE),10),ROUND(VLOOKUP($C41&I$8,'Calc-V'!$A$4:$S$399,$Q$6,FALSE)/AX41,3)*1000)","v":64650},{"$f":"IF($A$4=\"Numbers\",MROUND(VLOOKUP($C41&J$8,'Calc-V'!$A$4:$S$399,$Q$6,FALSE),10),ROUND(VLOOKUP($C41&J$8,'Calc-V'!$A$4:$S$399,$Q$6,FALSE)/AY41,3)*1000)","v":64900},{"$f":"IF($A$4=\"Numbers\",MROUND(VLOOKUP($C41&K$8,'Calc-V'!$A$4:$S$399,$Q$6,FALSE),10),ROUND(VLOOKUP($C41&K$8,'Calc-V'!$A$4:$S$399,$Q$6,FALSE)/AZ41,3)*1000)","v":66570},{"$f":"IF($A$4=\"Numbers\",MROUND(VLOOKUP($C41&L$8,'Calc-V'!$A$4:$S$399,$Q$6,FALSE),10),ROUND(VLOOKUP($C41&L$8,'Calc-V'!$A$4:$S$399,$Q$6,FALSE)/BA41,3)*1000)","v":65880},{"$f":"IF($A$4=\"Numbers\",MROUND(VLOOKUP($C41&M$8,'Calc-V'!$A$4:$S$399,$Q$6,FALSE),10),ROUND(VLOOKUP($C41&M$8,'Calc-V'!$A$4:$S$399,$Q$6,FALSE)/BB41,3)*1000)","v":65760},{"$f":"IF($A$4=\"Numbers\",MROUND(VLOOKUP($C41&N$8,'Calc-V'!$A$4:$S$399,$Q$6,FALSE),10),ROUND(VLOOKUP($C41&N$8,'Calc-V'!$A$4:$S$399,$Q$6,FALSE)/BC41,3)*1000)","v":65030},{"$f":"IF($A$4=\"Numbers\",MROUND(VLOOKUP($C41&O$8,'Calc-V'!$A$4:$S$399,$Q$6,FALSE),10),ROUND(VLOOKUP($C41&O$8,'Calc-V'!$A$4:$S$399,$Q$6,FALSE)/BD41,3)*1000)","v":63080},null,{"$f":"IF($A$4=\"Numbers\",MROUND(VLOOKUP($C41&Q$8,'Calc-V'!$A$4:$S$399,$AD$6,FALSE),10),ROUND(VLOOKUP($C41&Q$8,'Calc-V'!$A$4:$S$399,$AD$6,FALSE)/AS41,3)*1000)","v":109980},{"$f":"IF($A$4=\"Numbers\",MROUND(VLOOKUP($C41&R$8,'Calc-V'!$A$4:$S$399,$AD$6,FALSE),10),ROUND(VLOOKUP($C41&R$8,'Calc-V'!$A$4:$S$399,$AD$6,FALSE)/AT41,3)*1000)","v":111230},{"$f":"IF($A$4=\"Numbers\",MROUND(VLOOKUP($C41&S$8,'Calc-V'!$A$4:$S$399,$AD$6,FALSE),10),ROUND(VLOOKUP($C41&S$8,'Calc-V'!$A$4:$S$399,$AD$6,FALSE)/AU41,3)*1000)","v":132980},{"$f":"IF($A$4=\"Numbers\",MROUND(VLOOKUP($C41&T$8,'Calc-V'!$A$4:$S$399,$AD$6,FALSE),10),ROUND(VLOOKUP($C41&T$8,'Calc-V'!$A$4:$S$399,$AD$6,FALSE)/AV41,3)*1000)","v":139460},{"$f":"IF($A$4=\"Numbers\",MROUND(VLOOKUP($C41&U$8,'Calc-V'!$A$4:$S$399,$AD$6,FALSE),10),ROUND(VLOOKUP($C41&U$8,'Calc-V'!$A$4:$S$399,$AD$6,FALSE)/AW41,3)*1000)","v":145510},{"$f":"IF($A$4=\"Numbers\",MROUND(VLOOKUP($C41&V$8,'Calc-V'!$A$4:$S$399,$AD$6,FALSE),10),ROUND(VLOOKUP($C41&V$8,'Calc-V'!$A$4:$S$399,$AD$6,FALSE)/AX41,3)*1000)","v":146570},{"$f":"IF($A$4=\"Numbers\",MROUND(VLOOKUP($C41&W$8,'Calc-V'!$A$4:$S$399,$AD$6,FALSE),10),ROUND(VLOOKUP($C41&W$8,'Calc-V'!$A$4:$S$399,$AD$6,FALSE)/AY41,3)*1000)","v":138820},{"$f":"IF($A$4=\"Numbers\",MROUND(VLOOKUP($C41&X$8,'Calc-V'!$A$4:$S$399,$AD$6,FALSE),10),ROUND(VLOOKUP($C41&X$8,'Calc-V'!$A$4:$S$399,$AD$6,FALSE)/AZ41,3)*1000)","v":138500},{"$f":"IF($A$4=\"Numbers\",MROUND(VLOOKUP($C41&Y$8,'Calc-V'!$A$4:$S$399,$AD$6,FALSE),10),ROUND(VLOOKUP($C41&Y$8,'Calc-V'!$A$4:$S$399,$AD$6,FALSE)/BA41,3)*1000)","v":139920},{"$f":"IF($A$4=\"Numbers\",MROUND(VLOOKUP($C41&Z$8,'Calc-V'!$A$4:$S$399,$AD$6,FALSE),10),ROUND(VLOOKUP($C41&Z$8,'Calc-V'!$A$4:$S$399,$AD$6,FALSE)/BB41,3)*1000)","v":139320},{"$f":"IF($A$4=\"Numbers\",MROUND(VLOOKUP($C41&AA$8,'Calc-V'!$A$4:$S$399,$AD$6,FALSE),10),ROUND(VLOOKUP($C41&AA$8,'Calc-V'!$A$4:$S$399,$AD$6,FALSE)/BC41,3)*1000)","v":137650},{"$f":"IF($A$4=\"Numbers\",MROUND(VLOOKUP($C41&AB$8,'Calc-V'!$A$4:$S$399,$AD$6,FALSE),10),ROUND(VLOOKUP($C41&AB$8,'Calc-V'!$A$4:$S$399,$AD$6,FALSE)/BD41,3)*1000)","v":132980},null,null,null,{"$f":"VLOOKUP($C41&AS$8,'Calc-V'!$A$4:$AA$399,$AS$6,FALSE)","v":5170000},{"$f":"VLOOKUP($C41&AT$8,'Calc-V'!$A$4:$AA$399,$AS$6,FALSE)","v":5202900},{"$f":"VLOOKUP($C41&AU$8,'Calc-V'!$A$4:$AA$399,$AS$6,FALSE)","v":5202900},{"$f":"VLOOKUP($C41&AV$8,'Calc-V'!$A$4:$AA$399,$AS$6,FALSE)","v":5231900},{"$f":"VLOOKUP($C41&AW$8,'Calc-V'!$A$4:$AA$399,$AS$6,FALSE)","v":5231900},{"$f":"VLOOKUP($C41&AX$8,'Calc-V'!$A$4:$AA$399,$AS$6,FALSE)","v":5262200},{"$f":"VLOOKUP($C41&AY$8,'Calc-V'!$A$4:$AA$399,$AS$6,FALSE)","v":5262200},{"$f":"VLOOKUP($C41&AZ$8,'Calc-V'!$A$4:$AA$399,$AS$6,FALSE)","v":5299900},{"$f":"VLOOKUP($C41&BA$8,'Calc-V'!$A$4:$AA$399,$AS$6,FALSE)","v":5313600},{"$f":"VLOOKUP($C41&BB$8,'Calc-V'!$A$4:$AA$399,$AS$6,FALSE)","v":5313600},{"$f":"VLOOKUP($C41&BC$8,'Calc-V'!$A$4:$AA$399,$AS$6,FALSE)","v":5327700},{"$f":"VLOOKUP($C41&BD$8,'Calc-V'!$A$4:$AA$399,$AS$6,FALSE)","v":5347600}]
[]
[null,null,"Source: Audit Scotland SPI data 2006-2008, Scottish Government 2009-2015"]
[null,null,"All figures rounded to the nearest ten. Total may not add up to the sum of components due to rounding"]
[null,null,"0 - Same methodology used in 2007/08 & 2008/09 making the figures comparable"]
[null,null,"1 - Same methodology used in 2008/09 & 2009/10 making the figures comparable"]
[null,null,"2 - Same methodology used in 2009/10 & 2010/11 making the figures comparable"]
[null,null,"3 - Same methodology used in 2010/11 - 2012/13 making the figures comparable"]
[null,null,"4 - Same methodology used in 2012/13 - 2014/15 making the figures comparable - comparisons should not be made at the Local Authority level in the cases described in the Background Notes."]

{"sheet":"Table3","index":7,"n_rows":49,"n_cols":42,"rows_kept":49,"cut":false,"hidden":false,"merged":[[6,16,6,27],[6,3,6,14]],"read":"row_number_cap"}
[null,{"$f":"\"Respite overnight nights and daytime hours provided to \" & A7 &\", 2007/08 to 2014/15\"","v":"Respite overnight nights and daytime hours provided to All ages, 2007/08 to 2014/15"}]
[]
[{"$f":"IF(A4=\"Numbers\",\"Number \",\"Rates per 1,000 population \")","v":"Number "},null,null,"Select age group",null,null,null,null,"Select data"]
["Numbers"]
["All ages"]
[{"$f":"IF(A5=\"All Ages\",A5,A7)","v":"All ages"},null,null,{"$f":"VLOOKUP($A$5,LKPS!$C$11:$E14,2,FALSE)","v":7},null,null,null,null,null,null,null,null,null,null,null,null,{"$f":"VLOOKUP($A$5,LKPS!$C$11:$E14,3,FALSE)","v":15},null,null,null,null,null,null,null,null,null,null,null,null,null,{"$f":"D6+20","v":27}]
[{"$f":"IF(A5=\"All ages\",A5,(IF(A5=\"0-17\",\"Young people (Aged 0-17)\",IF(A5=\"18-64\",\"Other Adults (Aged 18-64)\",\"Other people (Aged 65+)\"))))","v":"All ages"}," "," ",{"$f":"IF($A$4=\"Numbers\",\"Overnight respite nights provided\",\"Overnight respite nights provided per 1,000 population\")","v":"Overnight respite nights provided"},null,null,null,null,null,null,null,null,null,null,null,null,{"$f":"IF($A$4=\"Numbers\",\"Daytime respite hours provided\",\"Daytime respite hours provided per 1,000 population\")","v":"Daytime respite hours provided"},null,null,null,null,null,null,null,null,null,null,null,null,null,"Pops"]
[null,null,"Local Authority","2007/080","2008/090","2008/091","2009/101","2009/102","2010/112","2010/113","2011/123","2012/133","2012/134","2013/144","2014/154",null,"2007/080","2008/090","2008/091","2009/101","2009/102","2010/112","2010/113","2011/123","2012/133","2012/134","2013/144","2014/154",null,null,"2007/080","2008/090","2008/091","2009/101","2009/102","2010/112","2010/113","2011/123","2012/133","2012/134","2013/144","2014/154"]
[null,null,"Aberdeen City",{"$f":"IF($A$4=\"Numbers\",MROUND(VLOOKUP($C9&D$8,'Calc-V'!$A$4:$S$399,$D$6,FALSE),10),ROUND(VLOOKUP($C9&D$8,'Calc-V'!$A$4:$S$399,$D$6,FALSE)/AE9,3)*1000)","v":15080},{"$f":"IF($A$4=\"Numbers\",MROUND(VLOOKUP($C9&E$8,'Calc-V'!$A$4:$S$399,$D$6,FALSE),10),ROUND(VLOOKUP($C9&E$8,'Calc-V'!$A$4:$S$399,$D$6,FALSE)/AF9,3)*1000)","v":12910},{"$f":"IF($A$4=\"Numbers\",MROUND(VLOOKUP($C9&F$8,'Calc-V'!$A$4:$S$399,$D$6,FALSE),10),ROUND(VLOOKUP($C9&F$8,'Calc-V'!$A$4:$S$399,$D$6,FALSE)/AG9,3)*1000)","v":12910},{"$f":"IF($A$4=\"Numbers\",MROUND(VLOOKUP($C9&G$8,'Calc-V'!$A$4:$S$399,$D$6,FALSE),10),ROUND(VLOOKUP($C9&G$8,'Calc-V'!$A$4:$S$399,$D$6,FALSE)/AH9,3)*1000)","v":11910},{"$f":"IF($A$4=\"Numbers\",MROUND(VLOOKUP($C9&H$8,'Calc-V'!$A$4:$S$399,$D$6,FALSE),10),ROUND(VLOOKUP($C9&H$8,'Calc-V'!$A$4:$S$399,$D$6,FALSE)/AI9,3)*1000)","v":11910},{"$f":"IF($A$4=\"Numbers\",MROUND(VLOOKUP($C9&I$8,'Calc-V'!$A$4:$S$399,$D$6,FALSE),10),ROUND(VLOOKUP($C9&I$8,'Calc-V'!$A$4:$S$399,$D$6,FALSE)/AJ9,3)*1000)","v":10800},{"$f":"IF($A$4=\"Numbers\",MROUND(VLOOKUP($C9&J$8,'Calc-V'!$A$4:$S$399,$D$6,FALSE),10),ROUND(VLOOKUP($C9&J$8,'Calc-V'!$A$4:$S$399,$D$6,FALSE)/AK9,3)*1000)","v":10800},{"$f":"IF($A$4=\"Numbers\",MROUND(VLOOKUP($C9&K$8,'Calc-V'!$A$4:$S$399,$D$6,FALSE),10),ROUND(VLOOKUP($C9&K$8,'Calc-V'!$A$4:$S$399,$D$6,FALSE)/AL9,3)*1000)","v":13620},{"$f":"IF($A$4=\"Numbers\",MROUND(VLOOKUP($C9&L$8,'Calc-V'!$A$4:$S$399,$D$6,FALSE),10),ROUND(VLOOKUP($C9&L$8,'Calc-V'!$A$4:$S$399,$D$6,FALSE)/AM9,3)*1000)","v":14570},{"$f":"IF($A$4=\"Numbers\",MROUND(VLOOKUP($C9&M$8,'Calc-V'!$A$4:$S$399,$D$6,FALSE),10),ROUND(VLOOKUP($C9&M$8,'Calc-V'!$A$4:$S$399,$D$6,FALSE)/AN9,3)*1000)","v":14470},{"$f":"IF($A$4=\"Numbers\",MROUND(VLOOKUP($C9&N$8,'Calc-V'!$A$4:$S$399,$D$6,FALSE),10),ROUND(VLOOKUP($C9&N$8,'Calc-V'!$A$4:$S$399,$D$6,FALSE)/AO9,3)*1000)","v":17240},{"$f":"IF($A$4=\"Numbers\",MROUND(VLOOKUP($C9&O$8,'Calc-V'!$A$4:$S$399,$D$6,FALSE),10),ROUND(VLOOKUP($C9&O$8,'Calc-V'!$A$4:$S$399,$D$6,FALSE)/AP9,3)*1000)","v":19160},null,{"$f":"IF($A$4=\"Numbers\",MROUND(VLOOKUP($C9&Q$8,'Calc-V'!$A$4:$S$399,$Q$6,FALSE),10),ROUND(VLOOKUP($C9&Q$8,'Calc-V'!$A$4:$S$399,$Q$6,FALSE)/AE9,3)*1000)","v":207480},{"$f":"IF($A$4=\"Numbers\",MROUND(VLOOKUP($C9&R$8,'Calc-V'!$A$4:$S$399,$Q$6,FALSE),10),ROUND(VLOOKUP($C9&R$8,'Calc-V'!$A$4:$S$399,$Q$6,FALSE)/AF9,3)*1000)","v":151860},{"$f":"IF($A$4=\"Numbers\",MROUND(VLOOKUP($C9&S$8,'Calc-V'!$A$4:$S$399,$Q$6,FALSE),10),ROUND(VLOOKUP($C9&S$8,'Calc-V'!$A$4:$S$399,$Q$6,FALSE)/AG9,3)*1000)","v":126350},{"$f":"IF($A$4=\"Numbers\",MROUND(VLOOKUP($C9&T$8,'Calc-V'!$A$4:$S$399,$Q$6,FALSE),10),ROUND(VLOOKUP($C9&T$8,'Calc-V'!$A$4:$S$399,$Q$6,FALSE)/AH9,3)*1000)","v":81490},{"$f":"IF($A$4=\"Numbers\",MROUND(VLOOKUP($C9&U$8,'Calc-V'!$A$4:$S$399,$Q$6,FALSE),10),ROUND(VLOOKUP($C9&U$8,'Calc-V'!$A$4:$S$399,$Q$6,FALSE)/AI9,3)*1000)","v":81490},{"$f":"IF($A$4=\"Numbers\",MROUND(VLOOKUP($C9&V$8,'Calc-V'!$A$4:$S$399,$Q$6,FALSE),10),ROUND(VLOOKUP($C9&V$8,'Calc-V'!$A$4:$S$399,$Q$6,FALSE)/AJ9,3)*1000)","v":81390},{"$f":"IF($A$4=\"Numbers\",MROUND(VLOOKUP($C9&W$8,'Calc-V'!$A$4:$S$399,$Q$6,FALSE),10),ROUND(VLOOKUP($C9&W$8,'Calc-V'!$A$4:$S$399,$Q$6,FALSE)/AK9,3)*1000)","v":81390},{"$f":"IF($A$4=\"Numbers\",MROUND(VLOOKUP($C9&X$8,'Calc-V'!$A$4:$S$399,$Q$6,FALSE),10),ROUND(VLOOKUP($C9&X$8,'Calc-V'!$A$4:$S$399,$Q$6,FALSE)/AL9,3)*1000)","v":85280},{"$f":"IF($A$4=\"Numbers\",MROUND(VLOOKUP($C9&Y$8,'Calc-V'!$A$4:$S$399,$Q$6,FALSE),10),ROUND(VLOOKUP($C9&Y$8,'Calc-V'!$A$4:$S$399,$Q$6,FALSE)/AM9,3)*1000)","v":77550},{"$f":"IF($A$4=\"Numbers\",MROUND(VLOOKUP($C9&Z$8,'Calc-V'!$A$4:$S$399,$Q$6,FALSE),10),ROUND(VLOOKUP($C9&Z$8,'Calc-V'!$A$4:$S$399,$Q$6,FALSE)/AN9,3)*1000)","v":74120},{"$f":"IF($A$4=\"Numbers\",MROUND(VLOOKUP($C9&AA$8,'Calc-V'!$A$4:$S$399,$Q$6,FALSE),10),ROUND(VLOOKUP($C9&AA$8,'Calc-V'!$A$4:$S$399,$Q$6,FALSE)/AO9,3)*1000)","v":63390},{"$f":"IF($A$4=\"Numbers\",MROUND(VLOOKUP($C9&AB$8,'Calc-V'!$A$4:$S$399,$Q$6,FALSE),10),ROUND(VLOOKUP($C9&AB$8,'Calc-V'!$A$4:$S$399,$Q$6,FALSE)/AP9,3)*1000)","v":62530},null,null,{"$f":"VLOOKUP($C9&AE$8,'Calc-V'!$A$4:$AA$399,$AE$6,FALSE)","v":212460},{"$f":"VLOOKUP($C9&AF$8,'Calc-V'!$A$4:$AA$399,$AE$6,FALSE)","v":214020},{"$f":"VLOOKUP($C9&AG$8,'Calc-V'!$A$4:$AA$399,$AE$6,FALSE)","v":214020},{"$f":"VLOOKUP($C9&AH$8,'Calc-V'!$A$4:$AA$399,$AE$6,FALSE)","v":217020},{"$f":"VLOOKUP($C9&AI$8,'Calc-V'!$A$4:$AA$399,$AE$6,FALSE)","v":217020},{"$f":"VLOOKUP($C9&AJ$8,'Calc-V'!$A$4:$AA$399,$AE$6,FALSE)","v":219730},{"$f":"VLOOKUP($C9&AK$8,'Calc-V'!$A$4:$AA$399,$AE$6,FALSE)","v":219730},{"$f":"VLOOKUP($C9&AL$8,'Calc-V'!$A$4:$AA$399,$AE$6,FALSE)","v":222460},{"$f":"VLOOKUP($C9&AM$8,'Calc-V'!$A$4:$AA$399,$AE$6,FALSE)","v":224970},{"$f":"VLOOKUP($C9&AN$8,'Calc-V'!$A$4:$AA$399,$AE$6,FALSE)","v":224970},{"$f":"VLOOKUP($C9&AO$8,'Calc-V'!$A$4:$AA$399,$AE$6,FALSE)","v":227130},{"$f":"VLOOKUP($C9&AP$8,'Calc-V'!$A$4:$AA$399,$AE$6,FALSE)","v":228990}]
[null,null,"Aberdeenshire",{"$f":"IF($A$4=\"Numbers\",MROUND(VLOOKUP($C10&D$8,'Calc-V'!$A$4:$S$399,$D$6,FALSE),10),ROUND(VLOOKUP($C10&D$8,'Calc-V'!$A$4:$S$399,$D$6,FALSE)/AE10,3)*1000)","v":20730},{"$f":"IF($A$4=\"Numbers\",MROUND(VLOOKUP($C10&E$8,'Calc-V'!$A$4:$S$399,$D$6,FALSE),10),ROUND(VLOOKUP($C10&E$8,'Calc-V'!$A$4:$S$399,$D$6,FALSE)/AF10,3)*1000)","v":22200},{"$f":"IF($A$4=\"Numbers\",MROUND(VLOOKUP($C10&F$8,'Calc-V'!$A$4:$S$399,$D$6,FALSE),10),ROUND(VLOOKUP($C10&F$8,'Calc-V'!$A$4:$S$399,$D$6,FALSE)/AG10,3)*1000)","v":22200},{"$f":"IF($A$4=\"Numbers\",MROUND(VLOOKUP($C10&G$8,'Calc-V'!$A$4:$S$399,$D$6,FALSE),10),ROUND(VLOOKUP($C10&G$8,'Calc-V'!$A$4:$S$399,$D$6,FALSE)/AH10,3)*1000)","v":21800},{"$f":"IF($A$4=\"Numbers\",MROUND(VLOOKUP($C10&H$8,'Calc-V'!$A$4:$S$399,$D$6,FALSE),10),ROUND(VLOOKUP($C10&H$8,'Calc-V'!$A$4:$S$399,$D$6,FALSE)/AI10,3)*1000)","v":21800},{"$f":"IF($A$4=\"Numbers\",MROUND(VLOOKUP($C10&I$8,'Calc-V'!$A$4:$S$399,$D$6,FALSE),10),ROUND(VLOOKUP($C10&I$8,'Calc-V'!$A$4:$S$399,$D$6,FALSE)/AJ10,3)*1000)","v":23830},{"$f":"IF($A$4=\"Numbers\",MROUND(VLOOKUP($C10&J$8,'Calc-V'!$A$4:$S$399,$D$6,FALSE),10),ROUND(VLOOKUP($C10&J$8,'Calc-V'!$A$4:$S$399,$D$6,FALSE)/AK10,3)*1000)","v":25620},{"$f":"IF($A$4=\"Numbers\",MROUND(VLOOKUP($C10&K$8,'Calc-V'!$A$4:$S$399,$D$6,FALSE),10),ROUND(VLOOKUP($C10&K$8,'Calc-V'!$A$4:$S$399,$D$6,FALSE)/AL10,3)*1000)","v":27980},{"$f":"IF($A$4=\"Numbers\",MROUND(VLOOKUP($C10&L$8,'Calc-V'!$A$4:$S$399,$D$6,FALSE),10),ROUND(VLOOKUP($C10&L$8,'Calc-V'!$A$4:$S$399,$D$6,FALSE)/AM10,3)*1000)","v":29920},{"$f":"IF($A$4=\"Numbers\",MROUND(VLOOKUP($C10&M$8,'Calc-V'!$A$4:$S$399,$D$6,FALSE),10),ROUND(VLOOKUP($C10&M$8,'Calc-V'!$A$4:$S$399,$D$6,FALSE)/AN10,3)*1000)","v":27110},{"$f":"IF($A$4=\"Numbers\",MROUND(VLOOKUP($C10&N$8,'Calc-V'!$A$4:$S$399,$D$6,FALSE),10),ROUND(VLOOKUP($C10&N$8,'Calc-V'!$A$4:$S$399,$D$6,FALSE)/AO10,3)*1000)","v":29620},{"$f":"IF($A$4=\"Numbers\",MROUND(VLOOKUP($C10&O$8,'Calc-V'!$A$4:$S$399,$D$6,FALSE),10),ROUND(VLOOKUP($C10&O$8,'Calc-V'!$A$4:$S$399,$D$6,FALSE)/AP10,3)*1000)","v":26640},null,{"$f":"IF($A$4=\"Numbers\",MROUND(VLOOKUP($C10&Q$8,'Calc-V'!$A$4:$S$399,$Q$6,FALSE),10),ROUND(VLOOKUP($C10&Q$8,'Calc-V'!$A$4:$S$399,$Q$6,FALSE)/AE10,3)*1000)","v":137370},{"$f":"IF($A$4=\"Numbers\",MROUND(VLOOKUP($C10&R$8,'Calc-V'!$A$4:$S$399,$Q$6,FALSE),10),ROUND(VLOOKUP($C10&R$8,'Calc-V'!$A$4:$S$399,$Q$6,FALSE)/AF10,3)*1000)","v":128240},{"$f":"IF($A$4=\"Numbers\",MROUND(VLOOKUP($C10&S$8,'Calc-V'!$A$4:$S$399,$Q$6,FALSE),10),ROUND(VLOOKUP($C10&S$8,'Calc-V'!$A$4:$S$399,$Q$6,FALSE)/AG10,3)*1000)","v":148640},{"$f":"IF($A$4=\"Numbers\",MROUND(VLOOKUP($C10&T$8,'Calc-V'!$A$4:$S$399,$Q$6,FALSE),10),ROUND(VLOOKUP($C10&T$8,'Calc-V'!$A$4:$S$399,$Q$6,FALSE)/AH10,3)*1000)","v":214560},{"$f":"IF($A$4=\"Numbers\",MROUND(VLOOKUP($C10&U$8,'Calc-V'!$A$4:$S$399,$Q$6,FALSE),10),ROUND(VLOOKUP($C10&U$8,'Calc-V'!$A$4:$S$399,$Q$6,FALSE)/AI10,3)*1000)","v":214560},{"$f":"IF($A$4=\"Numbers\",MROUND(VLOOKUP($C10&V$8,'Calc-V'!$A$4:$S$399,$Q$6,FALSE),10),ROUND(VLOOKUP($C10&V$8,'Calc-V'!$A$4:$S$399,$Q$6,FALSE)/AJ10,3)*1000)","v":173420},{"$f":"IF($A$4=\"Numbers\",MROUND(VLOOKUP($C10&W$8,'Calc-V'!$A$4:$S$399,$Q$6,FALSE),10),ROUND(VLOOKUP($C10&W$8,'Calc-V'!$A$4:$S$399,$Q$6,FALSE)/AK10,3)*1000)","v":212670},{"$f":"IF($A$4=\"Numbers\",MROUND(VLOOKUP($C10&X$8,'Calc-V'!$A$4:$S$399,$Q$6,FALSE),10),ROUND(VLOOKUP($C10&X$8,'Calc-V'!$A$4:$S$399,$Q$6,FALSE)/AL10,3)*1000)","v":202740},{"$f":"IF($A$4=\"Numbers\",MROUND(VLOOKUP($C10&Y$8,'Calc-V'!$A$4:$S$399,$Q$6,FALSE),10),ROUND(VLOOKUP($C10&Y$8,'Calc-V'!$A$4:$S$399,$Q$6,FALSE)/AM10,3)*1000)","v":211810},{"$f":"IF($A$4=\"Numbers\",MROUND(VLOOKUP($C10&Z$8,'Calc-V'!$A$4:$S$399,$Q$6,FALSE),10),ROUND(VLOOKUP($C10&Z$8,'Calc-V'!$A$4:$S$399,$Q$6,FALSE)/AN10,3)*1000)","v":135110},{"$f":"IF($A$4=\"Numbers\",MROUND(VLOOKUP($C10&AA$8,'Calc-V'!$A$4:$S$399,$Q$6,FALSE),10),ROUND(VLOOKUP($C10&AA$8,'Calc-V'!$A$4:$S$399,$Q$6,FALSE)/AO10,3)*1000)","v":139210},{"$f":"IF($A$4=\"Numbers\",MROUND(VLOOKUP($C10&AB$8,'Calc-V'!$A$4:$S$399,$Q$6,FALSE),10),ROUND(VLOOKUP($C10&AB$8,'Calc-V'!$A$4:$S$399,$Q$6,FALSE)/AP10,3)*1000)","v":124520},null,null,{"$f":"VLOOKUP($C10&AE$8,'Calc-V'!$A$4:$AA$399,$AE$6,FALSE)","v":244390},{"$f":"VLOOKUP($C10&AF$8,'Calc-V'!$A$4:$AA$399,$AE$6,FALSE)","v":246840},{"$f":"VLOOKUP($C10&AG$8,'Calc-V'!$A$4:$AA$399,$AE$6,FALSE)","v":246840},{"$f":"VLOOKUP($C10&AH$8,'Calc-V'!$A$4:$AA$399,$AE$6,FALSE)","v":249020},{"$f":"VLOOKUP($C10&AI$8,'Calc-V'!$A$4:$AA$399,$AE$6,FALSE)","v":249020},{"$f":"VLOOKUP($C10&AJ$8,'Calc-V'!$A$4:$AA$399,$AE$6,FALSE)","v":251430},{"$f":"VLOOKUP($C10&AK$8,'Calc-V'!$A$4:$AA$399,$AE$6,FALSE)","v":251430},{"$f":"VLOOKUP($C10&AL$8,'Calc-V'!$A$4:$AA$399,$AE$6,FALSE)","v":253650},{"$f":"VLOOKUP($C10&AM$8,'Calc-V'!$A$4:$AA$399,$AE$6,FALSE)","v":255540},{"$f":"VLOOKUP($C10&AN$8,'Calc-V'!$A$4:$AA$399,$AE$6,FALSE)","v":255540},{"$f":"VLOOKUP($C10&AO$8,'Calc-V'!$A$4:$AA$399,$AE$6,FALSE)","v":257740},{"$f":"VLOOKUP($C10&AP$8,'Calc-V'!$A$4:$AA$399,$AE$6,FALSE)","v":260500}]
[null,null,"Angus",{"$f":"IF($A$4=\"Numbers\",MROUND(VLOOKUP($C11&D$8,'Calc-V'!$A$4:$S$399,$D$6,FALSE),10),ROUND(VLOOKUP($C11&D$8,'Calc-V'!$A$4:$S$399,$D$6,FALSE)/AE11,3)*1000)","v":8310},{"$f":"IF($A$4=\"Numbers\",MROUND(VLOOKUP($C11&E$8,'Calc-V'!$A$4:$S$399,$D$6,FALSE),10),ROUND(VLOOKUP($C11&E$8,'Calc-V'!$A$4:$S$399,$D$6,FALSE)/AF11,3)*1000)","v":9220},{"$f":"IF($A$4=\"Numbers\",MROUND(VLOOKUP($C11&F$8,'Calc-V'!$A$4:$S$399,$D$6,FALSE),10),ROUND(VLOOKUP($C11&F$8,'Calc-V'!$A$4:$S$399,$D$6,FALSE)/AG11,3)*1000)","v":11040},{"$f":"IF($A$4=\"Numbers\",MROUND(VLOOKUP($C11&G$8,'Calc-V'!$A$4:$S$399,$D$6,FALSE),10),ROUND(VLOOKUP($C11&G$8,'Calc-V'!$A$4:$S$399,$D$6,FALSE)/AH11,3)*1000)","v":11390},{"$f":"IF($A$4=\"Numbers\",MROUND(VLOOKUP($C11&H$8,'Calc-V'!$A$4:$S$399,$D$6,FALSE),10),ROUND(VLOOKUP($C11&H$8,'Calc-V'!$A$4:$S$399,$D$6,FALSE)/AI11,3)*1000)","v":11390},{"$f":"IF($A$4=\"Numbers\",MROUND(VLOOKUP($C11&I$8,'Calc-V'!$A$4:$S$399,$D$6,FALSE),10),ROUND(VLOOKUP($C11&I$8,'Calc-V'!$A$4:$S$399,$D$6,FALSE)/AJ11,3)*1000)","v":9690},{"$f":"IF($A$4=\"Numbers\",MROUND(VLOOKUP($C11&J$8,'Calc-V'!$A$4:$S$399,$D$6,FALSE),10),ROUND(VLOOKUP($C11&J$8,'Calc-V'!$A$4:$S$399,$D$6,FALSE)/AK11,3)*1000)","v":9690},{"$f":"IF($A$4=\"Numbers\",MROUND(VLOOKUP($C11&K$8,'Calc-V'!$A$4:$S$399,$D$6,FALSE),10),ROUND(VLOOKUP($C11&K$8,'Calc-V'!$A$4:$S$399,$D$6,FALSE)/AL11,3)*1000)","v":10530},{"$f":"IF($A$4=\"Numbers\",MROUND(VLOOKUP($C11&L$8,'Calc-V'!$A$4:$S$399,$D$6,FALSE),10),ROUND(VLOOKUP($C11&L$8,'Calc-V'!$A$4:$S$399,$D$6,FALSE)/AM11,3)*1000)","v":8710},{"$f":"IF($A$4=\"Numbers\",MROUND(VLOOKUP($C11&M$8,'Calc-V'!$A$4:$S$399,$D$6,FALSE),10),ROUND(VLOOKUP($C11&M$8,'Calc-V'!$A$4:$S$399,$D$6,FALSE)/AN11,3)*1000)","v":8710},{"$f":"IF($A$4=\"Numbers\",MROUND(VLOOKUP($C11&N$8,'Calc-V'!$A$4:$S$399,$D$6,FALSE),10),ROUND(VLOOKUP($C11&N$8,'Calc-V'!$A$4:$S$399,$D$6,FALSE)/AO11,3)*1000)","v":14220},{"$f":"IF($A$4=\"Numbers\",MROUND(VLOOKUP($C11&O$8,'Calc-V'!$A$4:$S$399,$D$6,FALSE),10),ROUND(VLOOKUP($C11&O$8,'Calc-V'!$A$4:$S$399,$D$6,FALSE)/AP11,3)*1000)","v":12000},null,{"$f":"IF($A$4=\"Numbers\",MROUND(VLOOKUP($C11&Q$8,'Calc-V'!$A$4:$S$399,$Q$6,FALSE),10),ROUND(VLOOKUP($C11&Q$8,'Calc-V'!$A$4:$S$399,$Q$6,FALSE)/AE11,3)*1000)","v":39370},{"$f":"IF($A$4=\"Numbers\",MROUND(VLOOKUP($C11&R$8,'Calc-V'!$A$4:$S$399,$Q$6,FALSE),10),ROUND(VLOOKUP($C11&R$8,'Calc-V'!$A$4:$S$399,$Q$6,FALSE)/AF11,3)*1000)","v":41560},{"$f":"IF($A$4=\"Numbers\",MROUND(VLOOKUP($C11&S$8,'Calc-V'!$A$4:$S$399,$Q$6,FALSE),10),ROUND(VLOOKUP($C11&S$8,'Calc-V'!$A$4:$S$399,$Q$6,FALSE)/AG11,3)*1000)","v":96200},{"$f":"IF($A$4=\"Numbers\",MROUND(VLOOKUP($C11&T$8,'Calc-V'!$A$4:$S$399,$Q$6,FALSE),10),ROUND(VLOOKUP($C11&T$8,'Calc-V'!$A$4:$S$399,$Q$6,FALSE)/AH11,3)*1000)","v":115650},{"$f":"IF($A$4=\"Numbers\",MROUND(VLOOKUP($C11&U$8,'Calc-V'!$A$4:$S$399,$Q$6,FALSE),10),ROUND(VLOOKUP($C11&U$8,'Calc-V'!$A$4:$S$399,$Q$6,FALSE)/AI11,3)*1000)","v":114610},{"$f":"IF($A$4=\"Numbers\",MROUND(VLOOKUP($C11&V$8,'Calc-V'!$A$4:$S$399,$Q$6,FALSE),10),ROUND(VLOOKUP($C11&V$8,'Calc-V'!$A$4:$S$399,$Q$6,FALSE)/AJ11,3)*1000)","v":127100},{"$f":"IF($A$4=\"Numbers\",MROUND(VLOOKUP($C11&W$8,'Calc-V'!$A$4:$S$399,$Q$6,FALSE),10),ROUND(VLOOKUP($C11&W$8,'Calc-V'!$A$4:$S$399,$Q$6,FALSE)/AK11,3)*1000)","v":127100},{"$f":"IF($A$4=\"Numbers\",MROUND(VLOOKUP($C11&X$8,'Calc-V'!$A$4:$S$399,$Q$6,FALSE),10),ROUND(VLOOKUP($C11&X$8,'Calc-V'!$A$4:$S$399,$Q$6,FALSE)/AL11,3)*1000)","v":148750},{"$f":"IF($A$4=\"Numbers\",MROUND(VLOOKUP($C11&Y$8,'Calc-V'!$A$4:$S$399,$Q$6,FALSE),10),ROUND(VLOOKUP($C11&Y$8,'Calc-V'!$A$4:$S$399,$Q$6,FALSE)/AM11,3)*1000)","v":145350},{"$f":"IF($A$4=\"Numbers\",MROUND(VLOOKUP($C11&Z$8,'Calc-V'!$A$4:$S$399,$Q$6,FALSE),10),ROUND(VLOOKUP($C11&Z$8,'Calc-V'!$A$4:$S$399,$Q$6,FALSE)/AN11,3)*1000)","v":145350},{"$f":"IF($A$4=\"Numbers\",MROUND(VLOOKUP($C11&AA$8,'Calc-V'!$A$4:$S$399,$Q$6,FALSE),10),ROUND(VLOOKUP($C11&AA$8,'Calc-V'!$A$4:$S$399,$Q$6,FALSE)/AO11,3)*1000)","v":115240},{"$f":"IF($A$4=\"Numbers\",MROUND(VLOOKUP($C11&AB$8,'Calc-V'!$A$4:$S$399,$Q$6,FALSE),10),ROUND(VLOOKUP($C11&AB$8,'Calc-V'!$A$4:$S$399,$Q$6,FALSE)/AP11,3)*1000)","v":103240},null,null,{"$f":"VLOOKUP($C11&AE$8,'Calc-V'!$A$4:$AA$399,$AE$6,FALSE)","v":113540},{"$f":"VLOOKUP($C11&AF$8,'Calc-V'!$A$4:$AA$399,$AE$6,FALSE)","v":114490},{"$f":"VLOOKUP($C11&AG$8,'Calc-V'!$A$4:$AA$399,$AE$6,FALSE)","v":114490},{"$f":"VLOOKUP($C11&AH$8,'Calc-V'!$A$4:$AA$399,$AE$6,FALSE)","v":114830},{"$f":"VLOOKUP($C11&AI$8,'Calc-V'!$A$4:$AA$399,$AE$6,FALSE)","v":114830},{"$f":"VLOOKUP($C11&AJ$8,'Calc-V'!$A$4:$AA$399,$AE$6,FALSE)","v":115410},{"$f":"VLOOKUP($C11&AK$8,'Calc-V'!$A$4:$AA$399,$AE$6,FALSE)","v":115410},{"$f":"VLOOKUP($C11&AL$8,'Calc-V'!$A$4:$AA$399,$AE$6,FALSE)","v":116200},{"$f":"VLOOKUP($C11&AM$8,'Calc-V'!$A$4:$AA$399,$AE$6,FALSE)","v":116210},{"$f":"VLOOKUP($C11&AN$8,'Calc-V'!$A$4:$AA$399,$AE$6,FALSE)","v":116210},{"$f":"VLOOKUP($C11&AO$8,'Calc-V'!$A$4:$AA$399,$AE$6,FALSE)","v":116240},{"$f":"VLOOKUP($C11&AP$8,'Calc-V'!$A$4:$AA$399,$AE$6,FALSE)","v":116660}]
[null,null,"Argyll & Bute",{"$f":"IF($A$4=\"Numbers\",MROUND(VLOOKUP($C12&D$8,'Calc-V'!$A$4:$S$399,$D$6,FALSE),10),ROUND(VLOOKUP($C12&D$8,'Calc-V'!$A$4:$S$399,$D$6,FALSE)/AE12,3)*1000)","v":7640},{"$f":"IF($A$4=\"Numbers\",MROUND(VLOOKUP($C12&E$8,'Calc-V'!$A$4:$S$399,$D$6,FALSE),10),ROUND(VLOOKUP($C12&E$8,'Calc-V'!$A$4:$S$399,$D$6,FALSE)/AF12,3)*1000)","v":6400},{"$f":"IF($A$4=\"Numbers\",MROUND(VLOOKUP($C12&F$8,'Calc-V'!$A$4:$S$399,$D$6,FALSE),10),ROUND(VLOOKUP($C12&F$8,'Calc-V'!$A$4:$S$399,$D$6,FALSE)/AG12,3)*1000)","v":6400},{"$f":"IF($A$4=\"Numbers\",MROUND(VLOOKUP($C12&G$8,'Calc-V'!$A$4:$S$399,$D$6,FALSE),10),ROUND(VLOOKUP($C12&G$8,'Calc-V'!$A$4:$S$399,$D$6,FALSE)/AH12,3)*1000)","v":7640},{"$f":"IF($A$4=\"Numbers\",MROUND(VLOOKUP($C12&H$8,'Calc-V'!$A$4:$S$399,$D$6,FALSE),10),ROUND(VLOOKUP($C12&H$8,'Calc-V'!$A$4:$S$399,$D$6,FALSE)/AI12,3)*1000)","v":7640},{"$f":"IF($A$4=\"Numbers\",MROUND(VLOOKUP($C12&I$8,'Calc-V'!$A$4:$S$399,$D$6,FALSE),10),ROUND(VLOOKUP($C12&I$8,'Calc-V'!$A$4:$S$399,$D$6,FALSE)/AJ12,3)*1000)","v":5870},{"$f":"IF($A$4=\"Numbers\",MROUND(VLOOKUP($C12&J$8,'Calc-V'!$A$4:$S$399,$D$6,FALSE),10),ROUND(VLOOKUP($C12&J$8,'Calc-V'!$A$4:$S$399,$D$6,FALSE)/AK12,3)*1000)","v":5870},{"$f":"IF($A$4=\"Numbers\",MROUND(VLOOKUP($C12&K$8,'Calc-V'!$A$4:$S$399,$D$6,FALSE),10),ROUND(VLOOKUP($C12&K$8,'Calc-V'!$A$4:$S$399,$D$6,FALSE)/AL12,3)*1000)","v":6050},{"$f":"IF($A$4=\"Numbers\",MROUND(VLOOKUP($C12&L$8,'Calc-V'!$A$4:$S$399,$D$6,FALSE),10),ROUND(VLOOKUP($C12&L$8,'Calc-V'!$A$4:$S$399,$D$6,FALSE)/AM12,3)*1000)","v":4970},{"$f":"IF($A$4=\"Numbers\",MROUND(VLOOKUP($C12&M$8,'Calc-V'!$A$4:$S$399,$D$6,FALSE),10),ROUND(VLOOKUP($C12&M$8,'Calc-V'!$A$4:$S$399,$D$6,FALSE)/AN12,3)*1000)","v":4970},{"$f":"IF($A$4=\"Numbers\",MROUND(VLOOKUP($C12&N$8,'Calc-V'!$A$4:$S$399,$D$6,FALSE),10),ROUND(VLOOKUP($C12&N$8,'Calc-V'!$A$4:$S$399,$D$6,FALSE)/AO12,3)*1000)","v":4360},{"$f":"IF($A$4=\"Numbers\",MROUND(VLOOKUP($C12&O$8,'Calc-V'!$A$4:$S$399,$D$6,FALSE),10),ROUND(VLOOKUP($C12&O$8,'Calc-V'!$A$4:$S$399,$D$6,FALSE)/AP12,3)*1000)","v":3570},null,{"$f":"IF($A$4=\"Numbers\",MROUND(VLOOKUP($C12&Q$8,'Calc-V'!$A$4:$S$399,$Q$6,FALSE),10),ROUND(VLOOKUP($C12&Q$8,'Calc-V'!$A$4:$S$399,$Q$6,FALSE)/AE12,3)*1000)","v":130720},{"$f":"IF($A$4=\"Numbers\",MROUND(VLOOKUP($C12&R$8,'Calc-V'!$A$4:$S$399,$Q$6,FALSE),10),ROUND(VLOOKUP($C12&R$8,'Calc-V'!$A$4:$S$399,$Q$6,FALSE)/AF12,3)*1000)","v":142070},{"$f":"IF($A$4=\"Numbers\",MROUND(VLOOKUP($C12&S$8,'Calc-V'!$A$4:$S$399,$Q$6,FALSE),10),ROUND(VLOOKUP($C12&S$8,'Calc-V'!$A$4:$S$399,$Q$6,FALSE)/AG12,3)*1000)","v":142070},{"$f":"IF($A$4=\"Numbers\",MROUND(VLOOKUP($C12&T$8,'Calc-V'!$A$4:$S$399,$Q$6,FALSE),10),ROUND(VLOOKUP($C12&T$8,'Calc-V'!$A$4:$S$399,$Q$6,FALSE)/AH12,3)*1000)","v":184480},{"$f":"IF($A$4=\"Numbers\",MROUND(VLOOKUP($C12&U$8,'Calc-V'!$A$4:$S$399,$Q$6,FALSE),10),ROUND(VLOOKUP($C12&U$8,'Calc-V'!$A$4:$S$399,$Q$6,FALSE)/AI12,3)*1000)","v":184480},{"$f":"IF($A$4=\"Numbers\",MROUND(VLOOKUP($C12&V$8,'Calc-V'!$A$4:$S$399,$Q$6,FALSE),10),ROUND(VLOOKUP($C12&V$8,'Calc-V'!$A$4:$S$399,$Q$6,FALSE)/AJ12,3)*1000)","v":190020},{"$f":"IF($A$4=\"Numbers\",MROUND(VLOOKUP($C12&W$8,'Calc-V'!$A$4:$S$399,$Q$6,FALSE),10),ROUND(VLOOKUP($C12&W$8,'Calc-V'!$A$4:$S$399,$Q$6,FALSE)/AK12,3)*1000)","v":190020},{"$f":"IF($A$4=\"Numbers\",MROUND(VLOOKUP($C12&X$8,'Calc-V'!$A$4:$S$399,$Q$6,FALSE),10),ROUND(VLOOKUP($C12&X$8,'Calc-V'!$A$4:$S$399,$Q$6,FALSE)/AL12,3)*1000)","v":157140},{"$f":"IF($A$4=\"Numbers\",MROUND(VLOOKUP($C12&Y$8,'Calc-V'!$A$4:$S$399,$Q$6,FALSE),10),ROUND(VLOOKUP($C12&Y$8,'Calc-V'!$A$4:$S$399,$Q$6,FALSE)/AM12,3)*1000)","v":137230},{"$f":"IF($A$4=\"Numbers\",MROUND(VLOOKUP($C12&Z$8,'Calc-V'!$A$4:$S$399,$Q$6,FALSE),10),ROUND(VLOOKUP($C12&Z$8,'Calc-V'!$A$4:$S$399,$Q$6,FALSE)/AN12,3)*1000)","v":137230},{"$f":"IF($A$4=\"Numbers\",MROUND(VLOOKUP($C12&AA$8,'Calc-V'!$A$4:$S$399,$Q$6,FALSE),10),ROUND(VLOOKUP($C12&AA$8,'Calc-V'!$A$4:$S$399,$Q$6,FALSE)/AO12,3)*1000)","v":111170},{"$f":"IF($A$4=\"Numbers\",MROUND(VLOOKUP($C12&AB$8,'Calc-V'!$A$4:$S$399,$Q$6,FALSE),10),ROUND(VLOOKUP($C12&AB$8,'Calc-V'!$A$4:$S$399,$Q$6,FALSE)/AP12,3)*1000)","v":84670},null,null,{"$f":"VLOOKUP($C12&AE$8,'Calc-V'!$A$4:$AA$399,$AE$6,FALSE)","v":90790},{"$f":"VLOOKUP($C12&AF$8,'Calc-V'!$A$4:$AA$399,$AE$6,FALSE)","v":89910},{"$f":"VLOOKUP($C12&AG$8,'Calc-V'!$A$4:$AA$399,$AE$6,FALSE)","v":89910},{"$f":"VLOOKUP($C12&AH$8,'Calc-V'!$A$4:$AA$399,$AE$6,FALSE)","v":89450},{"$f":"VLOOKUP($C12&AI$8,'Calc-V'!$A$4:$AA$399,$AE$6,FALSE)","v":89450},{"$f":"VLOOKUP($C12&AJ$8,'Calc-V'!$A$4:$AA$399,$AE$6,FALSE)","v":88620},{"$f":"VLOOKUP($C12&AK$8,'Calc-V'!$A$4:$AA$399,$AE$6,FALSE)","v":88620},{"$f":"VLOOKUP($C12&AL$8,'Calc-V'!$A$4:$AA$399,$AE$6,FALSE)","v":88930},{"$f":"VLOOKUP($C12&AM$8,'Calc-V'!$A$4:$AA$399,$AE$6,FALSE)","v":86900},{"$f":"VLOOKUP($C12&AN$8,'Calc-V'!$A$4:$AA$399,$AE$6,FALSE)","v":86900},{"$f":"VLOOKUP($C12&AO$8,'Calc-V'!$A$4:$AA$399,$AE$6,FALSE)","v":88050},{"$f":"VLOOKUP($C12&AP$8,'Calc-V'!$A$4:$AA$399,$AE$6,FALSE)","v":87660}]
[null,null,"Clackmannanshire",{"$f":"IF($A$4=\"Numbers\",MROUND(VLOOKUP($C13&D$8,'Calc-V'!$A$4:$S$399,$D$6,FALSE),10),ROUND(VLOOKUP($C13&D$8,'Calc-V'!$A$4:$S$399,$D$6,FALSE)/AE13,3)*1000)","v":5420},{"$f":"IF($A$4=\"Numbers\",MROUND(VLOOKUP($C13&E$8,'Calc-V'!$A$4:$S$399,$D$6,FALSE),10),ROUND(VLOOKUP($C13&E$8,'Calc-V'!$A$4:$S$399,$D$6,FALSE)/AF13,3)*1000)","v":5860},{"$f":"IF($A$4=\"Numbers\",MROUND(VLOOKUP($C13&F$8,'Calc-V'!$A$4:$S$399,$D$6,FALSE),10),ROUND(VLOOKUP($C13&F$8,'Calc-V'!$A$4:$S$399,$D$6,FALSE)/AG13,3)*1000)","v":5860},{"$f":"IF($A$4=\"Numbers\",MROUND(VLOOKUP($C13&G$8,'Calc-V'!$A$4:$S$399,$D$6,FALSE),10),ROUND(VLOOKUP($C13&G$8,'Calc-V'!$A$4:$S$399,$D$6,FALSE)/AH13,3)*1000)","v":5750},{"$f":"IF($A$4=\"Numbers\",MROUND(VLOOKUP($C13&H$8,'Calc-V'!$A$4:$S$399,$D$6,FALSE),10),ROUND(VLOOKUP($C13&H$8,'Calc-V'!$A$4:$S$399,$D$6,FALSE)/AI13,3)*1000)","v":5750},{"$f":"IF($A$4=\"Numbers\",MROUND(VLOOKUP($C13&I$8,'Calc-V'!$A$4:$S$399,$D$6,FALSE),10),ROUND(VLOOKUP($C13&I$8,'Calc-V'!$A$4:$S$399,$D$6,FALSE)/AJ13,3)*1000)","v":5550},{"$f":"IF($A$4=\"Numbers\",MROUND(VLOOKUP($C13&J$8,'Calc-V'!$A$4:$S$399,$D$6,FALSE),10),ROUND(VLOOKUP($C13&J$8,'Calc-V'!$A$4:$S$399,$D$6,FALSE)/AK13,3)*1000)","v":5550},{"$f":"IF($A$4=\"Numbers\",MROUND(VLOOKUP($C13&K$8,'Calc-V'!$A$4:$S$399,$D$6,FALSE),10),ROUND(VLOOKUP($C13&K$8,'Calc-V'!$A$4:$S$399,$D$6,FALSE)/AL13,3)*1000)","v":5620},{"$f":"IF($A$4=\"Numbers\",MROUND(VLOOKUP($C13&L$8,'Calc-V'!$A$4:$S$399,$D$6,FALSE),10),ROUND(VLOOKUP($C13&L$8,'Calc-V'!$A$4:$S$399,$D$6,FALSE)/AM13,3)*1000)","v":5020},{"$f":"IF($A$4=\"Numbers\",MROUND(VLOOKUP($C13&M$8,'Calc-V'!$A$4:$S$399,$D$6,FALSE),10),ROUND(VLOOKUP($C13&M$8,'Calc-V'!$A$4:$S$399,$D$6,FALSE)/AN13,3)*1000)","v":5020},{"$f":"IF($A$4=\"Numbers\",MROUND(VLOOKUP($C13&N$8,'Calc-V'!$A$4:$S$399,$D$6,FALSE),10),ROUND(VLOOKUP($C13&N$8,'Calc-V'!$A$4:$S$399,$D$6,FALSE)/AO13,3)*1000)","v":5100},{"$f":"IF($A$4=\"Numbers\",MROUND(VLOOKUP($C13&O$8,'Calc-V'!$A$4:$S$399,$D$6,FALSE),10),ROUND(VLOOKUP($C13&O$8,'Calc-V'!$A$4:$S$399,$D$6,FALSE)/AP13,3)*1000)","v":5320},null,{"$f":"IF($A$4=\"Numbers\",MROUND(VLOOKUP($C13&Q$8,'Calc-V'!$A$4:$S$399,$Q$6,FALSE),10),ROUND(VLOOKUP($C13&Q$8,'Calc-V'!$A$4:$S$399,$Q$6,FALSE)/AE13,3)*1000)","v":133300},{"$f":"IF($A$4=\"Numbers\",MROUND(VLOOKUP($C13&R$8,'Calc-V'!$A$4:$S$399,$Q$6,FALSE),10),ROUND(VLOOKUP($C13&R$8,'Calc-V'!$A$4:$S$399,$Q$6,FALSE)/AF13,3)*1000)","v":129230},{"$f":"IF($A$4=\"Numbers\",MROUND(VLOOKUP($C13&S$8,'Calc-V'!$A$4:$S$399,$Q$6,FALSE),10),ROUND(VLOOKUP($C13&S$8,'Calc-V'!$A$4:$S$399,$Q$6,FALSE)/AG13,3)*1000)","v":129230},{"$f":"IF($A$4=\"Numbers\",MROUND(VLOOKUP($C13&T$8,'Calc-V'!$A$4:$S$399,$Q$6,FALSE),10),ROUND(VLOOKUP($C13&T$8,'Calc-V'!$A$4:$S$399,$Q$6,FALSE)/AH13,3)*1000)","v":127270},{"$f":"IF($A$4=\"Numbers\",MROUND(VLOOKUP($C13&U$8,'Calc-V'!$A$4:$S$399,$Q$6,FALSE),10),ROUND(VLOOKUP($C13&U$8,'Calc-V'!$A$4:$S$399,$Q$6,FALSE)/AI13,3)*1000)","v":127270},{"$f":"IF($A$4=\"Numbers\",MROUND(VLOOKUP($C13&V$8,'Calc-V'!$A$4:$S$399,$Q$6,FALSE),10),ROUND(VLOOKUP($C13&V$8,'Calc-V'!$A$4:$S$399,$Q$6,FALSE)/AJ13,3)*1000)","v":119350},{"$f":"IF($A$4=\"Numbers\",MROUND(VLOOKUP($C13&W$8,'Calc-V'!$A$4:$S$399,$Q$6,FALSE),10),ROUND(VLOOKUP($C13&W$8,'Calc-V'!$A$4:$S$399,$Q$6,FALSE)/AK13,3)*1000)","v":119350},{"$f":"IF($A$4=\"Numbers\",MROUND(VLOOKUP($C13&X$8,'Calc-V'!$A$4:$S$399,$Q$6,FALSE),10),ROUND(VLOOKUP($C13&X$8,'Calc-V'!$A$4:$S$399,$Q$6,FALSE)/AL13,3)*1000)","v":115370},{"$f":"IF($A$4=\"Numbers\",MROUND(VLOOKUP($C13&Y$8,'Calc-V'!$A$4:$S$399,$Q$6,FALSE),10),ROUND(VLOOKUP($C13&Y$8,'Calc-V'!$A$4:$S$399,$Q$6,FALSE)/AM13,3)*1000)","v":113030},{"$f":"IF($A$4=\"Numbers\",MROUND(VLOOKUP($C13&Z$8,'Calc-V'!$A$4:$S$399,$Q$6,FALSE),10),ROUND(VLOOKUP($C13&Z$8,'Calc-V'!$A$4:$S$399,$Q$6,FALSE)/AN13,3)*1000)","v":113030},{"$f":"IF($A$4=\"Numbers\",MROUND(VLOOKUP($C13&AA$8,'Calc-V'!$A$4:$S$399,$Q$6,FALSE),10),ROUND(VLOOKUP($C13&AA$8,'Calc-V'!$A$4:$S$399,$Q$6,FALSE)/AO13,3)*1000)","v":116300},{"$f":"IF($A$4=\"Numbers\",MROUND(VLOOKUP($C13&AB$8,'Calc-V'!$A$4:$S$399,$Q$6,FALSE),10),ROUND(VLOOKUP($C13&AB$8,'Calc-V'!$A$4:$S$399,$Q$6,FALSE)/AP13,3)*1000)","v":99630},null,null,{"$f":"VLOOKUP($C13&AE$8,'Calc-V'!$A$4:$AA$399,$AE$6,FALSE)","v":50600},{"$f":"VLOOKUP($C13&AF$8,'Calc-V'!$A$4:$AA$399,$AE$6,FALSE)","v":51190},{"$f":"VLOOKUP($C13&AG$8,'Calc-V'!$A$4:$AA$399,$AE$6,FALSE)","v":51190},{"$f":"VLOOKUP($C13&AH$8,'Calc-V'!$A$4:$AA$399,$AE$6,FALSE)","v":51290},{"$f":"VLOOKUP($C13&AI$8,'Calc-V'!$A$4:$AA$399,$AE$6,FALSE)","v":51290},{"$f":"VLOOKUP($C13&AJ$8,'Calc-V'!$A$4:$AA$399,$AE$6,FALSE)","v":51330},{"$f":"VLOOKUP($C13&AK$8,'Calc-V'!$A$4:$AA$399,$AE$6,FALSE)","v":51330},{"$f":"VLOOKUP($C13&AL$8,'Calc-V'!$A$4:$AA$399,$AE$6,FALSE)","v":51500},{"$f":"VLOOKUP($C13&AM$8,'Calc-V'!$A$4:$AA$399,$AE$6,FALSE)","v":51280},{"$f":"VLOOKUP($C13&AN$8,'Calc-V'!$A$4:$AA$399,$AE$6,FALSE)","v":51280},{"$f":"VLOOKUP($C13&AO$8,'Calc-V'!$A$4:$AA$399,$AE$6,FALSE)","v":51280},{"$f":"VLOOKUP($C13&AP$8,'Calc-V'!$A$4:$AA$399,$AE$6,FALSE)","v":51190}]
[null,null,"Dumfries & Galloway",{"$f":"IF($A$4=\"Numbers\",MROUND(VLOOKUP($C14&D$8,'Calc-V'!$A$4:$S$399,$D$6,FALSE),10),ROUND(VLOOKUP($C14&D$8,'Calc-V'!$A$4:$S$399,$D$6,FALSE)/AE14,3)*1000)","v":9330},{"$f":"IF($A$4=\"Numbers\",MROUND(VLOOKUP($C14&E$8,'Calc-V'!$A$4:$S$399,$D$6,FALSE),10),ROUND(VLOOKUP($C14&E$8,'Calc-V'!$A$4:$S$399,$D$6,FALSE)/AF14,3)*1000)","v":8550},{"$f":"IF($A$4=\"Numbers\",MROUND(VLOOKUP($C14&F$8,'Calc-V'!$A$4:$S$399,$D$6,FALSE),10),ROUND(VLOOKUP($C14&F$8,'Calc-V'!$A$4:$S$399,$D$6,FALSE)/AG14,3)*1000)","v":8550},{"$f":"IF($A$4=\"Numbers\",MROUND(VLOOKUP($C14&G$8,'Calc-V'!$A$4:$S$399,$D$6,FALSE),10),ROUND(VLOOKUP($C14&G$8,'Calc-V'!$A$4:$S$399,$D$6,FALSE)/AH14,3)*1000)","v":8480},{"$f":"IF($A$4=\"Numbers\",MROUND(VLOOKUP($C14&H$8,'Calc-V'!$A$4:$S$399,$D$6,FALSE),10),ROUND(VLOOKUP($C14&H$8,'Calc-V'!$A$4:$S$399,$D$6,FALSE)/AI14,3)*1000)","v":11440},{"$f":"IF($A$4=\"Numbers\",MROUND(VLOOKUP($C14&I$8,'Calc-V'!$A$4:$S$399,$D$6,FALSE),10),ROUND(VLOOKUP($C14&I$8,'Calc-V'!$A$4:$S$399,$D$6,FALSE)/AJ14,3)*1000)","v":13140},{"$f":"IF($A$4=\"Numbers\",MROUND(VLOOKUP($C14&J$8,'Calc-V'!$A$4:$S$399,$D$6,FALSE),10),ROUND(VLOOKUP($C14&J$8,'Calc-V'!$A$4:$S$399,$D$6,FALSE)/AK14,3)*1000)","v":13140},{"$f":"IF($A$4=\"Numbers\",MROUND(VLOOKUP($C14&K$8,'Calc-V'!$A$4:$S$399,$D$6,FALSE),10),ROUND(VLOOKUP($C14&K$8,'Calc-V'!$A$4:$S$399,$D$6,FALSE)/AL14,3)*1000)","v":13810},{"$f":"IF($A$4=\"Numbers\",MROUND(VLOOKUP($C14&L$8,'Calc-V'!$A$4:$S$399,$D$6,FALSE),10),ROUND(VLOOKUP($C14&L$8,'Calc-V'!$A$4:$S$399,$D$6,FALSE)/AM14,3)*1000)","v":13600},{"$f":"IF($A$4=\"Numbers\",MROUND(VLOOKUP($C14&M$8,'Calc-V'!$A$4:$S$399,$D$6,FALSE),10),ROUND(VLOOKUP($C14&M$8,'Calc-V'!$A$4:$S$399,$D$6,FALSE)/AN14,3)*1000)","v":13600},{"$f":"IF($A$4=\"Numbers\",MROUND(VLOOKUP($C14&N$8,'Calc-V'!$A$4:$S$399,$D$6,FALSE),10),ROUND(VLOOKUP($C14&N$8,'Calc-V'!$A$4:$S$399,$D$6,FALSE)/AO14,3)*1000)","v":14030},{"$f":"IF($A$4=\"Numbers\",MROUND(VLOOKUP($C14&O$8,'Calc-V'!$A$4:$S$399,$D$6,FALSE),10),ROUND(VLOOKUP($C14&O$8,'Calc-V'!$A$4:$S$399,$D$6,FALSE)/AP14,3)*1000)","v":13940},null,{"$f":"IF($A$4=\"Numbers\",MROUND(VLOOKUP($C14&Q$8,'Calc-V'!$A$4:$S$399,$Q$6,FALSE),10),ROUND(VLOOKUP($C14&Q$8,'Calc-V'!$A$4:$S$399,$Q$6,FALSE)/AE14,3)*1000)","v":51890},{"$f":"IF($A$4=\"Numbers\",MROUND(VLOOKUP($C14&R$8,'Calc-V'!$A$4:$S$399,$Q$6,FALSE),10),ROUND(VLOOKUP($C14&R$8,'Calc-V'!$A$4:$S$399,$Q$6,FALSE)/AF14,3)*1000)","v":40060},{"$f":"IF($A$4=\"Numbers\",MROUND(VLOOKUP($C14&S$8,'Calc-V'!$A$4:$S$399,$Q$6,FALSE),10),ROUND(VLOOKUP($C14&S$8,'Calc-V'!$A$4:$S$399,$Q$6,FALSE)/AG14,3)*1000)","v":40060},{"$f":"IF($A$4=\"Numbers\",MROUND(VLOOKUP($C14&T$8,'Calc-V'!$A$4:$S$399,$Q$6,FALSE),10),ROUND(VLOOKUP($C14&T$8,'Calc-V'!$A$4:$S$399,$Q$6,FALSE)/AH14,3)*1000)","v":40160},{"$f":"IF($A$4=\"Numbers\",MROUND(VLOOKUP($C14&U$8,'Calc-V'!$A$4:$S$399,$Q$6,FALSE),10),ROUND(VLOOKUP($C14&U$8,'Calc-V'!$A$4:$S$399,$Q$6,FALSE)/AI14,3)*1000)","v":40160},{"$f":"IF($A$4=\"Numbers\",MROUND(VLOOKUP($C14&V$8,'Calc-V'!$A$4:$S$399,$Q$6,FALSE),10),ROUND(VLOOKUP($C14&V$8,'Calc-V'!$A$4:$S$399,$Q$6,FALSE)/AJ14,3)*1000)","v":44880},{"$f":"IF($A$4=\"Numbers\",MROUND(VLOOKUP($C14&W$8,'Calc-V'!$A$4:$S$399,$Q$6,FALSE),10),ROUND(VLOOKUP($C14&W$8,'Calc-V'!$A$4:$S$399,$Q$6,FALSE)/AK14,3)*1000)","v":44880},{"$f":"IF($A$4=\"Numbers\",MROUND(VLOOKUP($C14&X$8,'Calc-V'!$A$4:$S$399,$Q$6,FALSE),10),ROUND(VLOOKUP($C14&X$8,'Calc-V'!$A$4:$S$399,$Q$6,FALSE)/AL14,3)*1000)","v":48640},{"$f":"IF($A$4=\"Numbers\",MROUND(VLOOKUP($C14&Y$8,'Calc-V'!$A$4:$S$399,$Q$6,FALSE),10),ROUND(VLOOKUP($C14&Y$8,'Calc-V'!$A$4:$S$399,$Q$6,FALSE)/AM14,3)*1000)","v":57860},{"$f":"IF($A$4=\"Numbers\",MROUND(VLOOKUP($C14&Z$8,'Calc-V'!$A$4:$S$399,$Q$6,FALSE),10),ROUND(VLOOKUP($C14&Z$8,'Calc-V'!$A$4:$S$399,$Q$6,FALSE)/AN14,3)*1000)","v":57860},{"$f":"IF($A$4=\"Numbers\",MROUND(VLOOKUP($C14&AA$8,'Calc-V'!$A$4:$S$399,$Q$6,FALSE),10),ROUND(VLOOKUP($C14&AA$8,'Calc-V'!$A$4:$S$399,$Q$6,FALSE)/AO14,3)*1000)","v":60790},{"$f":"IF($A$4=\"Numbers\",MROUND(VLOOKUP($C14&AB$8,'Calc-V'!$A$4:$S$399,$Q$6,FALSE),10),ROUND(VLOOKUP($C14&AB$8,'Calc-V'!$A$4:$S$399,$Q$6,FALSE)/AP14,3)*1000)","v":60310},null,null,{"$f":"VLOOKUP($C14&AE$8,'Calc-V'!$A$4:$AA$399,$AE$6,FALSE)","v":150370},{"$f":"VLOOKUP($C14&AF$8,'Calc-V'!$A$4:$AA$399,$AE$6,FALSE)","v":151010},{"$f":"VLOOKUP($C14&AG$8,'Calc-V'!$A$4:$AA$399,$AE$6,FALSE)","v":151010},{"$f":"VLOOKUP($C14&AH$8,'Calc-V'!$A$4:$AA$399,$AE$6,FALSE)","v":151160},{"$f":"VLOOKUP($C14&AI$8,'Calc-V'!$A$4:$AA$399,$AE$6,FALSE)","v":151160},{"$f":"VLOOKUP($C14&AJ$8,'Calc-V'!$A$4:$AA$399,$AE$6,FALSE)","v":151100},{"$f":"VLOOKUP($C14&AK$8,'Calc-V'!$A$4:$AA$399,$AE$6,FALSE)","v":151100},{"$f":"VLOOKUP($C14&AL$8,'Calc-V'!$A$4:$AA$399,$AE$6,FALSE)","v":151410},{"$f":"VLOOKUP($C14&AM$8,'Calc-V'!$A$4:$AA$399,$AE$6,FALSE)","v":150830},{"$f":"VLOOKUP($C14&AN$8,'Calc-V'!$A$4:$AA$399,$AE$6,FALSE)","v":150830},{"$f":"VLOOKUP($C14&AO$8,'Calc-V'!$A$4:$AA$399,$AE$6,FALSE)","v":150270},{"$f":"VLOOKUP($C14&AP$8,'Calc-V'!$A$4:$AA$399,$AE$6,FALSE)","v":149940}]
[null,null,"Dundee City",{"$f":"IF($A$4=\"Numbers\",MROUND(VLOOKUP($C15&D$8,'Calc-V'!$A$4:$S$399,$D$6,FALSE),10),ROUND(VLOOKUP($C15&D$8,'Calc-V'!$A$4:$S$399,$D$6,FALSE)/AE15,3)*1000)","v":14160},{"$f":"IF($A$4=\"Numbers\",MROUND(VLOOKUP($C15&E$8,'Calc-V'!$A$4:$S$399,$D$6,FALSE),10),ROUND(VLOOKUP($C15&E$8,'Calc-V'!$A$4:$S$399,$D$6,FALSE)/AF15,3)*1000)","v":15140},{"$f":"IF($A$4=\"Numbers\",MROUND(VLOOKUP($C15&F$8,'Calc-V'!$A$4:$S$399,$D$6,FALSE),10),ROUND(VLOOKUP($C15&F$8,'Calc-V'!$A$4:$S$399,$D$6,FALSE)/AG15,3)*1000)","v":15140},{"$f":"IF($A$4=\"Numbers\",MROUND(VLOOKUP($C15&G$8,'Calc-V'!$A$4:$S$399,$D$6,FALSE),10),ROUND(VLOOKUP($C15&G$8,'Calc-V'!$A$4:$S$399,$D$6,FALSE)/AH15,3)*1000)","v":16370},{"$f":"IF($A$4=\"Numbers\",MROUND(VLOOKUP($C15&H$8,'Calc-V'!$A$4:$S$399,$D$6,FALSE),10),ROUND(VLOOKUP($C15&H$8,'Calc-V'!$A$4:$S$399,$D$6,FALSE)/AI15,3)*1000)","v":16370},{"$f":"IF($A$4=\"Numbers\",MROUND(VLOOKUP($C15&I$8,'Calc-V'!$A$4:$S$399,$D$6,FALSE),10),ROUND(VLOOKUP($C15&I$8,'Calc-V'!$A$4:$S$399,$D$6,FALSE)/AJ15,3)*1000)","v":19690},{"$f":"IF($A$4=\"Numbers\",MROUND(VLOOKUP($C15&J$8,'Calc-V'!$A$4:$S$399,$D$6,FALSE),10),ROUND(VLOOKUP($C15&J$8,'Calc-V'!$A$4:$S$399,$D$6,FALSE)/AK15,3)*1000)","v":19690},{"$f":"IF($A$4=\"Numbers\",MROUND(VLOOKUP($C15&K$8,'Calc-V'!$A$4:$S$399,$D$6,FALSE),10),ROUND(VLOOKUP($C15&K$8,'Calc-V'!$A$4:$S$399,$D$6,FALSE)/AL15,3)*1000)","v":16220},{"$f":"IF($A$4=\"Numbers\",MROUND(VLOOKUP($C15&L$8,'Calc-V'!$A$4:$S$399,$D$6,FALSE),10),ROUND(VLOOKUP($C15&L$8,'Calc-V'!$A$4:$S$399,$D$6,FALSE)/AM15,3)*1000)","v":18920},{"$f":"IF($A$4=\"Numbers\",MROUND(VLOOKUP($C15&M$8,'Calc-V'!$A$4:$S$399,$D$6,FALSE),10),ROUND(VLOOKUP($C15&M$8,'Calc-V'!$A$4:$S$399,$D$6,FALSE)/AN15,3)*1000)","v":18920},{"$f":"IF($A$4=\"Numbers\",MROUND(VLOOKUP($C15&N$8,'Calc-V'!$A$4:$S$399,$D$6,FALSE),10),ROUND(VLOOKUP($C15&N$8,'Calc-V'!$A$4:$S$399,$D$6,FALSE)/AO15,3)*1000)","v":19010},{"$f":"IF($A$4=\"Numbers\",MROUND(VLOOKUP($C15&O$8,'Calc-V'!$A$4:$S$399,$D$6,FALSE),10),ROUND(VLOOKUP($C15&O$8,'Calc-V'!$A$4:$S$399,$D$6,FALSE)/AP15,3)*1000)","v":17940},null,{"$f":"IF($A$4=\"Numbers\",MROUND(VLOOKUP($C15&Q$8,'Calc-V'!$A$4:$S$399,$Q$6,FALSE),10),ROUND(VLOOKUP($C15&Q$8,'Calc-V'!$A$4:$S$399,$Q$6,FALSE)/AE15,3)*1000)","v":176030},{"$f":"IF($A$4=\"Numbers\",MROUND(VLOOKUP($C15&R$8,'Calc-V'!$A$4:$S$399,$Q$6,FALSE),10),ROUND(VLOOKUP($C15&R$8,'Calc-V'!$A$4:$S$399,$Q$6,FALSE)/AF15,3)*1000)","v":172600},{"$f":"IF($A$4=\"Numbers\",MROUND(VLOOKUP($C15&S$8,'Calc-V'!$A$4:$S$399,$Q$6,FALSE),10),ROUND(VLOOKUP($C15&S$8,'Calc-V'!$A$4:$S$399,$Q$6,FALSE)/AG15,3)*1000)","v":214160},{"$f":"IF($A$4=\"Numbers\",MROUND(VLOOKUP($C15&T$8,'Calc-V'!$A$4:$S$399,$Q$6,FALSE),10),ROUND(VLOOKUP($C15&T$8,'Calc-V'!$A$4:$S$399,$Q$6,FALSE)/AH15,3)*1000)","v":246280},{"$f":"IF($A$4=\"Numbers\",MROUND(VLOOKUP($C15&U$8,'Calc-V'!$A$4:$S$399,$Q$6,FALSE),10),ROUND(VLOOKUP($C15&U$8,'Calc-V'!$A$4:$S$399,$Q$6,FALSE)/AI15,3)*1000)","v":261620},{"$f":"IF($A$4=\"Numbers\",MROUND(VLOOKUP($C15&V$8,'Calc-V'!$A$4:$S$399,$Q$6,FALSE),10),ROUND(VLOOKUP($C15&V$8,'Calc-V'!$A$4:$S$399,$Q$6,FALSE)/AJ15,3)*1000)","v":272200},{"$f":"IF($A$4=\"Numbers\",MROUND(VLOOKUP($C15&W$8,'Calc-V'!$A$4:$S$399,$Q$6,FALSE),10),ROUND(VLOOKUP($C15&W$8,'Calc-V'!$A$4:$S$399,$Q$6,FALSE)/AK15,3)*1000)","v":272200},{"$f":"IF($A$4=\"Numbers\",MROUND(VLOOKUP($C15&X$8,'Calc-V'!$A$4:$S$399,$Q$6,FALSE),10),ROUND(VLOOKUP($C15&X$8,'Calc-V'!$A$4:$S$399,$Q$6,FALSE)/AL15,3)*1000)","v":281270},{"$f":"IF($A$4=\"Numbers\",MROUND(VLOOKUP($C15&Y$8,'Calc-V'!$A$4:$S$399,$Q$6,FALSE),10),ROUND(VLOOKUP($C15&Y$8,'Calc-V'!$A$4:$S$399,$Q$6,FALSE)/AM15,3)*1000)","v":278790},{"$f":"IF($A$4=\"Numbers\",MROUND(VLOOKUP($C15&Z$8,'Calc-V'!$A$4:$S$399,$Q$6,FALSE),10),ROUND(VLOOKUP($C15&Z$8,'Calc-V'!$A$4:$S$399,$Q$6,FALSE)/AN15,3)*1000)","v":278790},{"$f":"IF($A$4=\"Numbers\",MROUND(VLOOKUP($C15&AA$8,'Calc-V'!$A$4:$S$399,$Q$6,FALSE),10),ROUND(VLOOKUP($C15&AA$8,'Calc-V'!$A$4:$S$399,$Q$6,FALSE)/AO15,3)*1000)","v":281950},{"$f":"IF($A$4=\"Numbers\",MROUND(VLOOKUP($C15&AB$8,'Calc-V'!$A$4:$S$399,$Q$6,FALSE),10),ROUND(VLOOKUP($C15&AB$8,'Calc-V'!$A$4:$S$399,$Q$6,FALSE)/AP15,3)*1000)","v":332480},null,null,{"$f":"VLOOKUP($C15&AE$8,'Calc-V'!$A$4:$AA$399,$AE$6,FALSE)","v":143700},{"$f":"VLOOKUP($C15&AF$8,'Calc-V'!$A$4:$AA$399,$AE$6,FALSE)","v":144290},{"$f":"VLOOKUP($C15&AG$8,'Calc-V'!$A$4:$AA$399,$AE$6,FALSE)","v":144290},{"$f":"VLOOKUP($C15&AH$8,'Calc-V'!$A$4:$AA$399,$AE$6,FALSE)","v":145170},{"$f":"VLOOKUP($C15&AI$8,'Calc-V'!$A$4:$AA$399,$AE$6,FALSE)","v":145170},{"$f":"VLOOKUP($C15&AJ$8,'Calc-V'!$A$4:$AA$399,$AE$6,FALSE)","v":146060},{"$f":"VLOOKUP($C15&AK$8,'Calc-V'!$A$4:$AA$399,$AE$6,FALSE)","v":146060},{"$f":"VLOOKUP($C15&AL$8,'Calc-V'!$A$4:$AA$399,$AE$6,FALSE)","v":147200},{"$f":"VLOOKUP($C15&AM$8,'Calc-V'!$A$4:$AA$399,$AE$6,FALSE)","v":147800},{"$f":"VLOOKUP($C15&AN$8,'Calc-V'!$A$4:$AA$399,$AE$6,FALSE)","v":147800},{"$f":"VLOOKUP($C15&AO$8,'Calc-V'!$A$4:$AA$399,$AE$6,FALSE)","v":148170},{"$f":"VLOOKUP($C15&AP$8,'Calc-V'!$A$4:$AA$399,$AE$6,FALSE)","v":148260}]
[null,null,"East Ayrshire",{"$f":"IF($A$4=\"Numbers\",MROUND(VLOOKUP($C16&D$8,'Calc-V'!$A$4:$S$399,$D$6,FALSE),10),ROUND(VLOOKUP($C16&D$8,'Calc-V'!$A$4:$S$399,$D$6,FALSE)/AE16,3)*1000)","v":12890},{"$f":"IF($A$4=\"Numbers\",MROUND(VLOOKUP($C16&E$8,'Calc-V'!$A$4:$S$399,$D$6,FALSE),10),ROUND(VLOOKUP($C16&E$8,'Calc-V'!$A$4:$S$399,$D$6,FALSE)/AF16,3)*1000)","v":12450},{"$f":"IF($A$4=\"Numbers\",MROUND(VLOOKUP($C16&F$8,'Calc-V'!$A$4:$S$399,$D$6,FALSE),10),ROUND(VLOOKUP($C16&F$8,'Calc-V'!$A$4:$S$399,$D$6,FALSE)/AG16,3)*1000)","v":12450},{"$f":"IF($A$4=\"Numbers\",MROUND(VLOOKUP($C16&G$8,'Calc-V'!$A$4:$S$399,$D$6,FALSE),10),ROUND(VLOOKUP($C16&G$8,'Calc-V'!$A$4:$S$399,$D$6,FALSE)/AH16,3)*1000)","v":12650},{"$f":"IF($A$4=\"Numbers\",MROUND(VLOOKUP($C16&H$8,'Calc-V'!$A$4:$S$399,$D$6,FALSE),10),ROUND(VLOOKUP($C16&H$8,'Calc-V'!$A$4:$S$399,$D$6,FALSE)/AI16,3)*1000)","v":12650},{"$f":"IF($A$4=\"Numbers\",MROUND(VLOOKUP($C16&I$8,'Calc-V'!$A$4:$S$399,$D$6,FALSE),10),ROUND(VLOOKUP($C16&I$8,'Calc-V'!$A$4:$S$399,$D$6,FALSE)/AJ16,3)*1000)","v":12620},{"$f":"IF($A$4=\"Numbers\",MROUND(VLOOKUP($C16&J$8,'Calc-V'!$A$4:$S$399,$D$6,FALSE),10),ROUND(VLOOKUP($C16&J$8,'Calc-V'!$A$4:$S$399,$D$6,FALSE)/AK16,3)*1000)","v":12620},{"$f":"IF($A$4=\"Numbers\",MROUND(VLOOKUP($C16&K$8,'Calc-V'!$A$4:$S$399,$D$6,FALSE),10),ROUND(VLOOKUP($C16&K$8,'Calc-V'!$A$4:$S$399,$D$6,FALSE)/AL16,3)*1000)","v":13470},{"$f":"IF($A$4=\"Numbers\",MROUND(VLOOKUP($C16&L$8,'Calc-V'!$A$4:$S$399,$D$6,FALSE),10),ROUND(VLOOKUP($C16&L$8,'Calc-V'!$A$4:$S$399,$D$6,FALSE)/AM16,3)*1000)","v":12330},{"$f":"IF($A$4=\"Numbers\",MROUND(VLOOKUP($C16&M$8,'Calc-V'!$A$4:$S$399,$D$6,FALSE),10),ROUND(VLOOKUP($C16&M$8,'Calc-V'!$A$4:$S$399,$D$6,FALSE)/AN16,3)*1000)","v":12330},{"$f":"IF($A$4=\"Numbers\",MROUND(VLOOKUP($C16&N$8,'Calc-V'!$A$4:$S$399,$D$6,FALSE),10),ROUND(VLOOKUP($C16&N$8,'Calc-V'!$A$4:$S$399,$D$6,FALSE)/AO16,3)*1000)","v":11930},{"$f":"IF($A$4=\"Numbers\",MROUND(VLOOKUP($C16&O$8,'Calc-V'!$A$4:$S$399,$D$6,FALSE),10),ROUND(VLOOKUP($C16&O$8,'Calc-V'!$A$4:$S$399,$D$6,FALSE)/AP16,3)*1000)","v":11450},null,{"$f":"IF($A$4=\"Numbers\",MROUND(VLOOKUP($C16&Q$8,'Calc-V'!$A$4:$S$399,$Q$6,FALSE),10),ROUND(VLOOKUP($C16&Q$8,'Calc-V'!$A$4:$S$399,$Q$6,FALSE)/AE16,3)*1000)","v":110340},{"$f":"IF($A$4=\"Numbers\",MROUND(VLOOKUP($C16&R$8,'Calc-V'!$A$4:$S$399,$Q$6,FALSE),10),ROUND(VLOOKUP($C16&R$8,'Calc-V'!$A$4:$S$399,$Q$6,FALSE)/AF16,3)*1000)","v":122400},{"$f":"IF($A$4=\"Numbers\",MROUND(VLOOKUP($C16&S$8,'Calc-V'!$A$4:$S$399,$Q$6,FALSE),10),ROUND(VLOOKUP($C16&S$8,'Calc-V'!$A$4:$S$399,$Q$6,FALSE)/AG16,3)*1000)","v":231730},{"$f":"IF($A$4=\"Numbers\",MROUND(VLOOKUP($C16&T$8,'Calc-V'!$A$4:$S$399,$Q$6,FALSE),10),ROUND(VLOOKUP($C16&T$8,'Calc-V'!$A$4:$S$399,$Q$6,FALSE)/AH16,3)*1000)","v":248360},{"$f":"IF($A$4=\"Numbers\",MROUND(VLOOKUP($C16&U$8,'Calc-V'!$A$4:$S$399,$Q$6,FALSE),10),ROUND(VLOOKUP($C16&U$8,'Calc-V'!$A$4:$S$399,$Q$6,FALSE)/AI16,3)*1000)","v":248360},{"$f":"IF($A$4=\"Numbers\",MROUND(VLOOKUP($C16&V$8,'Calc-V'!$A$4:$S$399,$Q$6,FALSE),10),ROUND(VLOOKUP($C16&V$8,'Calc-V'!$A$4:$S$399,$Q$6,FALSE)/AJ16,3)*1000)","v":250890},{"$f":"IF($A$4=\"Numbers\",MROUND(VLOOKUP($C16&W$8,'Calc-V'!$A$4:$S$399,$Q$6,FALSE),10),ROUND(VLOOKUP($C16&W$8,'Calc-V'!$A$4:$S$399,$Q$6,FALSE)/AK16,3)*1000)","v":250890},{"$f":"IF($A$4=\"Numbers\",MROUND(VLOOKUP($C16&X$8,'Calc-V'!$A$4:$S$399,$Q$6,FALSE),10),ROUND(VLOOKUP($C16&X$8,'Calc-V'!$A$4:$S$399,$Q$6,FALSE)/AL16,3)*1000)","v":256120},{"$f":"IF($A$4=\"Numbers\",MROUND(VLOOKUP($C16&Y$8,'Calc-V'!$A$4:$S$399,$Q$6,FALSE),10),ROUND(VLOOKUP($C16&Y$8,'Calc-V'!$A$4:$S$399,$Q$6,FALSE)/AM16,3)*1000)","v":260270},{"$f":"IF($A$4=\"Numbers\",MROUND(VLOOKUP($C16&Z$8,'Calc-V'!$A$4:$S$399,$Q$6,FALSE),10),ROUND(VLOOKUP($C16&Z$8,'Calc-V'!$A$4:$S$399,$Q$6,FALSE)/AN16,3)*1000)","v":260270},{"$f":"IF($A$4=\"Numbers\",MROUND(VLOOKUP($C16&AA$8,'Calc-V'!$A$4:$S$399,$Q$6,FALSE),10),ROUND(VLOOKUP($C16&AA$8,'Calc-V'!$A$4:$S$399,$Q$6,FALSE)/AO16,3)*1000)","v":293450},{"$f":"IF($A$4=\"Numbers\",MROUND(VLOOKUP($C16&AB$8,'Calc-V'!$A$4:$S$399,$Q$6,FALSE),10),ROUND(VLOOKUP($C16&AB$8,'Calc-V'!$A$4:$S$399,$Q$6,FALSE)/AP16,3)*1000)","v":236790},null,null,{"$f":"VLOOKUP($C16&AE$8,'Calc-V'!$A$4:$AA$399,$AE$6,FALSE)","v":120950},{"$f":"VLOOKUP($C16&AF$8,'Calc-V'!$A$4:$AA$399,$AE$6,FALSE)","v":121590},{"$f":"VLOOKUP($C16&AG$8,'Calc-V'!$A$4:$AA$399,$AE$6,FALSE)","v":121590},{"$f":"VLOOKUP($C16&AH$8,'Calc-V'!$A$4:$AA$399,$AE$6,FALSE)","v":122110},{"$f":"VLOOKUP($C16&AI$8,'Calc-V'!$A$4:$AA$399,$AE$6,FALSE)","v":122110},{"$f":"VLOOKUP($C16&AJ$8,'Calc-V'!$A$4:$AA$399,$AE$6,FALSE)","v":122410},{"$f":"VLOOKUP($C16&AK$8,'Calc-V'!$A$4:$AA$399,$AE$6,FALSE)","v":122410},{"$f":"VLOOKUP($C16&AL$8,'Calc-V'!$A$4:$AA$399,$AE$6,FALSE)","v":122690},{"$f":"VLOOKUP($C16&AM$8,'Calc-V'!$A$4:$AA$399,$AE$6,FALSE)","v":122720},{"$f":"VLOOKUP($C16&AN$8,'Calc-V'!$A$4:$AA$399,$AE$6,FALSE)","v":122720},{"$f":"VLOOKUP($C16&AO$8,'Calc-V'!$A$4:$AA$399,$AE$6,FALSE)","v":122440},{"$f":"VLOOKUP($C16&AP$8,'Calc-V'!$A$4:$AA$399,$AE$6,FALSE)","v":122150}]
[null,null,"East Dunbartonshire",{"$f":"IF($A$4=\"Numbers\",MROUND(VLOOKUP($C17&D$8,'Calc-V'!$A$4:$S$399,$D$6,FALSE),10),ROUND(VLOOKUP($C17&D$8,'Calc-V'!$A$4:$S$399,$D$6,FALSE)/AE17,3)*1000)","v":7250},{"$f":"IF($A$4=\"Numbers\",MROUND(VLOOKUP($C17&E$8,'Calc-V'!$A$4:$S$399,$D$6,FALSE),10),ROUND(VLOOKUP($C17&E$8,'Calc-V'!$A$4:$S$399,$D$6,FALSE)/AF17,3)*1000)","v":6710},{"$f":"IF($A$4=\"Numbers\",MROUND(VLOOKUP($C17&F$8,'Calc-V'!$A$4:$S$399,$D$6,FALSE),10),ROUND(VLOOKUP($C17&F$8,'Calc-V'!$A$4:$S$399,$D$6,FALSE)/AG17,3)*1000)","v":6710},{"$f":"IF($A$4=\"Numbers\",MROUND(VLOOKUP($C17&G$8,'Calc-V'!$A$4:$S$399,$D$6,FALSE),10),ROUND(VLOOKUP($C17&G$8,'Calc-V'!$A$4:$S$399,$D$6,FALSE)/AH17,3)*1000)","v":7650},{"$f":"IF($A$4=\"Numbers\",MROUND(VLOOKUP($C17&H$8,'Calc-V'!$A$4:$S$399,$D$6,FALSE),10),ROUND(VLOOKUP($C17&H$8,'Calc-V'!$A$4:$S$399,$D$6,FALSE)/AI17,3)*1000)","v":7650},{"$f":"IF($A$4=\"Numbers\",MROUND(VLOOKUP($C17&I$8,'Calc-V'!$A$4:$S$399,$D$6,FALSE),10),ROUND(VLOOKUP($C17&I$8,'Calc-V'!$A$4:$S$399,$D$6,FALSE)/AJ17,3)*1000)","v":7080},{"$f":"IF($A$4=\"Numbers\",MROUND(VLOOKUP($C17&J$8,'Calc-V'!$A$4:$S$399,$D$6,FALSE),10),ROUND(VLOOKUP($C17&J$8,'Calc-V'!$A$4:$S$399,$D$6,FALSE)/AK17,3)*1000)","v":7080},{"$f":"IF($A$4=\"Numbers\",MROUND(VLOOKUP($C17&K$8,'Calc-V'!$A$4:$S$399,$D$6,FALSE),10),ROUND(VLOOKUP($C17&K$8,'Calc-V'!$A$4:$S$399,$D$6,FALSE)/AL17,3)*1000)","v":7560},{"$f":"IF($A$4=\"Numbers\",MROUND(VLOOKUP($C17&L$8,'Calc-V'!$A$4:$S$399,$D$6,FALSE),10),ROUND(VLOOKUP($C17&L$8,'Calc-V'!$A$4:$S$399,$D$6,FALSE)/AM17,3)*1000)","v":7990},{"$f":"IF($A$4=\"Numbers\",MROUND(VLOOKUP($C17&M$8,'Calc-V'!$A$4:$S$399,$D$6,FALSE),10),ROUND(VLOOKUP($C17&M$8,'Calc-V'!$A$4:$S$399,$D$6,FALSE)/AN17,3)*1000)","v":7990},{"$f":"IF($A$4=\"Numbers\",MROUND(VLOOKUP($C17&N$8,'Calc-V'!$A$4:$S$399,$D$6,FALSE),10),ROUND(VLOOKUP($C17&N$8,'Calc-V'!$A$4:$S$399,$D$6,FALSE)/AO17,3)*1000)","v":8280},{"$f":"IF($A$4=\"Numbers\",MROUND(VLOOKUP($C17&O$8,'Calc-V'!$A$4:$S$399,$D$6,FALSE),10),ROUND(VLOOKUP($C17&O$8,'Calc-V'!$A$4:$S$399,$D$6,FALSE)/AP17,3)*1000)","v":7200},null,{"$f":"IF($A$4=\"Numbers\",MROUND(VLOOKUP($C17&Q$8,'Calc-V'!$A$4:$S$399,$Q$6,FALSE),10),ROUND(VLOOKUP($C17&Q$8,'Calc-V'!$A$4:$S$399,$Q$6,FALSE)/AE17,3)*1000)","v":288480},{"$f":"IF($A$4=\"Numbers\",MROUND(VLOOKUP($C17&R$8,'Calc-V'!$A$4:$S$399,$Q$6,FALSE),10),ROUND(VLOOKUP($C17&R$8,'Calc-V'!$A$4:$S$399,$Q$6,FALSE)/AF17,3)*1000)","v":314500},{"$f":"IF($A$4=\"Numbers\",MROUND(VLOOKUP($C17&S$8,'Calc-V'!$A$4:$S$399,$Q$6,FALSE),10),ROUND(VLOOKUP($C17&S$8,'Calc-V'!$A$4:$S$399,$Q$6,FALSE)/AG17,3)*1000)","v":314500},{"$f":"IF($A$4=\"Numbers\",MROUND(VLOOKUP($C17&T$8,'Calc-V'!$A$4:$S$399,$Q$6,FALSE),10),ROUND(VLOOKUP($C17&T$8,'Calc-V'!$A$4:$S$399,$Q$6,FALSE)/AH17,3)*1000)","v":342080},{"$f":"IF($A$4=\"Numbers\",MROUND(VLOOKUP($C17&U$8,'Calc-V'!$A$4:$S$399,$Q$6,FALSE),10),ROUND(VLOOKUP($C17&U$8,'Calc-V'!$A$4:$S$399,$Q$6,FALSE)/AI17,3)*1000)","v":342080},{"$f":"IF($A$4=\"Numbers\",MROUND(VLOOKUP($C17&V$8,'Calc-V'!$A$4:$S$399,$Q$6,FALSE),10),ROUND(VLOOKUP($C17&V$8,'Calc-V'!$A$4:$S$399,$Q$6,FALSE)/AJ17,3)*1000)","v":312410},{"$f":"IF($A$4=\"Numbers\",MROUND(VLOOKUP($C17&W$8,'Calc-V'!$A$4:$S$399,$Q$6,FALSE),10),ROUND(VLOOKUP($C17&W$8,'Calc-V'!$A$4:$S$399,$Q$6,FALSE)/AK17,3)*1000)","v":312410},{"$f":"IF($A$4=\"Numbers\",MROUND(VLOOKUP($C17&X$8,'Calc-V'!$A$4:$S$399,$Q$6,FALSE),10),ROUND(VLOOKUP($C17&X$8,'Calc-V'!$A$4:$S$399,$Q$6,FALSE)/AL17,3)*1000)","v":312880},{"$f":"IF($A$4=\"Numbers\",MROUND(VLOOKUP($C17&Y$8,'Calc-V'!$A$4:$S$399,$Q$6,FALSE),10),ROUND(VLOOKUP($C17&Y$8,'Calc-V'!$A$4:$S$399,$Q$6,FALSE)/AM17,3)*1000)","v":281320},{"$f":"IF($A$4=\"Numbers\",MROUND(VLOOKUP($C17&Z$8,'Calc-V'!$A$4:$S$399,$Q$6,FALSE),10),ROUND(VLOOKUP($C17&Z$8,'Calc-V'!$A$4:$S$399,$Q$6,FALSE)/AN17,3)*1000)","v":276870},{"$f":"IF($A$4=\"Numbers\",MROUND(VLOOKUP($C17&AA$8,'Calc-V'!$A$4:$S$399,$Q$6,FALSE),10),ROUND(VLOOKUP($C17&AA$8,'Calc-V'!$A$4:$S$399,$Q$6,FALSE)/AO17,3)*1000)","v":370700},{"$f":"IF($A$4=\"Numbers\",MROUND(VLOOKUP($C17&AB$8,'Calc-V'!$A$4:$S$399,$Q$6,FALSE),10),ROUND(VLOOKUP($C17&AB$8,'Calc-V'!$A$4:$S$399,$Q$6,FALSE)/AP17,3)*1000)","v":397310},null,null,{"$f":"VLOOKUP($C17&AE$8,'Calc-V'!$A$4:$AA$399,$AE$6,FALSE)","v":105050},{"$f":"VLOOKUP($C17&AF$8,'Calc-V'!$A$4:$AA$399,$AE$6,FALSE)","v":104940},{"$f":"VLOOKUP($C17&AG$8,'Calc-V'!$A$4:$AA$399,$AE$6,FALSE)","v":104940},{"$f":"VLOOKUP($C17&AH$8,'Calc-V'!$A$4:$AA$399,$AE$6,FALSE)","v":104960},{"$f":"VLOOKUP($C17&AI$8,'Calc-V'!$A$4:$AA$399,$AE$6,FALSE)","v":104960},{"$f":"VLOOKUP($C17&AJ$8,'Calc-V'!$A$4:$AA$399,$AE$6,FALSE)","v":104920},{"$f":"VLOOKUP($C17&AK$8,'Calc-V'!$A$4:$AA$399,$AE$6,FALSE)","v":104920},{"$f":"VLOOKUP($C17&AL$8,'Calc-V'!$A$4:$AA$399,$AE$6,FALSE)","v":105000},{"$f":"VLOOKUP($C17&AM$8,'Calc-V'!$A$4:$AA$399,$AE$6,FALSE)","v":105880},{"$f":"VLOOKUP($C17&AN$8,'Calc-V'!$A$4:$AA$399,$AE$6,FALSE)","v":105880},{"$f":"VLOOKUP($C17&AO$8,'Calc-V'!$A$4:$AA$399,$AE$6,FALSE)","v":105860},{"$f":"VLOOKUP($C17&AP$8,'Calc-V'!$A$4:$AA$399,$AE$6,FALSE)","v":106730}]
[null,null,"East Lothian",{"$f":"IF($A$4=\"Numbers\",MROUND(VLOOKUP($C18&D$8,'Calc-V'!$A$4:$S$399,$D$6,FALSE),10),ROUND(VLOOKUP($C18&D$8,'Calc-V'!$A$4:$S$399,$D$6,FALSE)/AE18,3)*1000)","v":8490},{"$f":"IF($A$4=\"Numbers\",MROUND(VLOOKUP($C18&E$8,'Calc-V'!$A$4:$S$399,$D$6,FALSE),10),ROUND(VLOOKUP($C18&E$8,'Calc-V'!$A$4:$S$399,$D$6,FALSE)/AF18,3)*1000)","v":8830},{"$f":"IF($A$4=\"Numbers\",MROUND(VLOOKUP($C18&F$8,'Calc-V'!$A$4:$S$399,$D$6,FALSE),10),ROUND(VLOOKUP($C18&F$8,'Calc-V'!$A$4:$S$399,$D$6,FALSE)/AG18,3)*1000)","v":8830},{"$f":"IF($A$4=\"Numbers\",MROUND(VLOOKUP($C18&G$8,'Calc-V'!$A$4:$S$399,$D$6,FALSE),10),ROUND(VLOOKUP($C18&G$8,'Calc-V'!$A$4:$S$399,$D$6,FALSE)/AH18,3)*1000)","v":8210},{"$f":"IF($A$4=\"Numbers\",MROUND(VLOOKUP($C18&H$8,'Calc-V'!$A$4:$S$399,$D$6,FALSE),10),ROUND(VLOOKUP($C18&H$8,'Calc-V'!$A$4:$S$399,$D$6,FALSE)/AI18,3)*1000)","v":8210},{"$f":"IF($A$4=\"Numbers\",MROUND(VLOOKUP($C18&I$8,'Calc-V'!$A$4:$S$399,$D$6,FALSE),10),ROUND(VLOOKUP($C18&I$8,'Calc-V'!$A$4:$S$399,$D$6,FALSE)/AJ18,3)*1000)","v":8930},{"$f":"IF($A$4=\"Numbers\",MROUND(VLOOKUP($C18&J$8,'Calc-V'!$A$4:$S$399,$D$6,FALSE),10),ROUND(VLOOKUP($C18&J$8,'Calc-V'!$A$4:$S$399,$D$6,FALSE)/AK18,3)*1000)","v":8930},{"$f":"IF($A$4=\"Numbers\",MROUND(VLOOKUP($C18&K$8,'Calc-V'!$A$4:$S$399,$D$6,FALSE),10),ROUND(VLOOKUP($C18&K$8,'Calc-V'!$A$4:$S$399,$D$6,FALSE)/AL18,3)*1000)","v":9080},{"$f":"IF($A$4=\"Numbers\",MROUND(VLOOKUP($C18&L$8,'Calc-V'!$A$4:$S$399,$D$6,FALSE),10),ROUND(VLOOKUP($C18&L$8,'Calc-V'!$A$4:$S$399,$D$6,FALSE)/AM18,3)*1000)","v":10070},{"$f":"IF($A$4=\"Numbers\",MROUND(VLOOKUP($C18&M$8,'Calc-V'!$A$4:$S$399,$D$6,FALSE),10),ROUND(VLOOKUP($C18&M$8,'Calc-V'!$A$4:$S$399,$D$6,FALSE)/AN18,3)*1000)","v":10070},{"$f":"IF($A$4=\"Numbers\",MROUND(VLOOKUP($C18&N$8,'Calc-V'!$A$4:$S$399,$D$6,FALSE),10),ROUND(VLOOKUP($C18&N$8,'Calc-V'!$A$4:$S$399,$D$6,FALSE)/AO18,3)*1000)","v":10490},{"$f":"IF($A$4=\"Numbers\",MROUND(VLOOKUP($C18&O$8,'Calc-V'!$A$4:$S$399,$D$6,FALSE),10),ROUND(VLOOKUP($C18&O$8,'Calc-V'!$A$4:$S$399,$D$6,FALSE)/AP18,3)*1000)","v":9000},null,{"$f":"IF($A$4=\"Numbers\",MROUND(VLOOKUP($C18&Q$8,'Calc-V'!$A$4:$S$399,$Q$6,FALSE),10),ROUND(VLOOKUP($C18&Q$8,'Calc-V'!$A$4:$S$399,$Q$6,FALSE)/AE18,3)*1000)","v":27950},{"$f":"IF($A$4=\"Numbers\",MROUND(VLOOKUP($C18&R$8,'Calc-V'!$A$4:$S$399,$Q$6,FALSE),10),ROUND(VLOOKUP($C18&R$8,'Calc-V'!$A$4:$S$399,$Q$6,FALSE)/AF18,3)*1000)","v":22760},{"$f":"IF($A$4=\"Numbers\",MROUND(VLOOKUP($C18&S$8,'Calc-V'!$A$4:$S$399,$Q$6,FALSE),10),ROUND(VLOOKUP($C18&S$8,'Calc-V'!$A$4:$S$399,$Q$6,FALSE)/AG18,3)*1000)","v":22760},{"$f":"IF($A$4=\"Numbers\",MROUND(VLOOKUP($C18&T$8,'Calc-V'!$A$4:$S$399,$Q$6,FALSE),10),ROUND(VLOOKUP($C18&T$8,'Calc-V'!$A$4:$S$399,$Q$6,FALSE)/AH18,3)*1000)","v":25830},{"$f":"IF($A$4=\"Numbers\",MROUND(VLOOKUP($C18&U$8,'Calc-V'!$A$4:$S$399,$Q$6,FALSE),10),ROUND(VLOOKUP($C18&U$8,'Calc-V'!$A$4:$S$399,$Q$6,FALSE)/AI18,3)*1000)","v":25830},{"$f":"IF($A$4=\"Numbers\",MROUND(VLOOKUP($C18&V$8,'Calc-V'!$A$4:$S$399,$Q$6,FALSE),10),ROUND(VLOOKUP($C18&V$8,'Calc-V'!$A$4:$S$399,$Q$6,FALSE)/AJ18,3)*1000)","v":25700},{"$f":"IF($A$4=\"Numbers\",MROUND(VLOOKUP($C18&W$8,'Calc-V'!$A$4:$S$399,$Q$6,FALSE),10),ROUND(VLOOKUP($C18&W$8,'Calc-V'!$A$4:$S$399,$Q$6,FALSE)/AK18,3)*1000)","v":25700},{"$f":"IF($A$4=\"Numbers\",MROUND(VLOOKUP($C18&X$8,'Calc-V'!$A$4:$S$399,$Q$6,FALSE),10),ROUND(VLOOKUP($C18&X$8,'Calc-V'!$A$4:$S$399,$Q$6,FALSE)/AL18,3)*1000)","v":27080},{"$f":"IF($A$4=\"Numbers\",MROUND(VLOOKUP($C18&Y$8,'Calc-V'!$A$4:$S$399,$Q$6,FALSE),10),ROUND(VLOOKUP($C18&Y$8,'Calc-V'!$A$4:$S$399,$Q$6,FALSE)/AM18,3)*1000)","v":43760},{"$f":"IF($A$4=\"Numbers\",MROUND(VLOOKUP($C18&Z$8,'Calc-V'!$A$4:$S$399,$Q$6,FALSE),10),ROUND(VLOOKUP($C18&Z$8,'Calc-V'!$A$4:$S$399,$Q$6,FALSE)/AN18,3)*1000)","v":43760},{"$f":"IF($A$4=\"Numbers\",MROUND(VLOOKUP($C18&AA$8,'Calc-V'!$A$4:$S$399,$Q$6,FALSE),10),ROUND(VLOOKUP($C18&AA$8,'Calc-V'!$A$4:$S$399,$Q$6,FALSE)/AO18,3)*1000)","v":33970},{"$f":"IF($A$4=\"Numbers\",MROUND(VLOOKUP($C18&AB$8,'Calc-V'!$A$4:$S$399,$Q$6,FALSE),10),ROUND(VLOOKUP($C18&AB$8,'Calc-V'!$A$4:$S$399,$Q$6,FALSE)/AP18,3)*1000)","v":34940},null,null,{"$f":"VLOOKUP($C18&AE$8,'Calc-V'!$A$4:$AA$399,$AE$6,FALSE)","v":95560},{"$f":"VLOOKUP($C18&AF$8,'Calc-V'!$A$4:$AA$399,$AE$6,FALSE)","v":97470},{"$f":"VLOOKUP($C18&AG$8,'Calc-V'!$A$4:$AA$399,$AE$6,FALSE)","v":97470},{"$f":"VLOOKUP($C18&AH$8,'Calc-V'!$A$4:$AA$399,$AE$6,FALSE)","v":98340},{"$f":"VLOOKUP($C18&AI$8,'Calc-V'!$A$4:$AA$399,$AE$6,FALSE)","v":98340},{"$f":"VLOOKUP($C18&AJ$8,'Calc-V'!$A$4:$AA$399,$AE$6,FALSE)","v":99140},{"$f":"VLOOKUP($C18&AK$8,'Calc-V'!$A$4:$AA$399,$AE$6,FALSE)","v":99140},{"$f":"VLOOKUP($C18&AL$8,'Calc-V'!$A$4:$AA$399,$AE$6,FALSE)","v":99920},{"$f":"VLOOKUP($C18&AM$8,'Calc-V'!$A$4:$AA$399,$AE$6,FALSE)","v":100850},{"$f":"VLOOKUP($C18&AN$8,'Calc-V'!$A$4:$AA$399,$AE$6,FALSE)","v":100850},{"$f":"VLOOKUP($C18&AO$8,'Calc-V'!$A$4:$AA$399,$AE$6,FALSE)","v":101360},{"$f":"VLOOKUP($C18&AP$8,'Calc-V'!$A$4:$AA$399,$AE$6,FALSE)","v":102050}]
[null,null,"East Renfrewshire",{"$f":"IF($A$4=\"Numbers\",MROUND(VLOOKUP($C19&D$8,'Calc-V'!$A$4:$S$399,$D$6,FALSE),10),ROUND(VLOOKUP($C19&D$8,'Calc-V'!$A$4:$S$399,$D$6,FALSE)/AE19,3)*1000)","v":10660},{"$f":"IF($A$4=\"Numbers\",MROUND(VLOOKUP($C19&E$8,'Calc-V'!$A$4:$S$399,$D$6,FALSE),10),ROUND(VLOOKUP($C19&E$8,'Calc-V'!$A$4:$S$399,$D$6,FALSE)/AF19,3)*1000)","v":8410},{"$f":"IF($A$4=\"Numbers\",MROUND(VLOOKUP($C19&F$8,'Calc-V'!$A$4:$S$399,$D$6,FALSE),10),ROUND(VLOOKUP($C19&F$8,'Calc-V'!$A$4:$S$399,$D$6,FALSE)/AG19,3)*1000)","v":8410},{"$f":"IF($A$4=\"Numbers\",MROUND(VLOOKUP($C19&G$8,'Calc-V'!$A$4:$S$399,$D$6,FALSE),10),ROUND(VLOOKUP($C19&G$8,'Calc-V'!$A$4:$S$399,$D$6,FALSE)/AH19,3)*1000)","v":8430},{"$f":"IF($A$4=\"Numbers\",MROUND(VLOOKUP($C19&H$8,'Calc-V'!$A$4:$S$399,$D$6,FALSE),10),ROUND(VLOOKUP($C19&H$8,'Calc-V'!$A$4:$S$399,$D$6,FALSE)/AI19,3)*1000)","v":8430},{"$f":"IF($A$4=\"Numbers\",MROUND(VLOOKUP($C19&I$8,'Calc-V'!$A$4:$S$399,$D$6,FALSE),10),ROUND(VLOOKUP($C19&I$8,'Calc-V'!$A$4:$S$399,$D$6,FALSE)/AJ19,3)*1000)","v":8080},{"$f":"IF($A$4=\"Numbers\",MROUND(VLOOKUP($C19&J$8,'Calc-V'!$A$4:$S$399,$D$6,FALSE),10),ROUND(VLOOKUP($C19&J$8,'Calc-V'!$A$4:$S$399,$D$6,FALSE)/AK19,3)*1000)","v":8080},{"$f":"IF($A$4=\"Numbers\",MROUND(VLOOKUP($C19&K$8,'Calc-V'!$A$4:$S$399,$D$6,FALSE),10),ROUND(VLOOKUP($C19&K$8,'Calc-V'!$A$4:$S$399,$D$6,FALSE)/AL19,3)*1000)","v":8840},{"$f":"IF($A$4=\"Numbers\",MROUND(VLOOKUP($C19&L$8,'Calc-V'!$A$4:$S$399,$D$6,FALSE),10),ROUND(VLOOKUP($C19&L$8,'Calc-V'!$A$4:$S$399,$D$6,FALSE)/AM19,3)*1000)","v":9240},{"$f":"IF($A$4=\"Numbers\",MROUND(VLOOKUP($C19&M$8,'Calc-V'!$A$4:$S$399,$D$6,FALSE),10),ROUND(VLOOKUP($C19&M$8,'Calc-V'!$A$4:$S$399,$D$6,FALSE)/AN19,3)*1000)","v":9240},{"$f":"IF($A$4=\"Numbers\",MROUND(VLOOKUP($C19&N$8,'Calc-V'!$A$4:$S$399,$D$6,FALSE),10),ROUND(VLOOKUP($C19&N$8,'Calc-V'!$A$4:$S$399,$D$6,FALSE)/AO19,3)*1000)","v":6940},{"$f":"IF($A$4=\"Numbers\",MROUND(VLOOKUP($C19&O$8,'Calc-V'!$A$4:$S$399,$D$6,FALSE),10),ROUND(VLOOKUP($C19&O$8,'Calc-V'!$A$4:$S$399,$D$6,FALSE)/AP19,3)*1000)","v":6940},null,{"$f":"IF($A$4=\"Numbers\",MROUND(VLOOKUP($C19&Q$8,'Calc-V'!$A$4:$S$399,$Q$6,FALSE),10),ROUND(VLOOKUP($C19&Q$8,'Calc-V'!$A$4:$S$399,$Q$6,FALSE)/AE19,3)*1000)","v":159660},{"$f":"IF($A$4=\"Numbers\",MROUND(VLOOKUP($C19&R$8,'Calc-V'!$A$4:$S$399,$Q$6,FALSE),10),ROUND(VLOOKUP($C19&R$8,'Calc-V'!$A$4:$S$399,$Q$6,FALSE)/AF19,3)*1000)","v":166390},{"$f":"IF($A$4=\"Numbers\",MROUND(VLOOKUP($C19&S$8,'Calc-V'!$A$4:$S$399,$Q$6,FALSE),10),ROUND(VLOOKUP($C19&S$8,'Calc-V'!$A$4:$S$399,$Q$6,FALSE)/AG19,3)*1000)","v":166390},{"$f":"IF($A$4=\"Numbers\",MROUND(VLOOKUP($C19&T$8,'Calc-V'!$A$4:$S$399,$Q$6,FALSE),10),ROUND(VLOOKUP($C19&T$8,'Calc-V'!$A$4:$S$399,$Q$6,FALSE)/AH19,3)*1000)","v":168960},{"$f":"IF($A$4=\"Numbers\",MROUND(VLOOKUP($C19&U$8,'Calc-V'!$A$4:$S$399,$Q$6,FALSE),10),ROUND(VLOOKUP($C19&U$8,'Calc-V'!$A$4:$S$399,$Q$6,FALSE)/AI19,3)*1000)","v":168960},{"$f":"IF($A$4=\"Numbers\",MROUND(VLOOKUP($C19&V$8,'Calc-V'!$A$4:$S$399,$Q$6,FALSE),10),ROUND(VLOOKUP($C19&V$8,'Calc-V'!$A$4:$S$399,$Q$6,FALSE)/AJ19,3)*1000)","v":161750},{"$f":"IF($A$4=\"Numbers\",MROUND(VLOOKUP($C19&W$8,'Calc-V'!$A$4:$S$399,$Q$6,FALSE),10),ROUND(VLOOKUP($C19&W$8,'Calc-V'!$A$4:$S$399,$Q$6,FALSE)/AK19,3)*1000)","v":161750},{"$f":"IF($A$4=\"Numbers\",MROUND(VLOOKUP($C19&X$8,'Calc-V'!$A$4:$S$399,$Q$6,FALSE),10),ROUND(VLOOKUP($C19&X$8,'Calc-V'!$A$4:$S$399,$Q$6,FALSE)/AL19,3)*1000)","v":177590},{"$f":"IF($A$4=\"Numbers\",MROUND(VLOOKUP($C19&Y$8,'Calc-V'!$A$4:$S$399,$Q$6,FALSE),10),ROUND(VLOOKUP($C19&Y$8,'Calc-V'!$A$4:$S$399,$Q$6,FALSE)/AM19,3)*1000)","v":183100},{"$f":"IF($A$4=\"Numbers\",MROUND(VLOOKUP($C19&Z$8,'Calc-V'!$A$4:$S$399,$Q$6,FALSE),10),ROUND(VLOOKUP($C19&Z$8,'Calc-V'!$A$4:$S$399,$Q$6,FALSE)/AN19,3)*1000)","v":183110},{"$f":"IF($A$4=\"Numbers\",MROUND(VLOOKUP($C19&AA$8,'Calc-V'!$A$4:$S$399,$Q$6,FALSE),10),ROUND(VLOOKUP($C19&AA$8,'Calc-V'!$A$4:$S$399,$Q$6,FALSE)/AO19,3)*1000)","v":177130},{"$f":"IF($A$4=\"Numbers\",MROUND(VLOOKUP($C19&AB$8,'Calc-V'!$A$4:$S$399,$Q$6,FALSE),10),ROUND(VLOOKUP($C19&AB$8,'Calc-V'!$A$4:$S$399,$Q$6,FALSE)/AP19,3)*1000)","v":177130},null,null,{"$f":"VLOOKUP($C19&AE$8,'Calc-V'!$A$4:$AA$399,$AE$6,FALSE)","v":89840},{"$f":"VLOOKUP($C19&AF$8,'Calc-V'!$A$4:$AA$399,$AE$6,FALSE)","v":89870},{"$f":"VLOOKUP($C19&AG$8,'Calc-V'!$A$4:$AA$399,$AE$6,FALSE)","v":89870},{"$f":"VLOOKUP($C19&AH$8,'Calc-V'!$A$4:$AA$399,$AE$6,FALSE)","v":89980},{"$f":"VLOOKUP($C19&AI$8,'Calc-V'!$A$4:$AA$399,$AE$6,FALSE)","v":89980},{"$f":"VLOOKUP($C19&AJ$8,'Calc-V'!$A$4:$AA$399,$AE$6,FALSE)","v":90410},{"$f":"VLOOKUP($C19&AK$8,'Calc-V'!$A$4:$AA$399,$AE$6,FALSE)","v":90410},{"$f":"VLOOKUP($C19&AL$8,'Calc-V'!$A$4:$AA$399,$AE$6,FALSE)","v":90810},{"$f":"VLOOKUP($C19&AM$8,'Calc-V'!$A$4:$AA$399,$AE$6,FALSE)","v":91030},{"$f":"VLOOKUP($C19&AN$8,'Calc-V'!$A$4:$AA$399,$AE$6,FALSE)","v":91030},{"$f":"VLOOKUP($C19&AO$8,'Calc-V'!$A$4:$AA$399,$AE$6,FALSE)","v":91500},{"$f":"VLOOKUP($C19&AP$8,'Calc-V'!$A$4:$AA$399,$AE$6,FALSE)","v":92380}]
[null,null,"Edinburgh, City of",{"$f":"IF($A$4=\"Numbers\",MROUND(VLOOKUP($C20&D$8,'Calc-V'!$A$4:$S$399,$D$6,FALSE),10),ROUND(VLOOKUP($C20&D$8,'Calc-V'!$A$4:$S$399,$D$6,FALSE)/AE20,3)*1000)","v":27510},{"$f":"IF($A$4=\"Numbers\",MROUND(VLOOKUP($C20&E$8,'Calc-V'!$A$4:$S$399,$D$6,FALSE),10),ROUND(VLOOKUP($C20&E$8,'Calc-V'!$A$4:$S$399,$D$6,FALSE)/AF20,3)*1000)","v":27530},{"$f":"IF($A$4=\"Numbers\",MROUND(VLOOKUP($C20&F$8,'Calc-V'!$A$4:$S$399,$D$6,FALSE),10),ROUND(VLOOKUP($C20&F$8,'Calc-V'!$A$4:$S$399,$D$6,FALSE)/AG20,3)*1000)","v":27530},{"$f":"IF($A$4=\"Numbers\",MROUND(VLOOKUP($C20&G$8,'Calc-V'!$A$4:$S$399,$D$6,FALSE),10),ROUND(VLOOKUP($C20&G$8,'Calc-V'!$A$4:$S$399,$D$6,FALSE)/AH20,3)*1000)","v":28760},{"$f":"IF($A$4=\"Numbers\",MROUND(VLOOKUP($C20&H$8,'Calc-V'!$A$4:$S$399,$D$6,FALSE),10),ROUND(VLOOKUP($C20&H$8,'Calc-V'!$A$4:$S$399,$D$6,FALSE)/AI20,3)*1000)","v":28760},{"$f":"IF($A$4=\"Numbers\",MROUND(VLOOKUP($C20&I$8,'Calc-V'!$A$4:$S$399,$D$6,FALSE),10),ROUND(VLOOKUP($C20&I$8,'Calc-V'!$A$4:$S$399,$D$6,FALSE)/AJ20,3)*1000)","v":29080},{"$f":"IF($A$4=\"Numbers\",MROUND(VLOOKUP($C20&J$8,'Calc-V'!$A$4:$S$399,$D$6,FALSE),10),ROUND(VLOOKUP($C20&J$8,'Calc-V'!$A$4:$S$399,$D$6,FALSE)/AK20,3)*1000)","v":29080},{"$f":"IF($A$4=\"Numbers\",MROUND(VLOOKUP($C20&K$8,'Calc-V'!$A$4:$S$399,$D$6,FALSE),10),ROUND(VLOOKUP($C20&K$8,'Calc-V'!$A$4:$S$399,$D$6,FALSE)/AL20,3)*1000)","v":31670},{"$f":"IF($A$4=\"Numbers\",MROUND(VLOOKUP($C20&L$8,'Calc-V'!$A$4:$S$399,$D$6,FALSE),10),ROUND(VLOOKUP($C20&L$8,'Calc-V'!$A$4:$S$399,$D$6,FALSE)/AM20,3)*1000)","v":26520},{"$f":"IF($A$4=\"Numbers\",MROUND(VLOOKUP($C20&M$8,'Calc-V'!$A$4:$S$399,$D$6,FALSE),10),ROUND(VLOOKUP($C20&M$8,'Calc-V'!$A$4:$S$399,$D$6,FALSE)/AN20,3)*1000)","v":26520},{"$f":"IF($A$4=\"Numbers\",MROUND(VLOOKUP($C20&N$8,'Calc-V'!$A$4:$S$399,$D$6,FALSE),10),ROUND(VLOOKUP($C20&N$8,'Calc-V'!$A$4:$S$399,$D$6,FALSE)/AO20,3)*1000)","v":25130},{"$f":"IF($A$4=\"Numbers\",MROUND(VLOOKUP($C20&O$8,'Calc-V'!$A$4:$S$399,$D$6,FALSE),10),ROUND(VLOOKUP($C20&O$8,'Calc-V'!$A$4:$S$399,$D$6,FALSE)/AP20,3)*1000)","v":22970},null,{"$f":"IF($A$4=\"Numbers\",MROUND(VLOOKUP($C20&Q$8,'Calc-V'!$A$4:$S$399,$Q$6,FALSE),10),ROUND(VLOOKUP($C20&Q$8,'Calc-V'!$A$4:$S$399,$Q$6,FALSE)/AE20,3)*1000)","v":908040},{"$f":"IF($A$4=\"Numbers\",MROUND(VLOOKUP($C20&R$8,'Calc-V'!$A$4:$S$399,$Q$6,FALSE),10),ROUND(VLOOKUP($C20&R$8,'Calc-V'!$A$4:$S$399,$Q$6,FALSE)/AF20,3)*1000)","v":911650},{"$f":"IF($A$4=\"Numbers\",MROUND(VLOOKUP($C20&S$8,'Calc-V'!$A$4:$S$399,$Q$6,FALSE),10),ROUND(VLOOKUP($C20&S$8,'Calc-V'!$A$4:$S$399,$Q$6,FALSE)/AG20,3)*1000)","v":911650},{"$f":"IF($A$4=\"Numbers\",MROUND(VLOOKUP($C20&T$8,'Calc-V'!$A$4:$S$399,$Q$6,FALSE),10),ROUND(VLOOKUP($C20&T$8,'Calc-V'!$A$4:$S$399,$Q$6,FALSE)/AH20,3)*1000)","v":929910},{"$f":"IF($A$4=\"Numbers\",MROUND(VLOOKUP($C20&U$8,'Calc-V'!$A$4:$S$399,$Q$6,FALSE),10),ROUND(VLOOKUP($C20&U$8,'Calc-V'!$A$4:$S$399,$Q$6,FALSE)/AI20,3)*1000)","v":929910},{"$f":"IF($A$4=\"Numbers\",MROUND(VLOOKUP($C20&V$8,'Calc-V'!$A$4:$S$399,$Q$6,FALSE),10),ROUND(VLOOKUP($C20&V$8,'Calc-V'!$A$4:$S$399,$Q$6,FALSE)/AJ20,3)*1000)","v":928390},{"$f":"IF($A$4=\"Numbers\",MROUND(VLOOKUP($C20&W$8,'Calc-V'!$A$4:$S$399,$Q$6,FALSE),10),ROUND(VLOOKUP($C20&W$8,'Calc-V'!$A$4:$S$399,$Q$6,FALSE)/AK20,3)*1000)","v":633430},{"$f":"IF($A$4=\"Numbers\",MROUND(VLOOKUP($C20&X$8,'Calc-V'!$A$4:$S$399,$Q$6,FALSE),10),ROUND(VLOOKUP($C20&X$8,'Calc-V'!$A$4:$S$399,$Q$6,FALSE)/AL20,3)*1000)","v":640270},{"$f":"IF($A$4=\"Numbers\",MROUND(VLOOKUP($C20&Y$8,'Calc-V'!$A$4:$S$399,$Q$6,FALSE),10),ROUND(VLOOKUP($C20&Y$8,'Calc-V'!$A$4:$S$399,$Q$6,FALSE)/AM20,3)*1000)","v":605090},{"$f":"IF($A$4=\"Numbers\",MROUND(VLOOKUP($C20&Z$8,'Calc-V'!$A$4:$S$399,$Q$6,FALSE),10),ROUND(VLOOKUP($C20&Z$8,'Calc-V'!$A$4:$S$399,$Q$6,FALSE)/AN20,3)*1000)","v":605090},{"$f":"IF($A$4=\"Numbers\",MROUND(VLOOKUP($C20&AA$8,'Calc-V'!$A$4:$S$399,$Q$6,FALSE),10),ROUND(VLOOKUP($C20&AA$8,'Calc-V'!$A$4:$S$399,$Q$6,FALSE)/AO20,3)*1000)","v":598540},{"$f":"IF($A$4=\"Numbers\",MROUND(VLOOKUP($C20&AB$8,'Calc-V'!$A$4:$S$399,$Q$6,FALSE),10),ROUND(VLOOKUP($C20&AB$8,'Calc-V'!$A$4:$S$399,$Q$6,FALSE)/AP20,3)*1000)","v":608720},null,null,{"$f":"VLOOKUP($C20&AE$8,'Calc-V'!$A$4:$AA$399,$AE$6,FALSE)","v":456040},{"$f":"VLOOKUP($C20&AF$8,'Calc-V'!$A$4:$AA$399,$AE$6,FALSE)","v":458520},{"$f":"VLOOKUP($C20&AG$8,'Calc-V'!$A$4:$AA$399,$AE$6,FALSE)","v":458520},{"$f":"VLOOKUP($C20&AH$8,'Calc-V'!$A$4:$AA$399,$AE$6,FALSE)","v":463240},{"$f":"VLOOKUP($C20&AI$8,'Calc-V'!$A$4:$AA$399,$AE$6,FALSE)","v":463240},{"$f":"VLOOKUP($C20&AJ$8,'Calc-V'!$A$4:$AA$399,$AE$6,FALSE)","v":469940},{"$f":"VLOOKUP($C20&AK$8,'Calc-V'!$A$4:$AA$399,$AE$6,FALSE)","v":469940},{"$f":"VLOOKUP($C20&AL$8,'Calc-V'!$A$4:$AA$399,$AE$6,FALSE)","v":477940},{"$f":"VLOOKUP($C20&AM$8,'Calc-V'!$A$4:$AA$399,$AE$6,FALSE)","v":482640},{"$f":"VLOOKUP($C20&AN$8,'Calc-V'!$A$4:$AA$399,$AE$6,FALSE)","v":482640},{"$f":"VLOOKUP($C20&AO$8,'Calc-V'!$A$4:$AA$399,$AE$6,FALSE)","v":487500},{"$f":"VLOOKUP($C20&AP$8,'Calc-V'!$A$4:$AA$399,$AE$6,FALSE)","v":492680}]
[null,null,"Eilean Siar",{"$f":"IF($A$4=\"Numbers\",MROUND(VLOOKUP($C21&D$8,'Calc-V'!$A$4:$S$399,$D$6,FALSE),10),ROUND(VLOOKUP($C21&D$8,'Calc-V'!$A$4:$S$399,$D$6,FALSE)/AE21,3)*1000)","v":4960},{"$f":"IF($A$4=\"Numbers\",MROUND(VLOOKUP($C21&E$8,'Calc-V'!$A$4:$S$399,$D$6,FALSE),10),ROUND(VLOOKUP($C21&E$8,'Calc-V'!$A$4:$S$399,$D$6,FALSE)/AF21,3)*1000)","v":5630},{"$f":"IF($A$4=\"Numbers\",MROUND(VLOOKUP($C21&F$8,'Calc-V'!$A$4:$S$399,$D$6,FALSE),10),ROUND(VLOOKUP($C21&F$8,'Calc-V'!$A$4:$S$399,$D$6,FALSE)/AG21,3)*1000)","v":5630},{"$f":"IF($A$4=\"Numbers\",MROUND(VLOOKUP($C21&G$8,'Calc-V'!$A$4:$S$399,$D$6,FALSE),10),ROUND(VLOOKUP($C21&G$8,'Calc-V'!$A$4:$S$399,$D$6,FALSE)/AH21,3)*1000)","v":5750},{"$f":"IF($A$4=\"Numbers\",MROUND(VLOOKUP($C21&H$8,'Calc-V'!$A$4:$S$399,$D$6,FALSE),10),ROUND(VLOOKUP($C21&H$8,'Calc-V'!$A$4:$S$399,$D$6,FALSE)/AI21,3)*1000)","v":5750},{"$f":"IF($A$4=\"Numbers\",MROUND(VLOOKUP($C21&I$8,'Calc-V'!$A$4:$S$399,$D$6,FALSE),10),ROUND(VLOOKUP($C21&I$8,'Calc-V'!$A$4:$S$399,$D$6,FALSE)/AJ21,3)*1000)","v":6410},{"$f":"IF($A$4=\"Numbers\",MROUND(VLOOKUP($C21&J$8,'Calc-V'!$A$4:$S$399,$D$6,FALSE),10),ROUND(VLOOKUP($C21&J$8,'Calc-V'!$A$4:$S$399,$D$6,FALSE)/AK21,3)*1000)","v":6410},{"$f":"IF($A$4=\"Numbers\",MROUND(VLOOKUP($C21&K$8,'Calc-V'!$A$4:$S$399,$D$6,FALSE),10),ROUND(VLOOKUP($C21&K$8,'Calc-V'!$A$4:$S$399,$D$6,FALSE)/AL21,3)*1000)","v":5150},{"$f":"IF($A$4=\"Numbers\",MROUND(VLOOKUP($C21&L$8,'Calc-V'!$A$4:$S$399,$D$6,FALSE),10),ROUND(VLOOKUP($C21&L$8,'Calc-V'!$A$4:$S$399,$D$6,FALSE)/AM21,3)*1000)","v":4860},{"$f":"IF($A$4=\"Numbers\",MROUND(VLOOKUP($C21&M$8,'Calc-V'!$A$4:$S$399,$D$6,FALSE),10),ROUND(VLOOKUP($C21&M$8,'Calc-V'!$A$4:$S$399,$D$6,FALSE)/AN21,3)*1000)","v":4860},{"$f":"IF($A$4=\"Numbers\",MROUND(VLOOKUP($C21&N$8,'Calc-V'!$A$4:$S$399,$D$6,FALSE),10),ROUND(VLOOKUP($C21&N$8,'Calc-V'!$A$4:$S$399,$D$6,FALSE)/AO21,3)*1000)","v":5130},{"$f":"IF($A$4=\"Numbers\",MROUND(VLOOKUP($C21&O$8,'Calc-V'!$A$4:$S$399,$D$6,FALSE),10),ROUND(VLOOKUP($C21&O$8,'Calc-V'!$A$4:$S$399,$D$6,FALSE)/AP21,3)*1000)","v":4730},null,{"$f":"IF($A$4=\"Numbers\",MROUND(VLOOKUP($C21&Q$8,'Calc-V'!$A$4:$S$399,$Q$6,FALSE),10),ROUND(VLOOKUP($C21&Q$8,'Calc-V'!$A$4:$S$399,$Q$6,FALSE)/AE21,3)*1000)","v":15510},{"$f":"IF($A$4=\"Numbers\",MROUND(VLOOKUP($C21&R$8,'Calc-V'!$A$4:$S$399,$Q$6,FALSE),10),ROUND(VLOOKUP($C21&R$8,'Calc-V'!$A$4:$S$399,$Q$6,FALSE)/AF21,3)*1000)","v":15480},{"$f":"IF($A$4=\"Numbers\",MROUND(VLOOKUP($C21&S$8,'Calc-V'!$A$4:$S$399,$Q$6,FALSE),10),ROUND(VLOOKUP($C21&S$8,'Calc-V'!$A$4:$S$399,$Q$6,FALSE)/AG21,3)*1000)","v":15480},{"$f":"IF($A$4=\"Numbers\",MROUND(VLOOKUP($C21&T$8,'Calc-V'!$A$4:$S$399,$Q$6,FALSE),10),ROUND(VLOOKUP($C21&T$8,'Calc-V'!$A$4:$S$399,$Q$6,FALSE)/AH21,3)*1000)","v":20990},{"$f":"IF($A$4=\"Numbers\",MROUND(VLOOKUP($C21&U$8,'Calc-V'!$A$4:$S$399,$Q$6,FALSE),10),ROUND(VLOOKUP($C21&U$8,'Calc-V'!$A$4:$S$399,$Q$6,FALSE)/AI21,3)*1000)","v":20990},{"$f":"IF($A$4=\"Numbers\",MROUND(VLOOKUP($C21&V$8,'Calc-V'!$A$4:$S$399,$Q$6,FALSE),10),ROUND(VLOOKUP($C21&V$8,'Calc-V'!$A$4:$S$399,$Q$6,FALSE)/AJ21,3)*1000)","v":22590},{"$f":"IF($A$4=\"Numbers\",MROUND(VLOOKUP($C21&W$8,'Calc-V'!$A$4:$S$399,$Q$6,FALSE),10),ROUND(VLOOKUP($C21&W$8,'Calc-V'!$A$4:$S$399,$Q$6,FALSE)/AK21,3)*1000)","v":22590},{"$f":"IF($A$4=\"Numbers\",MROUND(VLOOKUP($C21&X$8,'Calc-V'!$A$4:$S$399,$Q$6,FALSE),10),ROUND(VLOOKUP($C21&X$8,'Calc-V'!$A$4:$S$399,$Q$6,FALSE)/AL21,3)*1000)","v":29880},{"$f":"IF($A$4=\"Numbers\",MROUND(VLOOKUP($C21&Y$8,'Calc-V'!$A$4:$S$399,$Q$6,FALSE),10),ROUND(VLOOKUP($C21&Y$8,'Calc-V'!$A$4:$S$399,$Q$6,FALSE)/AM21,3)*1000)","v":31820},{"$f":"IF($A$4=\"Numbers\",MROUND(VLOOKUP($C21&Z$8,'Calc-V'!$A$4:$S$399,$Q$6,FALSE),10),ROUND(VLOOKUP($C21&Z$8,'Calc-V'!$A$4:$S$399,$Q$6,FALSE)/AN21,3)*1000)","v":24560},{"$f":"IF($A$4=\"Numbers\",MROUND(VLOOKUP($C21&AA$8,'Calc-V'!$A$4:$S$399,$Q$6,FALSE),10),ROUND(VLOOKUP($C21&AA$8,'Calc-V'!$A$4:$S$399,$Q$6,FALSE)/AO21,3)*1000)","v":24050},{"$f":"IF($A$4=\"Numbers\",MROUND(VLOOKUP($C21&AB$8,'Calc-V'!$A$4:$S$399,$Q$6,FALSE),10),ROUND(VLOOKUP($C21&AB$8,'Calc-V'!$A$4:$S$399,$Q$6,FALSE)/AP21,3)*1000)","v":30260},null,null,{"$f":"VLOOKUP($C21&AE$8,'Calc-V'!$A$4:$AA$399,$AE$6,FALSE)","v":27210},{"$f":"VLOOKUP($C21&AF$8,'Calc-V'!$A$4:$AA$399,$AE$6,FALSE)","v":27280},{"$f":"VLOOKUP($C21&AG$8,'Calc-V'!$A$4:$AA$399,$AE$6,FALSE)","v":27280},{"$f":"VLOOKUP($C21&AH$8,'Calc-V'!$A$4:$AA$399,$AE$6,FALSE)","v":27420},{"$f":"VLOOKUP($C21&AI$8,'Calc-V'!$A$4:$AA$399,$AE$6,FALSE)","v":27420},{"$f":"VLOOKUP($C21&AJ$8,'Calc-V'!$A$4:$AA$399,$AE$6,FALSE)","v":27600},{"$f":"VLOOKUP($C21&AK$8,'Calc-V'!$A$4:$AA$399,$AE$6,FALSE)","v":27600},{"$f":"VLOOKUP($C21&AL$8,'Calc-V'!$A$4:$AA$399,$AE$6,FALSE)","v":27690},{"$f":"VLOOKUP($C21&AM$8,'Calc-V'!$A$4:$AA$399,$AE$6,FALSE)","v":27560},{"$f":"VLOOKUP($C21&AN$8,'Calc-V'!$A$4:$AA$399,$AE$6,FALSE)","v":27560},{"$f":"VLOOKUP($C21&AO$8,'Calc-V'!$A$4:$AA$399,$AE$6,FALSE)","v":27400},{"$f":"VLOOKUP($C21&AP$8,'Calc-V'!$A$4:$AA$399,$AE$6,FALSE)","v":27250}]
[null,null,"Falkirk",{"$f":"IF($A$4=\"Numbers\",MROUND(VLOOKUP($C22&D$8,'Calc-V'!$A$4:$S$399,$D$6,FALSE),10),ROUND(VLOOKUP($C22&D$8,'Calc-V'!$A$4:$S$399,$D$6,FALSE)/AE22,3)*1000)","v":12470},{"$f":"IF($A$4=\"Numbers\",MROUND(VLOOKUP($C22&E$8,'Calc-V'!$A$4:$S$399,$D$6,FALSE),10),ROUND(VLOOKUP($C22&E$8,'Calc-V'!$A$4:$S$399,$D$6,FALSE)/AF22,3)*1000)","v":12910},{"$f":"IF($A$4=\"Numbers\",MROUND(VLOOKUP($C22&F$8,'Calc-V'!$A$4:$S$399,$D$6,FALSE),10),ROUND(VLOOKUP($C22&F$8,'Calc-V'!$A$4:$S$399,$D$6,FALSE)/AG22,3)*1000)","v":11480},{"$f":"IF($A$4=\"Numbers\",MROUND(VLOOKUP($C22&G$8,'Calc-V'!$A$4:$S$399,$D$6,FALSE),10),ROUND(VLOOKUP($C22&G$8,'Calc-V'!$A$4:$S$399,$D$6,FALSE)/AH22,3)*1000)","v":11630},{"$f":"IF($A$4=\"Numbers\",MROUND(VLOOKUP($C22&H$8,'Calc-V'!$A$4:$S$399,$D$6,FALSE),10),ROUND(VLOOKUP($C22&H$8,'Calc-V'!$A$4:$S$399,$D$6,FALSE)/AI22,3)*1000)","v":11630},{"$f":"IF($A$4=\"Numbers\",MROUND(VLOOKUP($C22&I$8,'Calc-V'!$A$4:$S$399,$D$6,FALSE),10),ROUND(VLOOKUP($C22&I$8,'Calc-V'!$A$4:$S$399,$D$6,FALSE)/AJ22,3)*1000)","v":11270},{"$f":"IF($A$4=\"Numbers\",MROUND(VLOOKUP($C22&J$8,'Calc-V'!$A$4:$S$399,$D$6,FALSE),10),ROUND(VLOOKUP($C22&J$8,'Calc-V'!$A$4:$S$399,$D$6,FALSE)/AK22,3)*1000)","v":11270},{"$f":"IF($A$4=\"Numbers\",MROUND(VLOOKUP($C22&K$8,'Calc-V'!$A$4:$S$399,$D$6,FALSE),10),ROUND(VLOOKUP($C22&K$8,'Calc-V'!$A$4:$S$399,$D$6,FALSE)/AL22,3)*1000)","v":11610},{"$f":"IF($A$4=\"Numbers\",MROUND(VLOOKUP($C22&L$8,'Calc-V'!$A$4:$S$399,$D$6,FALSE),10),ROUND(VLOOKUP($C22&L$8,'Calc-V'!$A$4:$S$399,$D$6,FALSE)/AM22,3)*1000)","v":12480},{"$f":"IF($A$4=\"Numbers\",MROUND(VLOOKUP($C22&M$8,'Calc-V'!$A$4:$S$399,$D$6,FALSE),10),ROUND(VLOOKUP($C22&M$8,'Calc-V'!$A$4:$S$399,$D$6,FALSE)/AN22,3)*1000)","v":12480},{"$f":"IF($A$4=\"Numbers\",MROUND(VLOOKUP($C22&N$8,'Calc-V'!$A$4:$S$399,$D$6,FALSE),10),ROUND(VLOOKUP($C22&N$8,'Calc-V'!$A$4:$S$399,$D$6,FALSE)/AO22,3)*1000)","v":10990},{"$f":"IF($A$4=\"Numbers\",MROUND(VLOOKUP($C22&O$8,'Calc-V'!$A$4:$S$399,$D$6,FALSE),10),ROUND(VLOOKUP($C22&O$8,'Calc-V'!$A$4:$S$399,$D$6,FALSE)/AP22,3)*1000)","v":11860},null,{"$f":"IF($A$4=\"Numbers\",MROUND(VLOOKUP($C22&Q$8,'Calc-V'!$A$4:$S$399,$Q$6,FALSE),10),ROUND(VLOOKUP($C22&Q$8,'Calc-V'!$A$4:$S$399,$Q$6,FALSE)/AE22,3)*1000)","v":77310},{"$f":"IF($A$4=\"Numbers\",MROUND(VLOOKUP($C22&R$8,'Calc-V'!$A$4:$S$399,$Q$6,FALSE),10),ROUND(VLOOKUP($C22&R$8,'Calc-V'!$A$4:$S$399,$Q$6,FALSE)/AF22,3)*1000)","v":78190},{"$f":"IF($A$4=\"Numbers\",MROUND(VLOOKUP($C22&S$8,'Calc-V'!$A$4:$S$399,$Q$6,FALSE),10),ROUND(VLOOKUP($C22&S$8,'Calc-V'!$A$4:$S$399,$Q$6,FALSE)/AG22,3)*1000)","v":83880},{"$f":"IF($A$4=\"Numbers\",MROUND(VLOOKUP($C22&T$8,'Calc-V'!$A$4:$S$399,$Q$6,FALSE),10),ROUND(VLOOKUP($C22&T$8,'Calc-V'!$A$4:$S$399,$Q$6,FALSE)/AH22,3)*1000)","v":87730},{"$f":"IF($A$4=\"Numbers\",MROUND(VLOOKUP($C22&U$8,'Calc-V'!$A$4:$S$399,$Q$6,FALSE),10),ROUND(VLOOKUP($C22&U$8,'Calc-V'!$A$4:$S$399,$Q$6,FALSE)/AI22,3)*1000)","v":87730},{"$f":"IF($A$4=\"Numbers\",MROUND(VLOOKUP($C22&V$8,'Calc-V'!$A$4:$S$399,$Q$6,FALSE),10),ROUND(VLOOKUP($C22&V$8,'Calc-V'!$A$4:$S$399,$Q$6,FALSE)/AJ22,3)*1000)","v":88900},{"$f":"IF($A$4=\"Numbers\",MROUND(VLOOKUP($C22&W$8,'Calc-V'!$A$4:$S$399,$Q$6,FALSE),10),ROUND(VLOOKUP($C22&W$8,'Calc-V'!$A$4:$S$399,$Q$6,FALSE)/AK22,3)*1000)","v":88900},{"$f":"IF($A$4=\"Numbers\",MROUND(VLOOKUP($C22&X$8,'Calc-V'!$A$4:$S$399,$Q$6,FALSE),10),ROUND(VLOOKUP($C22&X$8,'Calc-V'!$A$4:$S$399,$Q$6,FALSE)/AL22,3)*1000)","v":88120},{"$f":"IF($A$4=\"Numbers\",MROUND(VLOOKUP($C22&Y$8,'Calc-V'!$A$4:$S$399,$Q$6,FALSE),10),ROUND(VLOOKUP($C22&Y$8,'Calc-V'!$A$4:$S$399,$Q$6,FALSE)/AM22,3)*1000)","v":84360},{"$f":"IF($A$4=\"Numbers\",MROUND(VLOOKUP($C22&Z$8,'Calc-V'!$A$4:$S$399,$Q$6,FALSE),10),ROUND(VLOOKUP($C22&Z$8,'Calc-V'!$A$4:$S$399,$Q$6,FALSE)/AN22,3)*1000)","v":84360},{"$f":"IF($A$4=\"Numbers\",MROUND(VLOOKUP($C22&AA$8,'Calc-V'!$A$4:$S$399,$Q$6,FALSE),10),ROUND(VLOOKUP($C22&AA$8,'Calc-V'!$A$4:$S$399,$Q$6,FALSE)/AO22,3)*1000)","v":80860},{"$f":"IF($A$4=\"Numbers\",MROUND(VLOOKUP($C22&AB$8,'Calc-V'!$A$4:$S$399,$Q$6,FALSE),10),ROUND(VLOOKUP($C22&AB$8,'Calc-V'!$A$4:$S$399,$Q$6,FALSE)/AP22,3)*1000)","v":80140},null,null,{"$f":"VLOOKUP($C22&AE$8,'Calc-V'!$A$4:$AA$399,$AE$6,FALSE)","v":152320},{"$f":"VLOOKUP($C22&AF$8,'Calc-V'!$A$4:$AA$399,$AE$6,FALSE)","v":153290},{"$f":"VLOOKUP($C22&AG$8,'Calc-V'!$A$4:$AA$399,$AE$6,FALSE)","v":153290},{"$f":"VLOOKUP($C22&AH$8,'Calc-V'!$A$4:$AA$399,$AE$6,FALSE)","v":154210},{"$f":"VLOOKUP($C22&AI$8,'Calc-V'!$A$4:$AA$399,$AE$6,FALSE)","v":154210},{"$f":"VLOOKUP($C22&AJ$8,'Calc-V'!$A$4:$AA$399,$AE$6,FALSE)","v":155140},{"$f":"VLOOKUP($C22&AK$8,'Calc-V'!$A$4:$AA$399,$AE$6,FALSE)","v":155140},{"$f":"VLOOKUP($C22&AL$8,'Calc-V'!$A$4:$AA$399,$AE$6,FALSE)","v":156250},{"$f":"VLOOKUP($C22&AM$8,'Calc-V'!$A$4:$AA$399,$AE$6,FALSE)","v":156800},{"$f":"VLOOKUP($C22&AN$8,'Calc-V'!$A$4:$AA$399,$AE$6,FALSE)","v":156800},{"$f":"VLOOKUP($C22&AO$8,'Calc-V'!$A$4:$AA$399,$AE$6,FALSE)","v":157140},{"$f":"VLOOKUP($C22&AP$8,'Calc-V'!$A$4:$AA$399,$AE$6,FALSE)","v":157640}]
[null,null,"Fife",{"$f":"IF($A$4=\"Numbers\",MROUND(VLOOKUP($C23&D$8,'Calc-V'!$A$4:$S$399,$D$6,FALSE),10),ROUND(VLOOKUP($C23&D$8,'Calc-V'!$A$4:$S$399,$D$6,FALSE)/AE23,3)*1000)","v":30280},{"$f":"IF($A$4=\"Numbers\",MROUND(VLOOKUP($C23&E$8,'Calc-V'!$A$4:$S$399,$D$6,FALSE),10),ROUND(VLOOKUP($C23&E$8,'Calc-V'!$A$4:$S$399,$D$6,FALSE)/AF23,3)*1000)","v":27980},{"$f":"IF($A$4=\"Numbers\",MROUND(VLOOKUP($C23&F$8,'Calc-V'!$A$4:$S$399,$D$6,FALSE),10),ROUND(VLOOKUP($C23&F$8,'Calc-V'!$A$4:$S$399,$D$6,FALSE)/AG23,3)*1000)","v":27980},{"$f":"IF($A$4=\"Numbers\",MROUND(VLOOKUP($C23&G$8,'Calc-V'!$A$4:$S$399,$D$6,FALSE),10),ROUND(VLOOKUP($C23&G$8,'Calc-V'!$A$4:$S$399,$D$6,FALSE)/AH23,3)*1000)","v":28750},{"$f":"IF($A$4=\"Numbers\",MROUND(VLOOKUP($C23&H$8,'Calc-V'!$A$4:$S$399,$D$6,FALSE),10),ROUND(VLOOKUP($C23&H$8,'Calc-V'!$A$4:$S$399,$D$6,FALSE)/AI23,3)*1000)","v":26990},{"$f":"IF($A$4=\"Numbers\",MROUND(VLOOKUP($C23&I$8,'Calc-V'!$A$4:$S$399,$D$6,FALSE),10),ROUND(VLOOKUP($C23&I$8,'Calc-V'!$A$4:$S$399,$D$6,FALSE)/AJ23,3)*1000)","v":29120},{"$f":"IF($A$4=\"Numbers\",MROUND(VLOOKUP($C23&J$8,'Calc-V'!$A$4:$S$399,$D$6,FALSE),10),ROUND(VLOOKUP($C23&J$8,'Calc-V'!$A$4:$S$399,$D$6,FALSE)/AK23,3)*1000)","v":29120},{"$f":"IF($A$4=\"Numbers\",MROUND(VLOOKUP($C23&K$8,'Calc-V'!$A$4:$S$399,$D$6,FALSE),10),ROUND(VLOOKUP($C23&K$8,'Calc-V'!$A$4:$S$399,$D$6,FALSE)/AL23,3)*1000)","v":30890},{"$f":"IF($A$4=\"Numbers\",MROUND(VLOOKUP($C23&L$8,'Calc-V'!$A$4:$S$399,$D$6,FALSE),10),ROUND(VLOOKUP($C23&L$8,'Calc-V'!$A$4:$S$399,$D$6,FALSE)/AM23,3)*1000)","v":31290},{"$f":"IF($A$4=\"Numbers\",MROUND(VLOOKUP($C23&M$8,'Calc-V'!$A$4:$S$399,$D$6,FALSE),10),ROUND(VLOOKUP($C23&M$8,'Calc-V'!$A$4:$S$399,$D$6,FALSE)/AN23,3)*1000)","v":31290},{"$f":"IF($A$4=\"Numbers\",MROUND(VLOOKUP($C23&N$8,'Calc-V'!$A$4:$S$399,$D$6,FALSE),10),ROUND(VLOOKUP($C23&N$8,'Calc-V'!$A$4:$S$399,$D$6,FALSE)/AO23,3)*1000)","v":33110},{"$f":"IF($A$4=\"Numbers\",MROUND(VLOOKUP($C23&O$8,'Calc-V'!$A$4:$S$399,$D$6,FALSE),10),ROUND(VLOOKUP($C23&O$8,'Calc-V'!$A$4:$S$399,$D$6,FALSE)/AP23,3)*1000)","v":39200},null,{"$f":"IF($A$4=\"Numbers\",MROUND(VLOOKUP($C23&Q$8,'Calc-V'!$A$4:$S$399,$Q$6,FALSE),10),ROUND(VLOOKUP($C23&Q$8,'Calc-V'!$A$4:$S$399,$Q$6,FALSE)/AE23,3)*1000)","v":211040},{"$f":"IF($A$4=\"Numbers\",MROUND(VLOOKUP($C23&R$8,'Calc-V'!$A$4:$S$399,$Q$6,FALSE),10),ROUND(VLOOKUP($C23&R$8,'Calc-V'!$A$4:$S$399,$Q$6,FALSE)/AF23,3)*1000)","v":208250},{"$f":"IF($A$4=\"Numbers\",MROUND(VLOOKUP($C23&S$8,'Calc-V'!$A$4:$S$399,$Q$6,FALSE),10),ROUND(VLOOKUP($C23&S$8,'Calc-V'!$A$4:$S$399,$Q$6,FALSE)/AG23,3)*1000)","v":770280},{"$f":"IF($A$4=\"Numbers\",MROUND(VLOOKUP($C23&T$8,'Calc-V'!$A$4:$S$399,$Q$6,FALSE),10),ROUND(VLOOKUP($C23&T$8,'Calc-V'!$A$4:$S$399,$Q$6,FALSE)/AH23,3)*1000)","v":858460},{"$f":"IF($A$4=\"Numbers\",MROUND(VLOOKUP($C23&U$8,'Calc-V'!$A$4:$S$399,$Q$6,FALSE),10),ROUND(VLOOKUP($C23&U$8,'Calc-V'!$A$4:$S$399,$Q$6,FALSE)/AI23,3)*1000)","v":975490},{"$f":"IF($A$4=\"Numbers\",MROUND(VLOOKUP($C23&V$8,'Calc-V'!$A$4:$S$399,$Q$6,FALSE),10),ROUND(VLOOKUP($C23&V$8,'Calc-V'!$A$4:$S$399,$Q$6,FALSE)/AJ23,3)*1000)","v":1024850},{"$f":"IF($A$4=\"Numbers\",MROUND(VLOOKUP($C23&W$8,'Calc-V'!$A$4:$S$399,$Q$6,FALSE),10),ROUND(VLOOKUP($C23&W$8,'Calc-V'!$A$4:$S$399,$Q$6,FALSE)/AK23,3)*1000)","v":740330},{"$f":"IF($A$4=\"Numbers\",MROUND(VLOOKUP($C23&X$8,'Calc-V'!$A$4:$S$399,$Q$6,FALSE),10),ROUND(VLOOKUP($C23&X$8,'Calc-V'!$A$4:$S$399,$Q$6,FALSE)/AL23,3)*1000)","v":685580},{"$f":"IF($A$4=\"Numbers\",MROUND(VLOOKUP($C23&Y$8,'Calc-V'!$A$4:$S$399,$Q$6,FALSE),10),ROUND(VLOOKUP($C23&Y$8,'Calc-V'!$A$4:$S$399,$Q$6,FALSE)/AM23,3)*1000)","v":713970},{"$f":"IF($A$4=\"Numbers\",MROUND(VLOOKUP($C23&Z$8,'Calc-V'!$A$4:$S$399,$Q$6,FALSE),10),ROUND(VLOOKUP($C23&Z$8,'Calc-V'!$A$4:$S$399,$Q$6,FALSE)/AN23,3)*1000)","v":713970},{"$f":"IF($A$4=\"Numbers\",MROUND(VLOOKUP($C23&AA$8,'Calc-V'!$A$4:$S$399,$Q$6,FALSE),10),ROUND(VLOOKUP($C23&AA$8,'Calc-V'!$A$4:$S$399,$Q$6,FALSE)/AO23,3)*1000)","v":738530},{"$f":"IF($A$4=\"Numbers\",MROUND(VLOOKUP($C23&AB$8,'Calc-V'!$A$4:$S$399,$Q$6,FALSE),10),ROUND(VLOOKUP($C23&AB$8,'Calc-V'!$A$4:$S$399,$Q$6,FALSE)/AP23,3)*1000)","v":673340},null,null,{"$f":"VLOOKUP($C23&AE$8,'Calc-V'!$A$4:$AA$399,$AE$6,FALSE)","v":358750},{"$f":"VLOOKUP($C23&AF$8,'Calc-V'!$A$4:$AA$399,$AE$6,FALSE)","v":360050},{"$f":"VLOOKUP($C23&AG$8,'Calc-V'!$A$4:$AA$399,$AE$6,FALSE)","v":360050},{"$f":"VLOOKUP($C23&AH$8,'Calc-V'!$A$4:$AA$399,$AE$6,FALSE)","v":361410},{"$f":"VLOOKUP($C23&AI$8,'Calc-V'!$A$4:$AA$399,$AE$6,FALSE)","v":361410},{"$f":"VLOOKUP($C23&AJ$8,'Calc-V'!$A$4:$AA$399,$AE$6,FALSE)","v":362610},{"$f":"VLOOKUP($C23&AK$8,'Calc-V'!$A$4:$AA$399,$AE$6,FALSE)","v":362610},{"$f":"VLOOKUP($C23&AL$8,'Calc-V'!$A$4:$AA$399,$AE$6,FALSE)","v":365300},{"$f":"VLOOKUP($C23&AM$8,'Calc-V'!$A$4:$AA$399,$AE$6,FALSE)","v":366220},{"$f":"VLOOKUP($C23&AN$8,'Calc-V'!$A$4:$AA$399,$AE$6,FALSE)","v":366220},{"$f":"VLOOKUP($C23&AO$8,'Calc-V'!$A$4:$AA$399,$AE$6,FALSE)","v":366910},{"$f":"VLOOKUP($C23&AP$8,'Calc-V'!$A$4:$AA$399,$AE$6,FALSE)","v":367260}]
[null,null,"Glasgow City",{"$f":"IF($A$4=\"Numbers\",MROUND(VLOOKUP($C24&D$8,'Calc-V'!$A$4:$S$399,$D$6,FALSE),10),ROUND(VLOOKUP($C24&D$8,'Calc-V'!$A$4:$S$399,$D$6,FALSE)/AE24,3)*1000)","v":48480},{"$f":"IF($A$4=\"Numbers\",MROUND(VLOOKUP($C24&E$8,'Calc-V'!$A$4:$S$399,$D$6,FALSE),10),ROUND(VLOOKUP($C24&E$8,'Calc-V'!$A$4:$S$399,$D$6,FALSE)/AF24,3)*1000)","v":45680},{"$f":"IF($A$4=\"Numbers\",MROUND(VLOOKUP($C24&F$8,'Calc-V'!$A$4:$S$399,$D$6,FALSE),10),ROUND(VLOOKUP($C24&F$8,'Calc-V'!$A$4:$S$399,$D$6,FALSE)/AG24,3)*1000)","v":45680},{"$f":"IF($A$4=\"Numbers\",MROUND(VLOOKUP($C24&G$8,'Calc-V'!$A$4:$S$399,$D$6,FALSE),10),ROUND(VLOOKUP($C24&G$8,'Calc-V'!$A$4:$S$399,$D$6,FALSE)/AH24,3)*1000)","v":43470},{"$f":"IF($A$4=\"Numbers\",MROUND(VLOOKUP($C24&H$8,'Calc-V'!$A$4:$S$399,$D$6,FALSE),10),ROUND(VLOOKUP($C24&H$8,'Calc-V'!$A$4:$S$399,$D$6,FALSE)/AI24,3)*1000)","v":43470},{"$f":"IF($A$4=\"Numbers\",MROUND(VLOOKUP($C24&I$8,'Calc-V'!$A$4:$S$399,$D$6,FALSE),10),ROUND(VLOOKUP($C24&I$8,'Calc-V'!$A$4:$S$399,$D$6,FALSE)/AJ24,3)*1000)","v":33430},{"$f":"IF($A$4=\"Numbers\",MROUND(VLOOKUP($C24&J$8,'Calc-V'!$A$4:$S$399,$D$6,FALSE),10),ROUND(VLOOKUP($C24&J$8,'Calc-V'!$A$4:$S$399,$D$6,FALSE)/AK24,3)*1000)","v":33430},{"$f":"IF($A$4=\"Numbers\",MROUND(VLOOKUP($C24&K$8,'Calc-V'!$A$4:$S$399,$D$6,FALSE),10),ROUND(VLOOKUP($C24&K$8,'Calc-V'!$A$4:$S$399,$D$6,FALSE)/AL24,3)*1000)","v":29100},{"$f":"IF($A$4=\"Numbers\",MROUND(VLOOKUP($C24&L$8,'Calc-V'!$A$4:$S$399,$D$6,FALSE),10),ROUND(VLOOKUP($C24&L$8,'Calc-V'!$A$4:$S$399,$D$6,FALSE)/AM24,3)*1000)","v":28270},{"$f":"IF($A$4=\"Numbers\",MROUND(VLOOKUP($C24&M$8,'Calc-V'!$A$4:$S$399,$D$6,FALSE),10),ROUND(VLOOKUP($C24&M$8,'Calc-V'!$A$4:$S$399,$D$6,FALSE)/AN24,3)*1000)","v":28270},{"$f":"IF($A$4=\"Numbers\",MROUND(VLOOKUP($C24&N$8,'Calc-V'!$A$4:$S$399,$D$6,FALSE),10),ROUND(VLOOKUP($C24&N$8,'Calc-V'!$A$4:$S$399,$D$6,FALSE)/AO24,3)*1000)","v":17530},{"$f":"IF($A$4=\"Numbers\",MROUND(VLOOKUP($C24&O$8,'Calc-V'!$A$4:$S$399,$D$6,FALSE),10),ROUND(VLOOKUP($C24&O$8,'Calc-V'!$A$4:$S$399,$D$6,FALSE)/AP24,3)*1000)","v":13910},null,{"$f":"IF($A$4=\"Numbers\",MROUND(VLOOKUP($C24&Q$8,'Calc-V'!$A$4:$S$399,$Q$6,FALSE),10),ROUND(VLOOKUP($C24&Q$8,'Calc-V'!$A$4:$S$399,$Q$6,FALSE)/AE24,3)*1000)","v":959860},{"$f":"IF($A$4=\"Numbers\",MROUND(VLOOKUP($C24&R$8,'Calc-V'!$A$4:$S$399,$Q$6,FALSE),10),ROUND(VLOOKUP($C24&R$8,'Calc-V'!$A$4:$S$399,$Q$6,FALSE)/AF24,3)*1000)","v":862710},{"$f":"IF($A$4=\"Numbers\",MROUND(VLOOKUP($C24&S$8,'Calc-V'!$A$4:$S$399,$Q$6,FALSE),10),ROUND(VLOOKUP($C24&S$8,'Calc-V'!$A$4:$S$399,$Q$6,FALSE)/AG24,3)*1000)","v":862710},{"$f":"IF($A$4=\"Numbers\",MROUND(VLOOKUP($C24&T$8,'Calc-V'!$A$4:$S$399,$Q$6,FALSE),10),ROUND(VLOOKUP($C24&T$8,'Calc-V'!$A$4:$S$399,$Q$6,FALSE)/AH24,3)*1000)","v":810710},{"$f":"IF($A$4=\"Numbers\",MROUND(VLOOKUP($C24&U$8,'Calc-V'!$A$4:$S$399,$Q$6,FALSE),10),ROUND(VLOOKUP($C24&U$8,'Calc-V'!$A$4:$S$399,$Q$6,FALSE)/AI24,3)*1000)","v":810710},{"$f":"IF($A$4=\"Numbers\",MROUND(VLOOKUP($C24&V$8,'Calc-V'!$A$4:$S$399,$Q$6,FALSE),10),ROUND(VLOOKUP($C24&V$8,'Calc-V'!$A$4:$S$399,$Q$6,FALSE)/AJ24,3)*1000)","v":915470},{"$f":"IF($A$4=\"Numbers\",MROUND(VLOOKUP($C24&W$8,'Calc-V'!$A$4:$S$399,$Q$6,FALSE),10),ROUND(VLOOKUP($C24&W$8,'Calc-V'!$A$4:$S$399,$Q$6,FALSE)/AK24,3)*1000)","v":973480},{"$f":"IF($A$4=\"Numbers\",MROUND(VLOOKUP($C24&X$8,'Calc-V'!$A$4:$S$399,$Q$6,FALSE),10),ROUND(VLOOKUP($C24&X$8,'Calc-V'!$A$4:$S$399,$Q$6,FALSE)/AL24,3)*1000)","v":907690},{"$f":"IF($A$4=\"Numbers\",MROUND(VLOOKUP($C24&Y$8,'Calc-V'!$A$4:$S$399,$Q$6,FALSE),10),ROUND(VLOOKUP($C24&Y$8,'Calc-V'!$A$4:$S$399,$Q$6,FALSE)/AM24,3)*1000)","v":875570},{"$f":"IF($A$4=\"Numbers\",MROUND(VLOOKUP($C24&Z$8,'Calc-V'!$A$4:$S$399,$Q$6,FALSE),10),ROUND(VLOOKUP($C24&Z$8,'Calc-V'!$A$4:$S$399,$Q$6,FALSE)/AN24,3)*1000)","v":875570},{"$f":"IF($A$4=\"Numbers\",MROUND(VLOOKUP($C24&AA$8,'Calc-V'!$A$4:$S$399,$Q$6,FALSE),10),ROUND(VLOOKUP($C24&AA$8,'Calc-V'!$A$4:$S$399,$Q$6,FALSE)/AO24,3)*1000)","v":704230},{"$f":"IF($A$4=\"Numbers\",MROUND(VLOOKUP($C24&AB$8,'Calc-V'!$A$4:$S$399,$Q$6,FALSE),10),ROUND(VLOOKUP($C24&AB$8,'Calc-V'!$A$4:$S$399,$Q$6,FALSE)/AP24,3)*1000)","v":524910},null,null,{"$f":"VLOOKUP($C24&AE$8,'Calc-V'!$A$4:$AA$399,$AE$6,FALSE)","v":571760},{"$f":"VLOOKUP($C24&AF$8,'Calc-V'!$A$4:$AA$399,$AE$6,FALSE)","v":576200},{"$f":"VLOOKUP($C24&AG$8,'Calc-V'!$A$4:$AA$399,$AE$6,FALSE)","v":576200},{"$f":"VLOOKUP($C24&AH$8,'Calc-V'!$A$4:$AA$399,$AE$6,FALSE)","v":581620},{"$f":"VLOOKUP($C24&AI$8,'Calc-V'!$A$4:$AA$399,$AE$6,FALSE)","v":581620},{"$f":"VLOOKUP($C24&AJ$8,'Calc-V'!$A$4:$AA$399,$AE$6,FALSE)","v":586500},{"$f":"VLOOKUP($C24&AK$8,'Calc-V'!$A$4:$AA$399,$AE$6,FALSE)","v":586500},{"$f":"VLOOKUP($C24&AL$8,'Calc-V'!$A$4:$AA$399,$AE$6,FALSE)","v":593060},{"$f":"VLOOKUP($C24&AM$8,'Calc-V'!$A$4:$AA$399,$AE$6,FALSE)","v":595080},{"$f":"VLOOKUP($C24&AN$8,'Calc-V'!$A$4:$AA$399,$AE$6,FALSE)","v":595080},{"$f":"VLOOKUP($C24&AO$8,'Calc-V'!$A$4:$AA$399,$AE$6,FALSE)","v":596550},{"$f":"VLOOKUP($C24&AP$8,'Calc-V'!$A$4:$AA$399,$AE$6,FALSE)","v":599650}]
[null,null,"Highland",{"$f":"IF($A$4=\"Numbers\",MROUND(VLOOKUP($C25&D$8,'Calc-V'!$A$4:$S$399,$D$6,FALSE),10),ROUND(VLOOKUP($C25&D$8,'Calc-V'!$A$4:$S$399,$D$6,FALSE)/AE25,3)*1000)","v":15000},{"$f":"IF($A$4=\"Numbers\",MROUND(VLOOKUP($C25&E$8,'Calc-V'!$A$4:$S$399,$D$6,FALSE),10),ROUND(VLOOKUP($C25&E$8,'Calc-V'!$A$4:$S$399,$D$6,FALSE)/AF25,3)*1000)","v":14900},{"$f":"IF($A$4=\"Numbers\",MROUND(VLOOKUP($C25&F$8,'Calc-V'!$A$4:$S$399,$D$6,FALSE),10),ROUND(VLOOKUP($C25&F$8,'Calc-V'!$A$4:$S$399,$D$6,FALSE)/AG25,3)*1000)","v":14900},{"$f":"IF($A$4=\"Numbers\",MROUND(VLOOKUP($C25&G$8,'Calc-V'!$A$4:$S$399,$D$6,FALSE),10),ROUND(VLOOKUP($C25&G$8,'Calc-V'!$A$4:$S$399,$D$6,FALSE)/AH25,3)*1000)","v":19310},{"$f":"IF($A$4=\"Numbers\",MROUND(VLOOKUP($C25&H$8,'Calc-V'!$A$4:$S$399,$D$6,FALSE),10),ROUND(VLOOKUP($C25&H$8,'Calc-V'!$A$4:$S$399,$D$6,FALSE)/AI25,3)*1000)","v":19310},{"$f":"IF($A$4=\"Numbers\",MROUND(VLOOKUP($C25&I$8,'Calc-V'!$A$4:$S$399,$D$6,FALSE),10),ROUND(VLOOKUP($C25&I$8,'Calc-V'!$A$4:$S$399,$D$6,FALSE)/AJ25,3)*1000)","v":16880},{"$f":"IF($A$4=\"Numbers\",MROUND(VLOOKUP($C25&J$8,'Calc-V'!$A$4:$S$399,$D$6,FALSE),10),ROUND(VLOOKUP($C25&J$8,'Calc-V'!$A$4:$S$399,$D$6,FALSE)/AK25,3)*1000)","v":16880},{"$f":"IF($A$4=\"Numbers\",MROUND(VLOOKUP($C25&K$8,'Calc-V'!$A$4:$S$399,$D$6,FALSE),10),ROUND(VLOOKUP($C25&K$8,'Calc-V'!$A$4:$S$399,$D$6,FALSE)/AL25,3)*1000)","v":17660},{"$f":"IF($A$4=\"Numbers\",MROUND(VLOOKUP($C25&L$8,'Calc-V'!$A$4:$S$399,$D$6,FALSE),10),ROUND(VLOOKUP($C25&L$8,'Calc-V'!$A$4:$S$399,$D$6,FALSE)/AM25,3)*1000)","v":18740},{"$f":"IF($A$4=\"Numbers\",MROUND(VLOOKUP($C25&M$8,'Calc-V'!$A$4:$S$399,$D$6,FALSE),10),ROUND(VLOOKUP($C25&M$8,'Calc-V'!$A$4:$S$399,$D$6,FALSE)/AN25,3)*1000)","v":18740},{"$f":"IF($A$4=\"Numbers\",MROUND(VLOOKUP($C25&N$8,'Calc-V'!$A$4:$S$399,$D$6,FALSE),10),ROUND(VLOOKUP($C25&N$8,'Calc-V'!$A$4:$S$399,$D$6,FALSE)/AO25,3)*1000)","v":16730},{"$f":"IF($A$4=\"Numbers\",MROUND(VLOOKUP($C25&O$8,'Calc-V'!$A$4:$S$399,$D$6,FALSE),10),ROUND(VLOOKUP($C25&O$8,'Calc-V'!$A$4:$S$399,$D$6,FALSE)/AP25,3)*1000)","v":17340},null,{"$f":"IF($A$4=\"Numbers\",MROUND(VLOOKUP($C25&Q$8,'Calc-V'!$A$4:$S$399,$Q$6,FALSE),10),ROUND(VLOOKUP($C25&Q$8,'Calc-V'!$A$4:$S$399,$Q$6,FALSE)/AE25,3)*1000)","v":89950},{"$f":"IF($A$4=\"Numbers\",MROUND(VLOOKUP($C25&R$8,'Calc-V'!$A$4:$S$399,$Q$6,FALSE),10),ROUND(VLOOKUP($C25&R$8,'Calc-V'!$A$4:$S$399,$Q$6,FALSE)/AF25,3)*1000)","v":90590},{"$f":"IF($A$4=\"Numbers\",MROUND(VLOOKUP($C25&S$8,'Calc-V'!$A$4:$S$399,$Q$6,FALSE),10),ROUND(VLOOKUP($C25&S$8,'Calc-V'!$A$4:$S$399,$Q$6,FALSE)/AG25,3)*1000)","v":142640},{"$f":"IF($A$4=\"Numbers\",MROUND(VLOOKUP($C25&T$8,'Calc-V'!$A$4:$S$399,$Q$6,FALSE),10),ROUND(VLOOKUP($C25&T$8,'Calc-V'!$A$4:$S$399,$Q$6,FALSE)/AH25,3)*1000)","v":153900},{"$f":"IF($A$4=\"Numbers\",MROUND(VLOOKUP($C25&U$8,'Calc-V'!$A$4:$S$399,$Q$6,FALSE),10),ROUND(VLOOKUP($C25&U$8,'Calc-V'!$A$4:$S$399,$Q$6,FALSE)/AI25,3)*1000)","v":153900},{"$f":"IF($A$4=\"Numbers\",MROUND(VLOOKUP($C25&V$8,'Calc-V'!$A$4:$S$399,$Q$6,FALSE),10),ROUND(VLOOKUP($C25&V$8,'Calc-V'!$A$4:$S$399,$Q$6,FALSE)/AJ25,3)*1000)","v":140830},{"$f":"IF($A$4=\"Numbers\",MROUND(VLOOKUP($C25&W$8,'Calc-V'!$A$4:$S$399,$Q$6,FALSE),10),ROUND(VLOOKUP($C25&W$8,'Calc-V'!$A$4:$S$399,$Q$6,FALSE)/AK25,3)*1000)","v":140830},{"$f":"IF($A$4=\"Numbers\",MROUND(VLOOKUP($C25&X$8,'Calc-V'!$A$4:$S$399,$Q$6,FALSE),10),ROUND(VLOOKUP($C25&X$8,'Calc-V'!$A$4:$S$399,$Q$6,FALSE)/AL25,3)*1000)","v":126890},{"$f":"IF($A$4=\"Numbers\",MROUND(VLOOKUP($C25&Y$8,'Calc-V'!$A$4:$S$399,$Q$6,FALSE),10),ROUND(VLOOKUP($C25&Y$8,'Calc-V'!$A$4:$S$399,$Q$6,FALSE)/AM25,3)*1000)","v":123170},{"$f":"IF($A$4=\"Numbers\",MROUND(VLOOKUP($C25&Z$8,'Calc-V'!$A$4:$S$399,$Q$6,FALSE),10),ROUND(VLOOKUP($C25&Z$8,'Calc-V'!$A$4:$S$399,$Q$6,FALSE)/AN25,3)*1000)","v":123170},{"$f":"IF($A$4=\"Numbers\",MROUND(VLOOKUP($C25&AA$8,'Calc-V'!$A$4:$S$399,$Q$6,FALSE),10),ROUND(VLOOKUP($C25&AA$8,'Calc-V'!$A$4:$S$399,$Q$6,FALSE)/AO25,3)*1000)","v":142810},{"$f":"IF($A$4=\"Numbers\",MROUND(VLOOKUP($C25&AB$8,'Calc-V'!$A$4:$S$399,$Q$6,FALSE),10),ROUND(VLOOKUP($C25&AB$8,'Calc-V'!$A$4:$S$399,$Q$6,FALSE)/AP25,3)*1000)","v":146480},null,null,{"$f":"VLOOKUP($C25&AE$8,'Calc-V'!$A$4:$AA$399,$AE$6,FALSE)","v":224000},{"$f":"VLOOKUP($C25&AF$8,'Calc-V'!$A$4:$AA$399,$AE$6,FALSE)","v":226980},{"$f":"VLOOKUP($C25&AG$8,'Calc-V'!$A$4:$AA$399,$AE$6,FALSE)","v":226980},{"$f":"VLOOKUP($C25&AH$8,'Calc-V'!$A$4:$AA$399,$AE$6,FALSE)","v":228750},{"$f":"VLOOKUP($C25&AI$8,'Calc-V'!$A$4:$AA$399,$AE$6,FALSE)","v":228750},{"$f":"VLOOKUP($C25&AJ$8,'Calc-V'!$A$4:$AA$399,$AE$6,FALSE)","v":230730},{"$f":"VLOOKUP($C25&AK$8,'Calc-V'!$A$4:$AA$399,$AE$6,FALSE)","v":230730},{"$f":"VLOOKUP($C25&AL$8,'Calc-V'!$A$4:$AA$399,$AE$6,FALSE)","v":232730},{"$f":"VLOOKUP($C25&AM$8,'Calc-V'!$A$4:$AA$399,$AE$6,FALSE)","v":232910},{"$f":"VLOOKUP($C25&AN$8,'Calc-V'!$A$4:$AA$399,$AE$6,FALSE)","v":232910},{"$f":"VLOOKUP($C25&AO$8,'Calc-V'!$A$4:$AA$399,$AE$6,FALSE)","v":232950},{"$f":"VLOOKUP($C25&AP$8,'Calc-V'!$A$4:$AA$399,$AE$6,FALSE)","v":233100}]
[null,null,"Inverclyde",{"$f":"IF($A$4=\"Numbers\",MROUND(VLOOKUP($C26&D$8,'Calc-V'!$A$4:$S$399,$D$6,FALSE),10),ROUND(VLOOKUP($C26&D$8,'Calc-V'!$A$4:$S$399,$D$6,FALSE)/AE26,3)*1000)","v":5930},{"$f":"IF($A$4=\"Numbers\",MROUND(VLOOKUP($C26&E$8,'Calc-V'!$A$4:$S$399,$D$6,FALSE),10),ROUND(VLOOKUP($C26&E$8,'Calc-V'!$A$4:$S$399,$D$6,FALSE)/AF26,3)*1000)","v":6480},{"$f":"IF($A$4=\"Numbers\",MROUND(VLOOKUP($C26&F$8,'Calc-V'!$A$4:$S$399,$D$6,FALSE),10),ROUND(VLOOKUP($C26&F$8,'Calc-V'!$A$4:$S$399,$D$6,FALSE)/AG26,3)*1000)","v":6480},{"$f":"IF($A$4=\"Numbers\",MROUND(VLOOKUP($C26&G$8,'Calc-V'!$A$4:$S$399,$D$6,FALSE),10),ROUND(VLOOKUP($C26&G$8,'Calc-V'!$A$4:$S$399,$D$6,FALSE)/AH26,3)*1000)","v":6800},{"$f":"IF($A$4=\"Numbers\",MROUND(VLOOKUP($C26&H$8,'Calc-V'!$A$4:$S$399,$D$6,FALSE),10),ROUND(VLOOKUP($C26&H$8,'Calc-V'!$A$4:$S$399,$D$6,FALSE)/AI26,3)*1000)","v":6800},{"$f":"IF($A$4=\"Numbers\",MROUND(VLOOKUP($C26&I$8,'Calc-V'!$A$4:$S$399,$D$6,FALSE),10),ROUND(VLOOKUP($C26&I$8,'Calc-V'!$A$4:$S$399,$D$6,FALSE)/AJ26,3)*1000)","v":6620},{"$f":"IF($A$4=\"Numbers\",MROUND(VLOOKUP($C26&J$8,'Calc-V'!$A$4:$S$399,$D$6,FALSE),10),ROUND(VLOOKUP($C26&J$8,'Calc-V'!$A$4:$S$399,$D$6,FALSE)/AK26,3)*1000)","v":6620},{"$f":"IF($A$4=\"Numbers\",MROUND(VLOOKUP($C26&K$8,'Calc-V'!$A$4:$S$399,$D$6,FALSE),10),ROUND(VLOOKUP($C26&K$8,'Calc-V'!$A$4:$S$399,$D$6,FALSE)/AL26,3)*1000)","v":6060},{"$f":"IF($A$4=\"Numbers\",MROUND(VLOOKUP($C26&L$8,'Calc-V'!$A$4:$S$399,$D$6,FALSE),10),ROUND(VLOOKUP($C26&L$8,'Calc-V'!$A$4:$S$399,$D$6,FALSE)/AM26,3)*1000)","v":7400},{"$f":"IF($A$4=\"Numbers\",MROUND(VLOOKUP($C26&M$8,'Calc-V'!$A$4:$S$399,$D$6,FALSE),10),ROUND(VLOOKUP($C26&M$8,'Calc-V'!$A$4:$S$399,$D$6,FALSE)/AN26,3)*1000)","v":7400},{"$f":"IF($A$4=\"Numbers\",MROUND(VLOOKUP($C26&N$8,'Calc-V'!$A$4:$S$399,$D$6,FALSE),10),ROUND(VLOOKUP($C26&N$8,'Calc-V'!$A$4:$S$399,$D$6,FALSE)/AO26,3)*1000)","v":7810},{"$f":"IF($A$4=\"Numbers\",MROUND(VLOOKUP($C26&O$8,'Calc-V'!$A$4:$S$399,$D$6,FALSE),10),ROUND(VLOOKUP($C26&O$8,'Calc-V'!$A$4:$S$399,$D$6,FALSE)/AP26,3)*1000)","v":6290},null,{"$f":"IF($A$4=\"Numbers\",MROUND(VLOOKUP($C26&Q$8,'Calc-V'!$A$4:$S$399,$Q$6,FALSE),10),ROUND(VLOOKUP($C26&Q$8,'Calc-V'!$A$4:$S$399,$Q$6,FALSE)/AE26,3)*1000)","v":322580},{"$f":"IF($A$4=\"Numbers\",MROUND(VLOOKUP($C26&R$8,'Calc-V'!$A$4:$S$399,$Q$6,FALSE),10),ROUND(VLOOKUP($C26&R$8,'Calc-V'!$A$4:$S$399,$Q$6,FALSE)/AF26,3)*1000)","v":307820},{"$f":"IF($A$4=\"Numbers\",MROUND(VLOOKUP($C26&S$8,'Calc-V'!$A$4:$S$399,$Q$6,FALSE),10),ROUND(VLOOKUP($C26&S$8,'Calc-V'!$A$4:$S$399,$Q$6,FALSE)/AG26,3)*1000)","v":599570},{"$f":"IF($A$4=\"Numbers\",MROUND(VLOOKUP($C26&T$8,'Calc-V'!$A$4:$S$399,$Q$6,FALSE),10),ROUND(VLOOKUP($C26&T$8,'Calc-V'!$A$4:$S$399,$Q$6,FALSE)/AH26,3)*1000)","v":619930},{"$f":"IF($A$4=\"Numbers\",MROUND(VLOOKUP($C26&U$8,'Calc-V'!$A$4:$S$399,$Q$6,FALSE),10),ROUND(VLOOKUP($C26&U$8,'Calc-V'!$A$4:$S$399,$Q$6,FALSE)/AI26,3)*1000)","v":619930},{"$f":"IF($A$4=\"Numbers\",MROUND(VLOOKUP($C26&V$8,'Calc-V'!$A$4:$S$399,$Q$6,FALSE),10),ROUND(VLOOKUP($C26&V$8,'Calc-V'!$A$4:$S$399,$Q$6,FALSE)/AJ26,3)*1000)","v":577160},{"$f":"IF($A$4=\"Numbers\",MROUND(VLOOKUP($C26&W$8,'Calc-V'!$A$4:$S$399,$Q$6,FALSE),10),ROUND(VLOOKUP($C26&W$8,'Calc-V'!$A$4:$S$399,$Q$6,FALSE)/AK26,3)*1000)","v":577160},{"$f":"IF($A$4=\"Numbers\",MROUND(VLOOKUP($C26&X$8,'Calc-V'!$A$4:$S$399,$Q$6,FALSE),10),ROUND(VLOOKUP($C26&X$8,'Calc-V'!$A$4:$S$399,$Q$6,FALSE)/AL26,3)*1000)","v":618760},{"$f":"IF($A$4=\"Numbers\",MROUND(VLOOKUP($C26&Y$8,'Calc-V'!$A$4:$S$399,$Q$6,FALSE),10),ROUND(VLOOKUP($C26&Y$8,'Calc-V'!$A$4:$S$399,$Q$6,FALSE)/AM26,3)*1000)","v":517640},{"$f":"IF($A$4=\"Numbers\",MROUND(VLOOKUP($C26&Z$8,'Calc-V'!$A$4:$S$399,$Q$6,FALSE),10),ROUND(VLOOKUP($C26&Z$8,'Calc-V'!$A$4:$S$399,$Q$6,FALSE)/AN26,3)*1000)","v":517640},{"$f":"IF($A$4=\"Numbers\",MROUND(VLOOKUP($C26&AA$8,'Calc-V'!$A$4:$S$399,$Q$6,FALSE),10),ROUND(VLOOKUP($C26&AA$8,'Calc-V'!$A$4:$S$399,$Q$6,FALSE)/AO26,3)*1000)","v":517710},{"$f":"IF($A$4=\"Numbers\",MROUND(VLOOKUP($C26&AB$8,'Calc-V'!$A$4:$S$399,$Q$6,FALSE),10),ROUND(VLOOKUP($C26&AB$8,'Calc-V'!$A$4:$S$399,$Q$6,FALSE)/AP26,3)*1000)","v":514710},null,null,{"$f":"VLOOKUP($C26&AE$8,'Calc-V'!$A$4:$AA$399,$AE$6,FALSE)","v":82110},{"$f":"VLOOKUP($C26&AF$8,'Calc-V'!$A$4:$AA$399,$AE$6,FALSE)","v":82000},{"$f":"VLOOKUP($C26&AG$8,'Calc-V'!$A$4:$AA$399,$AE$6,FALSE)","v":82000},{"$f":"VLOOKUP($C26&AH$8,'Calc-V'!$A$4:$AA$399,$AE$6,FALSE)","v":81670},{"$f":"VLOOKUP($C26&AI$8,'Calc-V'!$A$4:$AA$399,$AE$6,FALSE)","v":81670},{"$f":"VLOOKUP($C26&AJ$8,'Calc-V'!$A$4:$AA$399,$AE$6,FALSE)","v":81510},{"$f":"VLOOKUP($C26&AK$8,'Calc-V'!$A$4:$AA$399,$AE$6,FALSE)","v":81510},{"$f":"VLOOKUP($C26&AL$8,'Calc-V'!$A$4:$AA$399,$AE$6,FALSE)","v":81220},{"$f":"VLOOKUP($C26&AM$8,'Calc-V'!$A$4:$AA$399,$AE$6,FALSE)","v":80680},{"$f":"VLOOKUP($C26&AN$8,'Calc-V'!$A$4:$AA$399,$AE$6,FALSE)","v":80680},{"$f":"VLOOKUP($C26&AO$8,'Calc-V'!$A$4:$AA$399,$AE$6,FALSE)","v":80310},{"$f":"VLOOKUP($C26&AP$8,'Calc-V'!$A$4:$AA$399,$AE$6,FALSE)","v":79860}]
[null,null,"Midlothian",{"$f":"IF($A$4=\"Numbers\",MROUND(VLOOKUP($C27&D$8,'Calc-V'!$A$4:$S$399,$D$6,FALSE),10),ROUND(VLOOKUP($C27&D$8,'Calc-V'!$A$4:$S$399,$D$6,FALSE)/AE27,3)*1000)","v":6400},{"$f":"IF($A$4=\"Numbers\",MROUND(VLOOKUP($C27&E$8,'Calc-V'!$A$4:$S$399,$D$6,FALSE),10),ROUND(VLOOKUP($C27&E$8,'Calc-V'!$A$4:$S$399,$D$6,FALSE)/AF27,3)*1000)","v":7840},{"$f":"IF($A$4=\"Numbers\",MROUND(VLOOKUP($C27&F$8,'Calc-V'!$A$4:$S$399,$D$6,FALSE),10),ROUND(VLOOKUP($C27&F$8,'Calc-V'!$A$4:$S$399,$D$6,FALSE)/AG27,3)*1000)","v":7250},{"$f":"IF($A$4=\"Numbers\",MROUND(VLOOKUP($C27&G$8,'Calc-V'!$A$4:$S$399,$D$6,FALSE),10),ROUND(VLOOKUP($C27&G$8,'Calc-V'!$A$4:$S$399,$D$6,FALSE)/AH27,3)*1000)","v":6320},{"$f":"IF($A$4=\"Numbers\",MROUND(VLOOKUP($C27&H$8,'Calc-V'!$A$4:$S$399,$D$6,FALSE),10),ROUND(VLOOKUP($C27&H$8,'Calc-V'!$A$4:$S$399,$D$6,FALSE)/AI27,3)*1000)","v":6320},{"$f":"IF($A$4=\"Numbers\",MROUND(VLOOKUP($C27&I$8,'Calc-V'!$A$4:$S$399,$D$6,FALSE),10),ROUND(VLOOKUP($C27&I$8,'Calc-V'!$A$4:$S$399,$D$6,FALSE)/AJ27,3)*1000)","v":5940},{"$f":"IF($A$4=\"Numbers\",MROUND(VLOOKUP($C27&J$8,'Calc-V'!$A$4:$S$399,$D$6,FALSE),10),ROUND(VLOOKUP($C27&J$8,'Calc-V'!$A$4:$S$399,$D$6,FALSE)/AK27,3)*1000)","v":5940},{"$f":"IF($A$4=\"Numbers\",MROUND(VLOOKUP($C27&K$8,'Calc-V'!$A$4:$S$399,$D$6,FALSE),10),ROUND(VLOOKUP($C27&K$8,'Calc-V'!$A$4:$S$399,$D$6,FALSE)/AL27,3)*1000)","v":6600},{"$f":"IF($A$4=\"Numbers\",MROUND(VLOOKUP($C27&L$8,'Calc-V'!$A$4:$S$399,$D$6,FALSE),10),ROUND(VLOOKUP($C27&L$8,'Calc-V'!$A$4:$S$399,$D$6,FALSE)/AM27,3)*1000)","v":6520},{"$f":"IF($A$4=\"Numbers\",MROUND(VLOOKUP($C27&M$8,'Calc-V'!$A$4:$S$399,$D$6,FALSE),10),ROUND(VLOOKUP($C27&M$8,'Calc-V'!$A$4:$S$399,$D$6,FALSE)/AN27,3)*1000)","v":6560},{"$f":"IF($A$4=\"Numbers\",MROUND(VLOOKUP($C27&N$8,'Calc-V'!$A$4:$S$399,$D$6,FALSE),10),ROUND(VLOOKUP($C27&N$8,'Calc-V'!$A$4:$S$399,$D$6,FALSE)/AO27,3)*1000)","v":4150},{"$f":"IF($A$4=\"Numbers\",MROUND(VLOOKUP($C27&O$8,'Calc-V'!$A$4:$S$399,$D$6,FALSE),10),ROUND(VLOOKUP($C27&O$8,'Calc-V'!$A$4:$S$399,$D$6,FALSE)/AP27,3)*1000)","v":4420},null,{"$f":"IF($A$4=\"Numbers\",MROUND(VLOOKUP($C27&Q$8,'Calc-V'!$A$4:$S$399,$Q$6,FALSE),10),ROUND(VLOOKUP($C27&Q$8,'Calc-V'!$A$4:$S$399,$Q$6,FALSE)/AE27,3)*1000)","v":113960},{"$f":"IF($A$4=\"Numbers\",MROUND(VLOOKUP($C27&R$8,'Calc-V'!$A$4:$S$399,$Q$6,FALSE),10),ROUND(VLOOKUP($C27&R$8,'Calc-V'!$A$4:$S$399,$Q$6,FALSE)/AF27,3)*1000)","v":119810},{"$f":"IF($A$4=\"Numbers\",MROUND(VLOOKUP($C27&S$8,'Calc-V'!$A$4:$S$399,$Q$6,FALSE),10),ROUND(VLOOKUP($C27&S$8,'Calc-V'!$A$4:$S$399,$Q$6,FALSE)/AG27,3)*1000)","v":119340},{"$f":"IF($A$4=\"Numbers\",MROUND(VLOOKUP($C27&T$8,'Calc-V'!$A$4:$S$399,$Q$6,FALSE),10),ROUND(VLOOKUP($C27&T$8,'Calc-V'!$A$4:$S$399,$Q$6,FALSE)/AH27,3)*1000)","v":139280},{"$f":"IF($A$4=\"Numbers\",MROUND(VLOOKUP($C27&U$8,'Calc-V'!$A$4:$S$399,$Q$6,FALSE),10),ROUND(VLOOKUP($C27&U$8,'Calc-V'!$A$4:$S$399,$Q$6,FALSE)/AI27,3)*1000)","v":139280},{"$f":"IF($A$4=\"Numbers\",MROUND(VLOOKUP($C27&V$8,'Calc-V'!$A$4:$S$399,$Q$6,FALSE),10),ROUND(VLOOKUP($C27&V$8,'Calc-V'!$A$4:$S$399,$Q$6,FALSE)/AJ27,3)*1000)","v":136940},{"$f":"IF($A$4=\"Numbers\",MROUND(VLOOKUP($C27&W$8,'Calc-V'!$A$4:$S$399,$Q$6,FALSE),10),ROUND(VLOOKUP($C27&W$8,'Calc-V'!$A$4:$S$399,$Q$6,FALSE)/AK27,3)*1000)","v":169250},{"$f":"IF($A$4=\"Numbers\",MROUND(VLOOKUP($C27&X$8,'Calc-V'!$A$4:$S$399,$Q$6,FALSE),10),ROUND(VLOOKUP($C27&X$8,'Calc-V'!$A$4:$S$399,$Q$6,FALSE)/AL27,3)*1000)","v":202210},{"$f":"IF($A$4=\"Numbers\",MROUND(VLOOKUP($C27&Y$8,'Calc-V'!$A$4:$S$399,$Q$6,FALSE),10),ROUND(VLOOKUP($C27&Y$8,'Calc-V'!$A$4:$S$399,$Q$6,FALSE)/AM27,3)*1000)","v":218020},{"$f":"IF($A$4=\"Numbers\",MROUND(VLOOKUP($C27&Z$8,'Calc-V'!$A$4:$S$399,$Q$6,FALSE),10),ROUND(VLOOKUP($C27&Z$8,'Calc-V'!$A$4:$S$399,$Q$6,FALSE)/AN27,3)*1000)","v":218020},{"$f":"IF($A$4=\"Numbers\",MROUND(VLOOKUP($C27&AA$8,'Calc-V'!$A$4:$S$399,$Q$6,FALSE),10),ROUND(VLOOKUP($C27&AA$8,'Calc-V'!$A$4:$S$399,$Q$6,FALSE)/AO27,3)*1000)","v":239160},{"$f":"IF($A$4=\"Numbers\",MROUND(VLOOKUP($C27&AB$8,'Calc-V'!$A$4:$S$399,$Q$6,FALSE),10),ROUND(VLOOKUP($C27&AB$8,'Calc-V'!$A$4:$S$399,$Q$6,FALSE)/AP27,3)*1000)","v":249320},null,null,{"$f":"VLOOKUP($C27&AE$8,'Calc-V'!$A$4:$AA$399,$AE$6,FALSE)","v":80370},{"$f":"VLOOKUP($C27&AF$8,'Calc-V'!$A$4:$AA$399,$AE$6,FALSE)","v":81540},{"$f":"VLOOKUP($C27&AG$8,'Calc-V'!$A$4:$AA$399,$AE$6,FALSE)","v":81540},{"$f":"VLOOKUP($C27&AH$8,'Calc-V'!$A$4:$AA$399,$AE$6,FALSE)","v":81900},{"$f":"VLOOKUP($C27&AI$8,'Calc-V'!$A$4:$AA$399,$AE$6,FALSE)","v":81900},{"$f":"VLOOKUP($C27&AJ$8,'Calc-V'!$A$4:$AA$399,$AE$6,FALSE)","v":82360},{"$f":"VLOOKUP($C27&AK$8,'Calc-V'!$A$4:$AA$399,$AE$6,FALSE)","v":82360},{"$f":"VLOOKUP($C27&AL$8,'Calc-V'!$A$4:$AA$399,$AE$6,FALSE)","v":83450},{"$f":"VLOOKUP($C27&AM$8,'Calc-V'!$A$4:$AA$399,$AE$6,FALSE)","v":84240},{"$f":"VLOOKUP($C27&AN$8,'Calc-V'!$A$4:$AA$399,$AE$6,FALSE)","v":84240},{"$f":"VLOOKUP($C27&AO$8,'Calc-V'!$A$4:$AA$399,$AE$6,FALSE)","v":84700},{"$f":"VLOOKUP($C27&AP$8,'Calc-V'!$A$4:$AA$399,$AE$6,FALSE)","v":86210}]
[null,null,"Moray",{"$f":"IF($A$4=\"Numbers\",MROUND(VLOOKUP($C28&D$8,'Calc-V'!$A$4:$S$399,$D$6,FALSE),10),ROUND(VLOOKUP($C28&D$8,'Calc-V'!$A$4:$S$399,$D$6,FALSE)/AE28,3)*1000)","v":6830},{"$f":"IF($A$4=\"Numbers\",MROUND(VLOOKUP($C28&E$8,'Calc-V'!$A$4:$S$399,$D$6,FALSE),10),ROUND(VLOOKUP($C28&E$8,'Calc-V'!$A$4:$S$399,$D$6,FALSE)/AF28,3)*1000)","v":6600},{"$f":"IF($A$4=\"Numbers\",MROUND(VLOOKUP($C28&F$8,'Calc-V'!$A$4:$S$399,$D$6,FALSE),10),ROUND(VLOOKUP($C28&F$8,'Calc-V'!$A$4:$S$399,$D$6,FALSE)/AG28,3)*1000)","v":6600},{"$f":"IF($A$4=\"Numbers\",MROUND(VLOOKUP($C28&G$8,'Calc-V'!$A$4:$S$399,$D$6,FALSE),10),ROUND(VLOOKUP($C28&G$8,'Calc-V'!$A$4:$S$399,$D$6,FALSE)/AH28,3)*1000)","v":8600},{"$f":"IF($A$4=\"Numbers\",MROUND(VLOOKUP($C28&H$8,'Calc-V'!$A$4:$S$399,$D$6,FALSE),10),ROUND(VLOOKUP($C28&H$8,'Calc-V'!$A$4:$S$399,$D$6,FALSE)/AI28,3)*1000)","v":8600},{"$f":"IF($A$4=\"Numbers\",MROUND(VLOOKUP($C28&I$8,'Calc-V'!$A$4:$S$399,$D$6,FALSE),10),ROUND(VLOOKUP($C28&I$8,'Calc-V'!$A$4:$S$399,$D$6,FALSE)/AJ28,3)*1000)","v":8680},{"$f":"IF($A$4=\"Numbers\",MROUND(VLOOKUP($C28&J$8,'Calc-V'!$A$4:$S$399,$D$6,FALSE),10),ROUND(VLOOKUP($C28&J$8,'Calc-V'!$A$4:$S$399,$D$6,FALSE)/AK28,3)*1000)","v":8680},{"$f":"IF($A$4=\"Numbers\",MROUND(VLOOKUP($C28&K$8,'Calc-V'!$A$4:$S$399,$D$6,FALSE),10),ROUND(VLOOKUP($C28&K$8,'Calc-V'!$A$4:$S$399,$D$6,FALSE)/AL28,3)*1000)","v":8130},{"$f":"IF($A$4=\"Numbers\",MROUND(VLOOKUP($C28&L$8,'Calc-V'!$A$4:$S$399,$D$6,FALSE),10),ROUND(VLOOKUP($C28&L$8,'Calc-V'!$A$4:$S$399,$D$6,FALSE)/AM28,3)*1000)","v":8900},{"$f":"IF($A$4=\"Numbers\",MROUND(VLOOKUP($C28&M$8,'Calc-V'!$A$4:$S$399,$D$6,FALSE),10),ROUND(VLOOKUP($C28&M$8,'Calc-V'!$A$4:$S$399,$D$6,FALSE)/AN28,3)*1000)","v":8900},{"$f":"IF($A$4=\"Numbers\",MROUND(VLOOKUP($C28&N$8,'Calc-V'!$A$4:$S$399,$D$6,FALSE),10),ROUND(VLOOKUP($C28&N$8,'Calc-V'!$A$4:$S$399,$D$6,FALSE)/AO28,3)*1000)","v":7280},{"$f":"IF($A$4=\"Numbers\",MROUND(VLOOKUP($C28&O$8,'Calc-V'!$A$4:$S$399,$D$6,FALSE),10),ROUND(VLOOKUP($C28&O$8,'Calc-V'!$A$4:$S$399,$D$6,FALSE)/AP28,3)*1000)","v":7620},null,{"$f":"IF($A$4=\"Numbers\",MROUND(VLOOKUP($C28&Q$8,'Calc-V'!$A$4:$S$399,$Q$6,FALSE),10),ROUND(VLOOKUP($C28&Q$8,'Calc-V'!$A$4:$S$399,$Q$6,FALSE)/AE28,3)*1000)","v":44590},{"$f":"IF($A$4=\"Numbers\",MROUND(VLOOKUP($C28&R$8,'Calc-V'!$A$4:$S$399,$Q$6,FALSE),10),ROUND(VLOOKUP($C28&R$8,'Calc-V'!$A$4:$S$399,$Q$6,FALSE)/AF28,3)*1000)","v":48530},{"$f":"IF($A$4=\"Numbers\",MROUND(VLOOKUP($C28&S$8,'Calc-V'!$A$4:$S$399,$Q$6,FALSE),10),ROUND(VLOOKUP($C28&S$8,'Calc-V'!$A$4:$S$399,$Q$6,FALSE)/AG28,3)*1000)","v":44600},{"$f":"IF($A$4=\"Numbers\",MROUND(VLOOKUP($C28&T$8,'Calc-V'!$A$4:$S$399,$Q$6,FALSE),10),ROUND(VLOOKUP($C28&T$8,'Calc-V'!$A$4:$S$399,$Q$6,FALSE)/AH28,3)*1000)","v":37800},{"$f":"IF($A$4=\"Numbers\",MROUND(VLOOKUP($C28&U$8,'Calc-V'!$A$4:$S$399,$Q$6,FALSE),10),ROUND(VLOOKUP($C28&U$8,'Calc-V'!$A$4:$S$399,$Q$6,FALSE)/AI28,3)*1000)","v":37800},{"$f":"IF($A$4=\"Numbers\",MROUND(VLOOKUP($C28&V$8,'Calc-V'!$A$4:$S$399,$Q$6,FALSE),10),ROUND(VLOOKUP($C28&V$8,'Calc-V'!$A$4:$S$399,$Q$6,FALSE)/AJ28,3)*1000)","v":39350},{"$f":"IF($A$4=\"Numbers\",MROUND(VLOOKUP($C28&W$8,'Calc-V'!$A$4:$S$399,$Q$6,FALSE),10),ROUND(VLOOKUP($C28&W$8,'Calc-V'!$A$4:$S$399,$Q$6,FALSE)/AK28,3)*1000)","v":39350},{"$f":"IF($A$4=\"Numbers\",MROUND(VLOOKUP($C28&X$8,'Calc-V'!$A$4:$S$399,$Q$6,FALSE),10),ROUND(VLOOKUP($C28&X$8,'Calc-V'!$A$4:$S$399,$Q$6,FALSE)/AL28,3)*1000)","v":43640},{"$f":"IF($A$4=\"Numbers\",MROUND(VLOOKUP($C28&Y$8,'Calc-V'!$A$4:$S$399,$Q$6,FALSE),10),ROUND(VLOOKUP($C28&Y$8,'Calc-V'!$A$4:$S$399,$Q$6,FALSE)/AM28,3)*1000)","v":43030},{"$f":"IF($A$4=\"Numbers\",MROUND(VLOOKUP($C28&Z$8,'Calc-V'!$A$4:$S$399,$Q$6,FALSE),10),ROUND(VLOOKUP($C28&Z$8,'Calc-V'!$A$4:$S$399,$Q$6,FALSE)/AN28,3)*1000)","v":43030},{"$f":"IF($A$4=\"Numbers\",MROUND(VLOOKUP($C28&AA$8,'Calc-V'!$A$4:$S$399,$Q$6,FALSE),10),ROUND(VLOOKUP($C28&AA$8,'Calc-V'!$A$4:$S$399,$Q$6,FALSE)/AO28,3)*1000)","v":52250},{"$f":"IF($A$4=\"Numbers\",MROUND(VLOOKUP($C28&AB$8,'Calc-V'!$A$4:$S$399,$Q$6,FALSE),10),ROUND(VLOOKUP($C28&AB$8,'Calc-V'!$A$4:$S$399,$Q$6,FALSE)/AP28,3)*1000)","v":45460},null,null,{"$f":"VLOOKUP($C28&AE$8,'Calc-V'!$A$4:$AA$399,$AE$6,FALSE)","v":91440},{"$f":"VLOOKUP($C28&AF$8,'Calc-V'!$A$4:$AA$399,$AE$6,FALSE)","v":92830},{"$f":"VLOOKUP($C28&AG$8,'Calc-V'!$A$4:$AA$399,$AE$6,FALSE)","v":92830},{"$f":"VLOOKUP($C28&AH$8,'Calc-V'!$A$4:$AA$399,$AE$6,FALSE)","v":93170},{"$f":"VLOOKUP($C28&AI$8,'Calc-V'!$A$4:$AA$399,$AE$6,FALSE)","v":93170},{"$f":"VLOOKUP($C28&AJ$8,'Calc-V'!$A$4:$AA$399,$AE$6,FALSE)","v":93690},{"$f":"VLOOKUP($C28&AK$8,'Calc-V'!$A$4:$AA$399,$AE$6,FALSE)","v":93690},{"$f":"VLOOKUP($C28&AL$8,'Calc-V'!$A$4:$AA$399,$AE$6,FALSE)","v":93470},{"$f":"VLOOKUP($C28&AM$8,'Calc-V'!$A$4:$AA$399,$AE$6,FALSE)","v":92910},{"$f":"VLOOKUP($C28&AN$8,'Calc-V'!$A$4:$AA$399,$AE$6,FALSE)","v":92910},{"$f":"VLOOKUP($C28&AO$8,'Calc-V'!$A$4:$AA$399,$AE$6,FALSE)","v":94350},{"$f":"VLOOKUP($C28&AP$8,'Calc-V'!$A$4:$AA$399,$AE$6,FALSE)","v":94750}]
[null,null,"North Ayrshire",{"$f":"IF($A$4=\"Numbers\",MROUND(VLOOKUP($C29&D$8,'Calc-V'!$A$4:$S$399,$D$6,FALSE),10),ROUND(VLOOKUP($C29&D$8,'Calc-V'!$A$4:$S$399,$D$6,FALSE)/AE29,3)*1000)","v":16470},{"$f":"IF($A$4=\"Numbers\",MROUND(VLOOKUP($C29&E$8,'Calc-V'!$A$4:$S$399,$D$6,FALSE),10),ROUND(VLOOKUP($C29&E$8,'Calc-V'!$A$4:$S$399,$D$6,FALSE)/AF29,3)*1000)","v":18480},{"$f":"IF($A$4=\"Numbers\",MROUND(VLOOKUP($C29&F$8,'Calc-V'!$A$4:$S$399,$D$6,FALSE),10),ROUND(VLOOKUP($C29&F$8,'Calc-V'!$A$4:$S$399,$D$6,FALSE)/AG29,3)*1000)","v":18480},{"$f":"IF($A$4=\"Numbers\",MROUND(VLOOKUP($C29&G$8,'Calc-V'!$A$4:$S$399,$D$6,FALSE),10),ROUND(VLOOKUP($C29&G$8,'Calc-V'!$A$4:$S$399,$D$6,FALSE)/AH29,3)*1000)","v":17280},{"$f":"IF($A$4=\"Numbers\",MROUND(VLOOKUP($C29&H$8,'Calc-V'!$A$4:$S$399,$D$6,FALSE),10),ROUND(VLOOKUP($C29&H$8,'Calc-V'!$A$4:$S$399,$D$6,FALSE)/AI29,3)*1000)","v":17280},{"$f":"IF($A$4=\"Numbers\",MROUND(VLOOKUP($C29&I$8,'Calc-V'!$A$4:$S$399,$D$6,FALSE),10),ROUND(VLOOKUP($C29&I$8,'Calc-V'!$A$4:$S$399,$D$6,FALSE)/AJ29,3)*1000)","v":16740},{"$f":"IF($A$4=\"Numbers\",MROUND(VLOOKUP($C29&J$8,'Calc-V'!$A$4:$S$399,$D$6,FALSE),10),ROUND(VLOOKUP($C29&J$8,'Calc-V'!$A$4:$S$399,$D$6,FALSE)/AK29,3)*1000)","v":16740},{"$f":"IF($A$4=\"Numbers\",MROUND(VLOOKUP($C29&K$8,'Calc-V'!$A$4:$S$399,$D$6,FALSE),10),ROUND(VLOOKUP($C29&K$8,'Calc-V'!$A$4:$S$399,$D$6,FALSE)/AL29,3)*1000)","v":15980},{"$f":"IF($A$4=\"Numbers\",MROUND(VLOOKUP($C29&L$8,'Calc-V'!$A$4:$S$399,$D$6,FALSE),10),ROUND(VLOOKUP($C29&L$8,'Calc-V'!$A$4:$S$399,$D$6,FALSE)/AM29,3)*1000)","v":13980},{"$f":"IF($A$4=\"Numbers\",MROUND(VLOOKUP($C29&M$8,'Calc-V'!$A$4:$S$399,$D$6,FALSE),10),ROUND(VLOOKUP($C29&M$8,'Calc-V'!$A$4:$S$399,$D$6,FALSE)/AN29,3)*1000)","v":14380},{"$f":"IF($A$4=\"Numbers\",MROUND(VLOOKUP($C29&N$8,'Calc-V'!$A$4:$S$399,$D$6,FALSE),10),ROUND(VLOOKUP($C29&N$8,'Calc-V'!$A$4:$S$399,$D$6,FALSE)/AO29,3)*1000)","v":13950},{"$f":"IF($A$4=\"Numbers\",MROUND(VLOOKUP($C29&O$8,'Calc-V'!$A$4:$S$399,$D$6,FALSE),10),ROUND(VLOOKUP($C29&O$8,'Calc-V'!$A$4:$S$399,$D$6,FALSE)/AP29,3)*1000)","v":15490},null,{"$f":"IF($A$4=\"Numbers\",MROUND(VLOOKUP($C29&Q$8,'Calc-V'!$A$4:$S$399,$Q$6,FALSE),10),ROUND(VLOOKUP($C29&Q$8,'Calc-V'!$A$4:$S$399,$Q$6,FALSE)/AE29,3)*1000)","v":112330},{"$f":"IF($A$4=\"Numbers\",MROUND(VLOOKUP($C29&R$8,'Calc-V'!$A$4:$S$399,$Q$6,FALSE),10),ROUND(VLOOKUP($C29&R$8,'Calc-V'!$A$4:$S$399,$Q$6,FALSE)/AF29,3)*1000)","v":117680},{"$f":"IF($A$4=\"Numbers\",MROUND(VLOOKUP($C29&S$8,'Calc-V'!$A$4:$S$399,$Q$6,FALSE),10),ROUND(VLOOKUP($C29&S$8,'Calc-V'!$A$4:$S$399,$Q$6,FALSE)/AG29,3)*1000)","v":117680},{"$f":"IF($A$4=\"Numbers\",MROUND(VLOOKUP($C29&T$8,'Calc-V'!$A$4:$S$399,$Q$6,FALSE),10),ROUND(VLOOKUP($C29&T$8,'Calc-V'!$A$4:$S$399,$Q$6,FALSE)/AH29,3)*1000)","v":120980},{"$f":"IF($A$4=\"Numbers\",MROUND(VLOOKUP($C29&U$8,'Calc-V'!$A$4:$S$399,$Q$6,FALSE),10),ROUND(VLOOKUP($C29&U$8,'Calc-V'!$A$4:$S$399,$Q$6,FALSE)/AI29,3)*1000)","v":120980},{"$f":"IF($A$4=\"Numbers\",MROUND(VLOOKUP($C29&V$8,'Calc-V'!$A$4:$S$399,$Q$6,FALSE),10),ROUND(VLOOKUP($C29&V$8,'Calc-V'!$A$4:$S$399,$Q$6,FALSE)/AJ29,3)*1000)","v":128820},{"$f":"IF($A$4=\"Numbers\",MROUND(VLOOKUP($C29&W$8,'Calc-V'!$A$4:$S$399,$Q$6,FALSE),10),ROUND(VLOOKUP($C29&W$8,'Calc-V'!$A$4:$S$399,$Q$6,FALSE)/AK29,3)*1000)","v":128820},{"$f":"IF($A$4=\"Numbers\",MROUND(VLOOKUP($C29&X$8,'Calc-V'!$A$4:$S$399,$Q$6,FALSE),10),ROUND(VLOOKUP($C29&X$8,'Calc-V'!$A$4:$S$399,$Q$6,FALSE)/AL29,3)*1000)","v":119310},{"$f":"IF($A$4=\"Numbers\",MROUND(VLOOKUP($C29&Y$8,'Calc-V'!$A$4:$S$399,$Q$6,FALSE),10),ROUND(VLOOKUP($C29&Y$8,'Calc-V'!$A$4:$S$399,$Q$6,FALSE)/AM29,3)*1000)","v":220020},{"$f":"IF($A$4=\"Numbers\",MROUND(VLOOKUP($C29&Z$8,'Calc-V'!$A$4:$S$399,$Q$6,FALSE),10),ROUND(VLOOKUP($C29&Z$8,'Calc-V'!$A$4:$S$399,$Q$6,FALSE)/AN29,3)*1000)","v":220020},{"$f":"IF($A$4=\"Numbers\",MROUND(VLOOKUP($C29&AA$8,'Calc-V'!$A$4:$S$399,$Q$6,FALSE),10),ROUND(VLOOKUP($C29&AA$8,'Calc-V'!$A$4:$S$399,$Q$6,FALSE)/AO29,3)*1000)","v":211810},{"$f":"IF($A$4=\"Numbers\",MROUND(VLOOKUP($C29&AB$8,'Calc-V'!$A$4:$S$399,$Q$6,FALSE),10),ROUND(VLOOKUP($C29&AB$8,'Calc-V'!$A$4:$S$399,$Q$6,FALSE)/AP29,3)*1000)","v":208520},null,null,{"$f":"VLOOKUP($C29&AE$8,'Calc-V'!$A$4:$AA$399,$AE$6,FALSE)","v":137420},{"$f":"VLOOKUP($C29&AF$8,'Calc-V'!$A$4:$AA$399,$AE$6,FALSE)","v":137910},{"$f":"VLOOKUP($C29&AG$8,'Calc-V'!$A$4:$AA$399,$AE$6,FALSE)","v":137910},{"$f":"VLOOKUP($C29&AH$8,'Calc-V'!$A$4:$AA$399,$AE$6,FALSE)","v":137830},{"$f":"VLOOKUP($C29&AI$8,'Calc-V'!$A$4:$AA$399,$AE$6,FALSE)","v":137830},{"$f":"VLOOKUP($C29&AJ$8,'Calc-V'!$A$4:$AA$399,$AE$6,FALSE)","v":137790},{"$f":"VLOOKUP($C29&AK$8,'Calc-V'!$A$4:$AA$399,$AE$6,FALSE)","v":137790},{"$f":"VLOOKUP($C29&AL$8,'Calc-V'!$A$4:$AA$399,$AE$6,FALSE)","v":138090},{"$f":"VLOOKUP($C29&AM$8,'Calc-V'!$A$4:$AA$399,$AE$6,FALSE)","v":137560},{"$f":"VLOOKUP($C29&AN$8,'Calc-V'!$A$4:$AA$399,$AE$6,FALSE)","v":137560},{"$f":"VLOOKUP($C29&AO$8,'Calc-V'!$A$4:$AA$399,$AE$6,FALSE)","v":136920},{"$f":"VLOOKUP($C29&AP$8,'Calc-V'!$A$4:$AA$399,$AE$6,FALSE)","v":136450}]
[null,null,"North Lanarkshire",{"$f":"IF($A$4=\"Numbers\",MROUND(VLOOKUP($C30&D$8,'Calc-V'!$A$4:$S$399,$D$6,FALSE),10),ROUND(VLOOKUP($C30&D$8,'Calc-V'!$A$4:$S$399,$D$6,FALSE)/AE30,3)*1000)","v":22300},{"$f":"IF($A$4=\"Numbers\",MROUND(VLOOKUP($C30&E$8,'Calc-V'!$A$4:$S$399,$D$6,FALSE),10),ROUND(VLOOKUP($C30&E$8,'Calc-V'!$A$4:$S$399,$D$6,FALSE)/AF30,3)*1000)","v":19800},{"$f":"IF($A$4=\"Numbers\",MROUND(VLOOKUP($C30&F$8,'Calc-V'!$A$4:$S$399,$D$6,FALSE),10),ROUND(VLOOKUP($C30&F$8,'Calc-V'!$A$4:$S$399,$D$6,FALSE)/AG30,3)*1000)","v":19800},{"$f":"IF($A$4=\"Numbers\",MROUND(VLOOKUP($C30&G$8,'Calc-V'!$A$4:$S$399,$D$6,FALSE),10),ROUND(VLOOKUP($C30&G$8,'Calc-V'!$A$4:$S$399,$D$6,FALSE)/AH30,3)*1000)","v":21070},{"$f":"IF($A$4=\"Numbers\",MROUND(VLOOKUP($C30&H$8,'Calc-V'!$A$4:$S$399,$D$6,FALSE),10),ROUND(VLOOKUP($C30&H$8,'Calc-V'!$A$4:$S$399,$D$6,FALSE)/AI30,3)*1000)","v":21070},{"$f":"IF($A$4=\"Numbers\",MROUND(VLOOKUP($C30&I$8,'Calc-V'!$A$4:$S$399,$D$6,FALSE),10),ROUND(VLOOKUP($C30&I$8,'Calc-V'!$A$4:$S$399,$D$6,FALSE)/AJ30,3)*1000)","v":20160},{"$f":"IF($A$4=\"Numbers\",MROUND(VLOOKUP($C30&J$8,'Calc-V'!$A$4:$S$399,$D$6,FALSE),10),ROUND(VLOOKUP($C30&J$8,'Calc-V'!$A$4:$S$399,$D$6,FALSE)/AK30,3)*1000)","v":20160},{"$f":"IF($A$4=\"Numbers\",MROUND(VLOOKUP($C30&K$8,'Calc-V'!$A$4:$S$399,$D$6,FALSE),10),ROUND(VLOOKUP($C30&K$8,'Calc-V'!$A$4:$S$399,$D$6,FALSE)/AL30,3)*1000)","v":19930},{"$f":"IF($A$4=\"Numbers\",MROUND(VLOOKUP($C30&L$8,'Calc-V'!$A$4:$S$399,$D$6,FALSE),10),ROUND(VLOOKUP($C30&L$8,'Calc-V'!$A$4:$S$399,$D$6,FALSE)/AM30,3)*1000)","v":19490},{"$f":"IF($A$4=\"Numbers\",MROUND(VLOOKUP($C30&M$8,'Calc-V'!$A$4:$S$399,$D$6,FALSE),10),ROUND(VLOOKUP($C30&M$8,'Calc-V'!$A$4:$S$399,$D$6,FALSE)/AN30,3)*1000)","v":19490},{"$f":"IF($A$4=\"Numbers\",MROUND(VLOOKUP($C30&N$8,'Calc-V'!$A$4:$S$399,$D$6,FALSE),10),ROUND(VLOOKUP($C30&N$8,'Calc-V'!$A$4:$S$399,$D$6,FALSE)/AO30,3)*1000)","v":18140},{"$f":"IF($A$4=\"Numbers\",MROUND(VLOOKUP($C30&O$8,'Calc-V'!$A$4:$S$399,$D$6,FALSE),10),ROUND(VLOOKUP($C30&O$8,'Calc-V'!$A$4:$S$399,$D$6,FALSE)/AP30,3)*1000)","v":17640},null,{"$f":"IF($A$4=\"Numbers\",MROUND(VLOOKUP($C30&Q$8,'Calc-V'!$A$4:$S$399,$Q$6,FALSE),10),ROUND(VLOOKUP($C30&Q$8,'Calc-V'!$A$4:$S$399,$Q$6,FALSE)/AE30,3)*1000)","v":358980},{"$f":"IF($A$4=\"Numbers\",MROUND(VLOOKUP($C30&R$8,'Calc-V'!$A$4:$S$399,$Q$6,FALSE),10),ROUND(VLOOKUP($C30&R$8,'Calc-V'!$A$4:$S$399,$Q$6,FALSE)/AF30,3)*1000)","v":524460},{"$f":"IF($A$4=\"Numbers\",MROUND(VLOOKUP($C30&S$8,'Calc-V'!$A$4:$S$399,$Q$6,FALSE),10),ROUND(VLOOKUP($C30&S$8,'Calc-V'!$A$4:$S$399,$Q$6,FALSE)/AG30,3)*1000)","v":524460},{"$f":"IF($A$4=\"Numbers\",MROUND(VLOOKUP($C30&T$8,'Calc-V'!$A$4:$S$399,$Q$6,FALSE),10),ROUND(VLOOKUP($C30&T$8,'Calc-V'!$A$4:$S$399,$Q$6,FALSE)/AH30,3)*1000)","v":431950},{"$f":"IF($A$4=\"Numbers\",MROUND(VLOOKUP($C30&U$8,'Calc-V'!$A$4:$S$399,$Q$6,FALSE),10),ROUND(VLOOKUP($C30&U$8,'Calc-V'!$A$4:$S$399,$Q$6,FALSE)/AI30,3)*1000)","v":431950},{"$f":"IF($A$4=\"Numbers\",MROUND(VLOOKUP($C30&V$8,'Calc-V'!$A$4:$S$399,$Q$6,FALSE),10),ROUND(VLOOKUP($C30&V$8,'Calc-V'!$A$4:$S$399,$Q$6,FALSE)/AJ30,3)*1000)","v":413540},{"$f":"IF($A$4=\"Numbers\",MROUND(VLOOKUP($C30&W$8,'Calc-V'!$A$4:$S$399,$Q$6,FALSE),10),ROUND(VLOOKUP($C30&W$8,'Calc-V'!$A$4:$S$399,$Q$6,FALSE)/AK30,3)*1000)","v":413540},{"$f":"IF($A$4=\"Numbers\",MROUND(VLOOKUP($C30&X$8,'Calc-V'!$A$4:$S$399,$Q$6,FALSE),10),ROUND(VLOOKUP($C30&X$8,'Calc-V'!$A$4:$S$399,$Q$6,FALSE)/AL30,3)*1000)","v":432570},{"$f":"IF($A$4=\"Numbers\",MROUND(VLOOKUP($C30&Y$8,'Calc-V'!$A$4:$S$399,$Q$6,FALSE),10),ROUND(VLOOKUP($C30&Y$8,'Calc-V'!$A$4:$S$399,$Q$6,FALSE)/AM30,3)*1000)","v":452680},{"$f":"IF($A$4=\"Numbers\",MROUND(VLOOKUP($C30&Z$8,'Calc-V'!$A$4:$S$399,$Q$6,FALSE),10),ROUND(VLOOKUP($C30&Z$8,'Calc-V'!$A$4:$S$399,$Q$6,FALSE)/AN30,3)*1000)","v":452680},{"$f":"IF($A$4=\"Numbers\",MROUND(VLOOKUP($C30&AA$8,'Calc-V'!$A$4:$S$399,$Q$6,FALSE),10),ROUND(VLOOKUP($C30&AA$8,'Calc-V'!$A$4:$S$399,$Q$6,FALSE)/AO30,3)*1000)","v":481820},{"$f":"IF($A$4=\"Numbers\",MROUND(VLOOKUP($C30&AB$8,'Calc-V'!$A$4:$S$399,$Q$6,FALSE),10),ROUND(VLOOKUP($C30&AB$8,'Calc-V'!$A$4:$S$399,$Q$6,FALSE)/AP30,3)*1000)","v":454750},null,null,{"$f":"VLOOKUP($C30&AE$8,'Calc-V'!$A$4:$AA$399,$AE$6,FALSE)","v":331170},{"$f":"VLOOKUP($C30&AF$8,'Calc-V'!$A$4:$AA$399,$AE$6,FALSE)","v":333290},{"$f":"VLOOKUP($C30&AG$8,'Calc-V'!$A$4:$AA$399,$AE$6,FALSE)","v":333290},{"$f":"VLOOKUP($C30&AH$8,'Calc-V'!$A$4:$AA$399,$AE$6,FALSE)","v":335160},{"$f":"VLOOKUP($C30&AI$8,'Calc-V'!$A$4:$AA$399,$AE$6,FALSE)","v":335160},{"$f":"VLOOKUP($C30&AJ$8,'Calc-V'!$A$4:$AA$399,$AE$6,FALSE)","v":336280},{"$f":"VLOOKUP($C30&AK$8,'Calc-V'!$A$4:$AA$399,$AE$6,FALSE)","v":336280},{"$f":"VLOOKUP($C30&AL$8,'Calc-V'!$A$4:$AA$399,$AE$6,FALSE)","v":337720},{"$f":"VLOOKUP($C30&AM$8,'Calc-V'!$A$4:$AA$399,$AE$6,FALSE)","v":337870},{"$f":"VLOOKUP($C30&AN$8,'Calc-V'!$A$4:$AA$399,$AE$6,FALSE)","v":337870},{"$f":"VLOOKUP($C30&AO$8,'Calc-V'!$A$4:$AA$399,$AE$6,FALSE)","v":337730},{"$f":"VLOOKUP($C30&AP$8,'Calc-V'!$A$4:$AA$399,$AE$6,FALSE)","v":337950}]
[null,null,"Orkney Islands",{"$f":"IF($A$4=\"Numbers\",MROUND(VLOOKUP($C31&D$8,'Calc-V'!$A$4:$S$399,$D$6,FALSE),10),ROUND(VLOOKUP($C31&D$8,'Calc-V'!$A$4:$S$399,$D$6,FALSE)/AE31,3)*1000)","v":3700},{"$f":"IF($A$4=\"Numbers\",MROUND(VLOOKUP($C31&E$8,'Calc-V'!$A$4:$S$399,$D$6,FALSE),10),ROUND(VLOOKUP($C31&E$8,'Calc-V'!$A$4:$S$399,$D$6,FALSE)/AF31,3)*1000)","v":3410},{"$f":"IF($A$4=\"Numbers\",MROUND(VLOOKUP($C31&F$8,'Calc-V'!$A$4:$S$399,$D$6,FALSE),10),ROUND(VLOOKUP($C31&F$8,'Calc-V'!$A$4:$S$399,$D$6,FALSE)/AG31,3)*1000)","v":3410},{"$f":"IF($A$4=\"Numbers\",MROUND(VLOOKUP($C31&G$8,'Calc-V'!$A$4:$S$399,$D$6,FALSE),10),ROUND(VLOOKUP($C31&G$8,'Calc-V'!$A$4:$S$399,$D$6,FALSE)/AH31,3)*1000)","v":3370},{"$f":"IF($A$4=\"Numbers\",MROUND(VLOOKUP($C31&H$8,'Calc-V'!$A$4:$S$399,$D$6,FALSE),10),ROUND(VLOOKUP($C31&H$8,'Calc-V'!$A$4:$S$399,$D$6,FALSE)/AI31,3)*1000)","v":3370},{"$f":"IF($A$4=\"Numbers\",MROUND(VLOOKUP($C31&I$8,'Calc-V'!$A$4:$S$399,$D$6,FALSE),10),ROUND(VLOOKUP($C31&I$8,'Calc-V'!$A$4:$S$399,$D$6,FALSE)/AJ31,3)*1000)","v":3410},{"$f":"IF($A$4=\"Numbers\",MROUND(VLOOKUP($C31&J$8,'Calc-V'!$A$4:$S$399,$D$6,FALSE),10),ROUND(VLOOKUP($C31&J$8,'Calc-V'!$A$4:$S$399,$D$6,FALSE)/AK31,3)*1000)","v":3410},{"$f":"IF($A$4=\"Numbers\",MROUND(VLOOKUP($C31&K$8,'Calc-V'!$A$4:$S$399,$D$6,FALSE),10),ROUND(VLOOKUP($C31&K$8,'Calc-V'!$A$4:$S$399,$D$6,FALSE)/AL31,3)*1000)","v":3650},{"$f":"IF($A$4=\"Numbers\",MROUND(VLOOKUP($C31&L$8,'Calc-V'!$A$4:$S$399,$D$6,FALSE),10),ROUND(VLOOKUP($C31&L$8,'Calc-V'!$A$4:$S$399,$D$6,FALSE)/AM31,3)*1000)","v":3650},{"$f":"IF($A$4=\"Numbers\",MROUND(VLOOKUP($C31&M$8,'Calc-V'!$A$4:$S$399,$D$6,FALSE),10),ROUND(VLOOKUP($C31&M$8,'Calc-V'!$A$4:$S$399,$D$6,FALSE)/AN31,3)*1000)","v":3650},{"$f":"IF($A$4=\"Numbers\",MROUND(VLOOKUP($C31&N$8,'Calc-V'!$A$4:$S$399,$D$6,FALSE),10),ROUND(VLOOKUP($C31&N$8,'Calc-V'!$A$4:$S$399,$D$6,FALSE)/AO31,3)*1000)","v":3410},{"$f":"IF($A$4=\"Numbers\",MROUND(VLOOKUP($C31&O$8,'Calc-V'!$A$4:$S$399,$D$6,FALSE),10),ROUND(VLOOKUP($C31&O$8,'Calc-V'!$A$4:$S$399,$D$6,FALSE)/AP31,3)*1000)","v":3320},null,{"$f":"IF($A$4=\"Numbers\",MROUND(VLOOKUP($C31&Q$8,'Calc-V'!$A$4:$S$399,$Q$6,FALSE),10),ROUND(VLOOKUP($C31&Q$8,'Calc-V'!$A$4:$S$399,$Q$6,FALSE)/AE31,3)*1000)","v":45740},{"$f":"IF($A$4=\"Numbers\",MROUND(VLOOKUP($C31&R$8,'Calc-V'!$A$4:$S$399,$Q$6,FALSE),10),ROUND(VLOOKUP($C31&R$8,'Calc-V'!$A$4:$S$399,$Q$6,FALSE)/AF31,3)*1000)","v":45510},{"$f":"IF($A$4=\"Numbers\",MROUND(VLOOKUP($C31&S$8,'Calc-V'!$A$4:$S$399,$Q$6,FALSE),10),ROUND(VLOOKUP($C31&S$8,'Calc-V'!$A$4:$S$399,$Q$6,FALSE)/AG31,3)*1000)","v":71600},{"$f":"IF($A$4=\"Numbers\",MROUND(VLOOKUP($C31&T$8,'Calc-V'!$A$4:$S$399,$Q$6,FALSE),10),ROUND(VLOOKUP($C31&T$8,'Calc-V'!$A$4:$S$399,$Q$6,FALSE)/AH31,3)*1000)","v":61610},{"$f":"IF($A$4=\"Numbers\",MROUND(VLOOKUP($C31&U$8,'Calc-V'!$A$4:$S$399,$Q$6,FALSE),10),ROUND(VLOOKUP($C31&U$8,'Calc-V'!$A$4:$S$399,$Q$6,FALSE)/AI31,3)*1000)","v":65960},{"$f":"IF($A$4=\"Numbers\",MROUND(VLOOKUP($C31&V$8,'Calc-V'!$A$4:$S$399,$Q$6,FALSE),10),ROUND(VLOOKUP($C31&V$8,'Calc-V'!$A$4:$S$399,$Q$6,FALSE)/AJ31,3)*1000)","v":75370},{"$f":"IF($A$4=\"Numbers\",MROUND(VLOOKUP($C31&W$8,'Calc-V'!$A$4:$S$399,$Q$6,FALSE),10),ROUND(VLOOKUP($C31&W$8,'Calc-V'!$A$4:$S$399,$Q$6,FALSE)/AK31,3)*1000)","v":75370},{"$f":"IF($A$4=\"Numbers\",MROUND(VLOOKUP($C31&X$8,'Calc-V'!$A$4:$S$399,$Q$6,FALSE),10),ROUND(VLOOKUP($C31&X$8,'Calc-V'!$A$4:$S$399,$Q$6,FALSE)/AL31,3)*1000)","v":81720},{"$f":"IF($A$4=\"Numbers\",MROUND(VLOOKUP($C31&Y$8,'Calc-V'!$A$4:$S$399,$Q$6,FALSE),10),ROUND(VLOOKUP($C31&Y$8,'Calc-V'!$A$4:$S$399,$Q$6,FALSE)/AM31,3)*1000)","v":81720},{"$f":"IF($A$4=\"Numbers\",MROUND(VLOOKUP($C31&Z$8,'Calc-V'!$A$4:$S$399,$Q$6,FALSE),10),ROUND(VLOOKUP($C31&Z$8,'Calc-V'!$A$4:$S$399,$Q$6,FALSE)/AN31,3)*1000)","v":81720},{"$f":"IF($A$4=\"Numbers\",MROUND(VLOOKUP($C31&AA$8,'Calc-V'!$A$4:$S$399,$Q$6,FALSE),10),ROUND(VLOOKUP($C31&AA$8,'Calc-V'!$A$4:$S$399,$Q$6,FALSE)/AO31,3)*1000)","v":63470},{"$f":"IF($A$4=\"Numbers\",MROUND(VLOOKUP($C31&AB$8,'Calc-V'!$A$4:$S$399,$Q$6,FALSE),10),ROUND(VLOOKUP($C31&AB$8,'Calc-V'!$A$4:$S$399,$Q$6,FALSE)/AP31,3)*1000)","v":7590},null,null,{"$f":"VLOOKUP($C31&AE$8,'Calc-V'!$A$4:$AA$399,$AE$6,FALSE)","v":20580},{"$f":"VLOOKUP($C31&AF$8,'Calc-V'!$A$4:$AA$399,$AE$6,FALSE)","v":20740},{"$f":"VLOOKUP($C31&AG$8,'Calc-V'!$A$4:$AA$399,$AE$6,FALSE)","v":20740},{"$f":"VLOOKUP($C31&AH$8,'Calc-V'!$A$4:$AA$399,$AE$6,FALSE)","v":20940},{"$f":"VLOOKUP($C31&AI$8,'Calc-V'!$A$4:$AA$399,$AE$6,FALSE)","v":20940},{"$f":"VLOOKUP($C31&AJ$8,'Calc-V'!$A$4:$AA$399,$AE$6,FALSE)","v":21220},{"$f":"VLOOKUP($C31&AK$8,'Calc-V'!$A$4:$AA$399,$AE$6,FALSE)","v":21220},{"$f":"VLOOKUP($C31&AL$8,'Calc-V'!$A$4:$AA$399,$AE$6,FALSE)","v":21420},{"$f":"VLOOKUP($C31&AM$8,'Calc-V'!$A$4:$AA$399,$AE$6,FALSE)","v":21530},{"$f":"VLOOKUP($C31&AN$8,'Calc-V'!$A$4:$AA$399,$AE$6,FALSE)","v":21530},{"$f":"VLOOKUP($C31&AO$8,'Calc-V'!$A$4:$AA$399,$AE$6,FALSE)","v":21570},{"$f":"VLOOKUP($C31&AP$8,'Calc-V'!$A$4:$AA$399,$AE$6,FALSE)","v":21590}]
[null,null,"Perth & Kinross",{"$f":"IF($A$4=\"Numbers\",MROUND(VLOOKUP($C32&D$8,'Calc-V'!$A$4:$S$399,$D$6,FALSE),10),ROUND(VLOOKUP($C32&D$8,'Calc-V'!$A$4:$S$399,$D$6,FALSE)/AE32,3)*1000)","v":17900},{"$f":"IF($A$4=\"Numbers\",MROUND(VLOOKUP($C32&E$8,'Calc-V'!$A$4:$S$399,$D$6,FALSE),10),ROUND(VLOOKUP($C32&E$8,'Calc-V'!$A$4:$S$399,$D$6,FALSE)/AF32,3)*1000)","v":17390},{"$f":"IF($A$4=\"Numbers\",MROUND(VLOOKUP($C32&F$8,'Calc-V'!$A$4:$S$399,$D$6,FALSE),10),ROUND(VLOOKUP($C32&F$8,'Calc-V'!$A$4:$S$399,$D$6,FALSE)/AG32,3)*1000)","v":17390},{"$f":"IF($A$4=\"Numbers\",MROUND(VLOOKUP($C32&G$8,'Calc-V'!$A$4:$S$399,$D$6,FALSE),10),ROUND(VLOOKUP($C32&G$8,'Calc-V'!$A$4:$S$399,$D$6,FALSE)/AH32,3)*1000)","v":15760},{"$f":"IF($A$4=\"Numbers\",MROUND(VLOOKUP($C32&H$8,'Calc-V'!$A$4:$S$399,$D$6,FALSE),10),ROUND(VLOOKUP($C32&H$8,'Calc-V'!$A$4:$S$399,$D$6,FALSE)/AI32,3)*1000)","v":15760},{"$f":"IF($A$4=\"Numbers\",MROUND(VLOOKUP($C32&I$8,'Calc-V'!$A$4:$S$399,$D$6,FALSE),10),ROUND(VLOOKUP($C32&I$8,'Calc-V'!$A$4:$S$399,$D$6,FALSE)/AJ32,3)*1000)","v":16560},{"$f":"IF($A$4=\"Numbers\",MROUND(VLOOKUP($C32&J$8,'Calc-V'!$A$4:$S$399,$D$6,FALSE),10),ROUND(VLOOKUP($C32&J$8,'Calc-V'!$A$4:$S$399,$D$6,FALSE)/AK32,3)*1000)","v":16560},{"$f":"IF($A$4=\"Numbers\",MROUND(VLOOKUP($C32&K$8,'Calc-V'!$A$4:$S$399,$D$6,FALSE),10),ROUND(VLOOKUP($C32&K$8,'Calc-V'!$A$4:$S$399,$D$6,FALSE)/AL32,3)*1000)","v":20450},{"$f":"IF($A$4=\"Numbers\",MROUND(VLOOKUP($C32&L$8,'Calc-V'!$A$4:$S$399,$D$6,FALSE),10),ROUND(VLOOKUP($C32&L$8,'Calc-V'!$A$4:$S$399,$D$6,FALSE)/AM32,3)*1000)","v":14960},{"$f":"IF($A$4=\"Numbers\",MROUND(VLOOKUP($C32&M$8,'Calc-V'!$A$4:$S$399,$D$6,FALSE),10),ROUND(VLOOKUP($C32&M$8,'Calc-V'!$A$4:$S$399,$D$6,FALSE)/AN32,3)*1000)","v":14960},{"$f":"IF($A$4=\"Numbers\",MROUND(VLOOKUP($C32&N$8,'Calc-V'!$A$4:$S$399,$D$6,FALSE),10),ROUND(VLOOKUP($C32&N$8,'Calc-V'!$A$4:$S$399,$D$6,FALSE)/AO32,3)*1000)","v":14000},{"$f":"IF($A$4=\"Numbers\",MROUND(VLOOKUP($C32&O$8,'Calc-V'!$A$4:$S$399,$D$6,FALSE),10),ROUND(VLOOKUP($C32&O$8,'Calc-V'!$A$4:$S$399,$D$6,FALSE)/AP32,3)*1000)","v":17070},null,{"$f":"IF($A$4=\"Numbers\",MROUND(VLOOKUP($C32&Q$8,'Calc-V'!$A$4:$S$399,$Q$6,FALSE),10),ROUND(VLOOKUP($C32&Q$8,'Calc-V'!$A$4:$S$399,$Q$6,FALSE)/AE32,3)*1000)","v":120850},{"$f":"IF($A$4=\"Numbers\",MROUND(VLOOKUP($C32&R$8,'Calc-V'!$A$4:$S$399,$Q$6,FALSE),10),ROUND(VLOOKUP($C32&R$8,'Calc-V'!$A$4:$S$399,$Q$6,FALSE)/AF32,3)*1000)","v":137990},{"$f":"IF($A$4=\"Numbers\",MROUND(VLOOKUP($C32&S$8,'Calc-V'!$A$4:$S$399,$Q$6,FALSE),10),ROUND(VLOOKUP($C32&S$8,'Calc-V'!$A$4:$S$399,$Q$6,FALSE)/AG32,3)*1000)","v":137990},{"$f":"IF($A$4=\"Numbers\",MROUND(VLOOKUP($C32&T$8,'Calc-V'!$A$4:$S$399,$Q$6,FALSE),10),ROUND(VLOOKUP($C32&T$8,'Calc-V'!$A$4:$S$399,$Q$6,FALSE)/AH32,3)*1000)","v":213560},{"$f":"IF($A$4=\"Numbers\",MROUND(VLOOKUP($C32&U$8,'Calc-V'!$A$4:$S$399,$Q$6,FALSE),10),ROUND(VLOOKUP($C32&U$8,'Calc-V'!$A$4:$S$399,$Q$6,FALSE)/AI32,3)*1000)","v":213560},{"$f":"IF($A$4=\"Numbers\",MROUND(VLOOKUP($C32&V$8,'Calc-V'!$A$4:$S$399,$Q$6,FALSE),10),ROUND(VLOOKUP($C32&V$8,'Calc-V'!$A$4:$S$399,$Q$6,FALSE)/AJ32,3)*1000)","v":201160},{"$f":"IF($A$4=\"Numbers\",MROUND(VLOOKUP($C32&W$8,'Calc-V'!$A$4:$S$399,$Q$6,FALSE),10),ROUND(VLOOKUP($C32&W$8,'Calc-V'!$A$4:$S$399,$Q$6,FALSE)/AK32,3)*1000)","v":201160},{"$f":"IF($A$4=\"Numbers\",MROUND(VLOOKUP($C32&X$8,'Calc-V'!$A$4:$S$399,$Q$6,FALSE),10),ROUND(VLOOKUP($C32&X$8,'Calc-V'!$A$4:$S$399,$Q$6,FALSE)/AL32,3)*1000)","v":231370},{"$f":"IF($A$4=\"Numbers\",MROUND(VLOOKUP($C32&Y$8,'Calc-V'!$A$4:$S$399,$Q$6,FALSE),10),ROUND(VLOOKUP($C32&Y$8,'Calc-V'!$A$4:$S$399,$Q$6,FALSE)/AM32,3)*1000)","v":322630},{"$f":"IF($A$4=\"Numbers\",MROUND(VLOOKUP($C32&Z$8,'Calc-V'!$A$4:$S$399,$Q$6,FALSE),10),ROUND(VLOOKUP($C32&Z$8,'Calc-V'!$A$4:$S$399,$Q$6,FALSE)/AN32,3)*1000)","v":322630},{"$f":"IF($A$4=\"Numbers\",MROUND(VLOOKUP($C32&AA$8,'Calc-V'!$A$4:$S$399,$Q$6,FALSE),10),ROUND(VLOOKUP($C32&AA$8,'Calc-V'!$A$4:$S$399,$Q$6,FALSE)/AO32,3)*1000)","v":295750},{"$f":"IF($A$4=\"Numbers\",MROUND(VLOOKUP($C32&AB$8,'Calc-V'!$A$4:$S$399,$Q$6,FALSE),10),ROUND(VLOOKUP($C32&AB$8,'Calc-V'!$A$4:$S$399,$Q$6,FALSE)/AP32,3)*1000)","v":344250},null,null,{"$f":"VLOOKUP($C32&AE$8,'Calc-V'!$A$4:$AA$399,$AE$6,FALSE)","v":141140},{"$f":"VLOOKUP($C32&AF$8,'Calc-V'!$A$4:$AA$399,$AE$6,FALSE)","v":143130},{"$f":"VLOOKUP($C32&AG$8,'Calc-V'!$A$4:$AA$399,$AE$6,FALSE)","v":143130},{"$f":"VLOOKUP($C32&AH$8,'Calc-V'!$A$4:$AA$399,$AE$6,FALSE)","v":144370},{"$f":"VLOOKUP($C32&AI$8,'Calc-V'!$A$4:$AA$399,$AE$6,FALSE)","v":144370},{"$f":"VLOOKUP($C32&AJ$8,'Calc-V'!$A$4:$AA$399,$AE$6,FALSE)","v":145600},{"$f":"VLOOKUP($C32&AK$8,'Calc-V'!$A$4:$AA$399,$AE$6,FALSE)","v":145600},{"$f":"VLOOKUP($C32&AL$8,'Calc-V'!$A$4:$AA$399,$AE$6,FALSE)","v":146850},{"$f":"VLOOKUP($C32&AM$8,'Calc-V'!$A$4:$AA$399,$AE$6,FALSE)","v":147740},{"$f":"VLOOKUP($C32&AN$8,'Calc-V'!$A$4:$AA$399,$AE$6,FALSE)","v":147740},{"$f":"VLOOKUP($C32&AO$8,'Calc-V'!$A$4:$AA$399,$AE$6,FALSE)","v":147750},{"$f":"VLOOKUP($C32&AP$8,'Calc-V'!$A$4:$AA$399,$AE$6,FALSE)","v":148880}]
[null,null,"Renfrewshire",{"$f":"IF($A$4=\"Numbers\",MROUND(VLOOKUP($C33&D$8,'Calc-V'!$A$4:$S$399,$D$6,FALSE),10),ROUND(VLOOKUP($C33&D$8,'Calc-V'!$A$4:$S$399,$D$6,FALSE)/AE33,3)*1000)","v":17560},{"$f":"IF($A$4=\"Numbers\",MROUND(VLOOKUP($C33&E$8,'Calc-V'!$A$4:$S$399,$D$6,FALSE),10),ROUND(VLOOKUP($C33&E$8,'Calc-V'!$A$4:$S$399,$D$6,FALSE)/AF33,3)*1000)","v":18540},{"$f":"IF($A$4=\"Numbers\",MROUND(VLOOKUP($C33&F$8,'Calc-V'!$A$4:$S$399,$D$6,FALSE),10),ROUND(VLOOKUP($C33&F$8,'Calc-V'!$A$4:$S$399,$D$6,FALSE)/AG33,3)*1000)","v":18540},{"$f":"IF($A$4=\"Numbers\",MROUND(VLOOKUP($C33&G$8,'Calc-V'!$A$4:$S$399,$D$6,FALSE),10),ROUND(VLOOKUP($C33&G$8,'Calc-V'!$A$4:$S$399,$D$6,FALSE)/AH33,3)*1000)","v":17990},{"$f":"IF($A$4=\"Numbers\",MROUND(VLOOKUP($C33&H$8,'Calc-V'!$A$4:$S$399,$D$6,FALSE),10),ROUND(VLOOKUP($C33&H$8,'Calc-V'!$A$4:$S$399,$D$6,FALSE)/AI33,3)*1000)","v":17990},{"$f":"IF($A$4=\"Numbers\",MROUND(VLOOKUP($C33&I$8,'Calc-V'!$A$4:$S$399,$D$6,FALSE),10),ROUND(VLOOKUP($C33&I$8,'Calc-V'!$A$4:$S$399,$D$6,FALSE)/AJ33,3)*1000)","v":16550},{"$f":"IF($A$4=\"Numbers\",MROUND(VLOOKUP($C33&J$8,'Calc-V'!$A$4:$S$399,$D$6,FALSE),10),ROUND(VLOOKUP($C33&J$8,'Calc-V'!$A$4:$S$399,$D$6,FALSE)/AK33,3)*1000)","v":16550},{"$f":"IF($A$4=\"Numbers\",MROUND(VLOOKUP($C33&K$8,'Calc-V'!$A$4:$S$399,$D$6,FALSE),10),ROUND(VLOOKUP($C33&K$8,'Calc-V'!$A$4:$S$399,$D$6,FALSE)/AL33,3)*1000)","v":16030},{"$f":"IF($A$4=\"Numbers\",MROUND(VLOOKUP($C33&L$8,'Calc-V'!$A$4:$S$399,$D$6,FALSE),10),ROUND(VLOOKUP($C33&L$8,'Calc-V'!$A$4:$S$399,$D$6,FALSE)/AM33,3)*1000)","v":17570},{"$f":"IF($A$4=\"Numbers\",MROUND(VLOOKUP($C33&M$8,'Calc-V'!$A$4:$S$399,$D$6,FALSE),10),ROUND(VLOOKUP($C33&M$8,'Calc-V'!$A$4:$S$399,$D$6,FALSE)/AN33,3)*1000)","v":17570},{"$f":"IF($A$4=\"Numbers\",MROUND(VLOOKUP($C33&N$8,'Calc-V'!$A$4:$S$399,$D$6,FALSE),10),ROUND(VLOOKUP($C33&N$8,'Calc-V'!$A$4:$S$399,$D$6,FALSE)/AO33,3)*1000)","v":15230},{"$f":"IF($A$4=\"Numbers\",MROUND(VLOOKUP($C33&O$8,'Calc-V'!$A$4:$S$399,$D$6,FALSE),10),ROUND(VLOOKUP($C33&O$8,'Calc-V'!$A$4:$S$399,$D$6,FALSE)/AP33,3)*1000)","v":14230},null,{"$f":"IF($A$4=\"Numbers\",MROUND(VLOOKUP($C33&Q$8,'Calc-V'!$A$4:$S$399,$Q$6,FALSE),10),ROUND(VLOOKUP($C33&Q$8,'Calc-V'!$A$4:$S$399,$Q$6,FALSE)/AE33,3)*1000)","v":89030},{"$f":"IF($A$4=\"Numbers\",MROUND(VLOOKUP($C33&R$8,'Calc-V'!$A$4:$S$399,$Q$6,FALSE),10),ROUND(VLOOKUP($C33&R$8,'Calc-V'!$A$4:$S$399,$Q$6,FALSE)/AF33,3)*1000)","v":81600},{"$f":"IF($A$4=\"Numbers\",MROUND(VLOOKUP($C33&S$8,'Calc-V'!$A$4:$S$399,$Q$6,FALSE),10),ROUND(VLOOKUP($C33&S$8,'Calc-V'!$A$4:$S$399,$Q$6,FALSE)/AG33,3)*1000)","v":71580},{"$f":"IF($A$4=\"Numbers\",MROUND(VLOOKUP($C33&T$8,'Calc-V'!$A$4:$S$399,$Q$6,FALSE),10),ROUND(VLOOKUP($C33&T$8,'Calc-V'!$A$4:$S$399,$Q$6,FALSE)/AH33,3)*1000)","v":76570},{"$f":"IF($A$4=\"Numbers\",MROUND(VLOOKUP($C33&U$8,'Calc-V'!$A$4:$S$399,$Q$6,FALSE),10),ROUND(VLOOKUP($C33&U$8,'Calc-V'!$A$4:$S$399,$Q$6,FALSE)/AI33,3)*1000)","v":76570},{"$f":"IF($A$4=\"Numbers\",MROUND(VLOOKUP($C33&V$8,'Calc-V'!$A$4:$S$399,$Q$6,FALSE),10),ROUND(VLOOKUP($C33&V$8,'Calc-V'!$A$4:$S$399,$Q$6,FALSE)/AJ33,3)*1000)","v":68680},{"$f":"IF($A$4=\"Numbers\",MROUND(VLOOKUP($C33&W$8,'Calc-V'!$A$4:$S$399,$Q$6,FALSE),10),ROUND(VLOOKUP($C33&W$8,'Calc-V'!$A$4:$S$399,$Q$6,FALSE)/AK33,3)*1000)","v":68680},{"$f":"IF($A$4=\"Numbers\",MROUND(VLOOKUP($C33&X$8,'Calc-V'!$A$4:$S$399,$Q$6,FALSE),10),ROUND(VLOOKUP($C33&X$8,'Calc-V'!$A$4:$S$399,$Q$6,FALSE)/AL33,3)*1000)","v":60750},{"$f":"IF($A$4=\"Numbers\",MROUND(VLOOKUP($C33&Y$8,'Calc-V'!$A$4:$S$399,$Q$6,FALSE),10),ROUND(VLOOKUP($C33&Y$8,'Calc-V'!$A$4:$S$399,$Q$6,FALSE)/AM33,3)*1000)","v":70600},{"$f":"IF($A$4=\"Numbers\",MROUND(VLOOKUP($C33&Z$8,'Calc-V'!$A$4:$S$399,$Q$6,FALSE),10),ROUND(VLOOKUP($C33&Z$8,'Calc-V'!$A$4:$S$399,$Q$6,FALSE)/AN33,3)*1000)","v":70600},{"$f":"IF($A$4=\"Numbers\",MROUND(VLOOKUP($C33&AA$8,'Calc-V'!$A$4:$S$399,$Q$6,FALSE),10),ROUND(VLOOKUP($C33&AA$8,'Calc-V'!$A$4:$S$399,$Q$6,FALSE)/AO33,3)*1000)","v":70400},{"$f":"IF($A$4=\"Numbers\",MROUND(VLOOKUP($C33&AB$8,'Calc-V'!$A$4:$S$399,$Q$6,FALSE),10),ROUND(VLOOKUP($C33&AB$8,'Calc-V'!$A$4:$S$399,$Q$6,FALSE)/AP33,3)*1000)","v":68730},null,null,{"$f":"VLOOKUP($C33&AE$8,'Calc-V'!$A$4:$AA$399,$AE$6,FALSE)","v":171860},{"$f":"VLOOKUP($C33&AF$8,'Calc-V'!$A$4:$AA$399,$AE$6,FALSE)","v":172640},{"$f":"VLOOKUP($C33&AG$8,'Calc-V'!$A$4:$AA$399,$AE$6,FALSE)","v":172640},{"$f":"VLOOKUP($C33&AH$8,'Calc-V'!$A$4:$AA$399,$AE$6,FALSE)","v":173020},{"$f":"VLOOKUP($C33&AI$8,'Calc-V'!$A$4:$AA$399,$AE$6,FALSE)","v":173020},{"$f":"VLOOKUP($C33&AJ$8,'Calc-V'!$A$4:$AA$399,$AE$6,FALSE)","v":173700},{"$f":"VLOOKUP($C33&AK$8,'Calc-V'!$A$4:$AA$399,$AE$6,FALSE)","v":173700},{"$f":"VLOOKUP($C33&AL$8,'Calc-V'!$A$4:$AA$399,$AE$6,FALSE)","v":174700},{"$f":"VLOOKUP($C33&AM$8,'Calc-V'!$A$4:$AA$399,$AE$6,FALSE)","v":174310},{"$f":"VLOOKUP($C33&AN$8,'Calc-V'!$A$4:$AA$399,$AE$6,FALSE)","v":174310},{"$f":"VLOOKUP($C33&AO$8,'Calc-V'!$A$4:$AA$399,$AE$6,FALSE)","v":173900},{"$f":"VLOOKUP($C33&AP$8,'Calc-V'!$A$4:$AA$399,$AE$6,FALSE)","v":174230}]
[null,null,"Scottish Borders",{"$f":"IF($A$4=\"Numbers\",MROUND(VLOOKUP($C34&D$8,'Calc-V'!$A$4:$S$399,$D$6,FALSE),10),ROUND(VLOOKUP($C34&D$8,'Calc-V'!$A$4:$S$399,$D$6,FALSE)/AE34,3)*1000)","v":9100},{"$f":"IF($A$4=\"Numbers\",MROUND(VLOOKUP($C34&E$8,'Calc-V'!$A$4:$S$399,$D$6,FALSE),10),ROUND(VLOOKUP($C34&E$8,'Calc-V'!$A$4:$S$399,$D$6,FALSE)/AF34,3)*1000)","v":11370},{"$f":"IF($A$4=\"Numbers\",MROUND(VLOOKUP($C34&F$8,'Calc-V'!$A$4:$S$399,$D$6,FALSE),10),ROUND(VLOOKUP($C34&F$8,'Calc-V'!$A$4:$S$399,$D$6,FALSE)/AG34,3)*1000)","v":11080},{"$f":"IF($A$4=\"Numbers\",MROUND(VLOOKUP($C34&G$8,'Calc-V'!$A$4:$S$399,$D$6,FALSE),10),ROUND(VLOOKUP($C34&G$8,'Calc-V'!$A$4:$S$399,$D$6,FALSE)/AH34,3)*1000)","v":11520},{"$f":"IF($A$4=\"Numbers\",MROUND(VLOOKUP($C34&H$8,'Calc-V'!$A$4:$S$399,$D$6,FALSE),10),ROUND(VLOOKUP($C34&H$8,'Calc-V'!$A$4:$S$399,$D$6,FALSE)/AI34,3)*1000)","v":11520},{"$f":"IF($A$4=\"Numbers\",MROUND(VLOOKUP($C34&I$8,'Calc-V'!$A$4:$S$399,$D$6,FALSE),10),ROUND(VLOOKUP($C34&I$8,'Calc-V'!$A$4:$S$399,$D$6,FALSE)/AJ34,3)*1000)","v":10780},{"$f":"IF($A$4=\"Numbers\",MROUND(VLOOKUP($C34&J$8,'Calc-V'!$A$4:$S$399,$D$6,FALSE),10),ROUND(VLOOKUP($C34&J$8,'Calc-V'!$A$4:$S$399,$D$6,FALSE)/AK34,3)*1000)","v":10780},{"$f":"IF($A$4=\"Numbers\",MROUND(VLOOKUP($C34&K$8,'Calc-V'!$A$4:$S$399,$D$6,FALSE),10),ROUND(VLOOKUP($C34&K$8,'Calc-V'!$A$4:$S$399,$D$6,FALSE)/AL34,3)*1000)","v":12100},{"$f":"IF($A$4=\"Numbers\",MROUND(VLOOKUP($C34&L$8,'Calc-V'!$A$4:$S$399,$D$6,FALSE),10),ROUND(VLOOKUP($C34&L$8,'Calc-V'!$A$4:$S$399,$D$6,FALSE)/AM34,3)*1000)","v":11590},{"$f":"IF($A$4=\"Numbers\",MROUND(VLOOKUP($C34&M$8,'Calc-V'!$A$4:$S$399,$D$6,FALSE),10),ROUND(VLOOKUP($C34&M$8,'Calc-V'!$A$4:$S$399,$D$6,FALSE)/AN34,3)*1000)","v":11590},{"$f":"IF($A$4=\"Numbers\",MROUND(VLOOKUP($C34&N$8,'Calc-V'!$A$4:$S$399,$D$6,FALSE),10),ROUND(VLOOKUP($C34&N$8,'Calc-V'!$A$4:$S$399,$D$6,FALSE)/AO34,3)*1000)","v":12530},{"$f":"IF($A$4=\"Numbers\",MROUND(VLOOKUP($C34&O$8,'Calc-V'!$A$4:$S$399,$D$6,FALSE),10),ROUND(VLOOKUP($C34&O$8,'Calc-V'!$A$4:$S$399,$D$6,FALSE)/AP34,3)*1000)","v":10410},null,{"$f":"IF($A$4=\"Numbers\",MROUND(VLOOKUP($C34&Q$8,'Calc-V'!$A$4:$S$399,$Q$6,FALSE),10),ROUND(VLOOKUP($C34&Q$8,'Calc-V'!$A$4:$S$399,$Q$6,FALSE)/AE34,3)*1000)","v":16880},{"$f":"IF($A$4=\"Numbers\",MROUND(VLOOKUP($C34&R$8,'Calc-V'!$A$4:$S$399,$Q$6,FALSE),10),ROUND(VLOOKUP($C34&R$8,'Calc-V'!$A$4:$S$399,$Q$6,FALSE)/AF34,3)*1000)","v":16220},{"$f":"IF($A$4=\"Numbers\",MROUND(VLOOKUP($C34&S$8,'Calc-V'!$A$4:$S$399,$Q$6,FALSE),10),ROUND(VLOOKUP($C34&S$8,'Calc-V'!$A$4:$S$399,$Q$6,FALSE)/AG34,3)*1000)","v":17550},{"$f":"IF($A$4=\"Numbers\",MROUND(VLOOKUP($C34&T$8,'Calc-V'!$A$4:$S$399,$Q$6,FALSE),10),ROUND(VLOOKUP($C34&T$8,'Calc-V'!$A$4:$S$399,$Q$6,FALSE)/AH34,3)*1000)","v":19880},{"$f":"IF($A$4=\"Numbers\",MROUND(VLOOKUP($C34&U$8,'Calc-V'!$A$4:$S$399,$Q$6,FALSE),10),ROUND(VLOOKUP($C34&U$8,'Calc-V'!$A$4:$S$399,$Q$6,FALSE)/AI34,3)*1000)","v":19880},{"$f":"IF($A$4=\"Numbers\",MROUND(VLOOKUP($C34&V$8,'Calc-V'!$A$4:$S$399,$Q$6,FALSE),10),ROUND(VLOOKUP($C34&V$8,'Calc-V'!$A$4:$S$399,$Q$6,FALSE)/AJ34,3)*1000)","v":27010},{"$f":"IF($A$4=\"Numbers\",MROUND(VLOOKUP($C34&W$8,'Calc-V'!$A$4:$S$399,$Q$6,FALSE),10),ROUND(VLOOKUP($C34&W$8,'Calc-V'!$A$4:$S$399,$Q$6,FALSE)/AK34,3)*1000)","v":27010},{"$f":"IF($A$4=\"Numbers\",MROUND(VLOOKUP($C34&X$8,'Calc-V'!$A$4:$S$399,$Q$6,FALSE),10),ROUND(VLOOKUP($C34&X$8,'Calc-V'!$A$4:$S$399,$Q$6,FALSE)/AL34,3)*1000)","v":28780},{"$f":"IF($A$4=\"Numbers\",MROUND(VLOOKUP($C34&Y$8,'Calc-V'!$A$4:$S$399,$Q$6,FALSE),10),ROUND(VLOOKUP($C34&Y$8,'Calc-V'!$A$4:$S$399,$Q$6,FALSE)/AM34,3)*1000)","v":25950},{"$f":"IF($A$4=\"Numbers\",MROUND(VLOOKUP($C34&Z$8,'Calc-V'!$A$4:$S$399,$Q$6,FALSE),10),ROUND(VLOOKUP($C34&Z$8,'Calc-V'!$A$4:$S$399,$Q$6,FALSE)/AN34,3)*1000)","v":25950},{"$f":"IF($A$4=\"Numbers\",MROUND(VLOOKUP($C34&AA$8,'Calc-V'!$A$4:$S$399,$Q$6,FALSE),10),ROUND(VLOOKUP($C34&AA$8,'Calc-V'!$A$4:$S$399,$Q$6,FALSE)/AO34,3)*1000)","v":27490},{"$f":"IF($A$4=\"Numbers\",MROUND(VLOOKUP($C34&AB$8,'Calc-V'!$A$4:$S$399,$Q$6,FALSE),10),ROUND(VLOOKUP($C34&AB$8,'Calc-V'!$A$4:$S$399,$Q$6,FALSE)/AP34,3)*1000)","v":55960},null,null,{"$f":"VLOOKUP($C34&AE$8,'Calc-V'!$A$4:$AA$399,$AE$6,FALSE)","v":112200},{"$f":"VLOOKUP($C34&AF$8,'Calc-V'!$A$4:$AA$399,$AE$6,FALSE)","v":113360},{"$f":"VLOOKUP($C34&AG$8,'Calc-V'!$A$4:$AA$399,$AE$6,FALSE)","v":113360},{"$f":"VLOOKUP($C34&AH$8,'Calc-V'!$A$4:$AA$399,$AE$6,FALSE)","v":113590},{"$f":"VLOOKUP($C34&AI$8,'Calc-V'!$A$4:$AA$399,$AE$6,FALSE)","v":113590},{"$f":"VLOOKUP($C34&AJ$8,'Calc-V'!$A$4:$AA$399,$AE$6,FALSE)","v":113690},{"$f":"VLOOKUP($C34&AK$8,'Calc-V'!$A$4:$AA$399,$AE$6,FALSE)","v":113690},{"$f":"VLOOKUP($C34&AL$8,'Calc-V'!$A$4:$AA$399,$AE$6,FALSE)","v":113880},{"$f":"VLOOKUP($C34&AM$8,'Calc-V'!$A$4:$AA$399,$AE$6,FALSE)","v":113710},{"$f":"VLOOKUP($C34&AN$8,'Calc-V'!$A$4:$AA$399,$AE$6,FALSE)","v":113710},{"$f":"VLOOKUP($C34&AO$8,'Calc-V'!$A$4:$AA$399,$AE$6,FALSE)","v":113870},{"$f":"VLOOKUP($C34&AP$8,'Calc-V'!$A$4:$AA$399,$AE$6,FALSE)","v":114030}]
[null,null,"Shetland Islands",{"$f":"IF($A$4=\"Numbers\",MROUND(VLOOKUP($C35&D$8,'Calc-V'!$A$4:$S$399,$D$6,FALSE),10),ROUND(VLOOKUP($C35&D$8,'Calc-V'!$A$4:$S$399,$D$6,FALSE)/AE35,3)*1000)","v":8770},{"$f":"IF($A$4=\"Numbers\",MROUND(VLOOKUP($C35&E$8,'Calc-V'!$A$4:$S$399,$D$6,FALSE),10),ROUND(VLOOKUP($C35&E$8,'Calc-V'!$A$4:$S$399,$D$6,FALSE)/AF35,3)*1000)","v":8160},{"$f":"IF($A$4=\"Numbers\",MROUND(VLOOKUP($C35&F$8,'Calc-V'!$A$4:$S$399,$D$6,FALSE),10),ROUND(VLOOKUP($C35&F$8,'Calc-V'!$A$4:$S$399,$D$6,FALSE)/AG35,3)*1000)","v":8160},{"$f":"IF($A$4=\"Numbers\",MROUND(VLOOKUP($C35&G$8,'Calc-V'!$A$4:$S$399,$D$6,FALSE),10),ROUND(VLOOKUP($C35&G$8,'Calc-V'!$A$4:$S$399,$D$6,FALSE)/AH35,3)*1000)","v":9480},{"$f":"IF($A$4=\"Numbers\",MROUND(VLOOKUP($C35&H$8,'Calc-V'!$A$4:$S$399,$D$6,FALSE),10),ROUND(VLOOKUP($C35&H$8,'Calc-V'!$A$4:$S$399,$D$6,FALSE)/AI35,3)*1000)","v":9480},{"$f":"IF($A$4=\"Numbers\",MROUND(VLOOKUP($C35&I$8,'Calc-V'!$A$4:$S$399,$D$6,FALSE),10),ROUND(VLOOKUP($C35&I$8,'Calc-V'!$A$4:$S$399,$D$6,FALSE)/AJ35,3)*1000)","v":12830},{"$f":"IF($A$4=\"Numbers\",MROUND(VLOOKUP($C35&J$8,'Calc-V'!$A$4:$S$399,$D$6,FALSE),10),ROUND(VLOOKUP($C35&J$8,'Calc-V'!$A$4:$S$399,$D$6,FALSE)/AK35,3)*1000)","v":12830},{"$f":"IF($A$4=\"Numbers\",MROUND(VLOOKUP($C35&K$8,'Calc-V'!$A$4:$S$399,$D$6,FALSE),10),ROUND(VLOOKUP($C35&K$8,'Calc-V'!$A$4:$S$399,$D$6,FALSE)/AL35,3)*1000)","v":15150},{"$f":"IF($A$4=\"Numbers\",MROUND(VLOOKUP($C35&L$8,'Calc-V'!$A$4:$S$399,$D$6,FALSE),10),ROUND(VLOOKUP($C35&L$8,'Calc-V'!$A$4:$S$399,$D$6,FALSE)/AM35,3)*1000)","v":16460},{"$f":"IF($A$4=\"Numbers\",MROUND(VLOOKUP($C35&M$8,'Calc-V'!$A$4:$S$399,$D$6,FALSE),10),ROUND(VLOOKUP($C35&M$8,'Calc-V'!$A$4:$S$399,$D$6,FALSE)/AN35,3)*1000)","v":18130},{"$f":"IF($A$4=\"Numbers\",MROUND(VLOOKUP($C35&N$8,'Calc-V'!$A$4:$S$399,$D$6,FALSE),10),ROUND(VLOOKUP($C35&N$8,'Calc-V'!$A$4:$S$399,$D$6,FALSE)/AO35,3)*1000)","v":18830},{"$f":"IF($A$4=\"Numbers\",MROUND(VLOOKUP($C35&O$8,'Calc-V'!$A$4:$S$399,$D$6,FALSE),10),ROUND(VLOOKUP($C35&O$8,'Calc-V'!$A$4:$S$399,$D$6,FALSE)/AP35,3)*1000)","v":19020},null,{"$f":"IF($A$4=\"Numbers\",MROUND(VLOOKUP($C35&Q$8,'Calc-V'!$A$4:$S$399,$Q$6,FALSE),10),ROUND(VLOOKUP($C35&Q$8,'Calc-V'!$A$4:$S$399,$Q$6,FALSE)/AE35,3)*1000)","v":17720},{"$f":"IF($A$4=\"Numbers\",MROUND(VLOOKUP($C35&R$8,'Calc-V'!$A$4:$S$399,$Q$6,FALSE),10),ROUND(VLOOKUP($C35&R$8,'Calc-V'!$A$4:$S$399,$Q$6,FALSE)/AF35,3)*1000)","v":22820},{"$f":"IF($A$4=\"Numbers\",MROUND(VLOOKUP($C35&S$8,'Calc-V'!$A$4:$S$399,$Q$6,FALSE),10),ROUND(VLOOKUP($C35&S$8,'Calc-V'!$A$4:$S$399,$Q$6,FALSE)/AG35,3)*1000)","v":22820},{"$f":"IF($A$4=\"Numbers\",MROUND(VLOOKUP($C35&T$8,'Calc-V'!$A$4:$S$399,$Q$6,FALSE),10),ROUND(VLOOKUP($C35&T$8,'Calc-V'!$A$4:$S$399,$Q$6,FALSE)/AH35,3)*1000)","v":21360},{"$f":"IF($A$4=\"Numbers\",MROUND(VLOOKUP($C35&U$8,'Calc-V'!$A$4:$S$399,$Q$6,FALSE),10),ROUND(VLOOKUP($C35&U$8,'Calc-V'!$A$4:$S$399,$Q$6,FALSE)/AI35,3)*1000)","v":28650},{"$f":"IF($A$4=\"Numbers\",MROUND(VLOOKUP($C35&V$8,'Calc-V'!$A$4:$S$399,$Q$6,FALSE),10),ROUND(VLOOKUP($C35&V$8,'Calc-V'!$A$4:$S$399,$Q$6,FALSE)/AJ35,3)*1000)","v":29620},{"$f":"IF($A$4=\"Numbers\",MROUND(VLOOKUP($C35&W$8,'Calc-V'!$A$4:$S$399,$Q$6,FALSE),10),ROUND(VLOOKUP($C35&W$8,'Calc-V'!$A$4:$S$399,$Q$6,FALSE)/AK35,3)*1000)","v":72910},{"$f":"IF($A$4=\"Numbers\",MROUND(VLOOKUP($C35&X$8,'Calc-V'!$A$4:$S$399,$Q$6,FALSE),10),ROUND(VLOOKUP($C35&X$8,'Calc-V'!$A$4:$S$399,$Q$6,FALSE)/AL35,3)*1000)","v":83010},{"$f":"IF($A$4=\"Numbers\",MROUND(VLOOKUP($C35&Y$8,'Calc-V'!$A$4:$S$399,$Q$6,FALSE),10),ROUND(VLOOKUP($C35&Y$8,'Calc-V'!$A$4:$S$399,$Q$6,FALSE)/AM35,3)*1000)","v":83030},{"$f":"IF($A$4=\"Numbers\",MROUND(VLOOKUP($C35&Z$8,'Calc-V'!$A$4:$S$399,$Q$6,FALSE),10),ROUND(VLOOKUP($C35&Z$8,'Calc-V'!$A$4:$S$399,$Q$6,FALSE)/AN35,3)*1000)","v":83030},{"$f":"IF($A$4=\"Numbers\",MROUND(VLOOKUP($C35&AA$8,'Calc-V'!$A$4:$S$399,$Q$6,FALSE),10),ROUND(VLOOKUP($C35&AA$8,'Calc-V'!$A$4:$S$399,$Q$6,FALSE)/AO35,3)*1000)","v":83310},{"$f":"IF($A$4=\"Numbers\",MROUND(VLOOKUP($C35&AB$8,'Calc-V'!$A$4:$S$399,$Q$6,FALSE),10),ROUND(VLOOKUP($C35&AB$8,'Calc-V'!$A$4:$S$399,$Q$6,FALSE)/AP35,3)*1000)","v":76110},null,null,{"$f":"VLOOKUP($C35&AE$8,'Calc-V'!$A$4:$AA$399,$AE$6,FALSE)","v":22350},{"$f":"VLOOKUP($C35&AF$8,'Calc-V'!$A$4:$AA$399,$AE$6,FALSE)","v":22480},{"$f":"VLOOKUP($C35&AG$8,'Calc-V'!$A$4:$AA$399,$AE$6,FALSE)","v":22480},{"$f":"VLOOKUP($C35&AH$8,'Calc-V'!$A$4:$AA$399,$AE$6,FALSE)","v":22790},{"$f":"VLOOKUP($C35&AI$8,'Calc-V'!$A$4:$AA$399,$AE$6,FALSE)","v":22790},{"$f":"VLOOKUP($C35&AJ$8,'Calc-V'!$A$4:$AA$399,$AE$6,FALSE)","v":23060},{"$f":"VLOOKUP($C35&AK$8,'Calc-V'!$A$4:$AA$399,$AE$6,FALSE)","v":23060},{"$f":"VLOOKUP($C35&AL$8,'Calc-V'!$A$4:$AA$399,$AE$6,FALSE)","v":23240},{"$f":"VLOOKUP($C35&AM$8,'Calc-V'!$A$4:$AA$399,$AE$6,FALSE)","v":23210},{"$f":"VLOOKUP($C35&AN$8,'Calc-V'!$A$4:$AA$399,$AE$6,FALSE)","v":23210},{"$f":"VLOOKUP($C35&AO$8,'Calc-V'!$A$4:$AA$399,$AE$6,FALSE)","v":23200},{"$f":"VLOOKUP($C35&AP$8,'Calc-V'!$A$4:$AA$399,$AE$6,FALSE)","v":23230}]
[null,null,"South Ayrshire",{"$f":"IF($A$4=\"Numbers\",MROUND(VLOOKUP($C36&D$8,'Calc-V'!$A$4:$S$399,$D$6,FALSE),10),ROUND(VLOOKUP($C36&D$8,'Calc-V'!$A$4:$S$399,$D$6,FALSE)/AE36,3)*1000)","v":12910},{"$f":"IF($A$4=\"Numbers\",MROUND(VLOOKUP($C36&E$8,'Calc-V'!$A$4:$S$399,$D$6,FALSE),10),ROUND(VLOOKUP($C36&E$8,'Calc-V'!$A$4:$S$399,$D$6,FALSE)/AF36,3)*1000)","v":13790},{"$f":"IF($A$4=\"Numbers\",MROUND(VLOOKUP($C36&F$8,'Calc-V'!$A$4:$S$399,$D$6,FALSE),10),ROUND(VLOOKUP($C36&F$8,'Calc-V'!$A$4:$S$399,$D$6,FALSE)/AG36,3)*1000)","v":13790},{"$f":"IF($A$4=\"Numbers\",MROUND(VLOOKUP($C36&G$8,'Calc-V'!$A$4:$S$399,$D$6,FALSE),10),ROUND(VLOOKUP($C36&G$8,'Calc-V'!$A$4:$S$399,$D$6,FALSE)/AH36,3)*1000)","v":12010},{"$f":"IF($A$4=\"Numbers\",MROUND(VLOOKUP($C36&H$8,'Calc-V'!$A$4:$S$399,$D$6,FALSE),10),ROUND(VLOOKUP($C36&H$8,'Calc-V'!$A$4:$S$399,$D$6,FALSE)/AI36,3)*1000)","v":12040},{"$f":"IF($A$4=\"Numbers\",MROUND(VLOOKUP($C36&I$8,'Calc-V'!$A$4:$S$399,$D$6,FALSE),10),ROUND(VLOOKUP($C36&I$8,'Calc-V'!$A$4:$S$399,$D$6,FALSE)/AJ36,3)*1000)","v":14420},{"$f":"IF($A$4=\"Numbers\",MROUND(VLOOKUP($C36&J$8,'Calc-V'!$A$4:$S$399,$D$6,FALSE),10),ROUND(VLOOKUP($C36&J$8,'Calc-V'!$A$4:$S$399,$D$6,FALSE)/AK36,3)*1000)","v":14420},{"$f":"IF($A$4=\"Numbers\",MROUND(VLOOKUP($C36&K$8,'Calc-V'!$A$4:$S$399,$D$6,FALSE),10),ROUND(VLOOKUP($C36&K$8,'Calc-V'!$A$4:$S$399,$D$6,FALSE)/AL36,3)*1000)","v":15290},{"$f":"IF($A$4=\"Numbers\",MROUND(VLOOKUP($C36&L$8,'Calc-V'!$A$4:$S$399,$D$6,FALSE),10),ROUND(VLOOKUP($C36&L$8,'Calc-V'!$A$4:$S$399,$D$6,FALSE)/AM36,3)*1000)","v":18400},{"$f":"IF($A$4=\"Numbers\",MROUND(VLOOKUP($C36&M$8,'Calc-V'!$A$4:$S$399,$D$6,FALSE),10),ROUND(VLOOKUP($C36&M$8,'Calc-V'!$A$4:$S$399,$D$6,FALSE)/AN36,3)*1000)","v":18400},{"$f":"IF($A$4=\"Numbers\",MROUND(VLOOKUP($C36&N$8,'Calc-V'!$A$4:$S$399,$D$6,FALSE),10),ROUND(VLOOKUP($C36&N$8,'Calc-V'!$A$4:$S$399,$D$6,FALSE)/AO36,3)*1000)","v":18780},{"$f":"IF($A$4=\"Numbers\",MROUND(VLOOKUP($C36&O$8,'Calc-V'!$A$4:$S$399,$D$6,FALSE),10),ROUND(VLOOKUP($C36&O$8,'Calc-V'!$A$4:$S$399,$D$6,FALSE)/AP36,3)*1000)","v":17050},null,{"$f":"IF($A$4=\"Numbers\",MROUND(VLOOKUP($C36&Q$8,'Calc-V'!$A$4:$S$399,$Q$6,FALSE),10),ROUND(VLOOKUP($C36&Q$8,'Calc-V'!$A$4:$S$399,$Q$6,FALSE)/AE36,3)*1000)","v":68600},{"$f":"IF($A$4=\"Numbers\",MROUND(VLOOKUP($C36&R$8,'Calc-V'!$A$4:$S$399,$Q$6,FALSE),10),ROUND(VLOOKUP($C36&R$8,'Calc-V'!$A$4:$S$399,$Q$6,FALSE)/AF36,3)*1000)","v":65620},{"$f":"IF($A$4=\"Numbers\",MROUND(VLOOKUP($C36&S$8,'Calc-V'!$A$4:$S$399,$Q$6,FALSE),10),ROUND(VLOOKUP($C36&S$8,'Calc-V'!$A$4:$S$399,$Q$6,FALSE)/AG36,3)*1000)","v":65620},{"$f":"IF($A$4=\"Numbers\",MROUND(VLOOKUP($C36&T$8,'Calc-V'!$A$4:$S$399,$Q$6,FALSE),10),ROUND(VLOOKUP($C36&T$8,'Calc-V'!$A$4:$S$399,$Q$6,FALSE)/AH36,3)*1000)","v":80170},{"$f":"IF($A$4=\"Numbers\",MROUND(VLOOKUP($C36&U$8,'Calc-V'!$A$4:$S$399,$Q$6,FALSE),10),ROUND(VLOOKUP($C36&U$8,'Calc-V'!$A$4:$S$399,$Q$6,FALSE)/AI36,3)*1000)","v":254920},{"$f":"IF($A$4=\"Numbers\",MROUND(VLOOKUP($C36&V$8,'Calc-V'!$A$4:$S$399,$Q$6,FALSE),10),ROUND(VLOOKUP($C36&V$8,'Calc-V'!$A$4:$S$399,$Q$6,FALSE)/AJ36,3)*1000)","v":275060},{"$f":"IF($A$4=\"Numbers\",MROUND(VLOOKUP($C36&W$8,'Calc-V'!$A$4:$S$399,$Q$6,FALSE),10),ROUND(VLOOKUP($C36&W$8,'Calc-V'!$A$4:$S$399,$Q$6,FALSE)/AK36,3)*1000)","v":275060},{"$f":"IF($A$4=\"Numbers\",MROUND(VLOOKUP($C36&X$8,'Calc-V'!$A$4:$S$399,$Q$6,FALSE),10),ROUND(VLOOKUP($C36&X$8,'Calc-V'!$A$4:$S$399,$Q$6,FALSE)/AL36,3)*1000)","v":256760},{"$f":"IF($A$4=\"Numbers\",MROUND(VLOOKUP($C36&Y$8,'Calc-V'!$A$4:$S$399,$Q$6,FALSE),10),ROUND(VLOOKUP($C36&Y$8,'Calc-V'!$A$4:$S$399,$Q$6,FALSE)/AM36,3)*1000)","v":270400},{"$f":"IF($A$4=\"Numbers\",MROUND(VLOOKUP($C36&Z$8,'Calc-V'!$A$4:$S$399,$Q$6,FALSE),10),ROUND(VLOOKUP($C36&Z$8,'Calc-V'!$A$4:$S$399,$Q$6,FALSE)/AN36,3)*1000)","v":270450},{"$f":"IF($A$4=\"Numbers\",MROUND(VLOOKUP($C36&AA$8,'Calc-V'!$A$4:$S$399,$Q$6,FALSE),10),ROUND(VLOOKUP($C36&AA$8,'Calc-V'!$A$4:$S$399,$Q$6,FALSE)/AO36,3)*1000)","v":270280},{"$f":"IF($A$4=\"Numbers\",MROUND(VLOOKUP($C36&AB$8,'Calc-V'!$A$4:$S$399,$Q$6,FALSE),10),ROUND(VLOOKUP($C36&AB$8,'Calc-V'!$A$4:$S$399,$Q$6,FALSE)/AP36,3)*1000)","v":289640},null,null,{"$f":"VLOOKUP($C36&AE$8,'Calc-V'!$A$4:$AA$399,$AE$6,FALSE)","v":112380},{"$f":"VLOOKUP($C36&AF$8,'Calc-V'!$A$4:$AA$399,$AE$6,FALSE)","v":112610},{"$f":"VLOOKUP($C36&AG$8,'Calc-V'!$A$4:$AA$399,$AE$6,FALSE)","v":112610},{"$f":"VLOOKUP($C36&AH$8,'Calc-V'!$A$4:$AA$399,$AE$6,FALSE)","v":112490},{"$f":"VLOOKUP($C36&AI$8,'Calc-V'!$A$4:$AA$399,$AE$6,FALSE)","v":112490},{"$f":"VLOOKUP($C36&AJ$8,'Calc-V'!$A$4:$AA$399,$AE$6,FALSE)","v":112600},{"$f":"VLOOKUP($C36&AK$8,'Calc-V'!$A$4:$AA$399,$AE$6,FALSE)","v":112600},{"$f":"VLOOKUP($C36&AL$8,'Calc-V'!$A$4:$AA$399,$AE$6,FALSE)","v":112980},{"$f":"VLOOKUP($C36&AM$8,'Calc-V'!$A$4:$AA$399,$AE$6,FALSE)","v":112910},{"$f":"VLOOKUP($C36&AN$8,'Calc-V'!$A$4:$AA$399,$AE$6,FALSE)","v":112910},{"$f":"VLOOKUP($C36&AO$8,'Calc-V'!$A$4:$AA$399,$AE$6,FALSE)","v":112850},{"$f":"VLOOKUP($C36&AP$8,'Calc-V'!$A$4:$AA$399,$AE$6,FALSE)","v":112510}]
[null,null,"South Lanarkshire",{"$f":"IF($A$4=\"Numbers\",MROUND(VLOOKUP($C37&D$8,'Calc-V'!$A$4:$S$399,$D$6,FALSE),10),ROUND(VLOOKUP($C37&D$8,'Calc-V'!$A$4:$S$399,$D$6,FALSE)/AE37,3)*1000)","v":27480},{"$f":"IF($A$4=\"Numbers\",MROUND(VLOOKUP($C37&E$8,'Calc-V'!$A$4:$S$399,$D$6,FALSE),10),ROUND(VLOOKUP($C37&E$8,'Calc-V'!$A$4:$S$399,$D$6,FALSE)/AF37,3)*1000)","v":31600},{"$f":"IF($A$4=\"Numbers\",MROUND(VLOOKUP($C37&F$8,'Calc-V'!$A$4:$S$399,$D$6,FALSE),10),ROUND(VLOOKUP($C37&F$8,'Calc-V'!$A$4:$S$399,$D$6,FALSE)/AG37,3)*1000)","v":31600},{"$f":"IF($A$4=\"Numbers\",MROUND(VLOOKUP($C37&G$8,'Calc-V'!$A$4:$S$399,$D$6,FALSE),10),ROUND(VLOOKUP($C37&G$8,'Calc-V'!$A$4:$S$399,$D$6,FALSE)/AH37,3)*1000)","v":36340},{"$f":"IF($A$4=\"Numbers\",MROUND(VLOOKUP($C37&H$8,'Calc-V'!$A$4:$S$399,$D$6,FALSE),10),ROUND(VLOOKUP($C37&H$8,'Calc-V'!$A$4:$S$399,$D$6,FALSE)/AI37,3)*1000)","v":36340},{"$f":"IF($A$4=\"Numbers\",MROUND(VLOOKUP($C37&I$8,'Calc-V'!$A$4:$S$399,$D$6,FALSE),10),ROUND(VLOOKUP($C37&I$8,'Calc-V'!$A$4:$S$399,$D$6,FALSE)/AJ37,3)*1000)","v":43920},{"$f":"IF($A$4=\"Numbers\",MROUND(VLOOKUP($C37&J$8,'Calc-V'!$A$4:$S$399,$D$6,FALSE),10),ROUND(VLOOKUP($C37&J$8,'Calc-V'!$A$4:$S$399,$D$6,FALSE)/AK37,3)*1000)","v":43920},{"$f":"IF($A$4=\"Numbers\",MROUND(VLOOKUP($C37&K$8,'Calc-V'!$A$4:$S$399,$D$6,FALSE),10),ROUND(VLOOKUP($C37&K$8,'Calc-V'!$A$4:$S$399,$D$6,FALSE)/AL37,3)*1000)","v":42230},{"$f":"IF($A$4=\"Numbers\",MROUND(VLOOKUP($C37&L$8,'Calc-V'!$A$4:$S$399,$D$6,FALSE),10),ROUND(VLOOKUP($C37&L$8,'Calc-V'!$A$4:$S$399,$D$6,FALSE)/AM37,3)*1000)","v":38730},{"$f":"IF($A$4=\"Numbers\",MROUND(VLOOKUP($C37&M$8,'Calc-V'!$A$4:$S$399,$D$6,FALSE),10),ROUND(VLOOKUP($C37&M$8,'Calc-V'!$A$4:$S$399,$D$6,FALSE)/AN37,3)*1000)","v":38730},{"$f":"IF($A$4=\"Numbers\",MROUND(VLOOKUP($C37&N$8,'Calc-V'!$A$4:$S$399,$D$6,FALSE),10),ROUND(VLOOKUP($C37&N$8,'Calc-V'!$A$4:$S$399,$D$6,FALSE)/AO37,3)*1000)","v":42310},{"$f":"IF($A$4=\"Numbers\",MROUND(VLOOKUP($C37&O$8,'Calc-V'!$A$4:$S$399,$D$6,FALSE),10),ROUND(VLOOKUP($C37&O$8,'Calc-V'!$A$4:$S$399,$D$6,FALSE)/AP37,3)*1000)","v":36170},null,{"$f":"IF($A$4=\"Numbers\",MROUND(VLOOKUP($C37&Q$8,'Calc-V'!$A$4:$S$399,$Q$6,FALSE),10),ROUND(VLOOKUP($C37&Q$8,'Calc-V'!$A$4:$S$399,$Q$6,FALSE)/AE37,3)*1000)","v":354340},{"$f":"IF($A$4=\"Numbers\",MROUND(VLOOKUP($C37&R$8,'Calc-V'!$A$4:$S$399,$Q$6,FALSE),10),ROUND(VLOOKUP($C37&R$8,'Calc-V'!$A$4:$S$399,$Q$6,FALSE)/AF37,3)*1000)","v":371110},{"$f":"IF($A$4=\"Numbers\",MROUND(VLOOKUP($C37&S$8,'Calc-V'!$A$4:$S$399,$Q$6,FALSE),10),ROUND(VLOOKUP($C37&S$8,'Calc-V'!$A$4:$S$399,$Q$6,FALSE)/AG37,3)*1000)","v":371110},{"$f":"IF($A$4=\"Numbers\",MROUND(VLOOKUP($C37&T$8,'Calc-V'!$A$4:$S$399,$Q$6,FALSE),10),ROUND(VLOOKUP($C37&T$8,'Calc-V'!$A$4:$S$399,$Q$6,FALSE)/AH37,3)*1000)","v":390770},{"$f":"IF($A$4=\"Numbers\",MROUND(VLOOKUP($C37&U$8,'Calc-V'!$A$4:$S$399,$Q$6,FALSE),10),ROUND(VLOOKUP($C37&U$8,'Calc-V'!$A$4:$S$399,$Q$6,FALSE)/AI37,3)*1000)","v":390770},{"$f":"IF($A$4=\"Numbers\",MROUND(VLOOKUP($C37&V$8,'Calc-V'!$A$4:$S$399,$Q$6,FALSE),10),ROUND(VLOOKUP($C37&V$8,'Calc-V'!$A$4:$S$399,$Q$6,FALSE)/AJ37,3)*1000)","v":397630},{"$f":"IF($A$4=\"Numbers\",MROUND(VLOOKUP($C37&W$8,'Calc-V'!$A$4:$S$399,$Q$6,FALSE),10),ROUND(VLOOKUP($C37&W$8,'Calc-V'!$A$4:$S$399,$Q$6,FALSE)/AK37,3)*1000)","v":397630},{"$f":"IF($A$4=\"Numbers\",MROUND(VLOOKUP($C37&X$8,'Calc-V'!$A$4:$S$399,$Q$6,FALSE),10),ROUND(VLOOKUP($C37&X$8,'Calc-V'!$A$4:$S$399,$Q$6,FALSE)/AL37,3)*1000)","v":403790},{"$f":"IF($A$4=\"Numbers\",MROUND(VLOOKUP($C37&Y$8,'Calc-V'!$A$4:$S$399,$Q$6,FALSE),10),ROUND(VLOOKUP($C37&Y$8,'Calc-V'!$A$4:$S$399,$Q$6,FALSE)/AM37,3)*1000)","v":384200},{"$f":"IF($A$4=\"Numbers\",MROUND(VLOOKUP($C37&Z$8,'Calc-V'!$A$4:$S$399,$Q$6,FALSE),10),ROUND(VLOOKUP($C37&Z$8,'Calc-V'!$A$4:$S$399,$Q$6,FALSE)/AN37,3)*1000)","v":384200},{"$f":"IF($A$4=\"Numbers\",MROUND(VLOOKUP($C37&AA$8,'Calc-V'!$A$4:$S$399,$Q$6,FALSE),10),ROUND(VLOOKUP($C37&AA$8,'Calc-V'!$A$4:$S$399,$Q$6,FALSE)/AO37,3)*1000)","v":390380},{"$f":"IF($A$4=\"Numbers\",MROUND(VLOOKUP($C37&AB$8,'Calc-V'!$A$4:$S$399,$Q$6,FALSE),10),ROUND(VLOOKUP($C37&AB$8,'Calc-V'!$A$4:$S$399,$Q$6,FALSE)/AP37,3)*1000)","v":388500},null,null,{"$f":"VLOOKUP($C37&AE$8,'Calc-V'!$A$4:$AA$399,$AE$6,FALSE)","v":310380},{"$f":"VLOOKUP($C37&AF$8,'Calc-V'!$A$4:$AA$399,$AE$6,FALSE)","v":311320},{"$f":"VLOOKUP($C37&AG$8,'Calc-V'!$A$4:$AA$399,$AE$6,FALSE)","v":311320},{"$f":"VLOOKUP($C37&AH$8,'Calc-V'!$A$4:$AA$399,$AE$6,FALSE)","v":312180},{"$f":"VLOOKUP($C37&AI$8,'Calc-V'!$A$4:$AA$399,$AE$6,FALSE)","v":312180},{"$f":"VLOOKUP($C37&AJ$8,'Calc-V'!$A$4:$AA$399,$AE$6,FALSE)","v":313180},{"$f":"VLOOKUP($C37&AK$8,'Calc-V'!$A$4:$AA$399,$AE$6,FALSE)","v":313180},{"$f":"VLOOKUP($C37&AL$8,'Calc-V'!$A$4:$AA$399,$AE$6,FALSE)","v":313900},{"$f":"VLOOKUP($C37&AM$8,'Calc-V'!$A$4:$AA$399,$AE$6,FALSE)","v":314360},{"$f":"VLOOKUP($C37&AN$8,'Calc-V'!$A$4:$AA$399,$AE$6,FALSE)","v":314360},{"$f":"VLOOKUP($C37&AO$8,'Calc-V'!$A$4:$AA$399,$AE$6,FALSE)","v":314850},{"$f":"VLOOKUP($C37&AP$8,'Calc-V'!$A$4:$AA$399,$AE$6,FALSE)","v":315360}]
[null,null,"Stirling",{"$f":"IF($A$4=\"Numbers\",MROUND(VLOOKUP($C38&D$8,'Calc-V'!$A$4:$S$399,$D$6,FALSE),10),ROUND(VLOOKUP($C38&D$8,'Calc-V'!$A$4:$S$399,$D$6,FALSE)/AE38,3)*1000)","v":9350},{"$f":"IF($A$4=\"Numbers\",MROUND(VLOOKUP($C38&E$8,'Calc-V'!$A$4:$S$399,$D$6,FALSE),10),ROUND(VLOOKUP($C38&E$8,'Calc-V'!$A$4:$S$399,$D$6,FALSE)/AF38,3)*1000)","v":7320},{"$f":"IF($A$4=\"Numbers\",MROUND(VLOOKUP($C38&F$8,'Calc-V'!$A$4:$S$399,$D$6,FALSE),10),ROUND(VLOOKUP($C38&F$8,'Calc-V'!$A$4:$S$399,$D$6,FALSE)/AG38,3)*1000)","v":7320},{"$f":"IF($A$4=\"Numbers\",MROUND(VLOOKUP($C38&G$8,'Calc-V'!$A$4:$S$399,$D$6,FALSE),10),ROUND(VLOOKUP($C38&G$8,'Calc-V'!$A$4:$S$399,$D$6,FALSE)/AH38,3)*1000)","v":6170},{"$f":"IF($A$4=\"Numbers\",MROUND(VLOOKUP($C38&H$8,'Calc-V'!$A$4:$S$399,$D$6,FALSE),10),ROUND(VLOOKUP($C38&H$8,'Calc-V'!$A$4:$S$399,$D$6,FALSE)/AI38,3)*1000)","v":6170},{"$f":"IF($A$4=\"Numbers\",MROUND(VLOOKUP($C38&I$8,'Calc-V'!$A$4:$S$399,$D$6,FALSE),10),ROUND(VLOOKUP($C38&I$8,'Calc-V'!$A$4:$S$399,$D$6,FALSE)/AJ38,3)*1000)","v":7300},{"$f":"IF($A$4=\"Numbers\",MROUND(VLOOKUP($C38&J$8,'Calc-V'!$A$4:$S$399,$D$6,FALSE),10),ROUND(VLOOKUP($C38&J$8,'Calc-V'!$A$4:$S$399,$D$6,FALSE)/AK38,3)*1000)","v":7300},{"$f":"IF($A$4=\"Numbers\",MROUND(VLOOKUP($C38&K$8,'Calc-V'!$A$4:$S$399,$D$6,FALSE),10),ROUND(VLOOKUP($C38&K$8,'Calc-V'!$A$4:$S$399,$D$6,FALSE)/AL38,3)*1000)","v":9770},{"$f":"IF($A$4=\"Numbers\",MROUND(VLOOKUP($C38&L$8,'Calc-V'!$A$4:$S$399,$D$6,FALSE),10),ROUND(VLOOKUP($C38&L$8,'Calc-V'!$A$4:$S$399,$D$6,FALSE)/AM38,3)*1000)","v":9760},{"$f":"IF($A$4=\"Numbers\",MROUND(VLOOKUP($C38&M$8,'Calc-V'!$A$4:$S$399,$D$6,FALSE),10),ROUND(VLOOKUP($C38&M$8,'Calc-V'!$A$4:$S$399,$D$6,FALSE)/AN38,3)*1000)","v":9760},{"$f":"IF($A$4=\"Numbers\",MROUND(VLOOKUP($C38&N$8,'Calc-V'!$A$4:$S$399,$D$6,FALSE),10),ROUND(VLOOKUP($C38&N$8,'Calc-V'!$A$4:$S$399,$D$6,FALSE)/AO38,3)*1000)","v":11520},{"$f":"IF($A$4=\"Numbers\",MROUND(VLOOKUP($C38&O$8,'Calc-V'!$A$4:$S$399,$D$6,FALSE),10),ROUND(VLOOKUP($C38&O$8,'Calc-V'!$A$4:$S$399,$D$6,FALSE)/AP38,3)*1000)","v":12630},null,{"$f":"IF($A$4=\"Numbers\",MROUND(VLOOKUP($C38&Q$8,'Calc-V'!$A$4:$S$399,$Q$6,FALSE),10),ROUND(VLOOKUP($C38&Q$8,'Calc-V'!$A$4:$S$399,$Q$6,FALSE)/AE38,3)*1000)","v":31100},{"$f":"IF($A$4=\"Numbers\",MROUND(VLOOKUP($C38&R$8,'Calc-V'!$A$4:$S$399,$Q$6,FALSE),10),ROUND(VLOOKUP($C38&R$8,'Calc-V'!$A$4:$S$399,$Q$6,FALSE)/AF38,3)*1000)","v":28750},{"$f":"IF($A$4=\"Numbers\",MROUND(VLOOKUP($C38&S$8,'Calc-V'!$A$4:$S$399,$Q$6,FALSE),10),ROUND(VLOOKUP($C38&S$8,'Calc-V'!$A$4:$S$399,$Q$6,FALSE)/AG38,3)*1000)","v":28750},{"$f":"IF($A$4=\"Numbers\",MROUND(VLOOKUP($C38&T$8,'Calc-V'!$A$4:$S$399,$Q$6,FALSE),10),ROUND(VLOOKUP($C38&T$8,'Calc-V'!$A$4:$S$399,$Q$6,FALSE)/AH38,3)*1000)","v":37520},{"$f":"IF($A$4=\"Numbers\",MROUND(VLOOKUP($C38&U$8,'Calc-V'!$A$4:$S$399,$Q$6,FALSE),10),ROUND(VLOOKUP($C38&U$8,'Calc-V'!$A$4:$S$399,$Q$6,FALSE)/AI38,3)*1000)","v":37520},{"$f":"IF($A$4=\"Numbers\",MROUND(VLOOKUP($C38&V$8,'Calc-V'!$A$4:$S$399,$Q$6,FALSE),10),ROUND(VLOOKUP($C38&V$8,'Calc-V'!$A$4:$S$399,$Q$6,FALSE)/AJ38,3)*1000)","v":42060},{"$f":"IF($A$4=\"Numbers\",MROUND(VLOOKUP($C38&W$8,'Calc-V'!$A$4:$S$399,$Q$6,FALSE),10),ROUND(VLOOKUP($C38&W$8,'Calc-V'!$A$4:$S$399,$Q$6,FALSE)/AK38,3)*1000)","v":42060},{"$f":"IF($A$4=\"Numbers\",MROUND(VLOOKUP($C38&X$8,'Calc-V'!$A$4:$S$399,$Q$6,FALSE),10),ROUND(VLOOKUP($C38&X$8,'Calc-V'!$A$4:$S$399,$Q$6,FALSE)/AL38,3)*1000)","v":42740},{"$f":"IF($A$4=\"Numbers\",MROUND(VLOOKUP($C38&Y$8,'Calc-V'!$A$4:$S$399,$Q$6,FALSE),10),ROUND(VLOOKUP($C38&Y$8,'Calc-V'!$A$4:$S$399,$Q$6,FALSE)/AM38,3)*1000)","v":44040},{"$f":"IF($A$4=\"Numbers\",MROUND(VLOOKUP($C38&Z$8,'Calc-V'!$A$4:$S$399,$Q$6,FALSE),10),ROUND(VLOOKUP($C38&Z$8,'Calc-V'!$A$4:$S$399,$Q$6,FALSE)/AN38,3)*1000)","v":44040},{"$f":"IF($A$4=\"Numbers\",MROUND(VLOOKUP($C38&AA$8,'Calc-V'!$A$4:$S$399,$Q$6,FALSE),10),ROUND(VLOOKUP($C38&AA$8,'Calc-V'!$A$4:$S$399,$Q$6,FALSE)/AO38,3)*1000)","v":26370},{"$f":"IF($A$4=\"Numbers\",MROUND(VLOOKUP($C38&AB$8,'Calc-V'!$A$4:$S$399,$Q$6,FALSE),10),ROUND(VLOOKUP($C38&AB$8,'Calc-V'!$A$4:$S$399,$Q$6,FALSE)/AP38,3)*1000)","v":29200},null,null,{"$f":"VLOOKUP($C38&AE$8,'Calc-V'!$A$4:$AA$399,$AE$6,FALSE)","v":88430},{"$f":"VLOOKUP($C38&AF$8,'Calc-V'!$A$4:$AA$399,$AE$6,FALSE)","v":88540},{"$f":"VLOOKUP($C38&AG$8,'Calc-V'!$A$4:$AA$399,$AE$6,FALSE)","v":88540},{"$f":"VLOOKUP($C38&AH$8,'Calc-V'!$A$4:$AA$399,$AE$6,FALSE)","v":88690},{"$f":"VLOOKUP($C38&AI$8,'Calc-V'!$A$4:$AA$399,$AE$6,FALSE)","v":88690},{"$f":"VLOOKUP($C38&AJ$8,'Calc-V'!$A$4:$AA$399,$AE$6,FALSE)","v":89550},{"$f":"VLOOKUP($C38&AK$8,'Calc-V'!$A$4:$AA$399,$AE$6,FALSE)","v":89550},{"$f":"VLOOKUP($C38&AL$8,'Calc-V'!$A$4:$AA$399,$AE$6,FALSE)","v":90330},{"$f":"VLOOKUP($C38&AM$8,'Calc-V'!$A$4:$AA$399,$AE$6,FALSE)","v":91020},{"$f":"VLOOKUP($C38&AN$8,'Calc-V'!$A$4:$AA$399,$AE$6,FALSE)","v":91020},{"$f":"VLOOKUP($C38&AO$8,'Calc-V'!$A$4:$AA$399,$AE$6,FALSE)","v":91260},{"$f":"VLOOKUP($C38&AP$8,'Calc-V'!$A$4:$AA$399,$AE$6,FALSE)","v":91580}]
[null,null,"West Dunbartonshire",{"$f":"IF($A$4=\"Numbers\",MROUND(VLOOKUP($C39&D$8,'Calc-V'!$A$4:$S$399,$D$6,FALSE),10),ROUND(VLOOKUP($C39&D$8,'Calc-V'!$A$4:$S$399,$D$6,FALSE)/AE39,3)*1000)","v":8160},{"$f":"IF($A$4=\"Numbers\",MROUND(VLOOKUP($C39&E$8,'Calc-V'!$A$4:$S$399,$D$6,FALSE),10),ROUND(VLOOKUP($C39&E$8,'Calc-V'!$A$4:$S$399,$D$6,FALSE)/AF39,3)*1000)","v":8370},{"$f":"IF($A$4=\"Numbers\",MROUND(VLOOKUP($C39&F$8,'Calc-V'!$A$4:$S$399,$D$6,FALSE),10),ROUND(VLOOKUP($C39&F$8,'Calc-V'!$A$4:$S$399,$D$6,FALSE)/AG39,3)*1000)","v":8370},{"$f":"IF($A$4=\"Numbers\",MROUND(VLOOKUP($C39&G$8,'Calc-V'!$A$4:$S$399,$D$6,FALSE),10),ROUND(VLOOKUP($C39&G$8,'Calc-V'!$A$4:$S$399,$D$6,FALSE)/AH39,3)*1000)","v":8300},{"$f":"IF($A$4=\"Numbers\",MROUND(VLOOKUP($C39&H$8,'Calc-V'!$A$4:$S$399,$D$6,FALSE),10),ROUND(VLOOKUP($C39&H$8,'Calc-V'!$A$4:$S$399,$D$6,FALSE)/AI39,3)*1000)","v":8300},{"$f":"IF($A$4=\"Numbers\",MROUND(VLOOKUP($C39&I$8,'Calc-V'!$A$4:$S$399,$D$6,FALSE),10),ROUND(VLOOKUP($C39&I$8,'Calc-V'!$A$4:$S$399,$D$6,FALSE)/AJ39,3)*1000)","v":7850},{"$f":"IF($A$4=\"Numbers\",MROUND(VLOOKUP($C39&J$8,'Calc-V'!$A$4:$S$399,$D$6,FALSE),10),ROUND(VLOOKUP($C39&J$8,'Calc-V'!$A$4:$S$399,$D$6,FALSE)/AK39,3)*1000)","v":7850},{"$f":"IF($A$4=\"Numbers\",MROUND(VLOOKUP($C39&K$8,'Calc-V'!$A$4:$S$399,$D$6,FALSE),10),ROUND(VLOOKUP($C39&K$8,'Calc-V'!$A$4:$S$399,$D$6,FALSE)/AL39,3)*1000)","v":7080},{"$f":"IF($A$4=\"Numbers\",MROUND(VLOOKUP($C39&L$8,'Calc-V'!$A$4:$S$399,$D$6,FALSE),10),ROUND(VLOOKUP($C39&L$8,'Calc-V'!$A$4:$S$399,$D$6,FALSE)/AM39,3)*1000)","v":6330},{"$f":"IF($A$4=\"Numbers\",MROUND(VLOOKUP($C39&M$8,'Calc-V'!$A$4:$S$399,$D$6,FALSE),10),ROUND(VLOOKUP($C39&M$8,'Calc-V'!$A$4:$S$399,$D$6,FALSE)/AN39,3)*1000)","v":6330},{"$f":"IF($A$4=\"Numbers\",MROUND(VLOOKUP($C39&N$8,'Calc-V'!$A$4:$S$399,$D$6,FALSE),10),ROUND(VLOOKUP($C39&N$8,'Calc-V'!$A$4:$S$399,$D$6,FALSE)/AO39,3)*1000)","v":6700},{"$f":"IF($A$4=\"Numbers\",MROUND(VLOOKUP($C39&O$8,'Calc-V'!$A$4:$S$399,$D$6,FALSE),10),ROUND(VLOOKUP($C39&O$8,'Calc-V'!$A$4:$S$399,$D$6,FALSE)/AP39,3)*1000)","v":6410},null,{"$f":"IF($A$4=\"Numbers\",MROUND(VLOOKUP($C39&Q$8,'Calc-V'!$A$4:$S$399,$Q$6,FALSE),10),ROUND(VLOOKUP($C39&Q$8,'Calc-V'!$A$4:$S$399,$Q$6,FALSE)/AE39,3)*1000)","v":327540},{"$f":"IF($A$4=\"Numbers\",MROUND(VLOOKUP($C39&R$8,'Calc-V'!$A$4:$S$399,$Q$6,FALSE),10),ROUND(VLOOKUP($C39&R$8,'Calc-V'!$A$4:$S$399,$Q$6,FALSE)/AF39,3)*1000)","v":323660},{"$f":"IF($A$4=\"Numbers\",MROUND(VLOOKUP($C39&S$8,'Calc-V'!$A$4:$S$399,$Q$6,FALSE),10),ROUND(VLOOKUP($C39&S$8,'Calc-V'!$A$4:$S$399,$Q$6,FALSE)/AG39,3)*1000)","v":323660},{"$f":"IF($A$4=\"Numbers\",MROUND(VLOOKUP($C39&T$8,'Calc-V'!$A$4:$S$399,$Q$6,FALSE),10),ROUND(VLOOKUP($C39&T$8,'Calc-V'!$A$4:$S$399,$Q$6,FALSE)/AH39,3)*1000)","v":344670},{"$f":"IF($A$4=\"Numbers\",MROUND(VLOOKUP($C39&U$8,'Calc-V'!$A$4:$S$399,$Q$6,FALSE),10),ROUND(VLOOKUP($C39&U$8,'Calc-V'!$A$4:$S$399,$Q$6,FALSE)/AI39,3)*1000)","v":344670},{"$f":"IF($A$4=\"Numbers\",MROUND(VLOOKUP($C39&V$8,'Calc-V'!$A$4:$S$399,$Q$6,FALSE),10),ROUND(VLOOKUP($C39&V$8,'Calc-V'!$A$4:$S$399,$Q$6,FALSE)/AJ39,3)*1000)","v":340660},{"$f":"IF($A$4=\"Numbers\",MROUND(VLOOKUP($C39&W$8,'Calc-V'!$A$4:$S$399,$Q$6,FALSE),10),ROUND(VLOOKUP($C39&W$8,'Calc-V'!$A$4:$S$399,$Q$6,FALSE)/AK39,3)*1000)","v":340660},{"$f":"IF($A$4=\"Numbers\",MROUND(VLOOKUP($C39&X$8,'Calc-V'!$A$4:$S$399,$Q$6,FALSE),10),ROUND(VLOOKUP($C39&X$8,'Calc-V'!$A$4:$S$399,$Q$6,FALSE)/AL39,3)*1000)","v":313270},{"$f":"IF($A$4=\"Numbers\",MROUND(VLOOKUP($C39&Y$8,'Calc-V'!$A$4:$S$399,$Q$6,FALSE),10),ROUND(VLOOKUP($C39&Y$8,'Calc-V'!$A$4:$S$399,$Q$6,FALSE)/AM39,3)*1000)","v":314040},{"$f":"IF($A$4=\"Numbers\",MROUND(VLOOKUP($C39&Z$8,'Calc-V'!$A$4:$S$399,$Q$6,FALSE),10),ROUND(VLOOKUP($C39&Z$8,'Calc-V'!$A$4:$S$399,$Q$6,FALSE)/AN39,3)*1000)","v":314040},{"$f":"IF($A$4=\"Numbers\",MROUND(VLOOKUP($C39&AA$8,'Calc-V'!$A$4:$S$399,$Q$6,FALSE),10),ROUND(VLOOKUP($C39&AA$8,'Calc-V'!$A$4:$S$399,$Q$6,FALSE)/AO39,3)*1000)","v":292210},{"$f":"IF($A$4=\"Numbers\",MROUND(VLOOKUP($C39&AB$8,'Calc-V'!$A$4:$S$399,$Q$6,FALSE),10),ROUND(VLOOKUP($C39&AB$8,'Calc-V'!$A$4:$S$399,$Q$6,FALSE)/AP39,3)*1000)","v":315300},null,null,{"$f":"VLOOKUP($C39&AE$8,'Calc-V'!$A$4:$AA$399,$AE$6,FALSE)","v":91370},{"$f":"VLOOKUP($C39&AF$8,'Calc-V'!$A$4:$AA$399,$AE$6,FALSE)","v":91190},{"$f":"VLOOKUP($C39&AG$8,'Calc-V'!$A$4:$AA$399,$AE$6,FALSE)","v":91190},{"$f":"VLOOKUP($C39&AH$8,'Calc-V'!$A$4:$AA$399,$AE$6,FALSE)","v":91080},{"$f":"VLOOKUP($C39&AI$8,'Calc-V'!$A$4:$AA$399,$AE$6,FALSE)","v":91080},{"$f":"VLOOKUP($C39&AJ$8,'Calc-V'!$A$4:$AA$399,$AE$6,FALSE)","v":90800},{"$f":"VLOOKUP($C39&AK$8,'Calc-V'!$A$4:$AA$399,$AE$6,FALSE)","v":90800},{"$f":"VLOOKUP($C39&AL$8,'Calc-V'!$A$4:$AA$399,$AE$6,FALSE)","v":90610},{"$f":"VLOOKUP($C39&AM$8,'Calc-V'!$A$4:$AA$399,$AE$6,FALSE)","v":90340},{"$f":"VLOOKUP($C39&AN$8,'Calc-V'!$A$4:$AA$399,$AE$6,FALSE)","v":90340},{"$f":"VLOOKUP($C39&AO$8,'Calc-V'!$A$4:$AA$399,$AE$6,FALSE)","v":89810},{"$f":"VLOOKUP($C39&AP$8,'Calc-V'!$A$4:$AA$399,$AE$6,FALSE)","v":89730}]
[null,null,"West Lothian",{"$f":"IF($A$4=\"Numbers\",MROUND(VLOOKUP($C40&D$8,'Calc-V'!$A$4:$S$399,$D$6,FALSE),10),ROUND(VLOOKUP($C40&D$8,'Calc-V'!$A$4:$S$399,$D$6,FALSE)/AE40,3)*1000)","v":7760},{"$f":"IF($A$4=\"Numbers\",MROUND(VLOOKUP($C40&E$8,'Calc-V'!$A$4:$S$399,$D$6,FALSE),10),ROUND(VLOOKUP($C40&E$8,'Calc-V'!$A$4:$S$399,$D$6,FALSE)/AF40,3)*1000)","v":9150},{"$f":"IF($A$4=\"Numbers\",MROUND(VLOOKUP($C40&F$8,'Calc-V'!$A$4:$S$399,$D$6,FALSE),10),ROUND(VLOOKUP($C40&F$8,'Calc-V'!$A$4:$S$399,$D$6,FALSE)/AG40,3)*1000)","v":9150},{"$f":"IF($A$4=\"Numbers\",MROUND(VLOOKUP($C40&G$8,'Calc-V'!$A$4:$S$399,$D$6,FALSE),10),ROUND(VLOOKUP($C40&G$8,'Calc-V'!$A$4:$S$399,$D$6,FALSE)/AH40,3)*1000)","v":9860},{"$f":"IF($A$4=\"Numbers\",MROUND(VLOOKUP($C40&H$8,'Calc-V'!$A$4:$S$399,$D$6,FALSE),10),ROUND(VLOOKUP($C40&H$8,'Calc-V'!$A$4:$S$399,$D$6,FALSE)/AI40,3)*1000)","v":9860},{"$f":"IF($A$4=\"Numbers\",MROUND(VLOOKUP($C40&I$8,'Calc-V'!$A$4:$S$399,$D$6,FALSE),10),ROUND(VLOOKUP($C40&I$8,'Calc-V'!$A$4:$S$399,$D$6,FALSE)/AJ40,3)*1000)","v":9330},{"$f":"IF($A$4=\"Numbers\",MROUND(VLOOKUP($C40&J$8,'Calc-V'!$A$4:$S$399,$D$6,FALSE),10),ROUND(VLOOKUP($C40&J$8,'Calc-V'!$A$4:$S$399,$D$6,FALSE)/AK40,3)*1000)","v":9330},{"$f":"IF($A$4=\"Numbers\",MROUND(VLOOKUP($C40&K$8,'Calc-V'!$A$4:$S$399,$D$6,FALSE),10),ROUND(VLOOKUP($C40&K$8,'Calc-V'!$A$4:$S$399,$D$6,FALSE)/AL40,3)*1000)","v":8710},{"$f":"IF($A$4=\"Numbers\",MROUND(VLOOKUP($C40&L$8,'Calc-V'!$A$4:$S$399,$D$6,FALSE),10),ROUND(VLOOKUP($C40&L$8,'Calc-V'!$A$4:$S$399,$D$6,FALSE)/AM40,3)*1000)","v":9930},{"$f":"IF($A$4=\"Numbers\",MROUND(VLOOKUP($C40&M$8,'Calc-V'!$A$4:$S$399,$D$6,FALSE),10),ROUND(VLOOKUP($C40&M$8,'Calc-V'!$A$4:$S$399,$D$6,FALSE)/AN40,3)*1000)","v":9890},{"$f":"IF($A$4=\"Numbers\",MROUND(VLOOKUP($C40&N$8,'Calc-V'!$A$4:$S$399,$D$6,FALSE),10),ROUND(VLOOKUP($C40&N$8,'Calc-V'!$A$4:$S$399,$D$6,FALSE)/AO40,3)*1000)","v":10790},{"$f":"IF($A$4=\"Numbers\",MROUND(VLOOKUP($C40&O$8,'Calc-V'!$A$4:$S$399,$D$6,FALSE),10),ROUND(VLOOKUP($C40&O$8,'Calc-V'!$A$4:$S$399,$D$6,FALSE)/AP40,3)*1000)","v":10640},null,{"$f":"IF($A$4=\"Numbers\",MROUND(VLOOKUP($C40&Q$8,'Calc-V'!$A$4:$S$399,$Q$6,FALSE),10),ROUND(VLOOKUP($C40&Q$8,'Calc-V'!$A$4:$S$399,$Q$6,FALSE)/AE40,3)*1000)","v":25370},{"$f":"IF($A$4=\"Numbers\",MROUND(VLOOKUP($C40&R$8,'Calc-V'!$A$4:$S$399,$Q$6,FALSE),10),ROUND(VLOOKUP($C40&R$8,'Calc-V'!$A$4:$S$399,$Q$6,FALSE)/AF40,3)*1000)","v":29420},{"$f":"IF($A$4=\"Numbers\",MROUND(VLOOKUP($C40&S$8,'Calc-V'!$A$4:$S$399,$Q$6,FALSE),10),ROUND(VLOOKUP($C40&S$8,'Calc-V'!$A$4:$S$399,$Q$6,FALSE)/AG40,3)*1000)","v":46580},{"$f":"IF($A$4=\"Numbers\",MROUND(VLOOKUP($C40&T$8,'Calc-V'!$A$4:$S$399,$Q$6,FALSE),10),ROUND(VLOOKUP($C40&T$8,'Calc-V'!$A$4:$S$399,$Q$6,FALSE)/AH40,3)*1000)","v":68580},{"$f":"IF($A$4=\"Numbers\",MROUND(VLOOKUP($C40&U$8,'Calc-V'!$A$4:$S$399,$Q$6,FALSE),10),ROUND(VLOOKUP($C40&U$8,'Calc-V'!$A$4:$S$399,$Q$6,FALSE)/AI40,3)*1000)","v":68580},{"$f":"IF($A$4=\"Numbers\",MROUND(VLOOKUP($C40&V$8,'Calc-V'!$A$4:$S$399,$Q$6,FALSE),10),ROUND(VLOOKUP($C40&V$8,'Calc-V'!$A$4:$S$399,$Q$6,FALSE)/AJ40,3)*1000)","v":61560},{"$f":"IF($A$4=\"Numbers\",MROUND(VLOOKUP($C40&W$8,'Calc-V'!$A$4:$S$399,$Q$6,FALSE),10),ROUND(VLOOKUP($C40&W$8,'Calc-V'!$A$4:$S$399,$Q$6,FALSE)/AK40,3)*1000)","v":61560},{"$f":"IF($A$4=\"Numbers\",MROUND(VLOOKUP($C40&X$8,'Calc-V'!$A$4:$S$399,$Q$6,FALSE),10),ROUND(VLOOKUP($C40&X$8,'Calc-V'!$A$4:$S$399,$Q$6,FALSE)/AL40,3)*1000)","v":61290},{"$f":"IF($A$4=\"Numbers\",MROUND(VLOOKUP($C40&Y$8,'Calc-V'!$A$4:$S$399,$Q$6,FALSE),10),ROUND(VLOOKUP($C40&Y$8,'Calc-V'!$A$4:$S$399,$Q$6,FALSE)/AM40,3)*1000)","v":73730},{"$f":"IF($A$4=\"Numbers\",MROUND(VLOOKUP($C40&Z$8,'Calc-V'!$A$4:$S$399,$Q$6,FALSE),10),ROUND(VLOOKUP($C40&Z$8,'Calc-V'!$A$4:$S$399,$Q$6,FALSE)/AN40,3)*1000)","v":134130},{"$f":"IF($A$4=\"Numbers\",MROUND(VLOOKUP($C40&AA$8,'Calc-V'!$A$4:$S$399,$Q$6,FALSE),10),ROUND(VLOOKUP($C40&AA$8,'Calc-V'!$A$4:$S$399,$Q$6,FALSE)/AO40,3)*1000)","v":173430},{"$f":"IF($A$4=\"Numbers\",MROUND(VLOOKUP($C40&AB$8,'Calc-V'!$A$4:$S$399,$Q$6,FALSE),10),ROUND(VLOOKUP($C40&AB$8,'Calc-V'!$A$4:$S$399,$Q$6,FALSE)/AP40,3)*1000)","v":155830},null,null,{"$f":"VLOOKUP($C40&AE$8,'Calc-V'!$A$4:$AA$399,$AE$6,FALSE)","v":169470},{"$f":"VLOOKUP($C40&AF$8,'Calc-V'!$A$4:$AA$399,$AE$6,FALSE)","v":171380},{"$f":"VLOOKUP($C40&AG$8,'Calc-V'!$A$4:$AA$399,$AE$6,FALSE)","v":171380},{"$f":"VLOOKUP($C40&AH$8,'Calc-V'!$A$4:$AA$399,$AE$6,FALSE)","v":173040},{"$f":"VLOOKUP($C40&AI$8,'Calc-V'!$A$4:$AA$399,$AE$6,FALSE)","v":173040},{"$f":"VLOOKUP($C40&AJ$8,'Calc-V'!$A$4:$AA$399,$AE$6,FALSE)","v":174090},{"$f":"VLOOKUP($C40&AK$8,'Calc-V'!$A$4:$AA$399,$AE$6,FALSE)","v":174090},{"$f":"VLOOKUP($C40&AL$8,'Calc-V'!$A$4:$AA$399,$AE$6,FALSE)","v":175300},{"$f":"VLOOKUP($C40&AM$8,'Calc-V'!$A$4:$AA$399,$AE$6,FALSE)","v":175990},{"$f":"VLOOKUP($C40&AN$8,'Calc-V'!$A$4:$AA$399,$AE$6,FALSE)","v":175990},{"$f":"VLOOKUP($C40&AO$8,'Calc-V'!$A$4:$AA$399,$AE$6,FALSE)","v":176140},{"$f":"VLOOKUP($C40&AP$8,'Calc-V'!$A$4:$AA$399,$AE$6,FALSE)","v":177150}]
[null,null,"Scotland",{"$f":"IF($A$4=\"Numbers\",MROUND(VLOOKUP($C41&D$8,'Calc-V'!$A$4:$S$399,$D$6,FALSE),10),ROUND(VLOOKUP($C41&D$8,'Calc-V'!$A$4:$S$399,$D$6,FALSE)/AE41,3)*1000)","v":439280},{"$f":"IF($A$4=\"Numbers\",MROUND(VLOOKUP($C41&E$8,'Calc-V'!$A$4:$S$399,$D$6,FALSE),10),ROUND(VLOOKUP($C41&E$8,'Calc-V'!$A$4:$S$399,$D$6,FALSE)/AF41,3)*1000)","v":439600},{"$f":"IF($A$4=\"Numbers\",MROUND(VLOOKUP($C41&F$8,'Calc-V'!$A$4:$S$399,$D$6,FALSE),10),ROUND(VLOOKUP($C41&F$8,'Calc-V'!$A$4:$S$399,$D$6,FALSE)/AG41,3)*1000)","v":439120},{"$f":"IF($A$4=\"Numbers\",MROUND(VLOOKUP($C41&G$8,'Calc-V'!$A$4:$S$399,$D$6,FALSE),10),ROUND(VLOOKUP($C41&G$8,'Calc-V'!$A$4:$S$399,$D$6,FALSE)/AH41,3)*1000)","v":448780},{"$f":"IF($A$4=\"Numbers\",MROUND(VLOOKUP($C41&H$8,'Calc-V'!$A$4:$S$399,$D$6,FALSE),10),ROUND(VLOOKUP($C41&H$8,'Calc-V'!$A$4:$S$399,$D$6,FALSE)/AI41,3)*1000)","v":450010},{"$f":"IF($A$4=\"Numbers\",MROUND(VLOOKUP($C41&I$8,'Calc-V'!$A$4:$S$399,$D$6,FALSE),10),ROUND(VLOOKUP($C41&I$8,'Calc-V'!$A$4:$S$399,$D$6,FALSE)/AJ41,3)*1000)","v":452530},{"$f":"IF($A$4=\"Numbers\",MROUND(VLOOKUP($C41&J$8,'Calc-V'!$A$4:$S$399,$D$6,FALSE),10),ROUND(VLOOKUP($C41&J$8,'Calc-V'!$A$4:$S$399,$D$6,FALSE)/AK41,3)*1000)","v":454320},{"$f":"IF($A$4=\"Numbers\",MROUND(VLOOKUP($C41&K$8,'Calc-V'!$A$4:$S$399,$D$6,FALSE),10),ROUND(VLOOKUP($C41&K$8,'Calc-V'!$A$4:$S$399,$D$6,FALSE)/AL41,3)*1000)","v":465990},{"$f":"IF($A$4=\"Numbers\",MROUND(VLOOKUP($C41&L$8,'Calc-V'!$A$4:$S$399,$D$6,FALSE),10),ROUND(VLOOKUP($C41&L$8,'Calc-V'!$A$4:$S$399,$D$6,FALSE)/AM41,3)*1000)","v":461160},{"$f":"IF($A$4=\"Numbers\",MROUND(VLOOKUP($C41&M$8,'Calc-V'!$A$4:$S$399,$D$6,FALSE),10),ROUND(VLOOKUP($C41&M$8,'Calc-V'!$A$4:$S$399,$D$6,FALSE)/AN41,3)*1000)","v":460320},{"$f":"IF($A$4=\"Numbers\",MROUND(VLOOKUP($C41&N$8,'Calc-V'!$A$4:$S$399,$D$6,FALSE),10),ROUND(VLOOKUP($C41&N$8,'Calc-V'!$A$4:$S$399,$D$6,FALSE)/AO41,3)*1000)","v":455230},{"$f":"IF($A$4=\"Numbers\",MROUND(VLOOKUP($C41&O$8,'Calc-V'!$A$4:$S$399,$D$6,FALSE),10),ROUND(VLOOKUP($C41&O$8,'Calc-V'!$A$4:$S$399,$D$6,FALSE)/AP41,3)*1000)","v":441570},null,{"$f":"IF($A$4=\"Numbers\",MROUND(VLOOKUP($C41&Q$8,'Calc-V'!$A$4:$S$399,$Q$6,FALSE),10),ROUND(VLOOKUP($C41&Q$8,'Calc-V'!$A$4:$S$399,$Q$6,FALSE)/AE41,3)*1000)","v":5773900},{"$f":"IF($A$4=\"Numbers\",MROUND(VLOOKUP($C41&R$8,'Calc-V'!$A$4:$S$399,$Q$6,FALSE),10),ROUND(VLOOKUP($C41&R$8,'Calc-V'!$A$4:$S$399,$Q$6,FALSE)/AF41,3)*1000)","v":5839510},{"$f":"IF($A$4=\"Numbers\",MROUND(VLOOKUP($C41&S$8,'Calc-V'!$A$4:$S$399,$Q$6,FALSE),10),ROUND(VLOOKUP($C41&S$8,'Calc-V'!$A$4:$S$399,$Q$6,FALSE)/AG41,3)*1000)","v":6981580},{"$f":"IF($A$4=\"Numbers\",MROUND(VLOOKUP($C41&T$8,'Calc-V'!$A$4:$S$399,$Q$6,FALSE),10),ROUND(VLOOKUP($C41&T$8,'Calc-V'!$A$4:$S$399,$Q$6,FALSE)/AH41,3)*1000)","v":7321480},{"$f":"IF($A$4=\"Numbers\",MROUND(VLOOKUP($C41&U$8,'Calc-V'!$A$4:$S$399,$Q$6,FALSE),10),ROUND(VLOOKUP($C41&U$8,'Calc-V'!$A$4:$S$399,$Q$6,FALSE)/AI41,3)*1000)","v":7639200},{"$f":"IF($A$4=\"Numbers\",MROUND(VLOOKUP($C41&V$8,'Calc-V'!$A$4:$S$399,$Q$6,FALSE),10),ROUND(VLOOKUP($C41&V$8,'Calc-V'!$A$4:$S$399,$Q$6,FALSE)/AJ41,3)*1000)","v":7694790},{"$f":"IF($A$4=\"Numbers\",MROUND(VLOOKUP($C41&W$8,'Calc-V'!$A$4:$S$399,$Q$6,FALSE),10),ROUND(VLOOKUP($C41&W$8,'Calc-V'!$A$4:$S$399,$Q$6,FALSE)/AK41,3)*1000)","v":7288160},{"$f":"IF($A$4=\"Numbers\",MROUND(VLOOKUP($C41&X$8,'Calc-V'!$A$4:$S$399,$Q$6,FALSE),10),ROUND(VLOOKUP($C41&X$8,'Calc-V'!$A$4:$S$399,$Q$6,FALSE)/AL41,3)*1000)","v":7271260},{"$f":"IF($A$4=\"Numbers\",MROUND(VLOOKUP($C41&Y$8,'Calc-V'!$A$4:$S$399,$Q$6,FALSE),10),ROUND(VLOOKUP($C41&Y$8,'Calc-V'!$A$4:$S$399,$Q$6,FALSE)/AM41,3)*1000)","v":7345800},{"$f":"IF($A$4=\"Numbers\",MROUND(VLOOKUP($C41&Z$8,'Calc-V'!$A$4:$S$399,$Q$6,FALSE),10),ROUND(VLOOKUP($C41&Z$8,'Calc-V'!$A$4:$S$399,$Q$6,FALSE)/AN41,3)*1000)","v":7314400},{"$f":"IF($A$4=\"Numbers\",MROUND(VLOOKUP($C41&AA$8,'Calc-V'!$A$4:$S$399,$Q$6,FALSE),10),ROUND(VLOOKUP($C41&AA$8,'Calc-V'!$A$4:$S$399,$Q$6,FALSE)/AO41,3)*1000)","v":7226870},{"$f":"IF($A$4=\"Numbers\",MROUND(VLOOKUP($C41&AB$8,'Calc-V'!$A$4:$S$399,$Q$6,FALSE),10),ROUND(VLOOKUP($C41&AB$8,'Calc-V'!$A$4:$S$399,$Q$6,FALSE)/AP41,3)*1000)","v":6981270},null,null,{"$f":"VLOOKUP($C41&AE$8,'Calc-V'!$A$4:$AA$399,$AE$6,FALSE)","v":5170000},{"$f":"VLOOKUP($C41&AF$8,'Calc-V'!$A$4:$AA$399,$AE$6,FALSE)","v":5202900},{"$f":"VLOOKUP($C41&AG$8,'Calc-V'!$A$4:$AA$399,$AE$6,FALSE)","v":5202900},{"$f":"VLOOKUP($C41&AH$8,'Calc-V'!$A$4:$AA$399,$AE$6,FALSE)","v":5231900},{"$f":"VLOOKUP($C41&AI$8,'Calc-V'!$A$4:$AA$399,$AE$6,FALSE)","v":5231900},{"$f":"VLOOKUP($C41&AJ$8,'Calc-V'!$A$4:$AA$399,$AE$6,FALSE)","v":5262200},{"$f":"VLOOKUP($C41&AK$8,'Calc-V'!$A$4:$AA$399,$AE$6,FALSE)","v":5262200},{"$f":"VLOOKUP($C41&AL$8,'Calc-V'!$A$4:$AA$399,$AE$6,FALSE)","v":5299900},{"$f":"VLOOKUP($C41&AM$8,'Calc-V'!$A$4:$AA$399,$AE$6,FALSE)","v":5313600},{"$f":"VLOOKUP($C41&AN$8,'Calc-V'!$A$4:$AA$399,$AE$6,FALSE)","v":5313600},{"$f":"VLOOKUP($C41&AO$8,'Calc-V'!$A$4:$AA$399,$AE$6,FALSE)","v":5327700},{"$f":"VLOOKUP($C41&AP$8,'Calc-V'!$A$4:$AA$399,$AE$6,FALSE)","v":5347600}]
[]
[null,null,"Source: Audit Scotland SPI data 2006-2008, Scottish Government 2009-2015"]
[null,null,"All figures rounded to the nearest ten. Total may not add up to the sum of components due to rounding"]
[null,null,"0 - Same methodology used in 2007/08 & 2008/09 making the figures comparable"]
[null,null,"1 - Same methodology used in 2008/09 & 2009/10 making the figures comparable"]
[null,null,"2 - Same methodology used in 2009/10 & 2010/11 making the figures comparable"]
[null,null,"3 - Same methodology used in 2010/11 - 2012/13 making the figures comparable"]
[null,null,"4 - Same methodology used in 2012/13 - 2014/15 making the figures comparable - comparisons should not be made at the Local Authority level in the cases described in the Background Notes."]

{"sheet":"Table4","index":8,"n_rows":46,"n_cols":21,"rows_kept":46,"cut":false,"hidden":false,"merged":[[7,2,7,5],[7,7,7,11],[7,13,7,15],[7,17,7,20]]}
[null,{"$f":"\"Breakdown of overnight and daytime respite provision to \"&F6&\" by Local Authority, \"&K6&\"*\"","v":"Breakdown of overnight and daytime respite provision to All ages by Local Authority, 2014/154*"}]
[]
[null,"* See \"Presentation of statistics\" tab for more information on comparability between years"]
[null,"Note: final digit of year refers to set of guidance (see \"Presentation of Statistics\" tab). E.g. 2014/154 refers to 2014/15 data reported against guidance set 4."]
[]
[null,null,"Select Age",null,1,{"$f":"OFFSET(LKPS!C10,Table4!E6,0)","v":"All ages"},null,"Select Year",null,8,{"$f":"OFFSET(LKPS!C16,Table4!J6,0)","v":"2014/154"}]
[null,null,{"$f":"OFFSET(LKPS!F10,Table4!E6,0)","v":55},{"$f":"C7+1","v":56},{"$f":"D7+1","v":57},{"$f":"E7+1","v":58},null,{"$f":"OFFSET(LKPS!G10,Table4!E6,0)","v":59},{"$f":"H7+1","v":60},{"$f":"I7+1","v":61},{"$f":"J7+1","v":62},{"$f":"K7+1","v":63}]
[null,null,"Overnight respite (nights)",null,null,null,null,"Daytime Respite (hours)",null,null,null,null,null,"Overnight respite\n(as % of total nights)",null,null,null,"Daytime Respite\n(as % of total hours)"]
[null,"Local Authority","In a Care Home","At Home","Other","Total",null,"In a Care Home","Day Care centre","At Home","Other","Total",null,"In a Care Home","At Home","Other",null,"In a Care Home","Day Care centre","At Home","Other"]
[null,"Aberdeen City",{"$f":"VLOOKUP($B10&$K$6,'Calc-V'!$A$4:$BK$399,C$7,FALSE)","v":19012},{"$f":"VLOOKUP($B10&$K$6,'Calc-V'!$A$4:$BK$399,D$7,FALSE)","v":118},{"$f":"VLOOKUP($B10&$K$6,'Calc-V'!$A$4:$BK$399,E$7,FALSE)","v":29},{"$f":"VLOOKUP($B10&$K$6,'Calc-V'!$A$4:$BK$399,F$7,FALSE)","v":19159},null,{"$f":"VLOOKUP($B10&$K$6,'Calc-V'!$A$4:$BK$399,H$7,FALSE)","v":2191.85},{"$f":"VLOOKUP($B10&$K$6,'Calc-V'!$A$4:$BK$399,I$7,FALSE)","v":8022},{"$f":"VLOOKUP($B10&$K$6,'Calc-V'!$A$4:$BK$399,J$7,FALSE)","v":17226.45},{"$f":"VLOOKUP($B10&$K$6,'Calc-V'!$A$4:$BK$399,K$7,FALSE)","v":35093.450000000004},{"$f":"VLOOKUP($B10&$K$6,'Calc-V'!$A$4:$BK$399,L$7,FALSE)","v":62533.75},null,{"$f":"C10/$F10","v":0.99232736572890023},{"$f":"D10/$F10","v":6.15898533326374E-3},{"$f":"E10/$F10","v":1.513648937836004E-3},null,{"$f":"H10/$L10","v":3.5050672636776137E-2},{"$f":"I10/$L10","v":0.1282827273272433},{"$f":"J10/$L10","v":0.2754744438003478},{"$f":"K10/$L10","v":0.56119215623563279}]
[null,"Aberdeenshire",{"$f":"VLOOKUP($B11&$K$6,'Calc-V'!$A$4:$BK$399,C$7,FALSE)","v":22269},{"$f":"VLOOKUP($B11&$K$6,'Calc-V'!$A$4:$BK$399,D$7,FALSE)","v":137},{"$f":"VLOOKUP($B11&$K$6,'Calc-V'!$A$4:$BK$399,E$7,FALSE)","v":4231},{"$f":"VLOOKUP($B11&$K$6,'Calc-V'!$A$4:$BK$399,F$7,FALSE)","v":26637},null,{"$f":"VLOOKUP($B11&$K$6,'Calc-V'!$A$4:$BK$399,H$7,FALSE)","v":139},{"$f":"VLOOKUP($B11&$K$6,'Calc-V'!$A$4:$BK$399,I$7,FALSE)","v":55310},{"$f":"VLOOKUP($B11&$K$6,'Calc-V'!$A$4:$BK$399,J$7,FALSE)","v":46410},{"$f":"VLOOKUP($B11&$K$6,'Calc-V'!$A$4:$BK$399,K$7,FALSE)","v":22661},{"$f":"VLOOKUP($B11&$K$6,'Calc-V'!$A$4:$BK$399,L$7,FALSE)","v":124520},null,{"$f":"C11/$F11","v":0.83601756954612005},{"$f":"D11/$F11","v":5.1432218342906486E-3},{"$f":"E11/$F11","v":0.15883920861958931},null,{"$f":"H11/$L11","v":1.1162865403148089E-3},{"$f":"I11/$L11","v":0.44418567298425954},{"$f":"J11/$L11","v":0.37271121105043364},{"$f":"K11/$L11","v":0.18198682942499197}]
[null,"Angus",{"$f":"VLOOKUP($B12&$K$6,'Calc-V'!$A$4:$BK$399,C$7,FALSE)","v":11159},{"$f":"VLOOKUP($B12&$K$6,'Calc-V'!$A$4:$BK$399,D$7,FALSE)","v":738},{"$f":"VLOOKUP($B12&$K$6,'Calc-V'!$A$4:$BK$399,E$7,FALSE)","v":104},{"$f":"VLOOKUP($B12&$K$6,'Calc-V'!$A$4:$BK$399,F$7,FALSE)","v":12001},null,{"$f":"VLOOKUP($B12&$K$6,'Calc-V'!$A$4:$BK$399,H$7,FALSE)","v":449.5},{"$f":"VLOOKUP($B12&$K$6,'Calc-V'!$A$4:$BK$399,I$7,FALSE)","v":81510},{"$f":"VLOOKUP($B12&$K$6,'Calc-V'!$A$4:$BK$399,J$7,FALSE)","v":18666.5},{"$f":"VLOOKUP($B12&$K$6,'Calc-V'!$A$4:$BK$399,K$7,FALSE)","v":2615},{"$f":"VLOOKUP($B12&$K$6,'Calc-V'!$A$4:$BK$399,L$7,FALSE)","v":103241},null,0.92983918006832766,6.1494875427047749E-2,8.6659445046246147E-3,null,4.3538904117550199E-3,0.78951191871446424,0.18080510649838727,2.5329084375393496E-2]
[null,"Argyll & Bute",{"$f":"VLOOKUP($B13&$K$6,'Calc-V'!$A$4:$BK$399,C$7,FALSE)","v":3005},{"$f":"VLOOKUP($B13&$K$6,'Calc-V'!$A$4:$BK$399,D$7,FALSE)","v":111},{"$f":"VLOOKUP($B13&$K$6,'Calc-V'!$A$4:$BK$399,E$7,FALSE)","v":458},{"$f":"VLOOKUP($B13&$K$6,'Calc-V'!$A$4:$BK$399,F$7,FALSE)","v":3574},null,{"$f":"VLOOKUP($B13&$K$6,'Calc-V'!$A$4:$BK$399,H$7,FALSE)","v":0},{"$f":"VLOOKUP($B13&$K$6,'Calc-V'!$A$4:$BK$399,I$7,FALSE)","v":35660},{"$f":"VLOOKUP($B13&$K$6,'Calc-V'!$A$4:$BK$399,J$7,FALSE)","v":12971},{"$f":"VLOOKUP($B13&$K$6,'Calc-V'!$A$4:$BK$399,K$7,FALSE)","v":36039},{"$f":"VLOOKUP($B13&$K$6,'Calc-V'!$A$4:$BK$399,L$7,FALSE)","v":84670},null,0.84079462786793513,3.1057638500279799E-2,0.12814773363178511,null,0,0.42116452108184715,0.15319475611196409,0.42564072280618875]
[null,"Clackmannanshire",{"$f":"VLOOKUP($B14&$K$6,'Calc-V'!$A$4:$BK$399,C$7,FALSE)","v":4112},{"$f":"VLOOKUP($B14&$K$6,'Calc-V'!$A$4:$BK$399,D$7,FALSE)","v":550},{"$f":"VLOOKUP($B14&$K$6,'Calc-V'!$A$4:$BK$399,E$7,FALSE)","v":653},{"$f":"VLOOKUP($B14&$K$6,'Calc-V'!$A$4:$BK$399,F$7,FALSE)","v":5315},null,{"$f":"VLOOKUP($B14&$K$6,'Calc-V'!$A$4:$BK$399,H$7,FALSE)","v":0},{"$f":"VLOOKUP($B14&$K$6,'Calc-V'!$A$4:$BK$399,I$7,FALSE)","v":71859.5},{"$f":"VLOOKUP($B14&$K$6,'Calc-V'!$A$4:$BK$399,J$7,FALSE)","v":8369.630000000001},{"$f":"VLOOKUP($B14&$K$6,'Calc-V'!$A$4:$BK$399,K$7,FALSE)","v":19396},{"$f":"VLOOKUP($B14&$K$6,'Calc-V'!$A$4:$BK$399,L$7,FALSE)","v":99625.13},null,0.77365945437441208,0.10348071495766697,0.12285983066792097,null,0,0.72129893331130401,8.4011232908805245E-2,0.19468983377989066]
[null,"Dumfries & Galloway",{"$f":"VLOOKUP($B15&$K$6,'Calc-V'!$A$4:$BK$399,C$7,FALSE)","v":7304},{"$f":"VLOOKUP($B15&$K$6,'Calc-V'!$A$4:$BK$399,D$7,FALSE)","v":6635},{"$f":"VLOOKUP($B15&$K$6,'Calc-V'!$A$4:$BK$399,E$7,FALSE)","v":0},{"$f":"VLOOKUP($B15&$K$6,'Calc-V'!$A$4:$BK$399,F$7,FALSE)","v":13939},null,{"$f":"VLOOKUP($B15&$K$6,'Calc-V'!$A$4:$BK$399,H$7,FALSE)","v":0},{"$f":"VLOOKUP($B15&$K$6,'Calc-V'!$A$4:$BK$399,I$7,FALSE)","v":9600},{"$f":"VLOOKUP($B15&$K$6,'Calc-V'!$A$4:$BK$399,J$7,FALSE)","v":50706},{"$f":"VLOOKUP($B15&$K$6,'Calc-V'!$A$4:$BK$399,K$7,FALSE)","v":0},{"$f":"VLOOKUP($B15&$K$6,'Calc-V'!$A$4:$BK$399,L$7,FALSE)","v":60306},null,0.52399741731831551,0.47600258268168449,0,null,0,0.15918814048353397,0.84081185951646598,0]
[null,"Dundee City",{"$f":"VLOOKUP($B16&$K$6,'Calc-V'!$A$4:$BK$399,C$7,FALSE)","v":16224},{"$f":"VLOOKUP($B16&$K$6,'Calc-V'!$A$4:$BK$399,D$7,FALSE)","v":706},{"$f":"VLOOKUP($B16&$K$6,'Calc-V'!$A$4:$BK$399,E$7,FALSE)","v":1012},{"$f":"VLOOKUP($B16&$K$6,'Calc-V'!$A$4:$BK$399,F$7,FALSE)","v":17942},null,{"$f":"VLOOKUP($B16&$K$6,'Calc-V'!$A$4:$BK$399,H$7,FALSE)","v":0},{"$f":"VLOOKUP($B16&$K$6,'Calc-V'!$A$4:$BK$399,I$7,FALSE)","v":139014},{"$f":"VLOOKUP($B16&$K$6,'Calc-V'!$A$4:$BK$399,J$7,FALSE)","v":15977},{"$f":"VLOOKUP($B16&$K$6,'Calc-V'!$A$4:$BK$399,K$7,FALSE)","v":177487},{"$f":"VLOOKUP($B16&$K$6,'Calc-V'!$A$4:$BK$399,L$7,FALSE)","v":332478},null,0.9042470181696578,3.9349013487905475E-2,5.6403968342436737E-2,null,0,0.4181148827892372,4.8054307352666942E-2,0.53383080985809583]
[null,"East Ayrshire",{"$f":"VLOOKUP($B17&$K$6,'Calc-V'!$A$4:$BK$399,C$7,FALSE)","v":8149},{"$f":"VLOOKUP($B17&$K$6,'Calc-V'!$A$4:$BK$399,D$7,FALSE)","v":3296},{"$f":"VLOOKUP($B17&$K$6,'Calc-V'!$A$4:$BK$399,E$7,FALSE)","v":0},{"$f":"VLOOKUP($B17&$K$6,'Calc-V'!$A$4:$BK$399,F$7,FALSE)","v":11445},null,{"$f":"VLOOKUP($B17&$K$6,'Calc-V'!$A$4:$BK$399,H$7,FALSE)","v":0},{"$f":"VLOOKUP($B17&$K$6,'Calc-V'!$A$4:$BK$399,I$7,FALSE)","v":120749},{"$f":"VLOOKUP($B17&$K$6,'Calc-V'!$A$4:$BK$399,J$7,FALSE)","v":60912},{"$f":"VLOOKUP($B17&$K$6,'Calc-V'!$A$4:$BK$399,K$7,FALSE)","v":55132},{"$f":"VLOOKUP($B17&$K$6,'Calc-V'!$A$4:$BK$399,L$7,FALSE)","v":236793},null,0.71201397990388815,0.28798602009611185,0,null,0,0.50993483760077363,0.25723733387388986,0.23282782852533648]
[null,"East Dunbartonshire",{"$f":"VLOOKUP($B18&$K$6,'Calc-V'!$A$4:$BK$399,C$7,FALSE)","v":6563},{"$f":"VLOOKUP($B18&$K$6,'Calc-V'!$A$4:$BK$399,D$7,FALSE)","v":626},{"$f":"VLOOKUP($B18&$K$6,'Calc-V'!$A$4:$BK$399,E$7,FALSE)","v":11},{"$f":"VLOOKUP($B18&$K$6,'Calc-V'!$A$4:$BK$399,F$7,FALSE)","v":7200},null,{"$f":"VLOOKUP($B18&$K$6,'Calc-V'!$A$4:$BK$399,H$7,FALSE)","v":624},{"$f":"VLOOKUP($B18&$K$6,'Calc-V'!$A$4:$BK$399,I$7,FALSE)","v":117194.5},{"$f":"VLOOKUP($B18&$K$6,'Calc-V'!$A$4:$BK$399,J$7,FALSE)","v":204739.99},{"$f":"VLOOKUP($B18&$K$6,'Calc-V'!$A$4:$BK$399,K$7,FALSE)","v":74747},{"$f":"VLOOKUP($B18&$K$6,'Calc-V'!$A$4:$BK$399,L$7,FALSE)","v":397305.49},null,0.91152777777777783,8.6944444444444449E-2,1.5277777777777779E-3,null,1.5705798578318161E-3,0.29497327107158777,0.51532132113251194,0.18813482793806852]
[null,"East Lothian",{"$f":"VLOOKUP($B19&$K$6,'Calc-V'!$A$4:$BK$399,C$7,FALSE)","v":7782},{"$f":"VLOOKUP($B19&$K$6,'Calc-V'!$A$4:$BK$399,D$7,FALSE)","v":93},{"$f":"VLOOKUP($B19&$K$6,'Calc-V'!$A$4:$BK$399,E$7,FALSE)","v":1127},{"$f":"VLOOKUP($B19&$K$6,'Calc-V'!$A$4:$BK$399,F$7,FALSE)","v":9002},null,{"$f":"VLOOKUP($B19&$K$6,'Calc-V'!$A$4:$BK$399,H$7,FALSE)","v":0},{"$f":"VLOOKUP($B19&$K$6,'Calc-V'!$A$4:$BK$399,I$7,FALSE)","v":0},{"$f":"VLOOKUP($B19&$K$6,'Calc-V'!$A$4:$BK$399,J$7,FALSE)","v":13583.5},{"$f":"VLOOKUP($B19&$K$6,'Calc-V'!$A$4:$BK$399,K$7,FALSE)","v":21359},{"$f":"VLOOKUP($B19&$K$6,'Calc-V'!$A$4:$BK$399,L$7,FALSE)","v":34942.5},null,0.86447456120862032,1.033103754721173E-2,0.12519440124416797,null,0,0,0.3887386420548043,0.61126135794519565]
[null,"East Renfrewshire",{"$f":"VLOOKUP($B20&$K$6,'Calc-V'!$A$4:$BK$399,C$7,FALSE)","v":6541},{"$f":"VLOOKUP($B20&$K$6,'Calc-V'!$A$4:$BK$399,D$7,FALSE)","v":60},{"$f":"VLOOKUP($B20&$K$6,'Calc-V'!$A$4:$BK$399,E$7,FALSE)","v":337},{"$f":"VLOOKUP($B20&$K$6,'Calc-V'!$A$4:$BK$399,F$7,FALSE)","v":6938},null,{"$f":"VLOOKUP($B20&$K$6,'Calc-V'!$A$4:$BK$399,H$7,FALSE)","v":0},{"$f":"VLOOKUP($B20&$K$6,'Calc-V'!$A$4:$BK$399,I$7,FALSE)","v":104756},{"$f":"VLOOKUP($B20&$K$6,'Calc-V'!$A$4:$BK$399,J$7,FALSE)","v":16316.5},{"$f":"VLOOKUP($B20&$K$6,'Calc-V'!$A$4:$BK$399,K$7,FALSE)","v":56060.75},{"$f":"VLOOKUP($B20&$K$6,'Calc-V'!$A$4:$BK$399,L$7,FALSE)","v":177133.25},null,0.94277889881810317,8.6480253675410776E-3,4.8573075814355722E-2,null,0,0.59139658985537724,9.2114269906976812E-2,0.31648914023764596]
[null,"Edinburgh, City of",{"$f":"VLOOKUP($B21&$K$6,'Calc-V'!$A$4:$BK$399,C$7,FALSE)","v":19291.5},{"$f":"VLOOKUP($B21&$K$6,'Calc-V'!$A$4:$BK$399,D$7,FALSE)","v":0},{"$f":"VLOOKUP($B21&$K$6,'Calc-V'!$A$4:$BK$399,E$7,FALSE)","v":3682.5},{"$f":"VLOOKUP($B21&$K$6,'Calc-V'!$A$4:$BK$399,F$7,FALSE)","v":22974},null,{"$f":"VLOOKUP($B21&$K$6,'Calc-V'!$A$4:$BK$399,H$7,FALSE)","v":0},{"$f":"VLOOKUP($B21&$K$6,'Calc-V'!$A$4:$BK$399,I$7,FALSE)","v":432569.61339451483},{"$f":"VLOOKUP($B21&$K$6,'Calc-V'!$A$4:$BK$399,J$7,FALSE)","v":0},{"$f":"VLOOKUP($B21&$K$6,'Calc-V'!$A$4:$BK$399,K$7,FALSE)","v":176154.11144014803},{"$f":"VLOOKUP($B21&$K$6,'Calc-V'!$A$4:$BK$399,L$7,FALSE)","v":608723.72483466286},null,0.83971010707756599,0,0.16028989292243406,null,0,0.71061730592479577,0,0.28938269407520423]
[null,"Eilean Siar",{"$f":"VLOOKUP($B22&$K$6,'Calc-V'!$A$4:$BK$399,C$7,FALSE)","v":4727},{"$f":"VLOOKUP($B22&$K$6,'Calc-V'!$A$4:$BK$399,D$7,FALSE)","v":0},{"$f":"VLOOKUP($B22&$K$6,'Calc-V'!$A$4:$BK$399,E$7,FALSE)","v":0},{"$f":"VLOOKUP($B22&$K$6,'Calc-V'!$A$4:$BK$399,F$7,FALSE)","v":4727},null,{"$f":"VLOOKUP($B22&$K$6,'Calc-V'!$A$4:$BK$399,H$7,FALSE)","v":0},{"$f":"VLOOKUP($B22&$K$6,'Calc-V'!$A$4:$BK$399,I$7,FALSE)","v":9768},{"$f":"VLOOKUP($B22&$K$6,'Calc-V'!$A$4:$BK$399,J$7,FALSE)","v":13794.75},{"$f":"VLOOKUP($B22&$K$6,'Calc-V'!$A$4:$BK$399,K$7,FALSE)","v":6692.5},{"$f":"VLOOKUP($B22&$K$6,'Calc-V'!$A$4:$BK$399,L$7,FALSE)","v":30255.25},null,1,0,0,null,0,0.32285305856008462,0.45594566232306788,0.22120127911684748]
[null,"Falkirk",{"$f":"VLOOKUP($B23&$K$6,'Calc-V'!$A$4:$BK$399,C$7,FALSE)","v":10775},{"$f":"VLOOKUP($B23&$K$6,'Calc-V'!$A$4:$BK$399,D$7,FALSE)","v":265},{"$f":"VLOOKUP($B23&$K$6,'Calc-V'!$A$4:$BK$399,E$7,FALSE)","v":821},{"$f":"VLOOKUP($B23&$K$6,'Calc-V'!$A$4:$BK$399,F$7,FALSE)","v":11861},null,{"$f":"VLOOKUP($B23&$K$6,'Calc-V'!$A$4:$BK$399,H$7,FALSE)","v":35},{"$f":"VLOOKUP($B23&$K$6,'Calc-V'!$A$4:$BK$399,I$7,FALSE)","v":308},{"$f":"VLOOKUP($B23&$K$6,'Calc-V'!$A$4:$BK$399,J$7,FALSE)","v":46171.5},{"$f":"VLOOKUP($B23&$K$6,'Calc-V'!$A$4:$BK$399,K$7,FALSE)","v":33626.449999999997},{"$f":"VLOOKUP($B23&$K$6,'Calc-V'!$A$4:$BK$399,L$7,FALSE)","v":80140.95},null,0.90843942332012473,2.2342129668662003E-2,6.9218447011213213E-2,null,4.3673053538796337E-4,3.8432287114140776E-3,0.57612868327615285,0.41959135747704512]
[null,"Fife",{"$f":"VLOOKUP($B24&$K$6,'Calc-V'!$A$4:$BK$399,C$7,FALSE)","v":31104},{"$f":"VLOOKUP($B24&$K$6,'Calc-V'!$A$4:$BK$399,D$7,FALSE)","v":2064},{"$f":"VLOOKUP($B24&$K$6,'Calc-V'!$A$4:$BK$399,E$7,FALSE)","v":6036},{"$f":"VLOOKUP($B24&$K$6,'Calc-V'!$A$4:$BK$399,F$7,FALSE)","v":39204},null,{"$f":"VLOOKUP($B24&$K$6,'Calc-V'!$A$4:$BK$399,H$7,FALSE)","v":108284},{"$f":"VLOOKUP($B24&$K$6,'Calc-V'!$A$4:$BK$399,I$7,FALSE)","v":207331},{"$f":"VLOOKUP($B24&$K$6,'Calc-V'!$A$4:$BK$399,J$7,FALSE)","v":81147},{"$f":"VLOOKUP($B24&$K$6,'Calc-V'!$A$4:$BK$399,K$7,FALSE)","v":276579},{"$f":"VLOOKUP($B24&$K$6,'Calc-V'!$A$4:$BK$399,L$7,FALSE)","v":673341},null,0.79338842975206614,5.2647689011325376E-2,0.15396388123660851,null,0.16081599070901667,0.30791382078322871,0.12051397434583666,0.41075621416191793]
[null,"Glasgow City",{"$f":"VLOOKUP($B25&$K$6,'Calc-V'!$A$4:$BK$399,C$7,FALSE)","v":12961},{"$f":"VLOOKUP($B25&$K$6,'Calc-V'!$A$4:$BK$399,D$7,FALSE)","v":0},{"$f":"VLOOKUP($B25&$K$6,'Calc-V'!$A$4:$BK$399,E$7,FALSE)","v":949},{"$f":"VLOOKUP($B25&$K$6,'Calc-V'!$A$4:$BK$399,F$7,FALSE)","v":13910},null,{"$f":"VLOOKUP($B25&$K$6,'Calc-V'!$A$4:$BK$399,H$7,FALSE)","v":0},{"$f":"VLOOKUP($B25&$K$6,'Calc-V'!$A$4:$BK$399,I$7,FALSE)","v":505257},{"$f":"VLOOKUP($B25&$K$6,'Calc-V'!$A$4:$BK$399,J$7,FALSE)","v":7189},{"$f":"VLOOKUP($B25&$K$6,'Calc-V'!$A$4:$BK$399,K$7,FALSE)","v":12462},{"$f":"VLOOKUP($B25&$K$6,'Calc-V'!$A$4:$BK$399,L$7,FALSE)","v":524908},null,0.9317757009345794,0,6.822429906542056E-2,null,0,0.96256296341454117,1.3695733347558048E-2,2.3741303237900736E-2]
[null,"Highland",{"$f":"VLOOKUP($B26&$K$6,'Calc-V'!$A$4:$BK$399,C$7,FALSE)","v":16524},{"$f":"VLOOKUP($B26&$K$6,'Calc-V'!$A$4:$BK$399,D$7,FALSE)","v":457},{"$f":"VLOOKUP($B26&$K$6,'Calc-V'!$A$4:$BK$399,E$7,FALSE)","v":361},{"$f":"VLOOKUP($B26&$K$6,'Calc-V'!$A$4:$BK$399,F$7,FALSE)","v":17342},null,{"$f":"VLOOKUP($B26&$K$6,'Calc-V'!$A$4:$BK$399,H$7,FALSE)","v":3714},{"$f":"VLOOKUP($B26&$K$6,'Calc-V'!$A$4:$BK$399,I$7,FALSE)","v":64087},{"$f":"VLOOKUP($B26&$K$6,'Calc-V'!$A$4:$BK$399,J$7,FALSE)","v":57589},{"$f":"VLOOKUP($B26&$K$6,'Calc-V'!$A$4:$BK$399,K$7,FALSE)","v":21090},{"$f":"VLOOKUP($B26&$K$6,'Calc-V'!$A$4:$BK$399,L$7,FALSE)","v":146480},null,0.95283127666935763,2.6352208511129051E-2,2.081651481951332E-2,null,2.5354997269251774E-2,0.43751365374112505,0.39315264882577827,0.1439787001638449]
[null,"Inverclyde",{"$f":"VLOOKUP($B27&$K$6,'Calc-V'!$A$4:$BK$399,C$7,FALSE)","v":4694},{"$f":"VLOOKUP($B27&$K$6,'Calc-V'!$A$4:$BK$399,D$7,FALSE)","v":8},{"$f":"VLOOKUP($B27&$K$6,'Calc-V'!$A$4:$BK$399,E$7,FALSE)","v":1589},{"$f":"VLOOKUP($B27&$K$6,'Calc-V'!$A$4:$BK$399,F$7,FALSE)","v":6291},null,{"$f":"VLOOKUP($B27&$K$6,'Calc-V'!$A$4:$BK$399,H$7,FALSE)","v":0},{"$f":"VLOOKUP($B27&$K$6,'Calc-V'!$A$4:$BK$399,I$7,FALSE)","v":124246.5},{"$f":"VLOOKUP($B27&$K$6,'Calc-V'!$A$4:$BK$399,J$7,FALSE)","v":341755.95},{"$f":"VLOOKUP($B27&$K$6,'Calc-V'!$A$4:$BK$399,K$7,FALSE)","v":48705.5},{"$f":"VLOOKUP($B27&$K$6,'Calc-V'!$A$4:$BK$399,L$7,FALSE)","v":514707.95},null,0.74614528691781912,1.2716579240184391E-3,0.25258305515816243,null,0,0.24139223029292631,0.66398032126762374,9.4627448439449979E-2]
[null,"Midlothian",{"$f":"VLOOKUP($B28&$K$6,'Calc-V'!$A$4:$BK$399,C$7,FALSE)","v":3814},{"$f":"VLOOKUP($B28&$K$6,'Calc-V'!$A$4:$BK$399,D$7,FALSE)","v":0},{"$f":"VLOOKUP($B28&$K$6,'Calc-V'!$A$4:$BK$399,E$7,FALSE)","v":610},{"$f":"VLOOKUP($B28&$K$6,'Calc-V'!$A$4:$BK$399,F$7,FALSE)","v":4424},null,{"$f":"VLOOKUP($B28&$K$6,'Calc-V'!$A$4:$BK$399,H$7,FALSE)","v":0},{"$f":"VLOOKUP($B28&$K$6,'Calc-V'!$A$4:$BK$399,I$7,FALSE)","v":176470.86},{"$f":"VLOOKUP($B28&$K$6,'Calc-V'!$A$4:$BK$399,J$7,FALSE)","v":49417.82},{"$f":"VLOOKUP($B28&$K$6,'Calc-V'!$A$4:$BK$399,K$7,FALSE)","v":23433.69},{"$f":"VLOOKUP($B28&$K$6,'Calc-V'!$A$4:$BK$399,L$7,FALSE)","v":249322.37},null,0.86211573236889694,0,0.13788426763110306,null,0,0.70780195134516,0.19820852817980192,9.3989520475038002E-2]
[null,"Moray",{"$f":"VLOOKUP($B29&$K$6,'Calc-V'!$A$4:$BK$399,C$7,FALSE)","v":7570},{"$f":"VLOOKUP($B29&$K$6,'Calc-V'!$A$4:$BK$399,D$7,FALSE)","v":0},{"$f":"VLOOKUP($B29&$K$6,'Calc-V'!$A$4:$BK$399,E$7,FALSE)","v":52},{"$f":"VLOOKUP($B29&$K$6,'Calc-V'!$A$4:$BK$399,F$7,FALSE)","v":7622},null,{"$f":"VLOOKUP($B29&$K$6,'Calc-V'!$A$4:$BK$399,H$7,FALSE)","v":13103},{"$f":"VLOOKUP($B29&$K$6,'Calc-V'!$A$4:$BK$399,I$7,FALSE)","v":8852},{"$f":"VLOOKUP($B29&$K$6,'Calc-V'!$A$4:$BK$399,J$7,FALSE)","v":21258},{"$f":"VLOOKUP($B29&$K$6,'Calc-V'!$A$4:$BK$399,K$7,FALSE)","v":2246},{"$f":"VLOOKUP($B29&$K$6,'Calc-V'!$A$4:$BK$399,L$7,FALSE)","v":45459},null,0.99317764366308059,0,6.8223563369194436E-3,null,0.28823775270023538,0.19472491695813809,0.4676301722431202,4.9407158098506349E-2]
[null,"North Ayrshire",{"$f":"VLOOKUP($B30&$K$6,'Calc-V'!$A$4:$BK$399,C$7,FALSE)","v":15004},{"$f":"VLOOKUP($B30&$K$6,'Calc-V'!$A$4:$BK$399,D$7,FALSE)","v":0},{"$f":"VLOOKUP($B30&$K$6,'Calc-V'!$A$4:$BK$399,E$7,FALSE)","v":481.5},{"$f":"VLOOKUP($B30&$K$6,'Calc-V'!$A$4:$BK$399,F$7,FALSE)","v":15485.5},null,{"$f":"VLOOKUP($B30&$K$6,'Calc-V'!$A$4:$BK$399,H$7,FALSE)","v":0},{"$f":"VLOOKUP($B30&$K$6,'Calc-V'!$A$4:$BK$399,I$7,FALSE)","v":185850},{"$f":"VLOOKUP($B30&$K$6,'Calc-V'!$A$4:$BK$399,J$7,FALSE)","v":452.25},{"$f":"VLOOKUP($B30&$K$6,'Calc-V'!$A$4:$BK$399,K$7,FALSE)","v":22216.63},{"$f":"VLOOKUP($B30&$K$6,'Calc-V'!$A$4:$BK$399,L$7,FALSE)","v":208518.88},null,0.968906396306222,0,3.109360369377805E-2,null,0,0.8912861991201948,2.1688683537912728E-3,0.10654493252601395]
[null,"North Lanarkshire",{"$f":"VLOOKUP($B31&$K$6,'Calc-V'!$A$4:$BK$399,C$7,FALSE)","v":17330},{"$f":"VLOOKUP($B31&$K$6,'Calc-V'!$A$4:$BK$399,D$7,FALSE)","v":311},{"$f":"VLOOKUP($B31&$K$6,'Calc-V'!$A$4:$BK$399,E$7,FALSE)","v":0},{"$f":"VLOOKUP($B31&$K$6,'Calc-V'!$A$4:$BK$399,F$7,FALSE)","v":17641},null,{"$f":"VLOOKUP($B31&$K$6,'Calc-V'!$A$4:$BK$399,H$7,FALSE)","v":0},{"$f":"VLOOKUP($B31&$K$6,'Calc-V'!$A$4:$BK$399,I$7,FALSE)","v":221551},{"$f":"VLOOKUP($B31&$K$6,'Calc-V'!$A$4:$BK$399,J$7,FALSE)","v":52453.5},{"$f":"VLOOKUP($B31&$K$6,'Calc-V'!$A$4:$BK$399,K$7,FALSE)","v":180750.25},{"$f":"VLOOKUP($B31&$K$6,'Calc-V'!$A$4:$BK$399,L$7,FALSE)","v":454754.75},null,0.98237061391077607,1.7629386089223965E-2,0,null,0,0.48718787434325866,0.11534458958372618,0.39746753607301516]
[null,"Orkney Islands",{"$f":"VLOOKUP($B32&$K$6,'Calc-V'!$A$4:$BK$399,C$7,FALSE)","v":3316},{"$f":"VLOOKUP($B32&$K$6,'Calc-V'!$A$4:$BK$399,D$7,FALSE)","v":0},{"$f":"VLOOKUP($B32&$K$6,'Calc-V'!$A$4:$BK$399,E$7,FALSE)","v":0},{"$f":"VLOOKUP($B32&$K$6,'Calc-V'!$A$4:$BK$399,F$7,FALSE)","v":3316},null,{"$f":"VLOOKUP($B32&$K$6,'Calc-V'!$A$4:$BK$399,H$7,FALSE)","v":106},{"$f":"VLOOKUP($B32&$K$6,'Calc-V'!$A$4:$BK$399,I$7,FALSE)","v":7487},{"$f":"VLOOKUP($B32&$K$6,'Calc-V'!$A$4:$BK$399,J$7,FALSE)","v":0},{"$f":"VLOOKUP($B32&$K$6,'Calc-V'!$A$4:$BK$399,K$7,FALSE)","v":0},{"$f":"VLOOKUP($B32&$K$6,'Calc-V'!$A$4:$BK$399,L$7,FALSE)","v":7593},null,1,0,0,null,1.3960226524430396E-2,0.98603977347556959,0,0]
[null,"Perth & Kinross",{"$f":"VLOOKUP($B33&$K$6,'Calc-V'!$A$4:$BK$399,C$7,FALSE)","v":15408},{"$f":"VLOOKUP($B33&$K$6,'Calc-V'!$A$4:$BK$399,D$7,FALSE)","v":1600},{"$f":"VLOOKUP($B33&$K$6,'Calc-V'!$A$4:$BK$399,E$7,FALSE)","v":59},{"$f":"VLOOKUP($B33&$K$6,'Calc-V'!$A$4:$BK$399,F$7,FALSE)","v":17067},null,{"$f":"VLOOKUP($B33&$K$6,'Calc-V'!$A$4:$BK$399,H$7,FALSE)","v":0},{"$f":"VLOOKUP($B33&$K$6,'Calc-V'!$A$4:$BK$399,I$7,FALSE)","v":90226.57},{"$f":"VLOOKUP($B33&$K$6,'Calc-V'!$A$4:$BK$399,J$7,FALSE)","v":238104.83000000002},{"$f":"VLOOKUP($B33&$K$6,'Calc-V'!$A$4:$BK$399,K$7,FALSE)","v":15049.21},{"$f":"VLOOKUP($B33&$K$6,'Calc-V'!$A$4:$BK$399,L$7,FALSE)","v":344250.47000000003},null,0.90279486728774827,9.3748168981074589E-2,3.4569637311771253E-3,null,0,0.2620957060712219,0.69166159744095623,4.3715873503382574E-2]
[null,"Renfrewshire",{"$f":"VLOOKUP($B34&$K$6,'Calc-V'!$A$4:$BK$399,C$7,FALSE)","v":14225},{"$f":"VLOOKUP($B34&$K$6,'Calc-V'!$A$4:$BK$399,D$7,FALSE)","v":0},{"$f":"VLOOKUP($B34&$K$6,'Calc-V'!$A$4:$BK$399,E$7,FALSE)","v":0},{"$f":"VLOOKUP($B34&$K$6,'Calc-V'!$A$4:$BK$399,F$7,FALSE)","v":14225},null,{"$f":"VLOOKUP($B34&$K$6,'Calc-V'!$A$4:$BK$399,H$7,FALSE)","v":0},{"$f":"VLOOKUP($B34&$K$6,'Calc-V'!$A$4:$BK$399,I$7,FALSE)","v":0},{"$f":"VLOOKUP($B34&$K$6,'Calc-V'!$A$4:$BK$399,J$7,FALSE)","v":2878},{"$f":"VLOOKUP($B34&$K$6,'Calc-V'!$A$4:$BK$399,K$7,FALSE)","v":65856},{"$f":"VLOOKUP($B34&$K$6,'Calc-V'!$A$4:$BK$399,L$7,FALSE)","v":68734},null,1,0,0,null,0,0,4.1871562836441938E-2,0.95812843716355811]
[null,"Scottish Borders",{"$f":"VLOOKUP($B35&$K$6,'Calc-V'!$A$4:$BK$399,C$7,FALSE)","v":8277},{"$f":"VLOOKUP($B35&$K$6,'Calc-V'!$A$4:$BK$399,D$7,FALSE)","v":0},{"$f":"VLOOKUP($B35&$K$6,'Calc-V'!$A$4:$BK$399,E$7,FALSE)","v":2131},{"$f":"VLOOKUP($B35&$K$6,'Calc-V'!$A$4:$BK$399,F$7,FALSE)","v":10408},null,{"$f":"VLOOKUP($B35&$K$6,'Calc-V'!$A$4:$BK$399,H$7,FALSE)","v":1716},{"$f":"VLOOKUP($B35&$K$6,'Calc-V'!$A$4:$BK$399,I$7,FALSE)","v":0},{"$f":"VLOOKUP($B35&$K$6,'Calc-V'!$A$4:$BK$399,J$7,FALSE)","v":0},{"$f":"VLOOKUP($B35&$K$6,'Calc-V'!$A$4:$BK$399,K$7,FALSE)","v":54240},{"$f":"VLOOKUP($B35&$K$6,'Calc-V'!$A$4:$BK$399,L$7,FALSE)","v":55956},null,0.79525365103766332,0,0.20474634896233668,null,3.0666952605618702E-2,0,0,0.96933304739438131]
[null,"Shetland Islands",{"$f":"VLOOKUP($B36&$K$6,'Calc-V'!$A$4:$BK$399,C$7,FALSE)","v":17416},{"$f":"VLOOKUP($B36&$K$6,'Calc-V'!$A$4:$BK$399,D$7,FALSE)","v":0},{"$f":"VLOOKUP($B36&$K$6,'Calc-V'!$A$4:$BK$399,E$7,FALSE)","v":1600},{"$f":"VLOOKUP($B36&$K$6,'Calc-V'!$A$4:$BK$399,F$7,FALSE)","v":19016},null,{"$f":"VLOOKUP($B36&$K$6,'Calc-V'!$A$4:$BK$399,H$7,FALSE)","v":27404},{"$f":"VLOOKUP($B36&$K$6,'Calc-V'!$A$4:$BK$399,I$7,FALSE)","v":41104},{"$f":"VLOOKUP($B36&$K$6,'Calc-V'!$A$4:$BK$399,J$7,FALSE)","v":6178},{"$f":"VLOOKUP($B36&$K$6,'Calc-V'!$A$4:$BK$399,K$7,FALSE)","v":1423},{"$f":"VLOOKUP($B36&$K$6,'Calc-V'!$A$4:$BK$399,L$7,FALSE)","v":76109},null,0.91586032814472018,0,8.4139671855279763E-2,null,0.36006254188072367,0.54006753471994118,8.1173054435086517E-2,1.8696868964248645E-2]
[null,"South Ayrshire",{"$f":"VLOOKUP($B37&$K$6,'Calc-V'!$A$4:$BK$399,C$7,FALSE)","v":13973},{"$f":"VLOOKUP($B37&$K$6,'Calc-V'!$A$4:$BK$399,D$7,FALSE)","v":25},{"$f":"VLOOKUP($B37&$K$6,'Calc-V'!$A$4:$BK$399,E$7,FALSE)","v":3052},{"$f":"VLOOKUP($B37&$K$6,'Calc-V'!$A$4:$BK$399,F$7,FALSE)","v":17050},null,{"$f":"VLOOKUP($B37&$K$6,'Calc-V'!$A$4:$BK$399,H$7,FALSE)","v":0},{"$f":"VLOOKUP($B37&$K$6,'Calc-V'!$A$4:$BK$399,I$7,FALSE)","v":138984},{"$f":"VLOOKUP($B37&$K$6,'Calc-V'!$A$4:$BK$399,J$7,FALSE)","v":24604},{"$f":"VLOOKUP($B37&$K$6,'Calc-V'!$A$4:$BK$399,K$7,FALSE)","v":126051},{"$f":"VLOOKUP($B37&$K$6,'Calc-V'!$A$4:$BK$399,L$7,FALSE)","v":289639},null,0.81953079178885635,1.4662756598240469E-3,0.17900293255131966,null,0,0.47985250605063545,8.494712383346166E-2,0.4352003701159029]
[null,"South Lanarkshire",{"$f":"VLOOKUP($B38&$K$6,'Calc-V'!$A$4:$BK$399,C$7,FALSE)","v":35013},{"$f":"VLOOKUP($B38&$K$6,'Calc-V'!$A$4:$BK$399,D$7,FALSE)","v":319},{"$f":"VLOOKUP($B38&$K$6,'Calc-V'!$A$4:$BK$399,E$7,FALSE)","v":840},{"$f":"VLOOKUP($B38&$K$6,'Calc-V'!$A$4:$BK$399,F$7,FALSE)","v":36172},null,{"$f":"VLOOKUP($B38&$K$6,'Calc-V'!$A$4:$BK$399,H$7,FALSE)","v":352},{"$f":"VLOOKUP($B38&$K$6,'Calc-V'!$A$4:$BK$399,I$7,FALSE)","v":248515},{"$f":"VLOOKUP($B38&$K$6,'Calc-V'!$A$4:$BK$399,J$7,FALSE)","v":98888.308155489111},{"$f":"VLOOKUP($B38&$K$6,'Calc-V'!$A$4:$BK$399,K$7,FALSE)","v":40749.32},{"$f":"VLOOKUP($B38&$K$6,'Calc-V'!$A$4:$BK$399,L$7,FALSE)","v":388504.6281554891},null,0.96795864204356963,8.8189760035386495E-3,2.3222381952891738E-2,null,9.0603811252184347E-4,0.63967062935615326,0.25453572747635733,0.10488760505496764]
[null,"Stirling",{"$f":"VLOOKUP($B39&$K$6,'Calc-V'!$A$4:$BK$399,C$7,FALSE)","v":12473},{"$f":"VLOOKUP($B39&$K$6,'Calc-V'!$A$4:$BK$399,D$7,FALSE)","v":0},{"$f":"VLOOKUP($B39&$K$6,'Calc-V'!$A$4:$BK$399,E$7,FALSE)","v":159},{"$f":"VLOOKUP($B39&$K$6,'Calc-V'!$A$4:$BK$399,F$7,FALSE)","v":12632},null,{"$f":"VLOOKUP($B39&$K$6,'Calc-V'!$A$4:$BK$399,H$7,FALSE)","v":0},{"$f":"VLOOKUP($B39&$K$6,'Calc-V'!$A$4:$BK$399,I$7,FALSE)","v":0},{"$f":"VLOOKUP($B39&$K$6,'Calc-V'!$A$4:$BK$399,J$7,FALSE)","v":29196.560000000001},{"$f":"VLOOKUP($B39&$K$6,'Calc-V'!$A$4:$BK$399,K$7,FALSE)","v":0},{"$f":"VLOOKUP($B39&$K$6,'Calc-V'!$A$4:$BK$399,L$7,FALSE)","v":29196.560000000001},null,0.98741291956934774,0,1.2587080430652311E-2,null,0,0,1,0]
[null,"West Dunbartonshire",{"$f":"VLOOKUP($B40&$K$6,'Calc-V'!$A$4:$BK$399,C$7,FALSE)","v":6410},{"$f":"VLOOKUP($B40&$K$6,'Calc-V'!$A$4:$BK$399,D$7,FALSE)","v":0},{"$f":"VLOOKUP($B40&$K$6,'Calc-V'!$A$4:$BK$399,E$7,FALSE)","v":0},{"$f":"VLOOKUP($B40&$K$6,'Calc-V'!$A$4:$BK$399,F$7,FALSE)","v":6410},null,{"$f":"VLOOKUP($B40&$K$6,'Calc-V'!$A$4:$BK$399,H$7,FALSE)","v":1061},{"$f":"VLOOKUP($B40&$K$6,'Calc-V'!$A$4:$BK$399,I$7,FALSE)","v":153965},{"$f":"VLOOKUP($B40&$K$6,'Calc-V'!$A$4:$BK$399,J$7,FALSE)","v":75196},{"$f":"VLOOKUP($B40&$K$6,'Calc-V'!$A$4:$BK$399,K$7,FALSE)","v":85078},{"$f":"VLOOKUP($B40&$K$6,'Calc-V'!$A$4:$BK$399,L$7,FALSE)","v":315300},null,1,0,0,null,3.3650491595306059E-3,0.48831271804630511,0.23849032667300984,0.26983190612115443]
[null,"West Lothian",{"$f":"VLOOKUP($B41&$K$6,'Calc-V'!$A$4:$BK$399,C$7,FALSE)","v":10229},{"$f":"VLOOKUP($B41&$K$6,'Calc-V'!$A$4:$BK$399,D$7,FALSE)","v":0},{"$f":"VLOOKUP($B41&$K$6,'Calc-V'!$A$4:$BK$399,E$7,FALSE)","v":409},{"$f":"VLOOKUP($B41&$K$6,'Calc-V'!$A$4:$BK$399,F$7,FALSE)","v":10638},null,{"$f":"VLOOKUP($B41&$K$6,'Calc-V'!$A$4:$BK$399,H$7,FALSE)","v":0},{"$f":"VLOOKUP($B41&$K$6,'Calc-V'!$A$4:$BK$399,I$7,FALSE)","v":114192},{"$f":"VLOOKUP($B41&$K$6,'Calc-V'!$A$4:$BK$399,J$7,FALSE)","v":13282},{"$f":"VLOOKUP($B41&$K$6,'Calc-V'!$A$4:$BK$399,K$7,FALSE)","v":28357},{"$f":"VLOOKUP($B41&$K$6,'Calc-V'!$A$4:$BK$399,L$7,FALSE)","v":155831},null,0.9615529234818575,0,3.8447076518142505E-2,null,0,0.73279386001501623,8.5233361782957179E-2,0.18197277820202656]
[null,"Scotland",{"$f":"VLOOKUP($B42&$K$6,'Calc-V'!$A$4:$BK$399,C$7,FALSE)","v":392654.5},{"$f":"VLOOKUP($B42&$K$6,'Calc-V'!$A$4:$BK$399,D$7,FALSE)","v":18119},{"$f":"VLOOKUP($B42&$K$6,'Calc-V'!$A$4:$BK$399,E$7,FALSE)","v":30794},{"$f":"VLOOKUP($B42&$K$6,'Calc-V'!$A$4:$BK$399,F$7,FALSE)","v":441567.5},null,{"$f":"VLOOKUP($B42&$K$6,'Calc-V'!$A$4:$BK$399,H$7,FALSE)","v":159179.35},{"$f":"VLOOKUP($B42&$K$6,'Calc-V'!$A$4:$BK$399,I$7,FALSE)","v":3474439.5433945148},{"$f":"VLOOKUP($B42&$K$6,'Calc-V'!$A$4:$BK$399,J$7,FALSE)","v":1625435.0381554894},{"$f":"VLOOKUP($B42&$K$6,'Calc-V'!$A$4:$BK$399,K$7,FALSE)","v":1721349.861440148},{"$f":"VLOOKUP($B42&$K$6,'Calc-V'!$A$4:$BK$399,L$7,FALSE)","v":6981273.6529901521},null,0.88922871361683098,4.103336409495717E-2,6.9737922288211879E-2,null,2.2800903948496824E-2,0.49767989568871523,0.23282786479216419,0.24656673652992758]
[]
[null,"Source: Scottish Government 2009-2015"]
[null,"Note - data at this level of detail is only available from 2009/10 onwards"]
[null,"Note - data was also collected on 'Other supported accomodation' for nights and 'Day activities not in a daycare centre' for hours for 2012/13 to 2014/15. These figures have been included in 'Other' to allow comparability with previous years."]